{"text_format":"1","workbook":"xlsx","n_sheets":9,"sheets":["HOME","CONFIGURACION","REPORTES","BDD","VERIFICACION","COMPROBANTE","LICENCIAS","VERIFICACIONLICENCIA","COMPROBANTELICENCIAS"],"not_rendered":{"charts":0,"images":3,"macros":1,"external_links":1,"defined_names":26,"comments":0,"pivot_tables":0},"unopened":[],"bounds":{"document_bytes":16777216,"sheet_cells":100000,"rows_first":2000,"rows_last":500,"rows_between":2000,"halvings":0,"cell_chars":16384,"cell_head_chars":4096},"cells_cut":0,"cells_raw":0,"read":"whole","date_system":"1900"}

{"sheet":"HOME","index":0,"n_rows":4,"n_cols":2,"rows_kept":4,"cut":false,"hidden":false,"merged":[[62,1,62,7],[17,2,18,5],[3,1,6,4],[8,1,8,4],[9,1,9,4],[13,1,13,5],[14,1,14,5],[11,0,11,5]]}
[]
[]
[]
[null,"SISTEMA DE CONTROL VACACIONES"]

{"sheet":"CONFIGURACION","index":1,"n_rows":200,"n_cols":19,"rows_kept":200,"cut":false,"hidden":false,"merged":[[4,12,4,13],[4,1,4,10],[3,12,3,13]]}
[]
[]
[null,null,"AÑO DE COMIENZO",2017]
[null,"LA VERSION GRATUITA SOLO SIRVE PARA 5 TRABAJADORES. CONTACTANOS PARA COMPRAR LA VERSION FULL : Whats'App +56 9 9492 4535",null,null,null,null,null,null,null,null,null,null,"INGRESAR LOS DIAS FERIADOS POR CADA AÑO SIN BORRAR LOS ANTERIORES",null,null,"no","dias","totaldias"]
[null,"DATOS EMPLEADOS",null,null,null,null,null,null,null,null,null,null,"FERIADOS DEL AÑO",null,null,0,0,0]
[null,"NOMBRE","RUT","FECHA CONTRATO","ANTIGÜEDAD","VAC./ AÑO","DÍAS VAC.","VAC. PROG.","ACTIVACIÓN PROG.","TOTA VAC. PROG.","DIAS ASIGNADOS","ANTIGÜEDAD A FECHA FUTURO","DESCRIPCION","FECHA",null,1,0,{"$f":"0+Q7","v":0}]
[1,"MONICA ANDREZ FERNANDEZ LAZO","13.429.987-8","2019-07-02",{"$f":"IF(TablaEMPLEADOS[[#This Row],[ANTIGÜEDAD A FECHA FUTURO]]=\"NO\", IFERROR(IF(TablaEMPLEADOS[[#This Row],[FECHA CONTRATO]]=0,\"\",IF(DATEDIF(TablaEMPLEADOS[[#This Row],[FECHA CONTRATO]],TODAY(),\"y\")=0,\"\", DATEDIF(TablaEMPLEADOS[[#This Row],[FECHA CONTRATO]],TODAY(),\"y\") & \" año(s) \") & IF(DATEDIF(TablaEMPLEADOS[[#This Row],[FECHA CONTRATO]],TODAY(),\"ym\")=0,\"\",DATEDIF(TablaEMPLEADOS[[#This Row],[FECHA CONTRATO]],TODAY(),\"ym\") & \" mes(es) \") & IF(DATEDIF(TablaEMPLEADOS[[#This Row],[FECHA CONTRATO]],TODAY(),\"md\")=0,\"\",DATEDIF(TablaEMPLEADOS[[#This Row],[FECHA CONTRATO]],TODAY(),\"md\") & \" día(s)\")),\"\"), IFERROR(IF(TablaEMPLEADOS[[#This Row],[FECHA CONTRATO]]=0,\"\",IF(DATEDIF(TablaEMPLEADOS[[#This Row],[FECHA CONTRATO]],TablaEMPLEADOS[[#This Row],[ANTIGÜEDAD A FECHA FUTURO]],\"y\")=0,\"\", DATEDIF(TablaEMPLEADOS[[#This Row],[FECHA CONTRATO]],TablaEMPLEADOS[[#This Row],[ANTIGÜEDAD A FECHA FUTURO]],\"y\") & \" año(s) \") & IF(DATEDIF(TablaEMPLEADOS[[#This Row],[FECHA CONTRATO]],TablaEMPLEADOS[[#This Row],[ANTIGÜEDAD A FECHA FUTURO]],\"ym\")=0,\"\",DATEDIF(TablaEMPLEADOS[[#This Row],[FECHA CONTRATO]],TablaEMPLEADOS[[#This Row],[ANTIGÜEDAD A FECHA FUTURO]],\"ym\") & \" mes(es) \") & IF(DATEDIF(TablaEMPLEADOS[[#This Row],[FECHA CONTRATO]],TablaEMPLEADOS[[#This Row],[ANTIGÜEDAD A FECHA FUTURO]],\"md\")=0,\"\",DATEDIF(TablaEMPLEADOS[[#This Row],[FECHA CONTRATO]],TablaEMPLEADOS[[#This Row],[ANTIGÜEDAD A FECHA FUTURO]],\"md\") & \" día(s)\")),\"\"))","v":"1 año(s) 19 día(s)"},15,{"$f":"IF(TablaEMPLEADOS[[#This Row],[ANTIGÜEDAD A FECHA FUTURO]]=\"NO\",ROUND(((TODAY()-TablaEMPLEADOS[[#This Row],[FECHA CONTRATO]]+1)/365)*TablaEMPLEADOS[[#This Row],[VAC./ AÑO]]+TablaEMPLEADOS[[#This Row],[TOTA VAC. PROG.]],0),ROUND(((TablaEMPLEADOS[[#This Row],[ANTIGÜEDAD A FECHA FUTURO]]-TablaEMPLEADOS[[#This Row],[FECHA CONTRATO]]+1)/365)*TablaEMPLEADOS[[#This Row],[VAC./ AÑO]]+TablaEMPLEADOS[[#This Row],[TOTA VAC. PROG.]],0))","v":16},"NO",null,{"$f":"IFERROR(IF(OR(TablaEMPLEADOS[[#This Row],[VAC./ AÑO]]=20,TablaEMPLEADOS[[#This Row],[VAC. PROG.]]=\"NO\"),0,IF(TablaEMPLEADOS[[#This Row],[ANTIGÜEDAD A FECHA FUTURO]]=\"NO\",VLOOKUP(ROUNDDOWN(YEARFRAC(TablaEMPLEADOS[[#This Row],[ACTIVACIÓN PROG.]],TODAY()),0),Tabla2[],2,0),VLOOKUP(ROUNDDOWN(YEARFRAC(TablaEMPLEADOS[[#This Row],[ACTIVACIÓN PROG.]],TablaEMPLEADOS[[#This Row],[ANTIGÜEDAD A FECHA FUTURO]]),0),Tabla2[],3,0))),\"\")","v":0},null,{"$f":"IFERROR(VLOOKUP(TablaEMPLEADOS[[#This Row],[NOMBRE]],VERIFICACION!$D$4:$G$4,4,0),\"NO\")","v":"NO"},"Año Nuevo","2019-01-01",null,2,0,{"$f":"R6+Tabla2[[#This Row],[dias]]","v":0}]
[2,"JOSE LUIS ANDRADE SOTO","9.383.263-9","2014-03-10",{"$f":"IF(TablaEMPLEADOS[[#This Row],[ANTIGÜEDAD A FECHA FUTURO]]=\"NO\", IFERROR(IF(TablaEMPLEADOS[[#This Row],[FECHA CONTRATO]]=0,\"\",IF(DATEDIF(TablaEMPLEADOS[[#This Row],[FECHA CONTRATO]],TODAY(),\"y\")=0,\"\", DATEDIF(TablaEMPLEADOS[[#This Row],[FECHA CONTRATO]],TODAY(),\"y\") & \" año(s) \") & IF(DATEDIF(TablaEMPLEADOS[[#This Row],[FECHA CONTRATO]],TODAY(),\"ym\")=0,\"\",DATEDIF(TablaEMPLEADOS[[#This Row],[FECHA CONTRATO]],TODAY(),\"ym\") & \" mes(es) \") & IF(DATEDIF(TablaEMPLEADOS[[#This Row],[FECHA CONTRATO]],TODAY(),\"md\")=0,\"\",DATEDIF(TablaEMPLEADOS[[#This Row],[FECHA CONTRATO]],TODAY(),\"md\") & \" día(s)\")),\"\"), IFERROR(IF(TablaEMPLEADOS[[#This Row],[FECHA CONTRATO]]=0,\"\",IF(DATEDIF(TablaEMPLEADOS[[#This Row],[FECHA CONTRATO]],TablaEMPLEADOS[[#This Row],[ANTIGÜEDAD A FECHA FUTURO]],\"y\")=0,\"\", DATEDIF(TablaEMPLEADOS[[#This Row],[FECHA CONTRATO]],TablaEMPLEADOS[[#This Row],[ANTIGÜEDAD A FECHA FUTURO]],\"y\") & \" año(s) \") & IF(DATEDIF(TablaEMPLEADOS[[#This Row],[FECHA CONTRATO]],TablaEMPLEADOS[[#This Row],[ANTIGÜEDAD A FECHA FUTURO]],\"ym\")=0,\"\",DATEDIF(TablaEMPLEADOS[[#This Row],[FECHA CONTRATO]],TablaEMPLEADOS[[#This Row],[ANTIGÜEDAD A FECHA FUTURO]],\"ym\") & \" mes(es) \") & IF(DATEDIF(TablaEMPLEADOS[[#This Row],[FECHA CONTRATO]],TablaEMPLEADOS[[#This Row],[ANTIGÜEDAD A FECHA FUTURO]],\"md\")=0,\"\",DATEDIF(TablaEMPLEADOS[[#This Row],[FECHA CONTRATO]],TablaEMPLEADOS[[#This Row],[ANTIGÜEDAD A FECHA FUTURO]],\"md\") & \" día(s)\")),\"\"))","v":"6 año(s) 4 mes(es) 11 día(s)"},15,{"$f":"IF(TablaEMPLEADOS[[#This Row],[ANTIGÜEDAD A FECHA FUTURO]]=\"NO\",ROUND(((TODAY()-TablaEMPLEADOS[[#This Row],[FECHA CONTRATO]]+1)/365)*TablaEMPLEADOS[[#This Row],[VAC./ AÑO]]+TablaEMPLEADOS[[#This Row],[TOTA VAC. PROG.]],0),ROUND(((TablaEMPLEADOS[[#This Row],[ANTIGÜEDAD A FECHA FUTURO]]-TablaEMPLEADOS[[#This Row],[FECHA CONTRATO]]+1)/365)*TablaEMPLEADOS[[#This Row],[VAC./ AÑO]]+TablaEMPLEADOS[[#This Row],[TOTA VAC. PROG.]],0))","v":96},"NO",null,{"$f":"IFERROR(IF(OR(TablaEMPLEADOS[[#This Row],[VAC./ AÑO]]=20,TablaEMPLEADOS[[#This Row],[VAC. PROG.]]=\"NO\"),0,IF(TablaEMPLEADOS[[#This Row],[ANTIGÜEDAD A FECHA FUTURO]]=\"NO\",VLOOKUP(ROUNDDOWN(YEARFRAC(TablaEMPLEADOS[[#This Row],[ACTIVACIÓN PROG.]],TODAY()),0),Tabla2[],2,0),VLOOKUP(ROUNDDOWN(YEARFRAC(TablaEMPLEADOS[[#This Row],[ACTIVACIÓN PROG.]],TablaEMPLEADOS[[#This Row],[ANTIGÜEDAD A FECHA FUTURO]]),0),Tabla2[],3,0))),\"\")","v":0},null,{"$f":"IFERROR(VLOOKUP(TablaEMPLEADOS[[#This Row],[NOMBRE]],VERIFICACION!$D$4:$G$4,4,0),\"NO\")","v":"NO"},"Visita Papa","2018-01-16",null,3,1,{"$f":"R7+Tabla2[[#This Row],[dias]]","v":1}]
[3,"MANUEL TERCERO MORALES","6.558.985-0","2014-08-15",{"$f":"IF(TablaEMPLEADOS[[#This Row],[ANTIGÜEDAD A FECHA FUTURO]]=\"NO\", IFERROR(IF(TablaEMPLEADOS[[#This Row],[FECHA CONTRATO]]=0,\"\",IF(DATEDIF(TablaEMPLEADOS[[#This Row],[FECHA CONTRATO]],TODAY(),\"y\")=0,\"\", DATEDIF(TablaEMPLEADOS[[#This Row],[FECHA CONTRATO]],TODAY(),\"y\") & \" año(s) \") & IF(DATEDIF(TablaEMPLEADOS[[#This Row],[FECHA CONTRATO]],TODAY(),\"ym\")=0,\"\",DATEDIF(TablaEMPLEADOS[[#This Row],[FECHA CONTRATO]],TODAY(),\"ym\") & \" mes(es) \") & IF(DATEDIF(TablaEMPLEADOS[[#This Row],[FECHA CONTRATO]],TODAY(),\"md\")=0,\"\",DATEDIF(TablaEMPLEADOS[[#This Row],[FECHA CONTRATO]],TODAY(),\"md\") & \" día(s)\")),\"\"), IFERROR(IF(TablaEMPLEADOS[[#This Row],[FECHA CONTRATO]]=0,\"\",IF(DATEDIF(TablaEMPLEADOS[[#This Row],[FECHA CONTRATO]],TablaEMPLEADOS[[#This Row],[ANTIGÜEDAD A FECHA FUTURO]],\"y\")=0,\"\", DATEDIF(TablaEMPLEADOS[[#This Row],[FECHA CONTRATO]],TablaEMPLEADOS[[#This Row],[ANTIGÜEDAD A FECHA FUTURO]],\"y\") & \" año(s) \") & IF(DATEDIF(TablaEMPLEADOS[[#This Row],[FECHA CONTRATO]],TablaEMPLEADOS[[#This Row],[ANTIGÜEDAD A FECHA FUTURO]],\"ym\")=0,\"\",DATEDIF(TablaEMPLEADOS[[#This Row],[FECHA CONTRATO]],TablaEMPLEADOS[[#This Row],[ANTIGÜEDAD A FECHA FUTURO]],\"ym\") & \" mes(es) \") & IF(DATEDIF(TablaEMPLEADOS[[#This Row],[FECHA CONTRATO]],TablaEMPLEADOS[[#This Row],[ANTIGÜEDAD A FECHA FUTURO]],\"md\")=0,\"\",DATEDIF(TablaEMPLEADOS[[#This Row],[FECHA CONTRATO]],TablaEMPLEADOS[[#This Row],[ANTIGÜEDAD A FECHA FUTURO]],\"md\") & \" día(s)\")),\"\"))","v":"5 año(s) 11 mes(es) 6 día(s)"},15,{"$f":"IF(TablaEMPLEADOS[[#This Row],[ANTIGÜEDAD A FECHA FUTURO]]=\"NO\",ROUND(((TODAY()-TablaEMPLEADOS[[#This Row],[FECHA CONTRATO]]+1)/365)*TablaEMPLEADOS[[#This Row],[VAC./ AÑO]]+TablaEMPLEADOS[[#This Row],[TOTA VAC. PROG.]],0),ROUND(((TablaEMPLEADOS[[#This Row],[ANTIGÜEDAD A FECHA FUTURO]]-TablaEMPLEADOS[[#This Row],[FECHA CONTRATO]]+1)/365)*TablaEMPLEADOS[[#This Row],[VAC./ AÑO]]+TablaEMPLEADOS[[#This Row],[TOTA VAC. PROG.]],0))","v":89},"NO",null,{"$f":"IFERROR(IF(OR(TablaEMPLEADOS[[#This Row],[VAC./ AÑO]]=20,TablaEMPLEADOS[[#This Row],[VAC. PROG.]]=\"NO\"),0,IF(TablaEMPLEADOS[[#This Row],[ANTIGÜEDAD A FECHA FUTURO]]=\"NO\",VLOOKUP(ROUNDDOWN(YEARFRAC(TablaEMPLEADOS[[#This Row],[ACTIVACIÓN PROG.]],TODAY()),0),Tabla2[],2,0),VLOOKUP(ROUNDDOWN(YEARFRAC(TablaEMPLEADOS[[#This Row],[ACTIVACIÓN PROG.]],TablaEMPLEADOS[[#This Row],[ANTIGÜEDAD A FECHA FUTURO]]),0),Tabla2[],3,0))),\"\")","v":0},null,{"$f":"IFERROR(VLOOKUP(TablaEMPLEADOS[[#This Row],[NOMBRE]],VERIFICACION!$D$4:$G$4,4,0),\"NO\")","v":"NO"},"Viernes Santo","2019-04-19",null,4,1,{"$f":"R8+Tabla2[[#This Row],[dias]]","v":2}]
[4,null,null,null,{"$f":"IF(TablaEMPLEADOS[[#This Row],[ANTIGÜEDAD A FECHA FUTURO]]=\"NO\", IFERROR(IF(TablaEMPLEADOS[[#This Row],[FECHA CONTRATO]]=0,\"\",IF(DATEDIF(TablaEMPLEADOS[[#This Row],[FECHA CONTRATO]],TODAY(),\"y\")=0,\"\", DATEDIF(TablaEMPLEADOS[[#This Row],[FECHA CONTRATO]],TODAY(),\"y\") & \" año(s) \") & IF(DATEDIF(TablaEMPLEADOS[[#This Row],[FECHA CONTRATO]],TODAY(),\"ym\")=0,\"\",DATEDIF(TablaEMPLEADOS[[#This Row],[FECHA CONTRATO]],TODAY(),\"ym\") & \" mes(es) \") & IF(DATEDIF(TablaEMPLEADOS[[#This Row],[FECHA CONTRATO]],TODAY(),\"md\")=0,\"\",DATEDIF(TablaEMPLEADOS[[#This Row],[FECHA CONTRATO]],TODAY(),\"md\") & \" día(s)\")),\"\"), IFERROR(IF(TablaEMPLEADOS[[#This Row],[FECHA CONTRATO]]=0,\"\",IF(DATEDIF(TablaEMPLEADOS[[#This Row],[FECHA CONTRATO]],TablaEMPLEADOS[[#This Row],[ANTIGÜEDAD A FECHA FUTURO]],\"y\")=0,\"\", DATEDIF(TablaEMPLEADOS[[#This Row],[FECHA CONTRATO]],TablaEMPLEADOS[[#This Row],[ANTIGÜEDAD A FECHA FUTURO]],\"y\") & \" año(s) \") & IF(DATEDIF(TablaEMPLEADOS[[#This Row],[FECHA CONTRATO]],TablaEMPLEADOS[[#This Row],[ANTIGÜEDAD A FECHA FUTURO]],\"ym\")=0,\"\",DATEDIF(TablaEMPLEADOS[[#This Row],[FECHA CONTRATO]],TablaEMPLEADOS[[#This Row],[ANTIGÜEDAD A FECHA FUTURO]],\"ym\") & \" mes(es) \") & IF(DATEDIF(TablaEMPLEADOS[[#This Row],[FECHA CONTRATO]],TablaEMPLEADOS[[#This Row],[ANTIGÜEDAD A FECHA FUTURO]],\"md\")=0,\"\",DATEDIF(TablaEMPLEADOS[[#This Row],[FECHA CONTRATO]],TablaEMPLEADOS[[#This Row],[ANTIGÜEDAD A FECHA FUTURO]],\"md\") & \" día(s)\")),\"\"))","v":""},null,{"$f":"IF(TablaEMPLEADOS[[#This Row],[ANTIGÜEDAD A FECHA FUTURO]]=\"NO\",ROUND(((TODAY()-TablaEMPLEADOS[[#This Row],[FECHA CONTRATO]]+1)/365)*TablaEMPLEADOS[[#This Row],[VAC./ AÑO]]+TablaEMPLEADOS[[#This Row],[TOTA VAC. PROG.]],0),ROUND(((TablaEMPLEADOS[[#This Row],[ANTIGÜEDAD A FECHA FUTURO]]-TablaEMPLEADOS[[#This Row],[FECHA CONTRATO]]+1)/365)*TablaEMPLEADOS[[#This Row],[VAC./ AÑO]]+TablaEMPLEADOS[[#This Row],[TOTA VAC. PROG.]],0))","v":{"$error":"#VALUE!"}},null,null,{"$f":"IFERROR(IF(OR(TablaEMPLEADOS[[#This Row],[VAC./ AÑO]]=20,TablaEMPLEADOS[[#This Row],[VAC. PROG.]]=\"NO\"),0,IF(TablaEMPLEADOS[[#This Row],[ANTIGÜEDAD A FECHA FUTURO]]=\"NO\",VLOOKUP(ROUNDDOWN(YEARFRAC(TablaEMPLEADOS[[#This Row],[ACTIVACIÓN PROG.]],TODAY()),0),Tabla2[],2,0),VLOOKUP(ROUNDDOWN(YEARFRAC(TablaEMPLEADOS[[#This Row],[ACTIVACIÓN PROG.]],TablaEMPLEADOS[[#This Row],[ANTIGÜEDAD A FECHA FUTURO]]),0),Tabla2[],3,0))),\"\")","v":""},null,{"$f":"IFERROR(VLOOKUP(TablaEMPLEADOS[[#This Row],[NOMBRE]],VERIFICACION!$D$4:$G$4,4,0),\"NO\")","v":"NO"},"Sábado Santo","2019-04-20",null,5,1,{"$f":"R9+Tabla2[[#This Row],[dias]]","v":3}]
[5,null,null,null,{"$f":"IF(TablaEMPLEADOS[[#This Row],[ANTIGÜEDAD A FECHA FUTURO]]=\"NO\", IFERROR(IF(TablaEMPLEADOS[[#This Row],[FECHA CONTRATO]]=0,\"\",IF(DATEDIF(TablaEMPLEADOS[[#This Row],[FECHA CONTRATO]],TODAY(),\"y\")=0,\"\", DATEDIF(TablaEMPLEADOS[[#This Row],[FECHA CONTRATO]],TODAY(),\"y\") & \" año(s) \") & IF(DATEDIF(TablaEMPLEADOS[[#This Row],[FECHA CONTRATO]],TODAY(),\"ym\")=0,\"\",DATEDIF(TablaEMPLEADOS[[#This Row],[FECHA CONTRATO]],TODAY(),\"ym\") & \" mes(es) \") & IF(DATEDIF(TablaEMPLEADOS[[#This Row],[FECHA CONTRATO]],TODAY(),\"md\")=0,\"\",DATEDIF(TablaEMPLEADOS[[#This Row],[FECHA CONTRATO]],TODAY(),\"md\") & \" día(s)\")),\"\"), IFERROR(IF(TablaEMPLEADOS[[#This Row],[FECHA CONTRATO]]=0,\"\",IF(DATEDIF(TablaEMPLEADOS[[#This Row],[FECHA CONTRATO]],TablaEMPLEADOS[[#This Row],[ANTIGÜEDAD A FECHA FUTURO]],\"y\")=0,\"\", DATEDIF(TablaEMPLEADOS[[#This Row],[FECHA CONTRATO]],TablaEMPLEADOS[[#This Row],[ANTIGÜEDAD A FECHA FUTURO]],\"y\") & \" año(s) \") & IF(DATEDIF(TablaEMPLEADOS[[#This Row],[FECHA CONTRATO]],TablaEMPLEADOS[[#This Row],[ANTIGÜEDAD A FECHA FUTURO]],\"ym\")=0,\"\",DATEDIF(TablaEMPLEADOS[[#This Row],[FECHA CONTRATO]],TablaEMPLEADOS[[#This Row],[ANTIGÜEDAD A FECHA FUTURO]],\"ym\") & \" mes(es) \") & IF(DATEDIF(TablaEMPLEADOS[[#This Row],[FECHA CONTRATO]],TablaEMPLEADOS[[#This Row],[ANTIGÜEDAD A FECHA FUTURO]],\"md\")=0,\"\",DATEDIF(TablaEMPLEADOS[[#This Row],[FECHA CONTRATO]],TablaEMPLEADOS[[#This Row],[ANTIGÜEDAD A FECHA FUTURO]],\"md\") & \" día(s)\")),\"\"))","v":""},null,{"$f":"IF(TablaEMPLEADOS[[#This Row],[ANTIGÜEDAD A FECHA FUTURO]]=\"NO\",ROUND(((TODAY()-TablaEMPLEADOS[[#This Row],[FECHA CONTRATO]]+1)/365)*TablaEMPLEADOS[[#This Row],[VAC./ AÑO]]+TablaEMPLEADOS[[#This Row],[TOTA VAC. PROG.]],0),ROUND(((TablaEMPLEADOS[[#This Row],[ANTIGÜEDAD A FECHA FUTURO]]-TablaEMPLEADOS[[#This Row],[FECHA CONTRATO]]+1)/365)*TablaEMPLEADOS[[#This Row],[VAC./ AÑO]]+TablaEMPLEADOS[[#This Row],[TOTA VAC. PROG.]],0))","v":{"$error":"#VALUE!"}},null,null,{"$f":"IFERROR(IF(OR(TablaEMPLEADOS[[#This Row],[VAC./ AÑO]]=20,TablaEMPLEADOS[[#This Row],[VAC. PROG.]]=\"NO\"),0,IF(TablaEMPLEADOS[[#This Row],[ANTIGÜEDAD A FECHA FUTURO]]=\"NO\",VLOOKUP(ROUNDDOWN(YEARFRAC(TablaEMPLEADOS[[#This Row],[ACTIVACIÓN PROG.]],TODAY()),0),Tabla2[],2,0),VLOOKUP(ROUNDDOWN(YEARFRAC(TablaEMPLEADOS[[#This Row],[ACTIVACIÓN PROG.]],TablaEMPLEADOS[[#This Row],[ANTIGÜEDAD A FECHA FUTURO]]),0),Tabla2[],3,0))),\"\")","v":""},null,{"$f":"IFERROR(VLOOKUP(TablaEMPLEADOS[[#This Row],[NOMBRE]],VERIFICACION!$D$4:$G$4,4,0),\"NO\")","v":"NO"},"Día Nacional del Trabajo","2019-05-01",null,6,2,{"$f":"R10+Tabla2[[#This Row],[dias]]","v":5}]
[6,null,null,null,{"$f":"IF(TablaEMPLEADOS[[#This Row],[ANTIGÜEDAD A FECHA FUTURO]]=\"NO\", IFERROR(IF(TablaEMPLEADOS[[#This Row],[FECHA CONTRATO]]=0,\"\",IF(DATEDIF(TablaEMPLEADOS[[#This Row],[FECHA CONTRATO]],TODAY(),\"y\")=0,\"\", DATEDIF(TablaEMPLEADOS[[#This Row],[FECHA CONTRATO]],TODAY(),\"y\") & \" año(s) \") & IF(DATEDIF(TablaEMPLEADOS[[#This Row],[FECHA CONTRATO]],TODAY(),\"ym\")=0,\"\",DATEDIF(TablaEMPLEADOS[[#This Row],[FECHA CONTRATO]],TODAY(),\"ym\") & \" mes(es) \") & IF(DATEDIF(TablaEMPLEADOS[[#This Row],[FECHA CONTRATO]],TODAY(),\"md\")=0,\"\",DATEDIF(TablaEMPLEADOS[[#This Row],[FECHA CONTRATO]],TODAY(),\"md\") & \" día(s)\")),\"\"), IFERROR(IF(TablaEMPLEADOS[[#This Row],[FECHA CONTRATO]]=0,\"\",IF(DATEDIF(TablaEMPLEADOS[[#This Row],[FECHA CONTRATO]],TablaEMPLEADOS[[#This Row],[ANTIGÜEDAD A FECHA FUTURO]],\"y\")=0,\"\", DATEDIF(TablaEMPLEADOS[[#This Row],[FECHA CONTRATO]],TablaEMPLEADOS[[#This Row],[ANTIGÜEDAD A FECHA FUTURO]],\"y\") & \" año(s) \") & IF(DATEDIF(TablaEMPLEADOS[[#This Row],[FECHA CONTRATO]],TablaEMPLEADOS[[#This Row],[ANTIGÜEDAD A FECHA FUTURO]],\"ym\")=0,\"\",DATEDIF(TablaEMPLEADOS[[#This Row],[FECHA CONTRATO]],TablaEMPLEADOS[[#This Row],[ANTIGÜEDAD A FECHA FUTURO]],\"ym\") & \" mes(es) \") & IF(DATEDIF(TablaEMPLEADOS[[#This Row],[FECHA CONTRATO]],TablaEMPLEADOS[[#This Row],[ANTIGÜEDAD A FECHA FUTURO]],\"md\")=0,\"\",DATEDIF(TablaEMPLEADOS[[#This Row],[FECHA CONTRATO]],TablaEMPLEADOS[[#This Row],[ANTIGÜEDAD A FECHA FUTURO]],\"md\") & \" día(s)\")),\"\"))","v":""},null,{"$f":"IF(TablaEMPLEADOS[[#This Row],[ANTIGÜEDAD A FECHA FUTURO]]=\"NO\",ROUND(((TODAY()-TablaEMPLEADOS[[#This Row],[FECHA CONTRATO]]+1)/365)*TablaEMPLEADOS[[#This Row],[VAC./ AÑO]]+TablaEMPLEADOS[[#This Row],[TOTA VAC. PROG.]],0),ROUND(((TablaEMPLEADOS[[#This Row],[ANTIGÜEDAD A FECHA FUTURO]]-TablaEMPLEADOS[[#This Row],[FECHA CONTRATO]]+1)/365)*TablaEMPLEADOS[[#This Row],[VAC./ AÑO]]+TablaEMPLEADOS[[#This Row],[TOTA VAC. PROG.]],0))","v":{"$error":"#VALUE!"}},null,null,{"$f":"IFERROR(IF(OR(TablaEMPLEADOS[[#This Row],[VAC./ AÑO]]=20,TablaEMPLEADOS[[#This Row],[VAC. PROG.]]=\"NO\"),0,IF(TablaEMPLEADOS[[#This Row],[ANTIGÜEDAD A FECHA FUTURO]]=\"NO\",VLOOKUP(ROUNDDOWN(YEARFRAC(TablaEMPLEADOS[[#This Row],[ACTIVACIÓN PROG.]],TODAY()),0),Tabla2[],2,0),VLOOKUP(ROUNDDOWN(YEARFRAC(TablaEMPLEADOS[[#This Row],[ACTIVACIÓN PROG.]],TablaEMPLEADOS[[#This Row],[ANTIGÜEDAD A FECHA FUTURO]]),0),Tabla2[],3,0))),\"\")","v":""},null,{"$f":"IFERROR(VLOOKUP(TablaEMPLEADOS[[#This Row],[NOMBRE]],VERIFICACION!$D$4:$G$4,4,0),\"NO\")","v":"NO"},"Día de las Glorias Navales","2019-05-21",null,7,2,{"$f":"R11+Tabla2[[#This Row],[dias]]","v":7}]
[7,null,null,null,{"$f":"IF(TablaEMPLEADOS[[#This Row],[ANTIGÜEDAD A FECHA FUTURO]]=\"NO\", IFERROR(IF(TablaEMPLEADOS[[#This Row],[FECHA CONTRATO]]=0,\"\",IF(DATEDIF(TablaEMPLEADOS[[#This Row],[FECHA CONTRATO]],TODAY(),\"y\")=0,\"\", DATEDIF(TablaEMPLEADOS[[#This Row],[FECHA CONTRATO]],TODAY(),\"y\") & \" año(s) \") & IF(DATEDIF(TablaEMPLEADOS[[#This Row],[FECHA CONTRATO]],TODAY(),\"ym\")=0,\"\",DATEDIF(TablaEMPLEADOS[[#This Row],[FECHA CONTRATO]],TODAY(),\"ym\") & \" mes(es) \") & IF(DATEDIF(TablaEMPLEADOS[[#This Row],[FECHA CONTRATO]],TODAY(),\"md\")=0,\"\",DATEDIF(TablaEMPLEADOS[[#This Row],[FECHA CONTRATO]],TODAY(),\"md\") & \" día(s)\")),\"\"), IFERROR(IF(TablaEMPLEADOS[[#This Row],[FECHA CONTRATO]]=0,\"\",IF(DATEDIF(TablaEMPLEADOS[[#This Row],[FECHA CONTRATO]],TablaEMPLEADOS[[#This Row],[ANTIGÜEDAD A FECHA FUTURO]],\"y\")=0,\"\", DATEDIF(TablaEMPLEADOS[[#This Row],[FECHA CONTRATO]],TablaEMPLEADOS[[#This Row],[ANTIGÜEDAD A FECHA FUTURO]],\"y\") & \" año(s) \") & IF(DATEDIF(TablaEMPLEADOS[[#This Row],[FECHA CONTRATO]],TablaEMPLEADOS[[#This Row],[ANTIGÜEDAD A FECHA FUTURO]],\"ym\")=0,\"\",DATEDIF(TablaEMPLEADOS[[#This Row],[FECHA CONTRATO]],TablaEMPLEADOS[[#This Row],[ANTIGÜEDAD A FECHA FUTURO]],\"ym\") & \" mes(es) \") & IF(DATEDIF(TablaEMPLEADOS[[#This Row],[FECHA CONTRATO]],TablaEMPLEADOS[[#This Row],[ANTIGÜEDAD A FECHA FUTURO]],\"md\")=0,\"\",DATEDIF(TablaEMPLEADOS[[#This Row],[FECHA CONTRATO]],TablaEMPLEADOS[[#This Row],[ANTIGÜEDAD A FECHA FUTURO]],\"md\") & \" día(s)\")),\"\"))","v":""},null,{"$f":"IF(TablaEMPLEADOS[[#This Row],[ANTIGÜEDAD A FECHA FUTURO]]=\"NO\",ROUND(((TODAY()-TablaEMPLEADOS[[#This Row],[FECHA CONTRATO]]+1)/365)*TablaEMPLEADOS[[#This Row],[VAC./ AÑO]]+TablaEMPLEADOS[[#This Row],[TOTA VAC. PROG.]],0),ROUND(((TablaEMPLEADOS[[#This Row],[ANTIGÜEDAD A FECHA FUTURO]]-TablaEMPLEADOS[[#This Row],[FECHA CONTRATO]]+1)/365)*TablaEMPLEADOS[[#This Row],[VAC./ AÑO]]+TablaEMPLEADOS[[#This Row],[TOTA VAC. PROG.]],0))","v":{"$error":"#VALUE!"}},null,null,{"$f":"IFERROR(IF(OR(TablaEMPLEADOS[[#This Row],[VAC./ AÑO]]=20,TablaEMPLEADOS[[#This Row],[VAC. PROG.]]=\"NO\"),0,IF(TablaEMPLEADOS[[#This Row],[ANTIGÜEDAD A FECHA FUTURO]]=\"NO\",VLOOKUP(ROUNDDOWN(YEARFRAC(TablaEMPLEADOS[[#This Row],[ACTIVACIÓN PROG.]],TODAY()),0),Tabla2[],2,0),VLOOKUP(ROUNDDOWN(YEARFRAC(TablaEMPLEADOS[[#This Row],[ACTIVACIÓN PROG.]],TablaEMPLEADOS[[#This Row],[ANTIGÜEDAD A FECHA FUTURO]]),0),Tabla2[],3,0))),\"\")","v":""},null,{"$f":"IFERROR(VLOOKUP(TablaEMPLEADOS[[#This Row],[NOMBRE]],VERIFICACION!$D$4:$G$4,4,0),\"NO\")","v":"NO"},"San Pedro y San Pablo","2019-06-29",null,8,2,{"$f":"R12+Tabla2[[#This Row],[dias]]","v":9}]
[8,null,null,null,{"$f":"IF(TablaEMPLEADOS[[#This Row],[ANTIGÜEDAD A FECHA FUTURO]]=\"NO\", IFERROR(IF(TablaEMPLEADOS[[#This Row],[FECHA CONTRATO]]=0,\"\",IF(DATEDIF(TablaEMPLEADOS[[#This Row],[FECHA CONTRATO]],TODAY(),\"y\")=0,\"\", DATEDIF(TablaEMPLEADOS[[#This Row],[FECHA CONTRATO]],TODAY(),\"y\") & \" año(s) \") & IF(DATEDIF(TablaEMPLEADOS[[#This Row],[FECHA CONTRATO]],TODAY(),\"ym\")=0,\"\",DATEDIF(TablaEMPLEADOS[[#This Row],[FECHA CONTRATO]],TODAY(),\"ym\") & \" mes(es) \") & IF(DATEDIF(TablaEMPLEADOS[[#This Row],[FECHA CONTRATO]],TODAY(),\"md\")=0,\"\",DATEDIF(TablaEMPLEADOS[[#This Row],[FECHA CONTRATO]],TODAY(),\"md\") & \" día(s)\")),\"\"), IFERROR(IF(TablaEMPLEADOS[[#This Row],[FECHA CONTRATO]]=0,\"\",IF(DATEDIF(TablaEMPLEADOS[[#This Row],[FECHA CONTRATO]],TablaEMPLEADOS[[#This Row],[ANTIGÜEDAD A FECHA FUTURO]],\"y\")=0,\"\", DATEDIF(TablaEMPLEADOS[[#This Row],[FECHA CONTRATO]],TablaEMPLEADOS[[#This Row],[ANTIGÜEDAD A FECHA FUTURO]],\"y\") & \" año(s) \") & IF(DATEDIF(TablaEMPLEADOS[[#This Row],[FECHA CONTRATO]],TablaEMPLEADOS[[#This Row],[ANTIGÜEDAD A FECHA FUTURO]],\"ym\")=0,\"\",DATEDIF(TablaEMPLEADOS[[#This Row],[FECHA CONTRATO]],TablaEMPLEADOS[[#This Row],[ANTIGÜEDAD A FECHA FUTURO]],\"ym\") & \" mes(es) \") & IF(DATEDIF(TablaEMPLEADOS[[#This Row],[FECHA CONTRATO]],TablaEMPLEADOS[[#This Row],[ANTIGÜEDAD A FECHA FUTURO]],\"md\")=0,\"\",DATEDIF(TablaEMPLEADOS[[#This Row],[FECHA CONTRATO]],TablaEMPLEADOS[[#This Row],[ANTIGÜEDAD A FECHA FUTURO]],\"md\") & \" día(s)\")),\"\"))","v":""},null,{"$f":"IF(TablaEMPLEADOS[[#This Row],[ANTIGÜEDAD A FECHA FUTURO]]=\"NO\",ROUND(((TODAY()-TablaEMPLEADOS[[#This Row],[FECHA CONTRATO]]+1)/365)*TablaEMPLEADOS[[#This Row],[VAC./ AÑO]]+TablaEMPLEADOS[[#This Row],[TOTA VAC. PROG.]],0),ROUND(((TablaEMPLEADOS[[#This Row],[ANTIGÜEDAD A FECHA FUTURO]]-TablaEMPLEADOS[[#This Row],[FECHA CONTRATO]]+1)/365)*TablaEMPLEADOS[[#This Row],[VAC./ AÑO]]+TablaEMPLEADOS[[#This Row],[TOTA VAC. PROG.]],0))","v":{"$error":"#VALUE!"}},null,null,{"$f":"IFERROR(IF(OR(TablaEMPLEADOS[[#This Row],[VAC./ AÑO]]=20,TablaEMPLEADOS[[#This Row],[VAC. PROG.]]=\"NO\"),0,IF(TablaEMPLEADOS[[#This Row],[ANTIGÜEDAD A FECHA FUTURO]]=\"NO\",VLOOKUP(ROUNDDOWN(YEARFRAC(TablaEMPLEADOS[[#This Row],[ACTIVACIÓN PROG.]],TODAY()),0),Tabla2[],2,0),VLOOKUP(ROUNDDOWN(YEARFRAC(TablaEMPLEADOS[[#This Row],[ACTIVACIÓN PROG.]],TablaEMPLEADOS[[#This Row],[ANTIGÜEDAD A FECHA FUTURO]]),0),Tabla2[],3,0))),\"\")","v":""},null,{"$f":"IFERROR(VLOOKUP(TablaEMPLEADOS[[#This Row],[NOMBRE]],VERIFICACION!$D$4:$G$4,4,0),\"NO\")","v":"NO"},"Día de la Virgen del Carmen","2019-07-16",null,9,3,{"$f":"R13+Tabla2[[#This Row],[dias]]","v":12}]
[9,null,null,null,{"$f":"IF(TablaEMPLEADOS[[#This Row],[ANTIGÜEDAD A FECHA FUTURO]]=\"NO\", IFERROR(IF(TablaEMPLEADOS[[#This Row],[FECHA CONTRATO]]=0,\"\",IF(DATEDIF(TablaEMPLEADOS[[#This Row],[FECHA CONTRATO]],TODAY(),\"y\")=0,\"\", DATEDIF(TablaEMPLEADOS[[#This Row],[FECHA CONTRATO]],TODAY(),\"y\") & \" año(s) \") & IF(DATEDIF(TablaEMPLEADOS[[#This Row],[FECHA CONTRATO]],TODAY(),\"ym\")=0,\"\",DATEDIF(TablaEMPLEADOS[[#This Row],[FECHA CONTRATO]],TODAY(),\"ym\") & \" mes(es) \") & IF(DATEDIF(TablaEMPLEADOS[[#This Row],[FECHA CONTRATO]],TODAY(),\"md\")=0,\"\",DATEDIF(TablaEMPLEADOS[[#This Row],[FECHA CONTRATO]],TODAY(),\"md\") & \" día(s)\")),\"\"), IFERROR(IF(TablaEMPLEADOS[[#This Row],[FECHA CONTRATO]]=0,\"\",IF(DATEDIF(TablaEMPLEADOS[[#This Row],[FECHA CONTRATO]],TablaEMPLEADOS[[#This Row],[ANTIGÜEDAD A FECHA FUTURO]],\"y\")=0,\"\", DATEDIF(TablaEMPLEADOS[[#This Row],[FECHA CONTRATO]],TablaEMPLEADOS[[#This Row],[ANTIGÜEDAD A FECHA FUTURO]],\"y\") & \" año(s) \") & IF(DATEDIF(TablaEMPLEADOS[[#This Row],[FECHA CONTRATO]],TablaEMPLEADOS[[#This Row],[ANTIGÜEDAD A FECHA FUTURO]],\"ym\")=0,\"\",DATEDIF(TablaEMPLEADOS[[#This Row],[FECHA CONTRATO]],TablaEMPLEADOS[[#This Row],[ANTIGÜEDAD A FECHA FUTURO]],\"ym\") & \" mes(es) \") & IF(DATEDIF(TablaEMPLEADOS[[#This Row],[FECHA CONTRATO]],TablaEMPLEADOS[[#This Row],[ANTIGÜEDAD A FECHA FUTURO]],\"md\")=0,\"\",DATEDIF(TablaEMPLEADOS[[#This Row],[FECHA CONTRATO]],TablaEMPLEADOS[[#This Row],[ANTIGÜEDAD A FECHA FUTURO]],\"md\") & \" día(s)\")),\"\"))","v":""},null,{"$f":"IF(TablaEMPLEADOS[[#This Row],[ANTIGÜEDAD A FECHA FUTURO]]=\"NO\",ROUND(((TODAY()-TablaEMPLEADOS[[#This Row],[FECHA CONTRATO]]+1)/365)*TablaEMPLEADOS[[#This Row],[VAC./ AÑO]]+TablaEMPLEADOS[[#This Row],[TOTA VAC. PROG.]],0),ROUND(((TablaEMPLEADOS[[#This Row],[ANTIGÜEDAD A FECHA FUTURO]]-TablaEMPLEADOS[[#This Row],[FECHA CONTRATO]]+1)/365)*TablaEMPLEADOS[[#This Row],[VAC./ AÑO]]+TablaEMPLEADOS[[#This Row],[TOTA VAC. PROG.]],0))","v":{"$error":"#VALUE!"}},null,null,{"$f":"IFERROR(IF(OR(TablaEMPLEADOS[[#This Row],[VAC./ AÑO]]=20,TablaEMPLEADOS[[#This Row],[VAC. PROG.]]=\"NO\"),0,IF(TablaEMPLEADOS[[#This Row],[ANTIGÜEDAD A FECHA FUTURO]]=\"NO\",VLOOKUP(ROUNDDOWN(YEARFRAC(TablaEMPLEADOS[[#This Row],[ACTIVACIÓN PROG.]],TODAY()),0),Tabla2[],2,0),VLOOKUP(ROUNDDOWN(YEARFRAC(TablaEMPLEADOS[[#This Row],[ACTIVACIÓN PROG.]],TablaEMPLEADOS[[#This Row],[ANTIGÜEDAD A FECHA FUTURO]]),0),Tabla2[],3,0))),\"\")","v":""},null,{"$f":"IFERROR(VLOOKUP(TablaEMPLEADOS[[#This Row],[NOMBRE]],VERIFICACION!$D$4:$G$4,4,0),\"NO\")","v":"NO"},"Asunción de la Virgen","2019-08-15",null,10,3,{"$f":"R14+Tabla2[[#This Row],[dias]]","v":15}]
[10,null,null,null,{"$f":"IF(TablaEMPLEADOS[[#This Row],[ANTIGÜEDAD A FECHA FUTURO]]=\"NO\", IFERROR(IF(TablaEMPLEADOS[[#This Row],[FECHA CONTRATO]]=0,\"\",IF(DATEDIF(TablaEMPLEADOS[[#This Row],[FECHA CONTRATO]],TODAY(),\"y\")=0,\"\", DATEDIF(TablaEMPLEADOS[[#This Row],[FECHA CONTRATO]],TODAY(),\"y\") & \" año(s) \") & IF(DATEDIF(TablaEMPLEADOS[[#This Row],[FECHA CONTRATO]],TODAY(),\"ym\")=0,\"\",DATEDIF(TablaEMPLEADOS[[#This Row],[FECHA CONTRATO]],TODAY(),\"ym\") & \" mes(es) \") & IF(DATEDIF(TablaEMPLEADOS[[#This Row],[FECHA CONTRATO]],TODAY(),\"md\")=0,\"\",DATEDIF(TablaEMPLEADOS[[#This Row],[FECHA CONTRATO]],TODAY(),\"md\") & \" día(s)\")),\"\"), IFERROR(IF(TablaEMPLEADOS[[#This Row],[FECHA CONTRATO]]=0,\"\",IF(DATEDIF(TablaEMPLEADOS[[#This Row],[FECHA CONTRATO]],TablaEMPLEADOS[[#This Row],[ANTIGÜEDAD A FECHA FUTURO]],\"y\")=0,\"\", DATEDIF(TablaEMPLEADOS[[#This Row],[FECHA CONTRATO]],TablaEMPLEADOS[[#This Row],[ANTIGÜEDAD A FECHA FUTURO]],\"y\") & \" año(s) \") & IF(DATEDIF(TablaEMPLEADOS[[#This Row],[FECHA CONTRATO]],TablaEMPLEADOS[[#This Row],[ANTIGÜEDAD A FECHA FUTURO]],\"ym\")=0,\"\",DATEDIF(TablaEMPLEADOS[[#This Row],[FECHA CONTRATO]],TablaEMPLEADOS[[#This Row],[ANTIGÜEDAD A FECHA FUTURO]],\"ym\") & \" mes(es) \") & IF(DATEDIF(TablaEMPLEADOS[[#This Row],[FECHA CONTRATO]],TablaEMPLEADOS[[#This Row],[ANTIGÜEDAD A FECHA FUTURO]],\"md\")=0,\"\",DATEDIF(TablaEMPLEADOS[[#This Row],[FECHA CONTRATO]],TablaEMPLEADOS[[#This Row],[ANTIGÜEDAD A FECHA FUTURO]],\"md\") & \" día(s)\")),\"\"))","v":""},null,{"$f":"IF(TablaEMPLEADOS[[#This Row],[ANTIGÜEDAD A FECHA FUTURO]]=\"NO\",ROUND(((TODAY()-TablaEMPLEADOS[[#This Row],[FECHA CONTRATO]]+1)/365)*TablaEMPLEADOS[[#This Row],[VAC./ AÑO]]+TablaEMPLEADOS[[#This Row],[TOTA VAC. PROG.]],0),ROUND(((TablaEMPLEADOS[[#This Row],[ANTIGÜEDAD A FECHA FUTURO]]-TablaEMPLEADOS[[#This Row],[FECHA CONTRATO]]+1)/365)*TablaEMPLEADOS[[#This Row],[VAC./ AÑO]]+TablaEMPLEADOS[[#This Row],[TOTA VAC. PROG.]],0))","v":{"$error":"#VALUE!"}},null,null,{"$f":"IFERROR(IF(OR(TablaEMPLEADOS[[#This Row],[VAC./ AÑO]]=20,TablaEMPLEADOS[[#This Row],[VAC. PROG.]]=\"NO\"),0,IF(TablaEMPLEADOS[[#This Row],[ANTIGÜEDAD A FECHA FUTURO]]=\"NO\",VLOOKUP(ROUNDDOWN(YEARFRAC(TablaEMPLEADOS[[#This Row],[ACTIVACIÓN PROG.]],TODAY()),0),Tabla2[],2,0),VLOOKUP(ROUNDDOWN(YEARFRAC(TablaEMPLEADOS[[#This Row],[ACTIVACIÓN PROG.]],TablaEMPLEADOS[[#This Row],[ANTIGÜEDAD A FECHA FUTURO]]),0),Tabla2[],3,0))),\"\")","v":""},null,{"$f":"IFERROR(VLOOKUP(TablaEMPLEADOS[[#This Row],[NOMBRE]],VERIFICACION!$D$4:$G$4,4,0),\"NO\")","v":"NO"},"Fiestas Patrias","2019-09-18",null,11,3,{"$f":"R15+Tabla2[[#This Row],[dias]]","v":18}]
[11,null,null,null,{"$f":"IF(TablaEMPLEADOS[[#This Row],[ANTIGÜEDAD A FECHA FUTURO]]=\"NO\", IFERROR(IF(TablaEMPLEADOS[[#This Row],[FECHA CONTRATO]]=0,\"\",IF(DATEDIF(TablaEMPLEADOS[[#This Row],[FECHA CONTRATO]],TODAY(),\"y\")=0,\"\", DATEDIF(TablaEMPLEADOS[[#This Row],[FECHA CONTRATO]],TODAY(),\"y\") & \" año(s) \") & IF(DATEDIF(TablaEMPLEADOS[[#This Row],[FECHA CONTRATO]],TODAY(),\"ym\")=0,\"\",DATEDIF(TablaEMPLEADOS[[#This Row],[FECHA CONTRATO]],TODAY(),\"ym\") & \" mes(es) \") & IF(DATEDIF(TablaEMPLEADOS[[#This Row],[FECHA CONTRATO]],TODAY(),\"md\")=0,\"\",DATEDIF(TablaEMPLEADOS[[#This Row],[FECHA CONTRATO]],TODAY(),\"md\") & \" día(s)\")),\"\"), IFERROR(IF(TablaEMPLEADOS[[#This Row],[FECHA CONTRATO]]=0,\"\",IF(DATEDIF(TablaEMPLEADOS[[#This Row],[FECHA CONTRATO]],TablaEMPLEADOS[[#This Row],[ANTIGÜEDAD A FECHA FUTURO]],\"y\")=0,\"\", DATEDIF(TablaEMPLEADOS[[#This Row],[FECHA CONTRATO]],TablaEMPLEADOS[[#This Row],[ANTIGÜEDAD A FECHA FUTURO]],\"y\") & \" año(s) \") & IF(DATEDIF(TablaEMPLEADOS[[#This Row],[FECHA CONTRATO]],TablaEMPLEADOS[[#This Row],[ANTIGÜEDAD A FECHA FUTURO]],\"ym\")=0,\"\",DATEDIF(TablaEMPLEADOS[[#This Row],[FECHA CONTRATO]],TablaEMPLEADOS[[#This Row],[ANTIGÜEDAD A FECHA FUTURO]],\"ym\") & \" mes(es) \") & IF(DATEDIF(TablaEMPLEADOS[[#This Row],[FECHA CONTRATO]],TablaEMPLEADOS[[#This Row],[ANTIGÜEDAD A FECHA FUTURO]],\"md\")=0,\"\",DATEDIF(TablaEMPLEADOS[[#This Row],[FECHA CONTRATO]],TablaEMPLEADOS[[#This Row],[ANTIGÜEDAD A FECHA FUTURO]],\"md\") & \" día(s)\")),\"\"))","v":""},null,{"$f":"IF(TablaEMPLEADOS[[#This Row],[ANTIGÜEDAD A FECHA FUTURO]]=\"NO\",ROUND(((TODAY()-TablaEMPLEADOS[[#This Row],[FECHA CONTRATO]]+1)/365)*TablaEMPLEADOS[[#This Row],[VAC./ AÑO]]+TablaEMPLEADOS[[#This Row],[TOTA VAC. PROG.]],0),ROUND(((TablaEMPLEADOS[[#This Row],[ANTIGÜEDAD A FECHA FUTURO]]-TablaEMPLEADOS[[#This Row],[FECHA CONTRATO]]+1)/365)*TablaEMPLEADOS[[#This Row],[VAC./ AÑO]]+TablaEMPLEADOS[[#This Row],[TOTA VAC. PROG.]],0))","v":{"$error":"#VALUE!"}},null,null,{"$f":"IFERROR(IF(OR(TablaEMPLEADOS[[#This Row],[VAC./ AÑO]]=20,TablaEMPLEADOS[[#This Row],[VAC. PROG.]]=\"NO\"),0,IF(TablaEMPLEADOS[[#This Row],[ANTIGÜEDAD A FECHA FUTURO]]=\"NO\",VLOOKUP(ROUNDDOWN(YEARFRAC(TablaEMPLEADOS[[#This Row],[ACTIVACIÓN PROG.]],TODAY()),0),Tabla2[],2,0),VLOOKUP(ROUNDDOWN(YEARFRAC(TablaEMPLEADOS[[#This Row],[ACTIVACIÓN PROG.]],TablaEMPLEADOS[[#This Row],[ANTIGÜEDAD A FECHA FUTURO]]),0),Tabla2[],3,0))),\"\")","v":""},null,{"$f":"IFERROR(VLOOKUP(TablaEMPLEADOS[[#This Row],[NOMBRE]],VERIFICACION!$D$4:$G$4,4,0),\"NO\")","v":"NO"},"Independencia Nacional","2019-09-19",null,12,4,{"$f":"R16+Tabla2[[#This Row],[dias]]","v":22}]
[12,null,null,null,{"$f":"IF(TablaEMPLEADOS[[#This Row],[ANTIGÜEDAD A FECHA FUTURO]]=\"NO\", IFERROR(IF(TablaEMPLEADOS[[#This Row],[FECHA CONTRATO]]=0,\"\",IF(DATEDIF(TablaEMPLEADOS[[#This Row],[FECHA CONTRATO]],TODAY(),\"y\")=0,\"\", DATEDIF(TablaEMPLEADOS[[#This Row],[FECHA CONTRATO]],TODAY(),\"y\") & \" año(s) \") & IF(DATEDIF(TablaEMPLEADOS[[#This Row],[FECHA CONTRATO]],TODAY(),\"ym\")=0,\"\",DATEDIF(TablaEMPLEADOS[[#This Row],[FECHA CONTRATO]],TODAY(),\"ym\") & \" mes(es) \") & IF(DATEDIF(TablaEMPLEADOS[[#This Row],[FECHA CONTRATO]],TODAY(),\"md\")=0,\"\",DATEDIF(TablaEMPLEADOS[[#This Row],[FECHA CONTRATO]],TODAY(),\"md\") & \" día(s)\")),\"\"), IFERROR(IF(TablaEMPLEADOS[[#This Row],[FECHA CONTRATO]]=0,\"\",IF(DATEDIF(TablaEMPLEADOS[[#This Row],[FECHA CONTRATO]],TablaEMPLEADOS[[#This Row],[ANTIGÜEDAD A FECHA FUTURO]],\"y\")=0,\"\", DATEDIF(TablaEMPLEADOS[[#This Row],[FECHA CONTRATO]],TablaEMPLEADOS[[#This Row],[ANTIGÜEDAD A FECHA FUTURO]],\"y\") & \" año(s) \") & IF(DATEDIF(TablaEMPLEADOS[[#This Row],[FECHA CONTRATO]],TablaEMPLEADOS[[#This Row],[ANTIGÜEDAD A FECHA FUTURO]],\"ym\")=0,\"\",DATEDIF(TablaEMPLEADOS[[#This Row],[FECHA CONTRATO]],TablaEMPLEADOS[[#This Row],[ANTIGÜEDAD A FECHA FUTURO]],\"ym\") & \" mes(es) \") & IF(DATEDIF(TablaEMPLEADOS[[#This Row],[FECHA CONTRATO]],TablaEMPLEADOS[[#This Row],[ANTIGÜEDAD A FECHA FUTURO]],\"md\")=0,\"\",DATEDIF(TablaEMPLEADOS[[#This Row],[FECHA CONTRATO]],TablaEMPLEADOS[[#This Row],[ANTIGÜEDAD A FECHA FUTURO]],\"md\") & \" día(s)\")),\"\"))","v":""},null,{"$f":"IF(TablaEMPLEADOS[[#This Row],[ANTIGÜEDAD A FECHA FUTURO]]=\"NO\",ROUND(((TODAY()-TablaEMPLEADOS[[#This Row],[FECHA CONTRATO]]+1)/365)*TablaEMPLEADOS[[#This Row],[VAC./ AÑO]]+TablaEMPLEADOS[[#This Row],[TOTA VAC. PROG.]],0),ROUND(((TablaEMPLEADOS[[#This Row],[ANTIGÜEDAD A FECHA FUTURO]]-TablaEMPLEADOS[[#This Row],[FECHA CONTRATO]]+1)/365)*TablaEMPLEADOS[[#This Row],[VAC./ AÑO]]+TablaEMPLEADOS[[#This Row],[TOTA VAC. PROG.]],0))","v":{"$error":"#VALUE!"}},null,null,{"$f":"IFERROR(IF(OR(TablaEMPLEADOS[[#This Row],[VAC./ AÑO]]=20,TablaEMPLEADOS[[#This Row],[VAC. PROG.]]=\"NO\"),0,IF(TablaEMPLEADOS[[#This Row],[ANTIGÜEDAD A FECHA FUTURO]]=\"NO\",VLOOKUP(ROUNDDOWN(YEARFRAC(TablaEMPLEADOS[[#This Row],[ACTIVACIÓN PROG.]],TODAY()),0),Tabla2[],2,0),VLOOKUP(ROUNDDOWN(YEARFRAC(TablaEMPLEADOS[[#This Row],[ACTIVACIÓN PROG.]],TablaEMPLEADOS[[#This Row],[ANTIGÜEDAD A FECHA FUTURO]]),0),Tabla2[],3,0))),\"\")","v":""},null,{"$f":"IFERROR(VLOOKUP(TablaEMPLEADOS[[#This Row],[NOMBRE]],VERIFICACION!$D$4:$G$4,4,0),\"NO\")","v":"NO"},"Día de las Glorias del Ejército","2019-09-20",null,13,4,{"$f":"R17+Tabla2[[#This Row],[dias]]","v":26}]
[13,null,null,null,{"$f":"IF(TablaEMPLEADOS[[#This Row],[ANTIGÜEDAD A FECHA FUTURO]]=\"NO\", IFERROR(IF(TablaEMPLEADOS[[#This Row],[FECHA CONTRATO]]=0,\"\",IF(DATEDIF(TablaEMPLEADOS[[#This Row],[FECHA CONTRATO]],TODAY(),\"y\")=0,\"\", DATEDIF(TablaEMPLEADOS[[#This Row],[FECHA CONTRATO]],TODAY(),\"y\") & \" año(s) \") & IF(DATEDIF(TablaEMPLEADOS[[#This Row],[FECHA CONTRATO]],TODAY(),\"ym\")=0,\"\",DATEDIF(TablaEMPLEADOS[[#This Row],[FECHA CONTRATO]],TODAY(),\"ym\") & \" mes(es) \") & IF(DATEDIF(TablaEMPLEADOS[[#This Row],[FECHA CONTRATO]],TODAY(),\"md\")=0,\"\",DATEDIF(TablaEMPLEADOS[[#This Row],[FECHA CONTRATO]],TODAY(),\"md\") & \" día(s)\")),\"\"), IFERROR(IF(TablaEMPLEADOS[[#This Row],[FECHA CONTRATO]]=0,\"\",IF(DATEDIF(TablaEMPLEADOS[[#This Row],[FECHA CONTRATO]],TablaEMPLEADOS[[#This Row],[ANTIGÜEDAD A FECHA FUTURO]],\"y\")=0,\"\", DATEDIF(TablaEMPLEADOS[[#This Row],[FECHA CONTRATO]],TablaEMPLEADOS[[#This Row],[ANTIGÜEDAD A FECHA FUTURO]],\"y\") & \" año(s) \") & IF(DATEDIF(TablaEMPLEADOS[[#This Row],[FECHA CONTRATO]],TablaEMPLEADOS[[#This Row],[ANTIGÜEDAD A FECHA FUTURO]],\"ym\")=0,\"\",DATEDIF(TablaEMPLEADOS[[#This Row],[FECHA CONTRATO]],TablaEMPLEADOS[[#This Row],[ANTIGÜEDAD A FECHA FUTURO]],\"ym\") & \" mes(es) \") & IF(DATEDIF(TablaEMPLEADOS[[#This Row],[FECHA CONTRATO]],TablaEMPLEADOS[[#This Row],[ANTIGÜEDAD A FECHA FUTURO]],\"md\")=0,\"\",DATEDIF(TablaEMPLEADOS[[#This Row],[FECHA CONTRATO]],TablaEMPLEADOS[[#This Row],[ANTIGÜEDAD A FECHA FUTURO]],\"md\") & \" día(s)\")),\"\"))","v":""},null,{"$f":"IF(TablaEMPLEADOS[[#This Row],[ANTIGÜEDAD A FECHA FUTURO]]=\"NO\",ROUND(((TODAY()-TablaEMPLEADOS[[#This Row],[FECHA CONTRATO]]+1)/365)*TablaEMPLEADOS[[#This Row],[VAC./ AÑO]]+TablaEMPLEADOS[[#This Row],[TOTA VAC. PROG.]],0),ROUND(((TablaEMPLEADOS[[#This Row],[ANTIGÜEDAD A FECHA FUTURO]]-TablaEMPLEADOS[[#This Row],[FECHA CONTRATO]]+1)/365)*TablaEMPLEADOS[[#This Row],[VAC./ AÑO]]+TablaEMPLEADOS[[#This Row],[TOTA VAC. PROG.]],0))","v":{"$error":"#VALUE!"}},null,null,{"$f":"IFERROR(IF(OR(TablaEMPLEADOS[[#This Row],[VAC./ AÑO]]=20,TablaEMPLEADOS[[#This Row],[VAC. PROG.]]=\"NO\"),0,IF(TablaEMPLEADOS[[#This Row],[ANTIGÜEDAD A FECHA FUTURO]]=\"NO\",VLOOKUP(ROUNDDOWN(YEARFRAC(TablaEMPLEADOS[[#This Row],[ACTIVACIÓN PROG.]],TODAY()),0),Tabla2[],2,0),VLOOKUP(ROUNDDOWN(YEARFRAC(TablaEMPLEADOS[[#This Row],[ACTIVACIÓN PROG.]],TablaEMPLEADOS[[#This Row],[ANTIGÜEDAD A FECHA FUTURO]]),0),Tabla2[],3,0))),\"\")","v":""},null,{"$f":"IFERROR(VLOOKUP(TablaEMPLEADOS[[#This Row],[NOMBRE]],VERIFICACION!$D$4:$G$4,4,0),\"NO\")","v":"NO"},"Encuentro de Dos Mundos","2019-10-12",null,14,4,{"$f":"R18+Tabla2[[#This Row],[dias]]","v":30}]
[14,null,null,null,{"$f":"IF(TablaEMPLEADOS[[#This Row],[ANTIGÜEDAD A FECHA FUTURO]]=\"NO\", IFERROR(IF(TablaEMPLEADOS[[#This Row],[FECHA CONTRATO]]=0,\"\",IF(DATEDIF(TablaEMPLEADOS[[#This Row],[FECHA CONTRATO]],TODAY(),\"y\")=0,\"\", DATEDIF(TablaEMPLEADOS[[#This Row],[FECHA CONTRATO]],TODAY(),\"y\") & \" año(s) \") & IF(DATEDIF(TablaEMPLEADOS[[#This Row],[FECHA CONTRATO]],TODAY(),\"ym\")=0,\"\",DATEDIF(TablaEMPLEADOS[[#This Row],[FECHA CONTRATO]],TODAY(),\"ym\") & \" mes(es) \") & IF(DATEDIF(TablaEMPLEADOS[[#This Row],[FECHA CONTRATO]],TODAY(),\"md\")=0,\"\",DATEDIF(TablaEMPLEADOS[[#This Row],[FECHA CONTRATO]],TODAY(),\"md\") & \" día(s)\")),\"\"), IFERROR(IF(TablaEMPLEADOS[[#This Row],[FECHA CONTRATO]]=0,\"\",IF(DATEDIF(TablaEMPLEADOS[[#This Row],[FECHA CONTRATO]],TablaEMPLEADOS[[#This Row],[ANTIGÜEDAD A FECHA FUTURO]],\"y\")=0,\"\", DATEDIF(TablaEMPLEADOS[[#This Row],[FECHA CONTRATO]],TablaEMPLEADOS[[#This Row],[ANTIGÜEDAD A FECHA FUTURO]],\"y\") & \" año(s) \") & IF(DATEDIF(TablaEMPLEADOS[[#This Row],[FECHA CONTRATO]],TablaEMPLEADOS[[#This Row],[ANTIGÜEDAD A FECHA FUTURO]],\"ym\")=0,\"\",DATEDIF(TablaEMPLEADOS[[#This Row],[FECHA CONTRATO]],TablaEMPLEADOS[[#This Row],[ANTIGÜEDAD A FECHA FUTURO]],\"ym\") & \" mes(es) \") & IF(DATEDIF(TablaEMPLEADOS[[#This Row],[FECHA CONTRATO]],TablaEMPLEADOS[[#This Row],[ANTIGÜEDAD A FECHA FUTURO]],\"md\")=0,\"\",DATEDIF(TablaEMPLEADOS[[#This Row],[FECHA CONTRATO]],TablaEMPLEADOS[[#This Row],[ANTIGÜEDAD A FECHA FUTURO]],\"md\") & \" día(s)\")),\"\"))","v":""},null,{"$f":"IF(TablaEMPLEADOS[[#This Row],[ANTIGÜEDAD A FECHA FUTURO]]=\"NO\",ROUND(((TODAY()-TablaEMPLEADOS[[#This Row],[FECHA CONTRATO]]+1)/365)*TablaEMPLEADOS[[#This Row],[VAC./ AÑO]]+TablaEMPLEADOS[[#This Row],[TOTA VAC. PROG.]],0),ROUND(((TablaEMPLEADOS[[#This Row],[ANTIGÜEDAD A FECHA FUTURO]]-TablaEMPLEADOS[[#This Row],[FECHA CONTRATO]]+1)/365)*TablaEMPLEADOS[[#This Row],[VAC./ AÑO]]+TablaEMPLEADOS[[#This Row],[TOTA VAC. PROG.]],0))","v":{"$error":"#VALUE!"}},null,null,{"$f":"IFERROR(IF(OR(TablaEMPLEADOS[[#This Row],[VAC./ AÑO]]=20,TablaEMPLEADOS[[#This Row],[VAC. PROG.]]=\"NO\"),0,IF(TablaEMPLEADOS[[#This Row],[ANTIGÜEDAD A FECHA FUTURO]]=\"NO\",VLOOKUP(ROUNDDOWN(YEARFRAC(TablaEMPLEADOS[[#This Row],[ACTIVACIÓN PROG.]],TODAY()),0),Tabla2[],2,0),VLOOKUP(ROUNDDOWN(YEARFRAC(TablaEMPLEADOS[[#This Row],[ACTIVACIÓN PROG.]],TablaEMPLEADOS[[#This Row],[ANTIGÜEDAD A FECHA FUTURO]]),0),Tabla2[],3,0))),\"\")","v":""},null,{"$f":"IFERROR(VLOOKUP(TablaEMPLEADOS[[#This Row],[NOMBRE]],VERIFICACION!$D$4:$G$4,4,0),\"NO\")","v":"NO"},"Día de Todos los Santos","2019-11-01",null,15,5,{"$f":"R19+Tabla2[[#This Row],[dias]]","v":35}]
[15,null,null,null,{"$f":"IF(TablaEMPLEADOS[[#This Row],[ANTIGÜEDAD A FECHA FUTURO]]=\"NO\", IFERROR(IF(TablaEMPLEADOS[[#This Row],[FECHA CONTRATO]]=0,\"\",IF(DATEDIF(TablaEMPLEADOS[[#This Row],[FECHA CONTRATO]],TODAY(),\"y\")=0,\"\", DATEDIF(TablaEMPLEADOS[[#This Row],[FECHA CONTRATO]],TODAY(),\"y\") & \" año(s) \") & IF(DATEDIF(TablaEMPLEADOS[[#This Row],[FECHA CONTRATO]],TODAY(),\"ym\")=0,\"\",DATEDIF(TablaEMPLEADOS[[#This Row],[FECHA CONTRATO]],TODAY(),\"ym\") & \" mes(es) \") & IF(DATEDIF(TablaEMPLEADOS[[#This Row],[FECHA CONTRATO]],TODAY(),\"md\")=0,\"\",DATEDIF(TablaEMPLEADOS[[#This Row],[FECHA CONTRATO]],TODAY(),\"md\") & \" día(s)\")),\"\"), IFERROR(IF(TablaEMPLEADOS[[#This Row],[FECHA CONTRATO]]=0,\"\",IF(DATEDIF(TablaEMPLEADOS[[#This Row],[FECHA CONTRATO]],TablaEMPLEADOS[[#This Row],[ANTIGÜEDAD A FECHA FUTURO]],\"y\")=0,\"\", DATEDIF(TablaEMPLEADOS[[#This Row],[FECHA CONTRATO]],TablaEMPLEADOS[[#This Row],[ANTIGÜEDAD A FECHA FUTURO]],\"y\") & \" año(s) \") & IF(DATEDIF(TablaEMPLEADOS[[#This Row],[FECHA CONTRATO]],TablaEMPLEADOS[[#This Row],[ANTIGÜEDAD A FECHA FUTURO]],\"ym\")=0,\"\",DATEDIF(TablaEMPLEADOS[[#This Row],[FECHA CONTRATO]],TablaEMPLEADOS[[#This Row],[ANTIGÜEDAD A FECHA FUTURO]],\"ym\") & \" mes(es) \") & IF(DATEDIF(TablaEMPLEADOS[[#This Row],[FECHA CONTRATO]],TablaEMPLEADOS[[#This Row],[ANTIGÜEDAD A FECHA FUTURO]],\"md\")=0,\"\",DATEDIF(TablaEMPLEADOS[[#This Row],[FECHA CONTRATO]],TablaEMPLEADOS[[#This Row],[ANTIGÜEDAD A FECHA FUTURO]],\"md\") & \" día(s)\")),\"\"))","v":""},null,{"$f":"IF(TablaEMPLEADOS[[#This Row],[ANTIGÜEDAD A FECHA FUTURO]]=\"NO\",ROUND(((TODAY()-TablaEMPLEADOS[[#This Row],[FECHA CONTRATO]]+1)/365)*TablaEMPLEADOS[[#This Row],[VAC./ AÑO]]+TablaEMPLEADOS[[#This Row],[TOTA VAC. PROG.]],0),ROUND(((TablaEMPLEADOS[[#This Row],[ANTIGÜEDAD A FECHA FUTURO]]-TablaEMPLEADOS[[#This Row],[FECHA CONTRATO]]+1)/365)*TablaEMPLEADOS[[#This Row],[VAC./ AÑO]]+TablaEMPLEADOS[[#This Row],[TOTA VAC. PROG.]],0))","v":{"$error":"#VALUE!"}},null,null,{"$f":"IFERROR(IF(OR(TablaEMPLEADOS[[#This Row],[VAC./ AÑO]]=20,TablaEMPLEADOS[[#This Row],[VAC. PROG.]]=\"NO\"),0,IF(TablaEMPLEADOS[[#This Row],[ANTIGÜEDAD A FECHA FUTURO]]=\"NO\",VLOOKUP(ROUNDDOWN(YEARFRAC(TablaEMPLEADOS[[#This Row],[ACTIVACIÓN PROG.]],TODAY()),0),Tabla2[],2,0),VLOOKUP(ROUNDDOWN(YEARFRAC(TablaEMPLEADOS[[#This Row],[ACTIVACIÓN PROG.]],TablaEMPLEADOS[[#This Row],[ANTIGÜEDAD A FECHA FUTURO]]),0),Tabla2[],3,0))),\"\")","v":""},null,{"$f":"IFERROR(VLOOKUP(TablaEMPLEADOS[[#This Row],[NOMBRE]],VERIFICACION!$D$4:$G$4,4,0),\"NO\")","v":"NO"},"Día de las Iglesias Evangélicas y Protestantes","2019-11-02",null,16,5,{"$f":"R20+Tabla2[[#This Row],[dias]]","v":40}]
[16,null,null,null,{"$f":"IF(TablaEMPLEADOS[[#This Row],[ANTIGÜEDAD A FECHA FUTURO]]=\"NO\", IFERROR(IF(TablaEMPLEADOS[[#This Row],[FECHA CONTRATO]]=0,\"\",IF(DATEDIF(TablaEMPLEADOS[[#This Row],[FECHA CONTRATO]],TODAY(),\"y\")=0,\"\", DATEDIF(TablaEMPLEADOS[[#This Row],[FECHA CONTRATO]],TODAY(),\"y\") & \" año(s) \") & IF(DATEDIF(TablaEMPLEADOS[[#This Row],[FECHA CONTRATO]],TODAY(),\"ym\")=0,\"\",DATEDIF(TablaEMPLEADOS[[#This Row],[FECHA CONTRATO]],TODAY(),\"ym\") & \" mes(es) \") & IF(DATEDIF(TablaEMPLEADOS[[#This Row],[FECHA CONTRATO]],TODAY(),\"md\")=0,\"\",DATEDIF(TablaEMPLEADOS[[#This Row],[FECHA CONTRATO]],TODAY(),\"md\") & \" día(s)\")),\"\"), IFERROR(IF(TablaEMPLEADOS[[#This Row],[FECHA CONTRATO]]=0,\"\",IF(DATEDIF(TablaEMPLEADOS[[#This Row],[FECHA CONTRATO]],TablaEMPLEADOS[[#This Row],[ANTIGÜEDAD A FECHA FUTURO]],\"y\")=0,\"\", DATEDIF(TablaEMPLEADOS[[#This Row],[FECHA CONTRATO]],TablaEMPLEADOS[[#This Row],[ANTIGÜEDAD A FECHA FUTURO]],\"y\") & \" año(s) \") & IF(DATEDIF(TablaEMPLEADOS[[#This Row],[FECHA CONTRATO]],TablaEMPLEADOS[[#This Row],[ANTIGÜEDAD A FECHA FUTURO]],\"ym\")=0,\"\",DATEDIF(TablaEMPLEADOS[[#This Row],[FECHA CONTRATO]],TablaEMPLEADOS[[#This Row],[ANTIGÜEDAD A FECHA FUTURO]],\"ym\") & \" mes(es) \") & IF(DATEDIF(TablaEMPLEADOS[[#This Row],[FECHA CONTRATO]],TablaEMPLEADOS[[#This Row],[ANTIGÜEDAD A FECHA FUTURO]],\"md\")=0,\"\",DATEDIF(TablaEMPLEADOS[[#This Row],[FECHA CONTRATO]],TablaEMPLEADOS[[#This Row],[ANTIGÜEDAD A FECHA FUTURO]],\"md\") & \" día(s)\")),\"\"))","v":""},null,{"$f":"IF(TablaEMPLEADOS[[#This Row],[ANTIGÜEDAD A FECHA FUTURO]]=\"NO\",ROUND(((TODAY()-TablaEMPLEADOS[[#This Row],[FECHA CONTRATO]]+1)/365)*TablaEMPLEADOS[[#This Row],[VAC./ AÑO]]+TablaEMPLEADOS[[#This Row],[TOTA VAC. PROG.]],0),ROUND(((TablaEMPLEADOS[[#This Row],[ANTIGÜEDAD A FECHA FUTURO]]-TablaEMPLEADOS[[#This Row],[FECHA CONTRATO]]+1)/365)*TablaEMPLEADOS[[#This Row],[VAC./ AÑO]]+TablaEMPLEADOS[[#This Row],[TOTA VAC. PROG.]],0))","v":{"$error":"#VALUE!"}},null,null,{"$f":"IFERROR(IF(OR(TablaEMPLEADOS[[#This Row],[VAC./ AÑO]]=20,TablaEMPLEADOS[[#This Row],[VAC. PROG.]]=\"NO\"),0,IF(TablaEMPLEADOS[[#This Row],[ANTIGÜEDAD A FECHA FUTURO]]=\"NO\",VLOOKUP(ROUNDDOWN(YEARFRAC(TablaEMPLEADOS[[#This Row],[ACTIVACIÓN PROG.]],TODAY()),0),Tabla2[],2,0),VLOOKUP(ROUNDDOWN(YEARFRAC(TablaEMPLEADOS[[#This Row],[ACTIVACIÓN PROG.]],TablaEMPLEADOS[[#This Row],[ANTIGÜEDAD A FECHA FUTURO]]),0),Tabla2[],3,0))),\"\")","v":""},null,{"$f":"IFERROR(VLOOKUP(TablaEMPLEADOS[[#This Row],[NOMBRE]],VERIFICACION!$D$4:$G$4,4,0),\"NO\")","v":"NO"},"Inmaculada Concepción","2019-12-08",null,17,5,{"$f":"R21+Tabla2[[#This Row],[dias]]","v":45}]
[17,null,null,null,{"$f":"IF(TablaEMPLEADOS[[#This Row],[ANTIGÜEDAD A FECHA FUTURO]]=\"NO\", IFERROR(IF(TablaEMPLEADOS[[#This Row],[FECHA CONTRATO]]=0,\"\",IF(DATEDIF(TablaEMPLEADOS[[#This Row],[FECHA CONTRATO]],TODAY(),\"y\")=0,\"\", DATEDIF(TablaEMPLEADOS[[#This Row],[FECHA CONTRATO]],TODAY(),\"y\") & \" año(s) \") & IF(DATEDIF(TablaEMPLEADOS[[#This Row],[FECHA CONTRATO]],TODAY(),\"ym\")=0,\"\",DATEDIF(TablaEMPLEADOS[[#This Row],[FECHA CONTRATO]],TODAY(),\"ym\") & \" mes(es) \") & IF(DATEDIF(TablaEMPLEADOS[[#This Row],[FECHA CONTRATO]],TODAY(),\"md\")=0,\"\",DATEDIF(TablaEMPLEADOS[[#This Row],[FECHA CONTRATO]],TODAY(),\"md\") & \" día(s)\")),\"\"), IFERROR(IF(TablaEMPLEADOS[[#This Row],[FECHA CONTRATO]]=0,\"\",IF(DATEDIF(TablaEMPLEADOS[[#This Row],[FECHA CONTRATO]],TablaEMPLEADOS[[#This Row],[ANTIGÜEDAD A FECHA FUTURO]],\"y\")=0,\"\", DATEDIF(TablaEMPLEADOS[[#This Row],[FECHA CONTRATO]],TablaEMPLEADOS[[#This Row],[ANTIGÜEDAD A FECHA FUTURO]],\"y\") & \" año(s) \") & IF(DATEDIF(TablaEMPLEADOS[[#This Row],[FECHA CONTRATO]],TablaEMPLEADOS[[#This Row],[ANTIGÜEDAD A FECHA FUTURO]],\"ym\")=0,\"\",DATEDIF(TablaEMPLEADOS[[#This Row],[FECHA CONTRATO]],TablaEMPLEADOS[[#This Row],[ANTIGÜEDAD A FECHA FUTURO]],\"ym\") & \" mes(es) \") & IF(DATEDIF(TablaEMPLEADOS[[#This Row],[FECHA CONTRATO]],TablaEMPLEADOS[[#This Row],[ANTIGÜEDAD A FECHA FUTURO]],\"md\")=0,\"\",DATEDIF(TablaEMPLEADOS[[#This Row],[FECHA CONTRATO]],TablaEMPLEADOS[[#This Row],[ANTIGÜEDAD A FECHA FUTURO]],\"md\") & \" día(s)\")),\"\"))","v":""},null,{"$f":"IF(TablaEMPLEADOS[[#This Row],[ANTIGÜEDAD A FECHA FUTURO]]=\"NO\",ROUND(((TODAY()-TablaEMPLEADOS[[#This Row],[FECHA CONTRATO]]+1)/365)*TablaEMPLEADOS[[#This Row],[VAC./ AÑO]]+TablaEMPLEADOS[[#This Row],[TOTA VAC. PROG.]],0),ROUND(((TablaEMPLEADOS[[#This Row],[ANTIGÜEDAD A FECHA FUTURO]]-TablaEMPLEADOS[[#This Row],[FECHA CONTRATO]]+1)/365)*TablaEMPLEADOS[[#This Row],[VAC./ AÑO]]+TablaEMPLEADOS[[#This Row],[TOTA VAC. PROG.]],0))","v":{"$error":"#VALUE!"}},null,null,{"$f":"IFERROR(IF(OR(TablaEMPLEADOS[[#This Row],[VAC./ AÑO]]=20,TablaEMPLEADOS[[#This Row],[VAC. PROG.]]=\"NO\"),0,IF(TablaEMPLEADOS[[#This Row],[ANTIGÜEDAD A FECHA FUTURO]]=\"NO\",VLOOKUP(ROUNDDOWN(YEARFRAC(TablaEMPLEADOS[[#This Row],[ACTIVACIÓN PROG.]],TODAY()),0),Tabla2[],2,0),VLOOKUP(ROUNDDOWN(YEARFRAC(TablaEMPLEADOS[[#This Row],[ACTIVACIÓN PROG.]],TablaEMPLEADOS[[#This Row],[ANTIGÜEDAD A FECHA FUTURO]]),0),Tabla2[],3,0))),\"\")","v":""},null,{"$f":"IFERROR(VLOOKUP(TablaEMPLEADOS[[#This Row],[NOMBRE]],VERIFICACION!$D$4:$G$4,4,0),\"NO\")","v":"NO"},"Navidad","2019-12-25",null,18,6,{"$f":"R22+Tabla2[[#This Row],[dias]]","v":51}]
[18,null,null,null,{"$f":"IF(TablaEMPLEADOS[[#This Row],[ANTIGÜEDAD A FECHA FUTURO]]=\"NO\", IFERROR(IF(TablaEMPLEADOS[[#This Row],[FECHA CONTRATO]]=0,\"\",IF(DATEDIF(TablaEMPLEADOS[[#This Row],[FECHA CONTRATO]],TODAY(),\"y\")=0,\"\", DATEDIF(TablaEMPLEADOS[[#This Row],[FECHA CONTRATO]],TODAY(),\"y\") & \" año(s) \") & IF(DATEDIF(TablaEMPLEADOS[[#This Row],[FECHA CONTRATO]],TODAY(),\"ym\")=0,\"\",DATEDIF(TablaEMPLEADOS[[#This Row],[FECHA CONTRATO]],TODAY(),\"ym\") & \" mes(es) \") & IF(DATEDIF(TablaEMPLEADOS[[#This Row],[FECHA CONTRATO]],TODAY(),\"md\")=0,\"\",DATEDIF(TablaEMPLEADOS[[#This Row],[FECHA CONTRATO]],TODAY(),\"md\") & \" día(s)\")),\"\"), IFERROR(IF(TablaEMPLEADOS[[#This Row],[FECHA CONTRATO]]=0,\"\",IF(DATEDIF(TablaEMPLEADOS[[#This Row],[FECHA CONTRATO]],TablaEMPLEADOS[[#This Row],[ANTIGÜEDAD A FECHA FUTURO]],\"y\")=0,\"\", DATEDIF(TablaEMPLEADOS[[#This Row],[FECHA CONTRATO]],TablaEMPLEADOS[[#This Row],[ANTIGÜEDAD A FECHA FUTURO]],\"y\") & \" año(s) \") & IF(DATEDIF(TablaEMPLEADOS[[#This Row],[FECHA CONTRATO]],TablaEMPLEADOS[[#This Row],[ANTIGÜEDAD A FECHA FUTURO]],\"ym\")=0,\"\",DATEDIF(TablaEMPLEADOS[[#This Row],[FECHA CONTRATO]],TablaEMPLEADOS[[#This Row],[ANTIGÜEDAD A FECHA FUTURO]],\"ym\") & \" mes(es) \") & IF(DATEDIF(TablaEMPLEADOS[[#This Row],[FECHA CONTRATO]],TablaEMPLEADOS[[#This Row],[ANTIGÜEDAD A FECHA FUTURO]],\"md\")=0,\"\",DATEDIF(TablaEMPLEADOS[[#This Row],[FECHA CONTRATO]],TablaEMPLEADOS[[#This Row],[ANTIGÜEDAD A FECHA FUTURO]],\"md\") & \" día(s)\")),\"\"))","v":""},null,{"$f":"IF(TablaEMPLEADOS[[#This Row],[ANTIGÜEDAD A FECHA FUTURO]]=\"NO\",ROUND(((TODAY()-TablaEMPLEADOS[[#This Row],[FECHA CONTRATO]]+1)/365)*TablaEMPLEADOS[[#This Row],[VAC./ AÑO]]+TablaEMPLEADOS[[#This Row],[TOTA VAC. PROG.]],0),ROUND(((TablaEMPLEADOS[[#This Row],[ANTIGÜEDAD A FECHA FUTURO]]-TablaEMPLEADOS[[#This Row],[FECHA CONTRATO]]+1)/365)*TablaEMPLEADOS[[#This Row],[VAC./ AÑO]]+TablaEMPLEADOS[[#This Row],[TOTA VAC. PROG.]],0))","v":{"$error":"#VALUE!"}},null,null,{"$f":"IFERROR(IF(OR(TablaEMPLEADOS[[#This Row],[VAC./ AÑO]]=20,TablaEMPLEADOS[[#This Row],[VAC. PROG.]]=\"NO\"),0,IF(TablaEMPLEADOS[[#This Row],[ANTIGÜEDAD A FECHA FUTURO]]=\"NO\",VLOOKUP(ROUNDDOWN(YEARFRAC(TablaEMPLEADOS[[#This Row],[ACTIVACIÓN PROG.]],TODAY()),0),Tabla2[],2,0),VLOOKUP(ROUNDDOWN(YEARFRAC(TablaEMPLEADOS[[#This Row],[ACTIVACIÓN PROG.]],TablaEMPLEADOS[[#This Row],[ANTIGÜEDAD A FECHA FUTURO]]),0),Tabla2[],3,0))),\"\")","v":""},null,{"$f":"IFERROR(VLOOKUP(TablaEMPLEADOS[[#This Row],[NOMBRE]],VERIFICACION!$D$4:$G$4,4,0),\"NO\")","v":"NO"},"Año Nuevo","2020-01-01",null,19,6,{"$f":"R23+Tabla2[[#This Row],[dias]]","v":57}]
[19,null,null,null,{"$f":"IF(TablaEMPLEADOS[[#This Row],[ANTIGÜEDAD A FECHA FUTURO]]=\"NO\", IFERROR(IF(TablaEMPLEADOS[[#This Row],[FECHA CONTRATO]]=0,\"\",IF(DATEDIF(TablaEMPLEADOS[[#This Row],[FECHA CONTRATO]],TODAY(),\"y\")=0,\"\", DATEDIF(TablaEMPLEADOS[[#This Row],[FECHA CONTRATO]],TODAY(),\"y\") & \" año(s) \") & IF(DATEDIF(TablaEMPLEADOS[[#This Row],[FECHA CONTRATO]],TODAY(),\"ym\")=0,\"\",DATEDIF(TablaEMPLEADOS[[#This Row],[FECHA CONTRATO]],TODAY(),\"ym\") & \" mes(es) \") & IF(DATEDIF(TablaEMPLEADOS[[#This Row],[FECHA CONTRATO]],TODAY(),\"md\")=0,\"\",DATEDIF(TablaEMPLEADOS[[#This Row],[FECHA CONTRATO]],TODAY(),\"md\") & \" día(s)\")),\"\"), IFERROR(IF(TablaEMPLEADOS[[#This Row],[FECHA CONTRATO]]=0,\"\",IF(DATEDIF(TablaEMPLEADOS[[#This Row],[FECHA CONTRATO]],TablaEMPLEADOS[[#This Row],[ANTIGÜEDAD A FECHA FUTURO]],\"y\")=0,\"\", DATEDIF(TablaEMPLEADOS[[#This Row],[FECHA CONTRATO]],TablaEMPLEADOS[[#This Row],[ANTIGÜEDAD A FECHA FUTURO]],\"y\") & \" año(s) \") & IF(DATEDIF(TablaEMPLEADOS[[#This Row],[FECHA CONTRATO]],TablaEMPLEADOS[[#This Row],[ANTIGÜEDAD A FECHA FUTURO]],\"ym\")=0,\"\",DATEDIF(TablaEMPLEADOS[[#This Row],[FECHA CONTRATO]],TablaEMPLEADOS[[#This Row],[ANTIGÜEDAD A FECHA FUTURO]],\"ym\") & \" mes(es) \") & IF(DATEDIF(TablaEMPLEADOS[[#This Row],[FECHA CONTRATO]],TablaEMPLEADOS[[#This Row],[ANTIGÜEDAD A FECHA FUTURO]],\"md\")=0,\"\",DATEDIF(TablaEMPLEADOS[[#This Row],[FECHA CONTRATO]],TablaEMPLEADOS[[#This Row],[ANTIGÜEDAD A FECHA FUTURO]],\"md\") & \" día(s)\")),\"\"))","v":""},null,{"$f":"IF(TablaEMPLEADOS[[#This Row],[ANTIGÜEDAD A FECHA FUTURO]]=\"NO\",ROUND(((TODAY()-TablaEMPLEADOS[[#This Row],[FECHA CONTRATO]]+1)/365)*TablaEMPLEADOS[[#This Row],[VAC./ AÑO]]+TablaEMPLEADOS[[#This Row],[TOTA VAC. PROG.]],0),ROUND(((TablaEMPLEADOS[[#This Row],[ANTIGÜEDAD A FECHA FUTURO]]-TablaEMPLEADOS[[#This Row],[FECHA CONTRATO]]+1)/365)*TablaEMPLEADOS[[#This Row],[VAC./ AÑO]]+TablaEMPLEADOS[[#This Row],[TOTA VAC. PROG.]],0))","v":{"$error":"#VALUE!"}},null,null,{"$f":"IFERROR(IF(OR(TablaEMPLEADOS[[#This Row],[VAC./ AÑO]]=20,TablaEMPLEADOS[[#This Row],[VAC. PROG.]]=\"NO\"),0,IF(TablaEMPLEADOS[[#This Row],[ANTIGÜEDAD A FECHA FUTURO]]=\"NO\",VLOOKUP(ROUNDDOWN(YEARFRAC(TablaEMPLEADOS[[#This Row],[ACTIVACIÓN PROG.]],TODAY()),0),Tabla2[],2,0),VLOOKUP(ROUNDDOWN(YEARFRAC(TablaEMPLEADOS[[#This Row],[ACTIVACIÓN PROG.]],TablaEMPLEADOS[[#This Row],[ANTIGÜEDAD A FECHA FUTURO]]),0),Tabla2[],3,0))),\"\")","v":""},null,{"$f":"IFERROR(VLOOKUP(TablaEMPLEADOS[[#This Row],[NOMBRE]],VERIFICACION!$D$4:$G$4,4,0),\"NO\")","v":"NO"},"Viernes Santo","2020-04-20",null,20,6,{"$f":"R24+Tabla2[[#This Row],[dias]]","v":63}]
[20,null,null,null,{"$f":"IF(TablaEMPLEADOS[[#This Row],[ANTIGÜEDAD A FECHA FUTURO]]=\"NO\", IFERROR(IF(TablaEMPLEADOS[[#This Row],[FECHA CONTRATO]]=0,\"\",IF(DATEDIF(TablaEMPLEADOS[[#This Row],[FECHA CONTRATO]],TODAY(),\"y\")=0,\"\", DATEDIF(TablaEMPLEADOS[[#This Row],[FECHA CONTRATO]],TODAY(),\"y\") & \" año(s) \") & IF(DATEDIF(TablaEMPLEADOS[[#This Row],[FECHA CONTRATO]],TODAY(),\"ym\")=0,\"\",DATEDIF(TablaEMPLEADOS[[#This Row],[FECHA CONTRATO]],TODAY(),\"ym\") & \" mes(es) \") & IF(DATEDIF(TablaEMPLEADOS[[#This Row],[FECHA CONTRATO]],TODAY(),\"md\")=0,\"\",DATEDIF(TablaEMPLEADOS[[#This Row],[FECHA CONTRATO]],TODAY(),\"md\") & \" día(s)\")),\"\"), IFERROR(IF(TablaEMPLEADOS[[#This Row],[FECHA CONTRATO]]=0,\"\",IF(DATEDIF(TablaEMPLEADOS[[#This Row],[FECHA CONTRATO]],TablaEMPLEADOS[[#This Row],[ANTIGÜEDAD A FECHA FUTURO]],\"y\")=0,\"\", DATEDIF(TablaEMPLEADOS[[#This Row],[FECHA CONTRATO]],TablaEMPLEADOS[[#This Row],[ANTIGÜEDAD A FECHA FUTURO]],\"y\") & \" año(s) \") & IF(DATEDIF(TablaEMPLEADOS[[#This Row],[FECHA CONTRATO]],TablaEMPLEADOS[[#This Row],[ANTIGÜEDAD A FECHA FUTURO]],\"ym\")=0,\"\",DATEDIF(TablaEMPLEADOS[[#This Row],[FECHA CONTRATO]],TablaEMPLEADOS[[#This Row],[ANTIGÜEDAD A FECHA FUTURO]],\"ym\") & \" mes(es) \") & IF(DATEDIF(TablaEMPLEADOS[[#This Row],[FECHA CONTRATO]],TablaEMPLEADOS[[#This Row],[ANTIGÜEDAD A FECHA FUTURO]],\"md\")=0,\"\",DATEDIF(TablaEMPLEADOS[[#This Row],[FECHA CONTRATO]],TablaEMPLEADOS[[#This Row],[ANTIGÜEDAD A FECHA FUTURO]],\"md\") & \" día(s)\")),\"\"))","v":""},null,{"$f":"IF(TablaEMPLEADOS[[#This Row],[ANTIGÜEDAD A FECHA FUTURO]]=\"NO\",ROUND(((TODAY()-TablaEMPLEADOS[[#This Row],[FECHA CONTRATO]]+1)/365)*TablaEMPLEADOS[[#This Row],[VAC./ AÑO]]+TablaEMPLEADOS[[#This Row],[TOTA VAC. PROG.]],0),ROUND(((TablaEMPLEADOS[[#This Row],[ANTIGÜEDAD A FECHA FUTURO]]-TablaEMPLEADOS[[#This Row],[FECHA CONTRATO]]+1)/365)*TablaEMPLEADOS[[#This Row],[VAC./ AÑO]]+TablaEMPLEADOS[[#This Row],[TOTA VAC. PROG.]],0))","v":{"$error":"#VALUE!"}},null,null,{"$f":"IFERROR(IF(OR(TablaEMPLEADOS[[#This Row],[VAC./ AÑO]]=20,TablaEMPLEADOS[[#This Row],[VAC. PROG.]]=\"NO\"),0,IF(TablaEMPLEADOS[[#This Row],[ANTIGÜEDAD A FECHA FUTURO]]=\"NO\",VLOOKUP(ROUNDDOWN(YEARFRAC(TablaEMPLEADOS[[#This Row],[ACTIVACIÓN PROG.]],TODAY()),0),Tabla2[],2,0),VLOOKUP(ROUNDDOWN(YEARFRAC(TablaEMPLEADOS[[#This Row],[ACTIVACIÓN PROG.]],TablaEMPLEADOS[[#This Row],[ANTIGÜEDAD A FECHA FUTURO]]),0),Tabla2[],3,0))),\"\")","v":""},null,{"$f":"IFERROR(VLOOKUP(TablaEMPLEADOS[[#This Row],[NOMBRE]],VERIFICACION!$D$4:$G$4,4,0),\"NO\")","v":"NO"},"Sábado Santo","2020-04-21",null,21,7,{"$f":"R25+Tabla2[[#This Row],[dias]]","v":70}]
[21,null,null,null,{"$f":"IF(TablaEMPLEADOS[[#This Row],[ANTIGÜEDAD A FECHA FUTURO]]=\"NO\", IFERROR(IF(TablaEMPLEADOS[[#This Row],[FECHA CONTRATO]]=0,\"\",IF(DATEDIF(TablaEMPLEADOS[[#This Row],[FECHA CONTRATO]],TODAY(),\"y\")=0,\"\", DATEDIF(TablaEMPLEADOS[[#This Row],[FECHA CONTRATO]],TODAY(),\"y\") & \" año(s) \") & IF(DATEDIF(TablaEMPLEADOS[[#This Row],[FECHA CONTRATO]],TODAY(),\"ym\")=0,\"\",DATEDIF(TablaEMPLEADOS[[#This Row],[FECHA CONTRATO]],TODAY(),\"ym\") & \" mes(es) \") & IF(DATEDIF(TablaEMPLEADOS[[#This Row],[FECHA CONTRATO]],TODAY(),\"md\")=0,\"\",DATEDIF(TablaEMPLEADOS[[#This Row],[FECHA CONTRATO]],TODAY(),\"md\") & \" día(s)\")),\"\"), IFERROR(IF(TablaEMPLEADOS[[#This Row],[FECHA CONTRATO]]=0,\"\",IF(DATEDIF(TablaEMPLEADOS[[#This Row],[FECHA CONTRATO]],TablaEMPLEADOS[[#This Row],[ANTIGÜEDAD A FECHA FUTURO]],\"y\")=0,\"\", DATEDIF(TablaEMPLEADOS[[#This Row],[FECHA CONTRATO]],TablaEMPLEADOS[[#This Row],[ANTIGÜEDAD A FECHA FUTURO]],\"y\") & \" año(s) \") & IF(DATEDIF(TablaEMPLEADOS[[#This Row],[FECHA CONTRATO]],TablaEMPLEADOS[[#This Row],[ANTIGÜEDAD A FECHA FUTURO]],\"ym\")=0,\"\",DATEDIF(TablaEMPLEADOS[[#This Row],[FECHA CONTRATO]],TablaEMPLEADOS[[#This Row],[ANTIGÜEDAD A FECHA FUTURO]],\"ym\") & \" mes(es) \") & IF(DATEDIF(TablaEMPLEADOS[[#This Row],[FECHA CONTRATO]],TablaEMPLEADOS[[#This Row],[ANTIGÜEDAD A FECHA FUTURO]],\"md\")=0,\"\",DATEDIF(TablaEMPLEADOS[[#This Row],[FECHA CONTRATO]],TablaEMPLEADOS[[#This Row],[ANTIGÜEDAD A FECHA FUTURO]],\"md\") & \" día(s)\")),\"\"))","v":""},null,{"$f":"IF(TablaEMPLEADOS[[#This Row],[ANTIGÜEDAD A FECHA FUTURO]]=\"NO\",ROUND(((TODAY()-TablaEMPLEADOS[[#This Row],[FECHA CONTRATO]]+1)/365)*TablaEMPLEADOS[[#This Row],[VAC./ AÑO]]+TablaEMPLEADOS[[#This Row],[TOTA VAC. PROG.]],0),ROUND(((TablaEMPLEADOS[[#This Row],[ANTIGÜEDAD A FECHA FUTURO]]-TablaEMPLEADOS[[#This Row],[FECHA CONTRATO]]+1)/365)*TablaEMPLEADOS[[#This Row],[VAC./ AÑO]]+TablaEMPLEADOS[[#This Row],[TOTA VAC. PROG.]],0))","v":{"$error":"#VALUE!"}},null,null,{"$f":"IFERROR(IF(OR(TablaEMPLEADOS[[#This Row],[VAC./ AÑO]]=20,TablaEMPLEADOS[[#This Row],[VAC. PROG.]]=\"NO\"),0,IF(TablaEMPLEADOS[[#This Row],[ANTIGÜEDAD A FECHA FUTURO]]=\"NO\",VLOOKUP(ROUNDDOWN(YEARFRAC(TablaEMPLEADOS[[#This Row],[ACTIVACIÓN PROG.]],TODAY()),0),Tabla2[],2,0),VLOOKUP(ROUNDDOWN(YEARFRAC(TablaEMPLEADOS[[#This Row],[ACTIVACIÓN PROG.]],TablaEMPLEADOS[[#This Row],[ANTIGÜEDAD A FECHA FUTURO]]),0),Tabla2[],3,0))),\"\")","v":""},null,{"$f":"IFERROR(VLOOKUP(TablaEMPLEADOS[[#This Row],[NOMBRE]],VERIFICACION!$D$4:$G$4,4,0),\"NO\")","v":"NO"},"Día Nacional del Trabajo","2020-05-01",null,22,7,{"$f":"R26+Tabla2[[#This Row],[dias]]","v":77}]
[22,null,null,null,{"$f":"IF(TablaEMPLEADOS[[#This Row],[ANTIGÜEDAD A FECHA FUTURO]]=\"NO\", IFERROR(IF(TablaEMPLEADOS[[#This Row],[FECHA CONTRATO]]=0,\"\",IF(DATEDIF(TablaEMPLEADOS[[#This Row],[FECHA CONTRATO]],TODAY(),\"y\")=0,\"\", DATEDIF(TablaEMPLEADOS[[#This Row],[FECHA CONTRATO]],TODAY(),\"y\") & \" año(s) \") & IF(DATEDIF(TablaEMPLEADOS[[#This Row],[FECHA CONTRATO]],TODAY(),\"ym\")=0,\"\",DATEDIF(TablaEMPLEADOS[[#This Row],[FECHA CONTRATO]],TODAY(),\"ym\") & \" mes(es) \") & IF(DATEDIF(TablaEMPLEADOS[[#This Row],[FECHA CONTRATO]],TODAY(),\"md\")=0,\"\",DATEDIF(TablaEMPLEADOS[[#This Row],[FECHA CONTRATO]],TODAY(),\"md\") & \" día(s)\")),\"\"), IFERROR(IF(TablaEMPLEADOS[[#This Row],[FECHA CONTRATO]]=0,\"\",IF(DATEDIF(TablaEMPLEADOS[[#This Row],[FECHA CONTRATO]],TablaEMPLEADOS[[#This Row],[ANTIGÜEDAD A FECHA FUTURO]],\"y\")=0,\"\", DATEDIF(TablaEMPLEADOS[[#This Row],[FECHA CONTRATO]],TablaEMPLEADOS[[#This Row],[ANTIGÜEDAD A FECHA FUTURO]],\"y\") & \" año(s) \") & IF(DATEDIF(TablaEMPLEADOS[[#This Row],[FECHA CONTRATO]],TablaEMPLEADOS[[#This Row],[ANTIGÜEDAD A FECHA FUTURO]],\"ym\")=0,\"\",DATEDIF(TablaEMPLEADOS[[#This Row],[FECHA CONTRATO]],TablaEMPLEADOS[[#This Row],[ANTIGÜEDAD A FECHA FUTURO]],\"ym\") & \" mes(es) \") & IF(DATEDIF(TablaEMPLEADOS[[#This Row],[FECHA CONTRATO]],TablaEMPLEADOS[[#This Row],[ANTIGÜEDAD A FECHA FUTURO]],\"md\")=0,\"\",DATEDIF(TablaEMPLEADOS[[#This Row],[FECHA CONTRATO]],TablaEMPLEADOS[[#This Row],[ANTIGÜEDAD A FECHA FUTURO]],\"md\") & \" día(s)\")),\"\"))","v":""},null,{"$f":"IF(TablaEMPLEADOS[[#This Row],[ANTIGÜEDAD A FECHA FUTURO]]=\"NO\",ROUND(((TODAY()-TablaEMPLEADOS[[#This Row],[FECHA CONTRATO]]+1)/365)*TablaEMPLEADOS[[#This Row],[VAC./ AÑO]]+TablaEMPLEADOS[[#This Row],[TOTA VAC. PROG.]],0),ROUND(((TablaEMPLEADOS[[#This Row],[ANTIGÜEDAD A FECHA FUTURO]]-TablaEMPLEADOS[[#This Row],[FECHA CONTRATO]]+1)/365)*TablaEMPLEADOS[[#This Row],[VAC./ AÑO]]+TablaEMPLEADOS[[#This Row],[TOTA VAC. PROG.]],0))","v":{"$error":"#VALUE!"}},null,null,{"$f":"IFERROR(IF(OR(TablaEMPLEADOS[[#This Row],[VAC./ AÑO]]=20,TablaEMPLEADOS[[#This Row],[VAC. PROG.]]=\"NO\"),0,IF(TablaEMPLEADOS[[#This Row],[ANTIGÜEDAD A FECHA FUTURO]]=\"NO\",VLOOKUP(ROUNDDOWN(YEARFRAC(TablaEMPLEADOS[[#This Row],[ACTIVACIÓN PROG.]],TODAY()),0),Tabla2[],2,0),VLOOKUP(ROUNDDOWN(YEARFRAC(TablaEMPLEADOS[[#This Row],[ACTIVACIÓN PROG.]],TablaEMPLEADOS[[#This Row],[ANTIGÜEDAD A FECHA FUTURO]]),0),Tabla2[],3,0))),\"\")","v":""},null,{"$f":"IFERROR(VLOOKUP(TablaEMPLEADOS[[#This Row],[NOMBRE]],VERIFICACION!$D$4:$G$4,4,0),\"NO\")","v":"NO"},"Día de las Glorias Navales","2020-05-21",null,23,7,{"$f":"R27+Tabla2[[#This Row],[dias]]","v":84}]
[23,null,null,null,{"$f":"IF(TablaEMPLEADOS[[#This Row],[ANTIGÜEDAD A FECHA FUTURO]]=\"NO\", IFERROR(IF(TablaEMPLEADOS[[#This Row],[FECHA CONTRATO]]=0,\"\",IF(DATEDIF(TablaEMPLEADOS[[#This Row],[FECHA CONTRATO]],TODAY(),\"y\")=0,\"\", DATEDIF(TablaEMPLEADOS[[#This Row],[FECHA CONTRATO]],TODAY(),\"y\") & \" año(s) \") & IF(DATEDIF(TablaEMPLEADOS[[#This Row],[FECHA CONTRATO]],TODAY(),\"ym\")=0,\"\",DATEDIF(TablaEMPLEADOS[[#This Row],[FECHA CONTRATO]],TODAY(),\"ym\") & \" mes(es) \") & IF(DATEDIF(TablaEMPLEADOS[[#This Row],[FECHA CONTRATO]],TODAY(),\"md\")=0,\"\",DATEDIF(TablaEMPLEADOS[[#This Row],[FECHA CONTRATO]],TODAY(),\"md\") & \" día(s)\")),\"\"), IFERROR(IF(TablaEMPLEADOS[[#This Row],[FECHA CONTRATO]]=0,\"\",IF(DATEDIF(TablaEMPLEADOS[[#This Row],[FECHA CONTRATO]],TablaEMPLEADOS[[#This Row],[ANTIGÜEDAD A FECHA FUTURO]],\"y\")=0,\"\", DATEDIF(TablaEMPLEADOS[[#This Row],[FECHA CONTRATO]],TablaEMPLEADOS[[#This Row],[ANTIGÜEDAD A FECHA FUTURO]],\"y\") & \" año(s) \") & IF(DATEDIF(TablaEMPLEADOS[[#This Row],[FECHA CONTRATO]],TablaEMPLEADOS[[#This Row],[ANTIGÜEDAD A FECHA FUTURO]],\"ym\")=0,\"\",DATEDIF(TablaEMPLEADOS[[#This Row],[FECHA CONTRATO]],TablaEMPLEADOS[[#This Row],[ANTIGÜEDAD A FECHA FUTURO]],\"ym\") & \" mes(es) \") & IF(DATEDIF(TablaEMPLEADOS[[#This Row],[FECHA CONTRATO]],TablaEMPLEADOS[[#This Row],[ANTIGÜEDAD A FECHA FUTURO]],\"md\")=0,\"\",DATEDIF(TablaEMPLEADOS[[#This Row],[FECHA CONTRATO]],TablaEMPLEADOS[[#This Row],[ANTIGÜEDAD A FECHA FUTURO]],\"md\") & \" día(s)\")),\"\"))","v":""},null,{"$f":"IF(TablaEMPLEADOS[[#This Row],[ANTIGÜEDAD A FECHA FUTURO]]=\"NO\",ROUND(((TODAY()-TablaEMPLEADOS[[#This Row],[FECHA CONTRATO]]+1)/365)*TablaEMPLEADOS[[#This Row],[VAC./ AÑO]]+TablaEMPLEADOS[[#This Row],[TOTA VAC. PROG.]],0),ROUND(((TablaEMPLEADOS[[#This Row],[ANTIGÜEDAD A FECHA FUTURO]]-TablaEMPLEADOS[[#This Row],[FECHA CONTRATO]]+1)/365)*TablaEMPLEADOS[[#This Row],[VAC./ AÑO]]+TablaEMPLEADOS[[#This Row],[TOTA VAC. PROG.]],0))","v":{"$error":"#VALUE!"}},null,null,{"$f":"IFERROR(IF(OR(TablaEMPLEADOS[[#This Row],[VAC./ AÑO]]=20,TablaEMPLEADOS[[#This Row],[VAC. PROG.]]=\"NO\"),0,IF(TablaEMPLEADOS[[#This Row],[ANTIGÜEDAD A FECHA FUTURO]]=\"NO\",VLOOKUP(ROUNDDOWN(YEARFRAC(TablaEMPLEADOS[[#This Row],[ACTIVACIÓN PROG.]],TODAY()),0),Tabla2[],2,0),VLOOKUP(ROUNDDOWN(YEARFRAC(TablaEMPLEADOS[[#This Row],[ACTIVACIÓN PROG.]],TablaEMPLEADOS[[#This Row],[ANTIGÜEDAD A FECHA FUTURO]]),0),Tabla2[],3,0))),\"\")","v":""},null,{"$f":"IFERROR(VLOOKUP(TablaEMPLEADOS[[#This Row],[NOMBRE]],VERIFICACION!$D$4:$G$4,4,0),\"NO\")","v":"NO"},"San Pedro y San Pablo","2020-06-29",null,24,8,{"$f":"R28+Tabla2[[#This Row],[dias]]","v":92}]
[24,null,null,null,{"$f":"IF(TablaEMPLEADOS[[#This Row],[ANTIGÜEDAD A FECHA FUTURO]]=\"NO\", IFERROR(IF(TablaEMPLEADOS[[#This Row],[FECHA CONTRATO]]=0,\"\",IF(DATEDIF(TablaEMPLEADOS[[#This Row],[FECHA CONTRATO]],TODAY(),\"y\")=0,\"\", DATEDIF(TablaEMPLEADOS[[#This Row],[FECHA CONTRATO]],TODAY(),\"y\") & \" año(s) \") & IF(DATEDIF(TablaEMPLEADOS[[#This Row],[FECHA CONTRATO]],TODAY(),\"ym\")=0,\"\",DATEDIF(TablaEMPLEADOS[[#This Row],[FECHA CONTRATO]],TODAY(),\"ym\") & \" mes(es) \") & IF(DATEDIF(TablaEMPLEADOS[[#This Row],[FECHA CONTRATO]],TODAY(),\"md\")=0,\"\",DATEDIF(TablaEMPLEADOS[[#This Row],[FECHA CONTRATO]],TODAY(),\"md\") & \" día(s)\")),\"\"), IFERROR(IF(TablaEMPLEADOS[[#This Row],[FECHA CONTRATO]]=0,\"\",IF(DATEDIF(TablaEMPLEADOS[[#This Row],[FECHA CONTRATO]],TablaEMPLEADOS[[#This Row],[ANTIGÜEDAD A FECHA FUTURO]],\"y\")=0,\"\", DATEDIF(TablaEMPLEADOS[[#This Row],[FECHA CONTRATO]],TablaEMPLEADOS[[#This Row],[ANTIGÜEDAD A FECHA FUTURO]],\"y\") & \" año(s) \") & IF(DATEDIF(TablaEMPLEADOS[[#This Row],[FECHA CONTRATO]],TablaEMPLEADOS[[#This Row],[ANTIGÜEDAD A FECHA FUTURO]],\"ym\")=0,\"\",DATEDIF(TablaEMPLEADOS[[#This Row],[FECHA CONTRATO]],TablaEMPLEADOS[[#This Row],[ANTIGÜEDAD A FECHA FUTURO]],\"ym\") & \" mes(es) \") & IF(DATEDIF(TablaEMPLEADOS[[#This Row],[FECHA CONTRATO]],TablaEMPLEADOS[[#This Row],[ANTIGÜEDAD A FECHA FUTURO]],\"md\")=0,\"\",DATEDIF(TablaEMPLEADOS[[#This Row],[FECHA CONTRATO]],TablaEMPLEADOS[[#This Row],[ANTIGÜEDAD A FECHA FUTURO]],\"md\") & \" día(s)\")),\"\"))","v":""},null,{"$f":"IF(TablaEMPLEADOS[[#This Row],[ANTIGÜEDAD A FECHA FUTURO]]=\"NO\",ROUND(((TODAY()-TablaEMPLEADOS[[#This Row],[FECHA CONTRATO]]+1)/365)*TablaEMPLEADOS[[#This Row],[VAC./ AÑO]]+TablaEMPLEADOS[[#This Row],[TOTA VAC. PROG.]],0),ROUND(((TablaEMPLEADOS[[#This Row],[ANTIGÜEDAD A FECHA FUTURO]]-TablaEMPLEADOS[[#This Row],[FECHA CONTRATO]]+1)/365)*TablaEMPLEADOS[[#This Row],[VAC./ AÑO]]+TablaEMPLEADOS[[#This Row],[TOTA VAC. PROG.]],0))","v":{"$error":"#VALUE!"}},null,null,{"$f":"IFERROR(IF(OR(TablaEMPLEADOS[[#This Row],[VAC./ AÑO]]=20,TablaEMPLEADOS[[#This Row],[VAC. PROG.]]=\"NO\"),0,IF(TablaEMPLEADOS[[#This Row],[ANTIGÜEDAD A FECHA FUTURO]]=\"NO\",VLOOKUP(ROUNDDOWN(YEARFRAC(TablaEMPLEADOS[[#This Row],[ACTIVACIÓN PROG.]],TODAY()),0),Tabla2[],2,0),VLOOKUP(ROUNDDOWN(YEARFRAC(TablaEMPLEADOS[[#This Row],[ACTIVACIÓN PROG.]],TablaEMPLEADOS[[#This Row],[ANTIGÜEDAD A FECHA FUTURO]]),0),Tabla2[],3,0))),\"\")","v":""},null,{"$f":"IFERROR(VLOOKUP(TablaEMPLEADOS[[#This Row],[NOMBRE]],VERIFICACION!$D$4:$G$4,4,0),\"NO\")","v":"NO"},"Día de la Virgen del Carmen","2020-07-16",null,25,8,{"$f":"R29+Tabla2[[#This Row],[dias]]","v":100}]
[25,null,null,null,{"$f":"IF(TablaEMPLEADOS[[#This Row],[ANTIGÜEDAD A FECHA FUTURO]]=\"NO\", IFERROR(IF(TablaEMPLEADOS[[#This Row],[FECHA CONTRATO]]=0,\"\",IF(DATEDIF(TablaEMPLEADOS[[#This Row],[FECHA CONTRATO]],TODAY(),\"y\")=0,\"\", DATEDIF(TablaEMPLEADOS[[#This Row],[FECHA CONTRATO]],TODAY(),\"y\") & \" año(s) \") & IF(DATEDIF(TablaEMPLEADOS[[#This Row],[FECHA CONTRATO]],TODAY(),\"ym\")=0,\"\",DATEDIF(TablaEMPLEADOS[[#This Row],[FECHA CONTRATO]],TODAY(),\"ym\") & \" mes(es) \") & IF(DATEDIF(TablaEMPLEADOS[[#This Row],[FECHA CONTRATO]],TODAY(),\"md\")=0,\"\",DATEDIF(TablaEMPLEADOS[[#This Row],[FECHA CONTRATO]],TODAY(),\"md\") & \" día(s)\")),\"\"), IFERROR(IF(TablaEMPLEADOS[[#This Row],[FECHA CONTRATO]]=0,\"\",IF(DATEDIF(TablaEMPLEADOS[[#This Row],[FECHA CONTRATO]],TablaEMPLEADOS[[#This Row],[ANTIGÜEDAD A FECHA FUTURO]],\"y\")=0,\"\", DATEDIF(TablaEMPLEADOS[[#This Row],[FECHA CONTRATO]],TablaEMPLEADOS[[#This Row],[ANTIGÜEDAD A FECHA FUTURO]],\"y\") & \" año(s) \") & IF(DATEDIF(TablaEMPLEADOS[[#This Row],[FECHA CONTRATO]],TablaEMPLEADOS[[#This Row],[ANTIGÜEDAD A FECHA FUTURO]],\"ym\")=0,\"\",DATEDIF(TablaEMPLEADOS[[#This Row],[FECHA CONTRATO]],TablaEMPLEADOS[[#This Row],[ANTIGÜEDAD A FECHA FUTURO]],\"ym\") & \" mes(es) \") & IF(DATEDIF(TablaEMPLEADOS[[#This Row],[FECHA CONTRATO]],TablaEMPLEADOS[[#This Row],[ANTIGÜEDAD A FECHA FUTURO]],\"md\")=0,\"\",DATEDIF(TablaEMPLEADOS[[#This Row],[FECHA CONTRATO]],TablaEMPLEADOS[[#This Row],[ANTIGÜEDAD A FECHA FUTURO]],\"md\") & \" día(s)\")),\"\"))","v":""},null,{"$f":"IF(TablaEMPLEADOS[[#This Row],[ANTIGÜEDAD A FECHA FUTURO]]=\"NO\",ROUND(((TODAY()-TablaEMPLEADOS[[#This Row],[FECHA CONTRATO]]+1)/365)*TablaEMPLEADOS[[#This Row],[VAC./ AÑO]]+TablaEMPLEADOS[[#This Row],[TOTA VAC. PROG.]],0),ROUND(((TablaEMPLEADOS[[#This Row],[ANTIGÜEDAD A FECHA FUTURO]]-TablaEMPLEADOS[[#This Row],[FECHA CONTRATO]]+1)/365)*TablaEMPLEADOS[[#This Row],[VAC./ AÑO]]+TablaEMPLEADOS[[#This Row],[TOTA VAC. PROG.]],0))","v":{"$error":"#VALUE!"}},null,null,{"$f":"IFERROR(IF(OR(TablaEMPLEADOS[[#This Row],[VAC./ AÑO]]=20,TablaEMPLEADOS[[#This Row],[VAC. PROG.]]=\"NO\"),0,IF(TablaEMPLEADOS[[#This Row],[ANTIGÜEDAD A FECHA FUTURO]]=\"NO\",VLOOKUP(ROUNDDOWN(YEARFRAC(TablaEMPLEADOS[[#This Row],[ACTIVACIÓN PROG.]],TODAY()),0),Tabla2[],2,0),VLOOKUP(ROUNDDOWN(YEARFRAC(TablaEMPLEADOS[[#This Row],[ACTIVACIÓN PROG.]],TablaEMPLEADOS[[#This Row],[ANTIGÜEDAD A FECHA FUTURO]]),0),Tabla2[],3,0))),\"\")","v":""},null,{"$f":"IFERROR(VLOOKUP(TablaEMPLEADOS[[#This Row],[NOMBRE]],VERIFICACION!$D$4:$G$4,4,0),\"NO\")","v":"NO"},"Asunción de la Virgen","2020-08-15",null,26,8,{"$f":"R30+Tabla2[[#This Row],[dias]]","v":108}]
[26,null,null,null,{"$f":"IF(TablaEMPLEADOS[[#This Row],[ANTIGÜEDAD A FECHA FUTURO]]=\"NO\", IFERROR(IF(TablaEMPLEADOS[[#This Row],[FECHA CONTRATO]]=0,\"\",IF(DATEDIF(TablaEMPLEADOS[[#This Row],[FECHA CONTRATO]],TODAY(),\"y\")=0,\"\", DATEDIF(TablaEMPLEADOS[[#This Row],[FECHA CONTRATO]],TODAY(),\"y\") & \" año(s) \") & IF(DATEDIF(TablaEMPLEADOS[[#This Row],[FECHA CONTRATO]],TODAY(),\"ym\")=0,\"\",DATEDIF(TablaEMPLEADOS[[#This Row],[FECHA CONTRATO]],TODAY(),\"ym\") & \" mes(es) \") & IF(DATEDIF(TablaEMPLEADOS[[#This Row],[FECHA CONTRATO]],TODAY(),\"md\")=0,\"\",DATEDIF(TablaEMPLEADOS[[#This Row],[FECHA CONTRATO]],TODAY(),\"md\") & \" día(s)\")),\"\"), IFERROR(IF(TablaEMPLEADOS[[#This Row],[FECHA CONTRATO]]=0,\"\",IF(DATEDIF(TablaEMPLEADOS[[#This Row],[FECHA CONTRATO]],TablaEMPLEADOS[[#This Row],[ANTIGÜEDAD A FECHA FUTURO]],\"y\")=0,\"\", DATEDIF(TablaEMPLEADOS[[#This Row],[FECHA CONTRATO]],TablaEMPLEADOS[[#This Row],[ANTIGÜEDAD A FECHA FUTURO]],\"y\") & \" año(s) \") & IF(DATEDIF(TablaEMPLEADOS[[#This Row],[FECHA CONTRATO]],TablaEMPLEADOS[[#This Row],[ANTIGÜEDAD A FECHA FUTURO]],\"ym\")=0,\"\",DATEDIF(TablaEMPLEADOS[[#This Row],[FECHA CONTRATO]],TablaEMPLEADOS[[#This Row],[ANTIGÜEDAD A FECHA FUTURO]],\"ym\") & \" mes(es) \") & IF(DATEDIF(TablaEMPLEADOS[[#This Row],[FECHA CONTRATO]],TablaEMPLEADOS[[#This Row],[ANTIGÜEDAD A FECHA FUTURO]],\"md\")=0,\"\",DATEDIF(TablaEMPLEADOS[[#This Row],[FECHA CONTRATO]],TablaEMPLEADOS[[#This Row],[ANTIGÜEDAD A FECHA FUTURO]],\"md\") & \" día(s)\")),\"\"))","v":""},null,{"$f":"IF(TablaEMPLEADOS[[#This Row],[ANTIGÜEDAD A FECHA FUTURO]]=\"NO\",ROUND(((TODAY()-TablaEMPLEADOS[[#This Row],[FECHA CONTRATO]]+1)/365)*TablaEMPLEADOS[[#This Row],[VAC./ AÑO]]+TablaEMPLEADOS[[#This Row],[TOTA VAC. PROG.]],0),ROUND(((TablaEMPLEADOS[[#This Row],[ANTIGÜEDAD A FECHA FUTURO]]-TablaEMPLEADOS[[#This Row],[FECHA CONTRATO]]+1)/365)*TablaEMPLEADOS[[#This Row],[VAC./ AÑO]]+TablaEMPLEADOS[[#This Row],[TOTA VAC. PROG.]],0))","v":{"$error":"#VALUE!"}},null,null,{"$f":"IFERROR(IF(OR(TablaEMPLEADOS[[#This Row],[VAC./ AÑO]]=20,TablaEMPLEADOS[[#This Row],[VAC. PROG.]]=\"NO\"),0,IF(TablaEMPLEADOS[[#This Row],[ANTIGÜEDAD A FECHA FUTURO]]=\"NO\",VLOOKUP(ROUNDDOWN(YEARFRAC(TablaEMPLEADOS[[#This Row],[ACTIVACIÓN PROG.]],TODAY()),0),Tabla2[],2,0),VLOOKUP(ROUNDDOWN(YEARFRAC(TablaEMPLEADOS[[#This Row],[ACTIVACIÓN PROG.]],TablaEMPLEADOS[[#This Row],[ANTIGÜEDAD A FECHA FUTURO]]),0),Tabla2[],3,0))),\"\")","v":""},null,{"$f":"IFERROR(VLOOKUP(TablaEMPLEADOS[[#This Row],[NOMBRE]],VERIFICACION!$D$4:$G$4,4,0),\"NO\")","v":"NO"},"Fiestas Patrias","2020-09-18",null,27,9,{"$f":"R31+Tabla2[[#This Row],[dias]]","v":117}]
[27,null,null,null,{"$f":"IF(TablaEMPLEADOS[[#This Row],[ANTIGÜEDAD A FECHA FUTURO]]=\"NO\", IFERROR(IF(TablaEMPLEADOS[[#This Row],[FECHA CONTRATO]]=0,\"\",IF(DATEDIF(TablaEMPLEADOS[[#This Row],[FECHA CONTRATO]],TODAY(),\"y\")=0,\"\", DATEDIF(TablaEMPLEADOS[[#This Row],[FECHA CONTRATO]],TODAY(),\"y\") & \" año(s) \") & IF(DATEDIF(TablaEMPLEADOS[[#This Row],[FECHA CONTRATO]],TODAY(),\"ym\")=0,\"\",DATEDIF(TablaEMPLEADOS[[#This Row],[FECHA CONTRATO]],TODAY(),\"ym\") & \" mes(es) \") & IF(DATEDIF(TablaEMPLEADOS[[#This Row],[FECHA CONTRATO]],TODAY(),\"md\")=0,\"\",DATEDIF(TablaEMPLEADOS[[#This Row],[FECHA CONTRATO]],TODAY(),\"md\") & \" día(s)\")),\"\"), IFERROR(IF(TablaEMPLEADOS[[#This Row],[FECHA CONTRATO]]=0,\"\",IF(DATEDIF(TablaEMPLEADOS[[#This Row],[FECHA CONTRATO]],TablaEMPLEADOS[[#This Row],[ANTIGÜEDAD A FECHA FUTURO]],\"y\")=0,\"\", DATEDIF(TablaEMPLEADOS[[#This Row],[FECHA CONTRATO]],TablaEMPLEADOS[[#This Row],[ANTIGÜEDAD A FECHA FUTURO]],\"y\") & \" año(s) \") & IF(DATEDIF(TablaEMPLEADOS[[#This Row],[FECHA CONTRATO]],TablaEMPLEADOS[[#This Row],[ANTIGÜEDAD A FECHA FUTURO]],\"ym\")=0,\"\",DATEDIF(TablaEMPLEADOS[[#This Row],[FECHA CONTRATO]],TablaEMPLEADOS[[#This Row],[ANTIGÜEDAD A FECHA FUTURO]],\"ym\") & \" mes(es) \") & IF(DATEDIF(TablaEMPLEADOS[[#This Row],[FECHA CONTRATO]],TablaEMPLEADOS[[#This Row],[ANTIGÜEDAD A FECHA FUTURO]],\"md\")=0,\"\",DATEDIF(TablaEMPLEADOS[[#This Row],[FECHA CONTRATO]],TablaEMPLEADOS[[#This Row],[ANTIGÜEDAD A FECHA FUTURO]],\"md\") & \" día(s)\")),\"\"))","v":""},null,{"$f":"IF(TablaEMPLEADOS[[#This Row],[ANTIGÜEDAD A FECHA FUTURO]]=\"NO\",ROUND(((TODAY()-TablaEMPLEADOS[[#This Row],[FECHA CONTRATO]]+1)/365)*TablaEMPLEADOS[[#This Row],[VAC./ AÑO]]+TablaEMPLEADOS[[#This Row],[TOTA VAC. PROG.]],0),ROUND(((TablaEMPLEADOS[[#This Row],[ANTIGÜEDAD A FECHA FUTURO]]-TablaEMPLEADOS[[#This Row],[FECHA CONTRATO]]+1)/365)*TablaEMPLEADOS[[#This Row],[VAC./ AÑO]]+TablaEMPLEADOS[[#This Row],[TOTA VAC. PROG.]],0))","v":{"$error":"#VALUE!"}},null,null,{"$f":"IFERROR(IF(OR(TablaEMPLEADOS[[#This Row],[VAC./ AÑO]]=20,TablaEMPLEADOS[[#This Row],[VAC. PROG.]]=\"NO\"),0,IF(TablaEMPLEADOS[[#This Row],[ANTIGÜEDAD A FECHA FUTURO]]=\"NO\",VLOOKUP(ROUNDDOWN(YEARFRAC(TablaEMPLEADOS[[#This Row],[ACTIVACIÓN PROG.]],TODAY()),0),Tabla2[],2,0),VLOOKUP(ROUNDDOWN(YEARFRAC(TablaEMPLEADOS[[#This Row],[ACTIVACIÓN PROG.]],TablaEMPLEADOS[[#This Row],[ANTIGÜEDAD A FECHA FUTURO]]),0),Tabla2[],3,0))),\"\")","v":""},null,{"$f":"IFERROR(VLOOKUP(TablaEMPLEADOS[[#This Row],[NOMBRE]],VERIFICACION!$D$4:$G$4,4,0),\"NO\")","v":"NO"},"Independencia Nacional","2020-09-19",null,28,9,{"$f":"R32+Tabla2[[#This Row],[dias]]","v":126}]
[28,null,null,null,{"$f":"IF(TablaEMPLEADOS[[#This Row],[ANTIGÜEDAD A FECHA FUTURO]]=\"NO\", IFERROR(IF(TablaEMPLEADOS[[#This Row],[FECHA CONTRATO]]=0,\"\",IF(DATEDIF(TablaEMPLEADOS[[#This Row],[FECHA CONTRATO]],TODAY(),\"y\")=0,\"\", DATEDIF(TablaEMPLEADOS[[#This Row],[FECHA CONTRATO]],TODAY(),\"y\") & \" año(s) \") & IF(DATEDIF(TablaEMPLEADOS[[#This Row],[FECHA CONTRATO]],TODAY(),\"ym\")=0,\"\",DATEDIF(TablaEMPLEADOS[[#This Row],[FECHA CONTRATO]],TODAY(),\"ym\") & \" mes(es) \") & IF(DATEDIF(TablaEMPLEADOS[[#This Row],[FECHA CONTRATO]],TODAY(),\"md\")=0,\"\",DATEDIF(TablaEMPLEADOS[[#This Row],[FECHA CONTRATO]],TODAY(),\"md\") & \" día(s)\")),\"\"), IFERROR(IF(TablaEMPLEADOS[[#This Row],[FECHA CONTRATO]]=0,\"\",IF(DATEDIF(TablaEMPLEADOS[[#This Row],[FECHA CONTRATO]],TablaEMPLEADOS[[#This Row],[ANTIGÜEDAD A FECHA FUTURO]],\"y\")=0,\"\", DATEDIF(TablaEMPLEADOS[[#This Row],[FECHA CONTRATO]],TablaEMPLEADOS[[#This Row],[ANTIGÜEDAD A FECHA FUTURO]],\"y\") & \" año(s) \") & IF(DATEDIF(TablaEMPLEADOS[[#This Row],[FECHA CONTRATO]],TablaEMPLEADOS[[#This Row],[ANTIGÜEDAD A FECHA FUTURO]],\"ym\")=0,\"\",DATEDIF(TablaEMPLEADOS[[#This Row],[FECHA CONTRATO]],TablaEMPLEADOS[[#This Row],[ANTIGÜEDAD A FECHA FUTURO]],\"ym\") & \" mes(es) \") & IF(DATEDIF(TablaEMPLEADOS[[#This Row],[FECHA CONTRATO]],TablaEMPLEADOS[[#This Row],[ANTIGÜEDAD A FECHA FUTURO]],\"md\")=0,\"\",DATEDIF(TablaEMPLEADOS[[#This Row],[FECHA CONTRATO]],TablaEMPLEADOS[[#This Row],[ANTIGÜEDAD A FECHA FUTURO]],\"md\") & \" día(s)\")),\"\"))","v":""},null,{"$f":"IF(TablaEMPLEADOS[[#This Row],[ANTIGÜEDAD A FECHA FUTURO]]=\"NO\",ROUND(((TODAY()-TablaEMPLEADOS[[#This Row],[FECHA CONTRATO]]+1)/365)*TablaEMPLEADOS[[#This Row],[VAC./ AÑO]]+TablaEMPLEADOS[[#This Row],[TOTA VAC. PROG.]],0),ROUND(((TablaEMPLEADOS[[#This Row],[ANTIGÜEDAD A FECHA FUTURO]]-TablaEMPLEADOS[[#This Row],[FECHA CONTRATO]]+1)/365)*TablaEMPLEADOS[[#This Row],[VAC./ AÑO]]+TablaEMPLEADOS[[#This Row],[TOTA VAC. PROG.]],0))","v":{"$error":"#VALUE!"}},null,null,{"$f":"IFERROR(IF(OR(TablaEMPLEADOS[[#This Row],[VAC./ AÑO]]=20,TablaEMPLEADOS[[#This Row],[VAC. PROG.]]=\"NO\"),0,IF(TablaEMPLEADOS[[#This Row],[ANTIGÜEDAD A FECHA FUTURO]]=\"NO\",VLOOKUP(ROUNDDOWN(YEARFRAC(TablaEMPLEADOS[[#This Row],[ACTIVACIÓN PROG.]],TODAY()),0),Tabla2[],2,0),VLOOKUP(ROUNDDOWN(YEARFRAC(TablaEMPLEADOS[[#This Row],[ACTIVACIÓN PROG.]],TablaEMPLEADOS[[#This Row],[ANTIGÜEDAD A FECHA FUTURO]]),0),Tabla2[],3,0))),\"\")","v":""},null,{"$f":"IFERROR(VLOOKUP(TablaEMPLEADOS[[#This Row],[NOMBRE]],VERIFICACION!$D$4:$G$4,4,0),\"NO\")","v":"NO"},"Día de las Glorias del Ejército","2020-09-20",null,29,9,{"$f":"R33+Tabla2[[#This Row],[dias]]","v":135}]
[29,null,null,null,{"$f":"IF(TablaEMPLEADOS[[#This Row],[ANTIGÜEDAD A FECHA FUTURO]]=\"NO\", IFERROR(IF(TablaEMPLEADOS[[#This Row],[FECHA CONTRATO]]=0,\"\",IF(DATEDIF(TablaEMPLEADOS[[#This Row],[FECHA CONTRATO]],TODAY(),\"y\")=0,\"\", DATEDIF(TablaEMPLEADOS[[#This Row],[FECHA CONTRATO]],TODAY(),\"y\") & \" año(s) \") & IF(DATEDIF(TablaEMPLEADOS[[#This Row],[FECHA CONTRATO]],TODAY(),\"ym\")=0,\"\",DATEDIF(TablaEMPLEADOS[[#This Row],[FECHA CONTRATO]],TODAY(),\"ym\") & \" mes(es) \") & IF(DATEDIF(TablaEMPLEADOS[[#This Row],[FECHA CONTRATO]],TODAY(),\"md\")=0,\"\",DATEDIF(TablaEMPLEADOS[[#This Row],[FECHA CONTRATO]],TODAY(),\"md\") & \" día(s)\")),\"\"), IFERROR(IF(TablaEMPLEADOS[[#This Row],[FECHA CONTRATO]]=0,\"\",IF(DATEDIF(TablaEMPLEADOS[[#This Row],[FECHA CONTRATO]],TablaEMPLEADOS[[#This Row],[ANTIGÜEDAD A FECHA FUTURO]],\"y\")=0,\"\", DATEDIF(TablaEMPLEADOS[[#This Row],[FECHA CONTRATO]],TablaEMPLEADOS[[#This Row],[ANTIGÜEDAD A FECHA FUTURO]],\"y\") & \" año(s) \") & IF(DATEDIF(TablaEMPLEADOS[[#This Row],[FECHA CONTRATO]],TablaEMPLEADOS[[#This Row],[ANTIGÜEDAD A FECHA FUTURO]],\"ym\")=0,\"\",DATEDIF(TablaEMPLEADOS[[#This Row],[FECHA CONTRATO]],TablaEMPLEADOS[[#This Row],[ANTIGÜEDAD A FECHA FUTURO]],\"ym\") & \" mes(es) \") & IF(DATEDIF(TablaEMPLEADOS[[#This Row],[FECHA CONTRATO]],TablaEMPLEADOS[[#This Row],[ANTIGÜEDAD A FECHA FUTURO]],\"md\")=0,\"\",DATEDIF(TablaEMPLEADOS[[#This Row],[FECHA CONTRATO]],TablaEMPLEADOS[[#This Row],[ANTIGÜEDAD A FECHA FUTURO]],\"md\") & \" día(s)\")),\"\"))","v":""},null,{"$f":"IF(TablaEMPLEADOS[[#This Row],[ANTIGÜEDAD A FECHA FUTURO]]=\"NO\",ROUND(((TODAY()-TablaEMPLEADOS[[#This Row],[FECHA CONTRATO]]+1)/365)*TablaEMPLEADOS[[#This Row],[VAC./ AÑO]]+TablaEMPLEADOS[[#This Row],[TOTA VAC. PROG.]],0),ROUND(((TablaEMPLEADOS[[#This Row],[ANTIGÜEDAD A FECHA FUTURO]]-TablaEMPLEADOS[[#This Row],[FECHA CONTRATO]]+1)/365)*TablaEMPLEADOS[[#This Row],[VAC./ AÑO]]+TablaEMPLEADOS[[#This Row],[TOTA VAC. PROG.]],0))","v":{"$error":"#VALUE!"}},null,null,{"$f":"IFERROR(IF(OR(TablaEMPLEADOS[[#This Row],[VAC./ AÑO]]=20,TablaEMPLEADOS[[#This Row],[VAC. PROG.]]=\"NO\"),0,IF(TablaEMPLEADOS[[#This Row],[ANTIGÜEDAD A FECHA FUTURO]]=\"NO\",VLOOKUP(ROUNDDOWN(YEARFRAC(TablaEMPLEADOS[[#This Row],[ACTIVACIÓN PROG.]],TODAY()),0),Tabla2[],2,0),VLOOKUP(ROUNDDOWN(YEARFRAC(TablaEMPLEADOS[[#This Row],[ACTIVACIÓN PROG.]],TablaEMPLEADOS[[#This Row],[ANTIGÜEDAD A FECHA FUTURO]]),0),Tabla2[],3,0))),\"\")","v":""},null,{"$f":"IFERROR(VLOOKUP(TablaEMPLEADOS[[#This Row],[NOMBRE]],VERIFICACION!$D$4:$G$4,4,0),\"NO\")","v":"NO"},"Encuentro de Dos Mundos","2020-10-12",null,30,10,{"$f":"R34+Tabla2[[#This Row],[dias]]","v":145}]
[30,null,null,null,{"$f":"IF(TablaEMPLEADOS[[#This Row],[ANTIGÜEDAD A FECHA FUTURO]]=\"NO\", IFERROR(IF(TablaEMPLEADOS[[#This Row],[FECHA CONTRATO]]=0,\"\",IF(DATEDIF(TablaEMPLEADOS[[#This Row],[FECHA CONTRATO]],TODAY(),\"y\")=0,\"\", DATEDIF(TablaEMPLEADOS[[#This Row],[FECHA CONTRATO]],TODAY(),\"y\") & \" año(s) \") & IF(DATEDIF(TablaEMPLEADOS[[#This Row],[FECHA CONTRATO]],TODAY(),\"ym\")=0,\"\",DATEDIF(TablaEMPLEADOS[[#This Row],[FECHA CONTRATO]],TODAY(),\"ym\") & \" mes(es) \") & IF(DATEDIF(TablaEMPLEADOS[[#This Row],[FECHA CONTRATO]],TODAY(),\"md\")=0,\"\",DATEDIF(TablaEMPLEADOS[[#This Row],[FECHA CONTRATO]],TODAY(),\"md\") & \" día(s)\")),\"\"), IFERROR(IF(TablaEMPLEADOS[[#This Row],[FECHA CONTRATO]]=0,\"\",IF(DATEDIF(TablaEMPLEADOS[[#This Row],[FECHA CONTRATO]],TablaEMPLEADOS[[#This Row],[ANTIGÜEDAD A FECHA FUTURO]],\"y\")=0,\"\", DATEDIF(TablaEMPLEADOS[[#This Row],[FECHA CONTRATO]],TablaEMPLEADOS[[#This Row],[ANTIGÜEDAD A FECHA FUTURO]],\"y\") & \" año(s) \") & IF(DATEDIF(TablaEMPLEADOS[[#This Row],[FECHA CONTRATO]],TablaEMPLEADOS[[#This Row],[ANTIGÜEDAD A FECHA FUTURO]],\"ym\")=0,\"\",DATEDIF(TablaEMPLEADOS[[#This Row],[FECHA CONTRATO]],TablaEMPLEADOS[[#This Row],[ANTIGÜEDAD A FECHA FUTURO]],\"ym\") & \" mes(es) \") & IF(DATEDIF(TablaEMPLEADOS[[#This Row],[FECHA CONTRATO]],TablaEMPLEADOS[[#This Row],[ANTIGÜEDAD A FECHA FUTURO]],\"md\")=0,\"\",DATEDIF(TablaEMPLEADOS[[#This Row],[FECHA CONTRATO]],TablaEMPLEADOS[[#This Row],[ANTIGÜEDAD A FECHA FUTURO]],\"md\") & \" día(s)\")),\"\"))","v":""},null,{"$f":"IF(TablaEMPLEADOS[[#This Row],[ANTIGÜEDAD A FECHA FUTURO]]=\"NO\",ROUND(((TODAY()-TablaEMPLEADOS[[#This Row],[FECHA CONTRATO]]+1)/365)*TablaEMPLEADOS[[#This Row],[VAC./ AÑO]]+TablaEMPLEADOS[[#This Row],[TOTA VAC. PROG.]],0),ROUND(((TablaEMPLEADOS[[#This Row],[ANTIGÜEDAD A FECHA FUTURO]]-TablaEMPLEADOS[[#This Row],[FECHA CONTRATO]]+1)/365)*TablaEMPLEADOS[[#This Row],[VAC./ AÑO]]+TablaEMPLEADOS[[#This Row],[TOTA VAC. PROG.]],0))","v":{"$error":"#VALUE!"}},null,null,{"$f":"IFERROR(IF(OR(TablaEMPLEADOS[[#This Row],[VAC./ AÑO]]=20,TablaEMPLEADOS[[#This Row],[VAC. PROG.]]=\"NO\"),0,IF(TablaEMPLEADOS[[#This Row],[ANTIGÜEDAD A FECHA FUTURO]]=\"NO\",VLOOKUP(ROUNDDOWN(YEARFRAC(TablaEMPLEADOS[[#This Row],[ACTIVACIÓN PROG.]],TODAY()),0),Tabla2[],2,0),VLOOKUP(ROUNDDOWN(YEARFRAC(TablaEMPLEADOS[[#This Row],[ACTIVACIÓN PROG.]],TablaEMPLEADOS[[#This Row],[ANTIGÜEDAD A FECHA FUTURO]]),0),Tabla2[],3,0))),\"\")","v":""},null,{"$f":"IFERROR(VLOOKUP(TablaEMPLEADOS[[#This Row],[NOMBRE]],VERIFICACION!$D$4:$G$4,4,0),\"NO\")","v":"NO"},"Día de Todos los Santos","2020-11-01",null,31,10,{"$f":"R35+Tabla2[[#This Row],[dias]]","v":155},"SI"]
[31,null,null,null,{"$f":"IF(TablaEMPLEADOS[[#This Row],[ANTIGÜEDAD A FECHA FUTURO]]=\"NO\", IFERROR(IF(TablaEMPLEADOS[[#This Row],[FECHA CONTRATO]]=0,\"\",IF(DATEDIF(TablaEMPLEADOS[[#This Row],[FECHA CONTRATO]],TODAY(),\"y\")=0,\"\", DATEDIF(TablaEMPLEADOS[[#This Row],[FECHA CONTRATO]],TODAY(),\"y\") & \" año(s) \") & IF(DATEDIF(TablaEMPLEADOS[[#This Row],[FECHA CONTRATO]],TODAY(),\"ym\")=0,\"\",DATEDIF(TablaEMPLEADOS[[#This Row],[FECHA CONTRATO]],TODAY(),\"ym\") & \" mes(es) \") & IF(DATEDIF(TablaEMPLEADOS[[#This Row],[FECHA CONTRATO]],TODAY(),\"md\")=0,\"\",DATEDIF(TablaEMPLEADOS[[#This Row],[FECHA CONTRATO]],TODAY(),\"md\") & \" día(s)\")),\"\"), IFERROR(IF(TablaEMPLEADOS[[#This Row],[FECHA CONTRATO]]=0,\"\",IF(DATEDIF(TablaEMPLEADOS[[#This Row],[FECHA CONTRATO]],TablaEMPLEADOS[[#This Row],[ANTIGÜEDAD A FECHA FUTURO]],\"y\")=0,\"\", DATEDIF(TablaEMPLEADOS[[#This Row],[FECHA CONTRATO]],TablaEMPLEADOS[[#This Row],[ANTIGÜEDAD A FECHA FUTURO]],\"y\") & \" año(s) \") & IF(DATEDIF(TablaEMPLEADOS[[#This Row],[FECHA CONTRATO]],TablaEMPLEADOS[[#This Row],[ANTIGÜEDAD A FECHA FUTURO]],\"ym\")=0,\"\",DATEDIF(TablaEMPLEADOS[[#This Row],[FECHA CONTRATO]],TablaEMPLEADOS[[#This Row],[ANTIGÜEDAD A FECHA FUTURO]],\"ym\") & \" mes(es) \") & IF(DATEDIF(TablaEMPLEADOS[[#This Row],[FECHA CONTRATO]],TablaEMPLEADOS[[#This Row],[ANTIGÜEDAD A FECHA FUTURO]],\"md\")=0,\"\",DATEDIF(TablaEMPLEADOS[[#This Row],[FECHA CONTRATO]],TablaEMPLEADOS[[#This Row],[ANTIGÜEDAD A FECHA FUTURO]],\"md\") & \" día(s)\")),\"\"))","v":""},null,{"$f":"IF(TablaEMPLEADOS[[#This Row],[ANTIGÜEDAD A FECHA FUTURO]]=\"NO\",ROUND(((TODAY()-TablaEMPLEADOS[[#This Row],[FECHA CONTRATO]]+1)/365)*TablaEMPLEADOS[[#This Row],[VAC./ AÑO]]+TablaEMPLEADOS[[#This Row],[TOTA VAC. PROG.]],0),ROUND(((TablaEMPLEADOS[[#This Row],[ANTIGÜEDAD A FECHA FUTURO]]-TablaEMPLEADOS[[#This Row],[FECHA CONTRATO]]+1)/365)*TablaEMPLEADOS[[#This Row],[VAC./ AÑO]]+TablaEMPLEADOS[[#This Row],[TOTA VAC. PROG.]],0))","v":{"$error":"#VALUE!"}},null,null,{"$f":"IFERROR(IF(OR(TablaEMPLEADOS[[#This Row],[VAC./ AÑO]]=20,TablaEMPLEADOS[[#This Row],[VAC. PROG.]]=\"NO\"),0,IF(TablaEMPLEADOS[[#This Row],[ANTIGÜEDAD A FECHA FUTURO]]=\"NO\",VLOOKUP(ROUNDDOWN(YEARFRAC(TablaEMPLEADOS[[#This Row],[ACTIVACIÓN PROG.]],TODAY()),0),Tabla2[],2,0),VLOOKUP(ROUNDDOWN(YEARFRAC(TablaEMPLEADOS[[#This Row],[ACTIVACIÓN PROG.]],TablaEMPLEADOS[[#This Row],[ANTIGÜEDAD A FECHA FUTURO]]),0),Tabla2[],3,0))),\"\")","v":""},null,{"$f":"IFERROR(VLOOKUP(TablaEMPLEADOS[[#This Row],[NOMBRE]],VERIFICACION!$D$4:$G$4,4,0),\"NO\")","v":"NO"},"Día de las Iglesias Evangélicas y Protestantes","2020-11-02",null,32,10,{"$f":"R36+Tabla2[[#This Row],[dias]]","v":165},"NO"]
[32,null,null,null,{"$f":"IF(TablaEMPLEADOS[[#This Row],[ANTIGÜEDAD A FECHA FUTURO]]=\"NO\", IFERROR(IF(TablaEMPLEADOS[[#This Row],[FECHA CONTRATO]]=0,\"\",IF(DATEDIF(TablaEMPLEADOS[[#This Row],[FECHA CONTRATO]],TODAY(),\"y\")=0,\"\", DATEDIF(TablaEMPLEADOS[[#This Row],[FECHA CONTRATO]],TODAY(),\"y\") & \" año(s) \") & IF(DATEDIF(TablaEMPLEADOS[[#This Row],[FECHA CONTRATO]],TODAY(),\"ym\")=0,\"\",DATEDIF(TablaEMPLEADOS[[#This Row],[FECHA CONTRATO]],TODAY(),\"ym\") & \" mes(es) \") & IF(DATEDIF(TablaEMPLEADOS[[#This Row],[FECHA CONTRATO]],TODAY(),\"md\")=0,\"\",DATEDIF(TablaEMPLEADOS[[#This Row],[FECHA CONTRATO]],TODAY(),\"md\") & \" día(s)\")),\"\"), IFERROR(IF(TablaEMPLEADOS[[#This Row],[FECHA CONTRATO]]=0,\"\",IF(DATEDIF(TablaEMPLEADOS[[#This Row],[FECHA CONTRATO]],TablaEMPLEADOS[[#This Row],[ANTIGÜEDAD A FECHA FUTURO]],\"y\")=0,\"\", DATEDIF(TablaEMPLEADOS[[#This Row],[FECHA CONTRATO]],TablaEMPLEADOS[[#This Row],[ANTIGÜEDAD A FECHA FUTURO]],\"y\") & \" año(s) \") & IF(DATEDIF(TablaEMPLEADOS[[#This Row],[FECHA CONTRATO]],TablaEMPLEADOS[[#This Row],[ANTIGÜEDAD A FECHA FUTURO]],\"ym\")=0,\"\",DATEDIF(TablaEMPLEADOS[[#This Row],[FECHA CONTRATO]],TablaEMPLEADOS[[#This Row],[ANTIGÜEDAD A FECHA FUTURO]],\"ym\") & \" mes(es) \") & IF(DATEDIF(TablaEMPLEADOS[[#This Row],[FECHA CONTRATO]],TablaEMPLEADOS[[#This Row],[ANTIGÜEDAD A FECHA FUTURO]],\"md\")=0,\"\",DATEDIF(TablaEMPLEADOS[[#This Row],[FECHA CONTRATO]],TablaEMPLEADOS[[#This Row],[ANTIGÜEDAD A FECHA FUTURO]],\"md\") & \" día(s)\")),\"\"))","v":""},null,{"$f":"IF(TablaEMPLEADOS[[#This Row],[ANTIGÜEDAD A FECHA FUTURO]]=\"NO\",ROUND(((TODAY()-TablaEMPLEADOS[[#This Row],[FECHA CONTRATO]]+1)/365)*TablaEMPLEADOS[[#This Row],[VAC./ AÑO]]+TablaEMPLEADOS[[#This Row],[TOTA VAC. PROG.]],0),ROUND(((TablaEMPLEADOS[[#This Row],[ANTIGÜEDAD A FECHA FUTURO]]-TablaEMPLEADOS[[#This Row],[FECHA CONTRATO]]+1)/365)*TablaEMPLEADOS[[#This Row],[VAC./ AÑO]]+TablaEMPLEADOS[[#This Row],[TOTA VAC. PROG.]],0))","v":{"$error":"#VALUE!"}},null,null,{"$f":"IFERROR(IF(OR(TablaEMPLEADOS[[#This Row],[VAC./ AÑO]]=20,TablaEMPLEADOS[[#This Row],[VAC. PROG.]]=\"NO\"),0,IF(TablaEMPLEADOS[[#This Row],[ANTIGÜEDAD A FECHA FUTURO]]=\"NO\",VLOOKUP(ROUNDDOWN(YEARFRAC(TablaEMPLEADOS[[#This Row],[ACTIVACIÓN PROG.]],TODAY()),0),Tabla2[],2,0),VLOOKUP(ROUNDDOWN(YEARFRAC(TablaEMPLEADOS[[#This Row],[ACTIVACIÓN PROG.]],TablaEMPLEADOS[[#This Row],[ANTIGÜEDAD A FECHA FUTURO]]),0),Tabla2[],3,0))),\"\")","v":""},null,{"$f":"IFERROR(VLOOKUP(TablaEMPLEADOS[[#This Row],[NOMBRE]],VERIFICACION!$D$4:$G$4,4,0),\"NO\")","v":"NO"},"Inmaculada Concepción","2020-12-08",null,33,11,{"$f":"R37+Tabla2[[#This Row],[dias]]","v":176}]
[33,null,null,null,{"$f":"IF(TablaEMPLEADOS[[#This Row],[ANTIGÜEDAD A FECHA FUTURO]]=\"NO\", IFERROR(IF(TablaEMPLEADOS[[#This Row],[FECHA CONTRATO]]=0,\"\",IF(DATEDIF(TablaEMPLEADOS[[#This Row],[FECHA CONTRATO]],TODAY(),\"y\")=0,\"\", DATEDIF(TablaEMPLEADOS[[#This Row],[FECHA CONTRATO]],TODAY(),\"y\") & \" año(s) \") & IF(DATEDIF(TablaEMPLEADOS[[#This Row],[FECHA CONTRATO]],TODAY(),\"ym\")=0,\"\",DATEDIF(TablaEMPLEADOS[[#This Row],[FECHA CONTRATO]],TODAY(),\"ym\") & \" mes(es) \") & IF(DATEDIF(TablaEMPLEADOS[[#This Row],[FECHA CONTRATO]],TODAY(),\"md\")=0,\"\",DATEDIF(TablaEMPLEADOS[[#This Row],[FECHA CONTRATO]],TODAY(),\"md\") & \" día(s)\")),\"\"), IFERROR(IF(TablaEMPLEADOS[[#This Row],[FECHA CONTRATO]]=0,\"\",IF(DATEDIF(TablaEMPLEADOS[[#This Row],[FECHA CONTRATO]],TablaEMPLEADOS[[#This Row],[ANTIGÜEDAD A FECHA FUTURO]],\"y\")=0,\"\", DATEDIF(TablaEMPLEADOS[[#This Row],[FECHA CONTRATO]],TablaEMPLEADOS[[#This Row],[ANTIGÜEDAD A FECHA FUTURO]],\"y\") & \" año(s) \") & IF(DATEDIF(TablaEMPLEADOS[[#This Row],[FECHA CONTRATO]],TablaEMPLEADOS[[#This Row],[ANTIGÜEDAD A FECHA FUTURO]],\"ym\")=0,\"\",DATEDIF(TablaEMPLEADOS[[#This Row],[FECHA CONTRATO]],TablaEMPLEADOS[[#This Row],[ANTIGÜEDAD A FECHA FUTURO]],\"ym\") & \" mes(es) \") & IF(DATEDIF(TablaEMPLEADOS[[#This Row],[FECHA CONTRATO]],TablaEMPLEADOS[[#This Row],[ANTIGÜEDAD A FECHA FUTURO]],\"md\")=0,\"\",DATEDIF(TablaEMPLEADOS[[#This Row],[FECHA CONTRATO]],TablaEMPLEADOS[[#This Row],[ANTIGÜEDAD A FECHA FUTURO]],\"md\") & \" día(s)\")),\"\"))","v":""},null,{"$f":"IF(TablaEMPLEADOS[[#This Row],[ANTIGÜEDAD A FECHA FUTURO]]=\"NO\",ROUND(((TODAY()-TablaEMPLEADOS[[#This Row],[FECHA CONTRATO]]+1)/365)*TablaEMPLEADOS[[#This Row],[VAC./ AÑO]]+TablaEMPLEADOS[[#This Row],[TOTA VAC. PROG.]],0),ROUND(((TablaEMPLEADOS[[#This Row],[ANTIGÜEDAD A FECHA FUTURO]]-TablaEMPLEADOS[[#This Row],[FECHA CONTRATO]]+1)/365)*TablaEMPLEADOS[[#This Row],[VAC./ AÑO]]+TablaEMPLEADOS[[#This Row],[TOTA VAC. PROG.]],0))","v":{"$error":"#VALUE!"}},null,null,{"$f":"IFERROR(IF(OR(TablaEMPLEADOS[[#This Row],[VAC./ AÑO]]=20,TablaEMPLEADOS[[#This Row],[VAC. PROG.]]=\"NO\"),0,IF(TablaEMPLEADOS[[#This Row],[ANTIGÜEDAD A FECHA FUTURO]]=\"NO\",VLOOKUP(ROUNDDOWN(YEARFRAC(TablaEMPLEADOS[[#This Row],[ACTIVACIÓN PROG.]],TODAY()),0),Tabla2[],2,0),VLOOKUP(ROUNDDOWN(YEARFRAC(TablaEMPLEADOS[[#This Row],[ACTIVACIÓN PROG.]],TablaEMPLEADOS[[#This Row],[ANTIGÜEDAD A FECHA FUTURO]]),0),Tabla2[],3,0))),\"\")","v":""},null,{"$f":"IFERROR(VLOOKUP(TablaEMPLEADOS[[#This Row],[NOMBRE]],VERIFICACION!$D$4:$G$4,4,0),\"NO\")","v":"NO"},"Navidad","2020-12-25",null,34,11,{"$f":"R38+Tabla2[[#This Row],[dias]]","v":187}]
[34,null,null,null,{"$f":"IF(TablaEMPLEADOS[[#This Row],[ANTIGÜEDAD A FECHA FUTURO]]=\"NO\", IFERROR(IF(TablaEMPLEADOS[[#This Row],[FECHA CONTRATO]]=0,\"\",IF(DATEDIF(TablaEMPLEADOS[[#This Row],[FECHA CONTRATO]],TODAY(),\"y\")=0,\"\", DATEDIF(TablaEMPLEADOS[[#This Row],[FECHA CONTRATO]],TODAY(),\"y\") & \" año(s) \") & IF(DATEDIF(TablaEMPLEADOS[[#This Row],[FECHA CONTRATO]],TODAY(),\"ym\")=0,\"\",DATEDIF(TablaEMPLEADOS[[#This Row],[FECHA CONTRATO]],TODAY(),\"ym\") & \" mes(es) \") & IF(DATEDIF(TablaEMPLEADOS[[#This Row],[FECHA CONTRATO]],TODAY(),\"md\")=0,\"\",DATEDIF(TablaEMPLEADOS[[#This Row],[FECHA CONTRATO]],TODAY(),\"md\") & \" día(s)\")),\"\"), IFERROR(IF(TablaEMPLEADOS[[#This Row],[FECHA CONTRATO]]=0,\"\",IF(DATEDIF(TablaEMPLEADOS[[#This Row],[FECHA CONTRATO]],TablaEMPLEADOS[[#This Row],[ANTIGÜEDAD A FECHA FUTURO]],\"y\")=0,\"\", DATEDIF(TablaEMPLEADOS[[#This Row],[FECHA CONTRATO]],TablaEMPLEADOS[[#This Row],[ANTIGÜEDAD A FECHA FUTURO]],\"y\") & \" año(s) \") & IF(DATEDIF(TablaEMPLEADOS[[#This Row],[FECHA CONTRATO]],TablaEMPLEADOS[[#This Row],[ANTIGÜEDAD A FECHA FUTURO]],\"ym\")=0,\"\",DATEDIF(TablaEMPLEADOS[[#This Row],[FECHA CONTRATO]],TablaEMPLEADOS[[#This Row],[ANTIGÜEDAD A FECHA FUTURO]],\"ym\") & \" mes(es) \") & IF(DATEDIF(TablaEMPLEADOS[[#This Row],[FECHA CONTRATO]],TablaEMPLEADOS[[#This Row],[ANTIGÜEDAD A FECHA FUTURO]],\"md\")=0,\"\",DATEDIF(TablaEMPLEADOS[[#This Row],[FECHA CONTRATO]],TablaEMPLEADOS[[#This Row],[ANTIGÜEDAD A FECHA FUTURO]],\"md\") & \" día(s)\")),\"\"))","v":""},null,{"$f":"IF(TablaEMPLEADOS[[#This Row],[ANTIGÜEDAD A FECHA FUTURO]]=\"NO\",ROUND(((TODAY()-TablaEMPLEADOS[[#This Row],[FECHA CONTRATO]]+1)/365)*TablaEMPLEADOS[[#This Row],[VAC./ AÑO]]+TablaEMPLEADOS[[#This Row],[TOTA VAC. PROG.]],0),ROUND(((TablaEMPLEADOS[[#This Row],[ANTIGÜEDAD A FECHA FUTURO]]-TablaEMPLEADOS[[#This Row],[FECHA CONTRATO]]+1)/365)*TablaEMPLEADOS[[#This Row],[VAC./ AÑO]]+TablaEMPLEADOS[[#This Row],[TOTA VAC. PROG.]],0))","v":{"$error":"#VALUE!"}},null,null,{"$f":"IFERROR(IF(OR(TablaEMPLEADOS[[#This Row],[VAC./ AÑO]]=20,TablaEMPLEADOS[[#This Row],[VAC. PROG.]]=\"NO\"),0,IF(TablaEMPLEADOS[[#This Row],[ANTIGÜEDAD A FECHA FUTURO]]=\"NO\",VLOOKUP(ROUNDDOWN(YEARFRAC(TablaEMPLEADOS[[#This Row],[ACTIVACIÓN PROG.]],TODAY()),0),Tabla2[],2,0),VLOOKUP(ROUNDDOWN(YEARFRAC(TablaEMPLEADOS[[#This Row],[ACTIVACIÓN PROG.]],TablaEMPLEADOS[[#This Row],[ANTIGÜEDAD A FECHA FUTURO]]),0),Tabla2[],3,0))),\"\")","v":""},null,{"$f":"IFERROR(VLOOKUP(TablaEMPLEADOS[[#This Row],[NOMBRE]],VERIFICACION!$D$4:$G$4,4,0),\"NO\")","v":"NO"},null,null,null,35,11,{"$f":"R39+Tabla2[[#This Row],[dias]]","v":198}]
[35,null,null,null,{"$f":"IF(TablaEMPLEADOS[[#This Row],[ANTIGÜEDAD A FECHA FUTURO]]=\"NO\", IFERROR(IF(TablaEMPLEADOS[[#This Row],[FECHA CONTRATO]]=0,\"\",IF(DATEDIF(TablaEMPLEADOS[[#This Row],[FECHA CONTRATO]],TODAY(),\"y\")=0,\"\", DATEDIF(TablaEMPLEADOS[[#This Row],[FECHA CONTRATO]],TODAY(),\"y\") & \" año(s) \") & IF(DATEDIF(TablaEMPLEADOS[[#This Row],[FECHA CONTRATO]],TODAY(),\"ym\")=0,\"\",DATEDIF(TablaEMPLEADOS[[#This Row],[FECHA CONTRATO]],TODAY(),\"ym\") & \" mes(es) \") & IF(DATEDIF(TablaEMPLEADOS[[#This Row],[FECHA CONTRATO]],TODAY(),\"md\")=0,\"\",DATEDIF(TablaEMPLEADOS[[#This Row],[FECHA CONTRATO]],TODAY(),\"md\") & \" día(s)\")),\"\"), IFERROR(IF(TablaEMPLEADOS[[#This Row],[FECHA CONTRATO]]=0,\"\",IF(DATEDIF(TablaEMPLEADOS[[#This Row],[FECHA CONTRATO]],TablaEMPLEADOS[[#This Row],[ANTIGÜEDAD A FECHA FUTURO]],\"y\")=0,\"\", DATEDIF(TablaEMPLEADOS[[#This Row],[FECHA CONTRATO]],TablaEMPLEADOS[[#This Row],[ANTIGÜEDAD A FECHA FUTURO]],\"y\") & \" año(s) \") & IF(DATEDIF(TablaEMPLEADOS[[#This Row],[FECHA CONTRATO]],TablaEMPLEADOS[[#This Row],[ANTIGÜEDAD A FECHA FUTURO]],\"ym\")=0,\"\",DATEDIF(TablaEMPLEADOS[[#This Row],[FECHA CONTRATO]],TablaEMPLEADOS[[#This Row],[ANTIGÜEDAD A FECHA FUTURO]],\"ym\") & \" mes(es) \") & IF(DATEDIF(TablaEMPLEADOS[[#This Row],[FECHA CONTRATO]],TablaEMPLEADOS[[#This Row],[ANTIGÜEDAD A FECHA FUTURO]],\"md\")=0,\"\",DATEDIF(TablaEMPLEADOS[[#This Row],[FECHA CONTRATO]],TablaEMPLEADOS[[#This Row],[ANTIGÜEDAD A FECHA FUTURO]],\"md\") & \" día(s)\")),\"\"))","v":""},null,{"$f":"IF(TablaEMPLEADOS[[#This Row],[ANTIGÜEDAD A FECHA FUTURO]]=\"NO\",ROUND(((TODAY()-TablaEMPLEADOS[[#This Row],[FECHA CONTRATO]]+1)/365)*TablaEMPLEADOS[[#This Row],[VAC./ AÑO]]+TablaEMPLEADOS[[#This Row],[TOTA VAC. PROG.]],0),ROUND(((TablaEMPLEADOS[[#This Row],[ANTIGÜEDAD A FECHA FUTURO]]-TablaEMPLEADOS[[#This Row],[FECHA CONTRATO]]+1)/365)*TablaEMPLEADOS[[#This Row],[VAC./ AÑO]]+TablaEMPLEADOS[[#This Row],[TOTA VAC. PROG.]],0))","v":{"$error":"#VALUE!"}},null,null,{"$f":"IFERROR(IF(OR(TablaEMPLEADOS[[#This Row],[VAC./ AÑO]]=20,TablaEMPLEADOS[[#This Row],[VAC. PROG.]]=\"NO\"),0,IF(TablaEMPLEADOS[[#This Row],[ANTIGÜEDAD A FECHA FUTURO]]=\"NO\",VLOOKUP(ROUNDDOWN(YEARFRAC(TablaEMPLEADOS[[#This Row],[ACTIVACIÓN PROG.]],TODAY()),0),Tabla2[],2,0),VLOOKUP(ROUNDDOWN(YEARFRAC(TablaEMPLEADOS[[#This Row],[ACTIVACIÓN PROG.]],TablaEMPLEADOS[[#This Row],[ANTIGÜEDAD A FECHA FUTURO]]),0),Tabla2[],3,0))),\"\")","v":""},null,{"$f":"IFERROR(VLOOKUP(TablaEMPLEADOS[[#This Row],[NOMBRE]],VERIFICACION!$D$4:$G$4,4,0),\"NO\")","v":"NO"},null,null,null,36,12,{"$f":"R40+Tabla2[[#This Row],[dias]]","v":210}]
[36,null,null,null,{"$f":"IF(TablaEMPLEADOS[[#This Row],[ANTIGÜEDAD A FECHA FUTURO]]=\"NO\", IFERROR(IF(TablaEMPLEADOS[[#This Row],[FECHA CONTRATO]]=0,\"\",IF(DATEDIF(TablaEMPLEADOS[[#This Row],[FECHA CONTRATO]],TODAY(),\"y\")=0,\"\", DATEDIF(TablaEMPLEADOS[[#This Row],[FECHA CONTRATO]],TODAY(),\"y\") & \" año(s) \") & IF(DATEDIF(TablaEMPLEADOS[[#This Row],[FECHA CONTRATO]],TODAY(),\"ym\")=0,\"\",DATEDIF(TablaEMPLEADOS[[#This Row],[FECHA CONTRATO]],TODAY(),\"ym\") & \" mes(es) \") & IF(DATEDIF(TablaEMPLEADOS[[#This Row],[FECHA CONTRATO]],TODAY(),\"md\")=0,\"\",DATEDIF(TablaEMPLEADOS[[#This Row],[FECHA CONTRATO]],TODAY(),\"md\") & \" día(s)\")),\"\"), IFERROR(IF(TablaEMPLEADOS[[#This Row],[FECHA CONTRATO]]=0,\"\",IF(DATEDIF(TablaEMPLEADOS[[#This Row],[FECHA CONTRATO]],TablaEMPLEADOS[[#This Row],[ANTIGÜEDAD A FECHA FUTURO]],\"y\")=0,\"\", DATEDIF(TablaEMPLEADOS[[#This Row],[FECHA CONTRATO]],TablaEMPLEADOS[[#This Row],[ANTIGÜEDAD A FECHA FUTURO]],\"y\") & \" año(s) \") & IF(DATEDIF(TablaEMPLEADOS[[#This Row],[FECHA CONTRATO]],TablaEMPLEADOS[[#This Row],[ANTIGÜEDAD A FECHA FUTURO]],\"ym\")=0,\"\",DATEDIF(TablaEMPLEADOS[[#This Row],[FECHA CONTRATO]],TablaEMPLEADOS[[#This Row],[ANTIGÜEDAD A FECHA FUTURO]],\"ym\") & \" mes(es) \") & IF(DATEDIF(TablaEMPLEADOS[[#This Row],[FECHA CONTRATO]],TablaEMPLEADOS[[#This Row],[ANTIGÜEDAD A FECHA FUTURO]],\"md\")=0,\"\",DATEDIF(TablaEMPLEADOS[[#This Row],[FECHA CONTRATO]],TablaEMPLEADOS[[#This Row],[ANTIGÜEDAD A FECHA FUTURO]],\"md\") & \" día(s)\")),\"\"))","v":""},null,{"$f":"IF(TablaEMPLEADOS[[#This Row],[ANTIGÜEDAD A FECHA FUTURO]]=\"NO\",ROUND(((TODAY()-TablaEMPLEADOS[[#This Row],[FECHA CONTRATO]]+1)/365)*TablaEMPLEADOS[[#This Row],[VAC./ AÑO]]+TablaEMPLEADOS[[#This Row],[TOTA VAC. PROG.]],0),ROUND(((TablaEMPLEADOS[[#This Row],[ANTIGÜEDAD A FECHA FUTURO]]-TablaEMPLEADOS[[#This Row],[FECHA CONTRATO]]+1)/365)*TablaEMPLEADOS[[#This Row],[VAC./ AÑO]]+TablaEMPLEADOS[[#This Row],[TOTA VAC. PROG.]],0))","v":{"$error":"#VALUE!"}},null,null,{"$f":"IFERROR(IF(OR(TablaEMPLEADOS[[#This Row],[VAC./ AÑO]]=20,TablaEMPLEADOS[[#This Row],[VAC. PROG.]]=\"NO\"),0,IF(TablaEMPLEADOS[[#This Row],[ANTIGÜEDAD A FECHA FUTURO]]=\"NO\",VLOOKUP(ROUNDDOWN(YEARFRAC(TablaEMPLEADOS[[#This Row],[ACTIVACIÓN PROG.]],TODAY()),0),Tabla2[],2,0),VLOOKUP(ROUNDDOWN(YEARFRAC(TablaEMPLEADOS[[#This Row],[ACTIVACIÓN PROG.]],TablaEMPLEADOS[[#This Row],[ANTIGÜEDAD A FECHA FUTURO]]),0),Tabla2[],3,0))),\"\")","v":""},null,{"$f":"IFERROR(VLOOKUP(TablaEMPLEADOS[[#This Row],[NOMBRE]],VERIFICACION!$D$4:$G$4,4,0),\"NO\")","v":"NO"},null,null,null,37,12,{"$f":"R41+Tabla2[[#This Row],[dias]]","v":222}]
[37,null,null,null,{"$f":"IF(TablaEMPLEADOS[[#This Row],[ANTIGÜEDAD A FECHA FUTURO]]=\"NO\", IFERROR(IF(TablaEMPLEADOS[[#This Row],[FECHA CONTRATO]]=0,\"\",IF(DATEDIF(TablaEMPLEADOS[[#This Row],[FECHA CONTRATO]],TODAY(),\"y\")=0,\"\", DATEDIF(TablaEMPLEADOS[[#This Row],[FECHA CONTRATO]],TODAY(),\"y\") & \" año(s) \") & IF(DATEDIF(TablaEMPLEADOS[[#This Row],[FECHA CONTRATO]],TODAY(),\"ym\")=0,\"\",DATEDIF(TablaEMPLEADOS[[#This Row],[FECHA CONTRATO]],TODAY(),\"ym\") & \" mes(es) \") & IF(DATEDIF(TablaEMPLEADOS[[#This Row],[FECHA CONTRATO]],TODAY(),\"md\")=0,\"\",DATEDIF(TablaEMPLEADOS[[#This Row],[FECHA CONTRATO]],TODAY(),\"md\") & \" día(s)\")),\"\"), IFERROR(IF(TablaEMPLEADOS[[#This Row],[FECHA CONTRATO]]=0,\"\",IF(DATEDIF(TablaEMPLEADOS[[#This Row],[FECHA CONTRATO]],TablaEMPLEADOS[[#This Row],[ANTIGÜEDAD A FECHA FUTURO]],\"y\")=0,\"\", DATEDIF(TablaEMPLEADOS[[#This Row],[FECHA CONTRATO]],TablaEMPLEADOS[[#This Row],[ANTIGÜEDAD A FECHA FUTURO]],\"y\") & \" año(s) \") & IF(DATEDIF(TablaEMPLEADOS[[#This Row],[FECHA CONTRATO]],TablaEMPLEADOS[[#This Row],[ANTIGÜEDAD A FECHA FUTURO]],\"ym\")=0,\"\",DATEDIF(TablaEMPLEADOS[[#This Row],[FECHA CONTRATO]],TablaEMPLEADOS[[#This Row],[ANTIGÜEDAD A FECHA FUTURO]],\"ym\") & \" mes(es) \") & IF(DATEDIF(TablaEMPLEADOS[[#This Row],[FECHA CONTRATO]],TablaEMPLEADOS[[#This Row],[ANTIGÜEDAD A FECHA FUTURO]],\"md\")=0,\"\",DATEDIF(TablaEMPLEADOS[[#This Row],[FECHA CONTRATO]],TablaEMPLEADOS[[#This Row],[ANTIGÜEDAD A FECHA FUTURO]],\"md\") & \" día(s)\")),\"\"))","v":""},null,{"$f":"IF(TablaEMPLEADOS[[#This Row],[ANTIGÜEDAD A FECHA FUTURO]]=\"NO\",ROUND(((TODAY()-TablaEMPLEADOS[[#This Row],[FECHA CONTRATO]]+1)/365)*TablaEMPLEADOS[[#This Row],[VAC./ AÑO]]+TablaEMPLEADOS[[#This Row],[TOTA VAC. PROG.]],0),ROUND(((TablaEMPLEADOS[[#This Row],[ANTIGÜEDAD A FECHA FUTURO]]-TablaEMPLEADOS[[#This Row],[FECHA CONTRATO]]+1)/365)*TablaEMPLEADOS[[#This Row],[VAC./ AÑO]]+TablaEMPLEADOS[[#This Row],[TOTA VAC. PROG.]],0))","v":{"$error":"#VALUE!"}},null,null,{"$f":"IFERROR(IF(OR(TablaEMPLEADOS[[#This Row],[VAC./ AÑO]]=20,TablaEMPLEADOS[[#This Row],[VAC. PROG.]]=\"NO\"),0,IF(TablaEMPLEADOS[[#This Row],[ANTIGÜEDAD A FECHA FUTURO]]=\"NO\",VLOOKUP(ROUNDDOWN(YEARFRAC(TablaEMPLEADOS[[#This Row],[ACTIVACIÓN PROG.]],TODAY()),0),Tabla2[],2,0),VLOOKUP(ROUNDDOWN(YEARFRAC(TablaEMPLEADOS[[#This Row],[ACTIVACIÓN PROG.]],TablaEMPLEADOS[[#This Row],[ANTIGÜEDAD A FECHA FUTURO]]),0),Tabla2[],3,0))),\"\")","v":""},null,{"$f":"IFERROR(VLOOKUP(TablaEMPLEADOS[[#This Row],[NOMBRE]],VERIFICACION!$D$4:$G$4,4,0),\"NO\")","v":"NO"},null,null,null,38,12,{"$f":"R42+Tabla2[[#This Row],[dias]]","v":234}]
[38,null,null,null,{"$f":"IF(TablaEMPLEADOS[[#This Row],[ANTIGÜEDAD A FECHA FUTURO]]=\"NO\", IFERROR(IF(TablaEMPLEADOS[[#This Row],[FECHA CONTRATO]]=0,\"\",IF(DATEDIF(TablaEMPLEADOS[[#This Row],[FECHA CONTRATO]],TODAY(),\"y\")=0,\"\", DATEDIF(TablaEMPLEADOS[[#This Row],[FECHA CONTRATO]],TODAY(),\"y\") & \" año(s) \") & IF(DATEDIF(TablaEMPLEADOS[[#This Row],[FECHA CONTRATO]],TODAY(),\"ym\")=0,\"\",DATEDIF(TablaEMPLEADOS[[#This Row],[FECHA CONTRATO]],TODAY(),\"ym\") & \" mes(es) \") & IF(DATEDIF(TablaEMPLEADOS[[#This Row],[FECHA CONTRATO]],TODAY(),\"md\")=0,\"\",DATEDIF(TablaEMPLEADOS[[#This Row],[FECHA CONTRATO]],TODAY(),\"md\") & \" día(s)\")),\"\"), IFERROR(IF(TablaEMPLEADOS[[#This Row],[FECHA CONTRATO]]=0,\"\",IF(DATEDIF(TablaEMPLEADOS[[#This Row],[FECHA CONTRATO]],TablaEMPLEADOS[[#This Row],[ANTIGÜEDAD A FECHA FUTURO]],\"y\")=0,\"\", DATEDIF(TablaEMPLEADOS[[#This Row],[FECHA CONTRATO]],TablaEMPLEADOS[[#This Row],[ANTIGÜEDAD A FECHA FUTURO]],\"y\") & \" año(s) \") & IF(DATEDIF(TablaEMPLEADOS[[#This Row],[FECHA CONTRATO]],TablaEMPLEADOS[[#This Row],[ANTIGÜEDAD A FECHA FUTURO]],\"ym\")=0,\"\",DATEDIF(TablaEMPLEADOS[[#This Row],[FECHA CONTRATO]],TablaEMPLEADOS[[#This Row],[ANTIGÜEDAD A FECHA FUTURO]],\"ym\") & \" mes(es) \") & IF(DATEDIF(TablaEMPLEADOS[[#This Row],[FECHA CONTRATO]],TablaEMPLEADOS[[#This Row],[ANTIGÜEDAD A FECHA FUTURO]],\"md\")=0,\"\",DATEDIF(TablaEMPLEADOS[[#This Row],[FECHA CONTRATO]],TablaEMPLEADOS[[#This Row],[ANTIGÜEDAD A FECHA FUTURO]],\"md\") & \" día(s)\")),\"\"))","v":""},null,{"$f":"IF(TablaEMPLEADOS[[#This Row],[ANTIGÜEDAD A FECHA FUTURO]]=\"NO\",ROUND(((TODAY()-TablaEMPLEADOS[[#This Row],[FECHA CONTRATO]]+1)/365)*TablaEMPLEADOS[[#This Row],[VAC./ AÑO]]+TablaEMPLEADOS[[#This Row],[TOTA VAC. PROG.]],0),ROUND(((TablaEMPLEADOS[[#This Row],[ANTIGÜEDAD A FECHA FUTURO]]-TablaEMPLEADOS[[#This Row],[FECHA CONTRATO]]+1)/365)*TablaEMPLEADOS[[#This Row],[VAC./ AÑO]]+TablaEMPLEADOS[[#This Row],[TOTA VAC. PROG.]],0))","v":{"$error":"#VALUE!"}},null,null,{"$f":"IFERROR(IF(OR(TablaEMPLEADOS[[#This Row],[VAC./ AÑO]]=20,TablaEMPLEADOS[[#This Row],[VAC. PROG.]]=\"NO\"),0,IF(TablaEMPLEADOS[[#This Row],[ANTIGÜEDAD A FECHA FUTURO]]=\"NO\",VLOOKUP(ROUNDDOWN(YEARFRAC(TablaEMPLEADOS[[#This Row],[ACTIVACIÓN PROG.]],TODAY()),0),Tabla2[],2,0),VLOOKUP(ROUNDDOWN(YEARFRAC(TablaEMPLEADOS[[#This Row],[ACTIVACIÓN PROG.]],TablaEMPLEADOS[[#This Row],[ANTIGÜEDAD A FECHA FUTURO]]),0),Tabla2[],3,0))),\"\")","v":""},null,{"$f":"IFERROR(VLOOKUP(TablaEMPLEADOS[[#This Row],[NOMBRE]],VERIFICACION!$D$4:$G$4,4,0),\"NO\")","v":"NO"},null,null,null,39,13,{"$f":"R43+Tabla2[[#This Row],[dias]]","v":247}]
[39,null,null,null,{"$f":"IF(TablaEMPLEADOS[[#This Row],[ANTIGÜEDAD A FECHA FUTURO]]=\"NO\", IFERROR(IF(TablaEMPLEADOS[[#This Row],[FECHA CONTRATO]]=0,\"\",IF(DATEDIF(TablaEMPLEADOS[[#This Row],[FECHA CONTRATO]],TODAY(),\"y\")=0,\"\", DATEDIF(TablaEMPLEADOS[[#This Row],[FECHA CONTRATO]],TODAY(),\"y\") & \" año(s) \") & IF(DATEDIF(TablaEMPLEADOS[[#This Row],[FECHA CONTRATO]],TODAY(),\"ym\")=0,\"\",DATEDIF(TablaEMPLEADOS[[#This Row],[FECHA CONTRATO]],TODAY(),\"ym\") & \" mes(es) \") & IF(DATEDIF(TablaEMPLEADOS[[#This Row],[FECHA CONTRATO]],TODAY(),\"md\")=0,\"\",DATEDIF(TablaEMPLEADOS[[#This Row],[FECHA CONTRATO]],TODAY(),\"md\") & \" día(s)\")),\"\"), IFERROR(IF(TablaEMPLEADOS[[#This Row],[FECHA CONTRATO]]=0,\"\",IF(DATEDIF(TablaEMPLEADOS[[#This Row],[FECHA CONTRATO]],TablaEMPLEADOS[[#This Row],[ANTIGÜEDAD A FECHA FUTURO]],\"y\")=0,\"\", DATEDIF(TablaEMPLEADOS[[#This Row],[FECHA CONTRATO]],TablaEMPLEADOS[[#This Row],[ANTIGÜEDAD A FECHA FUTURO]],\"y\") & \" año(s) \") & IF(DATEDIF(TablaEMPLEADOS[[#This Row],[FECHA CONTRATO]],TablaEMPLEADOS[[#This Row],[ANTIGÜEDAD A FECHA FUTURO]],\"ym\")=0,\"\",DATEDIF(TablaEMPLEADOS[[#This Row],[FECHA CONTRATO]],TablaEMPLEADOS[[#This Row],[ANTIGÜEDAD A FECHA FUTURO]],\"ym\") & \" mes(es) \") & IF(DATEDIF(TablaEMPLEADOS[[#This Row],[FECHA CONTRATO]],TablaEMPLEADOS[[#This Row],[ANTIGÜEDAD A FECHA FUTURO]],\"md\")=0,\"\",DATEDIF(TablaEMPLEADOS[[#This Row],[FECHA CONTRATO]],TablaEMPLEADOS[[#This Row],[ANTIGÜEDAD A FECHA FUTURO]],\"md\") & \" día(s)\")),\"\"))","v":""},null,{"$f":"IF(TablaEMPLEADOS[[#This Row],[ANTIGÜEDAD A FECHA FUTURO]]=\"NO\",ROUND(((TODAY()-TablaEMPLEADOS[[#This Row],[FECHA CONTRATO]]+1)/365)*TablaEMPLEADOS[[#This Row],[VAC./ AÑO]]+TablaEMPLEADOS[[#This Row],[TOTA VAC. PROG.]],0),ROUND(((TablaEMPLEADOS[[#This Row],[ANTIGÜEDAD A FECHA FUTURO]]-TablaEMPLEADOS[[#This Row],[FECHA CONTRATO]]+1)/365)*TablaEMPLEADOS[[#This Row],[VAC./ AÑO]]+TablaEMPLEADOS[[#This Row],[TOTA VAC. PROG.]],0))","v":{"$error":"#VALUE!"}},null,null,{"$f":"IFERROR(IF(OR(TablaEMPLEADOS[[#This Row],[VAC./ AÑO]]=20,TablaEMPLEADOS[[#This Row],[VAC. PROG.]]=\"NO\"),0,IF(TablaEMPLEADOS[[#This Row],[ANTIGÜEDAD A FECHA FUTURO]]=\"NO\",VLOOKUP(ROUNDDOWN(YEARFRAC(TablaEMPLEADOS[[#This Row],[ACTIVACIÓN PROG.]],TODAY()),0),Tabla2[],2,0),VLOOKUP(ROUNDDOWN(YEARFRAC(TablaEMPLEADOS[[#This Row],[ACTIVACIÓN PROG.]],TablaEMPLEADOS[[#This Row],[ANTIGÜEDAD A FECHA FUTURO]]),0),Tabla2[],3,0))),\"\")","v":""},null,{"$f":"IFERROR(VLOOKUP(TablaEMPLEADOS[[#This Row],[NOMBRE]],VERIFICACION!$D$4:$G$4,4,0),\"NO\")","v":"NO"},null,null,null,40,13,{"$f":"R44+Tabla2[[#This Row],[dias]]","v":260}]
[40,null,null,null,{"$f":"IF(TablaEMPLEADOS[[#This Row],[ANTIGÜEDAD A FECHA FUTURO]]=\"NO\", IFERROR(IF(TablaEMPLEADOS[[#This Row],[FECHA CONTRATO]]=0,\"\",IF(DATEDIF(TablaEMPLEADOS[[#This Row],[FECHA CONTRATO]],TODAY(),\"y\")=0,\"\", DATEDIF(TablaEMPLEADOS[[#This Row],[FECHA CONTRATO]],TODAY(),\"y\") & \" año(s) \") & IF(DATEDIF(TablaEMPLEADOS[[#This Row],[FECHA CONTRATO]],TODAY(),\"ym\")=0,\"\",DATEDIF(TablaEMPLEADOS[[#This Row],[FECHA CONTRATO]],TODAY(),\"ym\") & \" mes(es) \") & IF(DATEDIF(TablaEMPLEADOS[[#This Row],[FECHA CONTRATO]],TODAY(),\"md\")=0,\"\",DATEDIF(TablaEMPLEADOS[[#This Row],[FECHA CONTRATO]],TODAY(),\"md\") & \" día(s)\")),\"\"), IFERROR(IF(TablaEMPLEADOS[[#This Row],[FECHA CONTRATO]]=0,\"\",IF(DATEDIF(TablaEMPLEADOS[[#This Row],[FECHA CONTRATO]],TablaEMPLEADOS[[#This Row],[ANTIGÜEDAD A FECHA FUTURO]],\"y\")=0,\"\", DATEDIF(TablaEMPLEADOS[[#This Row],[FECHA CONTRATO]],TablaEMPLEADOS[[#This Row],[ANTIGÜEDAD A FECHA FUTURO]],\"y\") & \" año(s) \") & IF(DATEDIF(TablaEMPLEADOS[[#This Row],[FECHA CONTRATO]],TablaEMPLEADOS[[#This Row],[ANTIGÜEDAD A FECHA FUTURO]],\"ym\")=0,\"\",DATEDIF(TablaEMPLEADOS[[#This Row],[FECHA CONTRATO]],TablaEMPLEADOS[[#This Row],[ANTIGÜEDAD A FECHA FUTURO]],\"ym\") & \" mes(es) \") & IF(DATEDIF(TablaEMPLEADOS[[#This Row],[FECHA CONTRATO]],TablaEMPLEADOS[[#This Row],[ANTIGÜEDAD A FECHA FUTURO]],\"md\")=0,\"\",DATEDIF(TablaEMPLEADOS[[#This Row],[FECHA CONTRATO]],TablaEMPLEADOS[[#This Row],[ANTIGÜEDAD A FECHA FUTURO]],\"md\") & \" día(s)\")),\"\"))","v":""},null,{"$f":"IF(TablaEMPLEADOS[[#This Row],[ANTIGÜEDAD A FECHA FUTURO]]=\"NO\",ROUND(((TODAY()-TablaEMPLEADOS[[#This Row],[FECHA CONTRATO]]+1)/365)*TablaEMPLEADOS[[#This Row],[VAC./ AÑO]]+TablaEMPLEADOS[[#This Row],[TOTA VAC. PROG.]],0),ROUND(((TablaEMPLEADOS[[#This Row],[ANTIGÜEDAD A FECHA FUTURO]]-TablaEMPLEADOS[[#This Row],[FECHA CONTRATO]]+1)/365)*TablaEMPLEADOS[[#This Row],[VAC./ AÑO]]+TablaEMPLEADOS[[#This Row],[TOTA VAC. PROG.]],0))","v":{"$error":"#VALUE!"}},null,null,{"$f":"IFERROR(IF(OR(TablaEMPLEADOS[[#This Row],[VAC./ AÑO]]=20,TablaEMPLEADOS[[#This Row],[VAC. PROG.]]=\"NO\"),0,IF(TablaEMPLEADOS[[#This Row],[ANTIGÜEDAD A FECHA FUTURO]]=\"NO\",VLOOKUP(ROUNDDOWN(YEARFRAC(TablaEMPLEADOS[[#This Row],[ACTIVACIÓN PROG.]],TODAY()),0),Tabla2[],2,0),VLOOKUP(ROUNDDOWN(YEARFRAC(TablaEMPLEADOS[[#This Row],[ACTIVACIÓN PROG.]],TablaEMPLEADOS[[#This Row],[ANTIGÜEDAD A FECHA FUTURO]]),0),Tabla2[],3,0))),\"\")","v":""},null,{"$f":"IFERROR(VLOOKUP(TablaEMPLEADOS[[#This Row],[NOMBRE]],VERIFICACION!$D$4:$G$4,4,0),\"NO\")","v":"NO"},null,null,null,41,13,{"$f":"R45+Tabla2[[#This Row],[dias]]","v":273}]
[41,null,null,null,{"$f":"IF(TablaEMPLEADOS[[#This Row],[ANTIGÜEDAD A FECHA FUTURO]]=\"NO\", IFERROR(IF(TablaEMPLEADOS[[#This Row],[FECHA CONTRATO]]=0,\"\",IF(DATEDIF(TablaEMPLEADOS[[#This Row],[FECHA CONTRATO]],TODAY(),\"y\")=0,\"\", DATEDIF(TablaEMPLEADOS[[#This Row],[FECHA CONTRATO]],TODAY(),\"y\") & \" año(s) \") & IF(DATEDIF(TablaEMPLEADOS[[#This Row],[FECHA CONTRATO]],TODAY(),\"ym\")=0,\"\",DATEDIF(TablaEMPLEADOS[[#This Row],[FECHA CONTRATO]],TODAY(),\"ym\") & \" mes(es) \") & IF(DATEDIF(TablaEMPLEADOS[[#This Row],[FECHA CONTRATO]],TODAY(),\"md\")=0,\"\",DATEDIF(TablaEMPLEADOS[[#This Row],[FECHA CONTRATO]],TODAY(),\"md\") & \" día(s)\")),\"\"), IFERROR(IF(TablaEMPLEADOS[[#This Row],[FECHA CONTRATO]]=0,\"\",IF(DATEDIF(TablaEMPLEADOS[[#This Row],[FECHA CONTRATO]],TablaEMPLEADOS[[#This Row],[ANTIGÜEDAD A FECHA FUTURO]],\"y\")=0,\"\", DATEDIF(TablaEMPLEADOS[[#This Row],[FECHA CONTRATO]],TablaEMPLEADOS[[#This Row],[ANTIGÜEDAD A FECHA FUTURO]],\"y\") & \" año(s) \") & IF(DATEDIF(TablaEMPLEADOS[[#This Row],[FECHA CONTRATO]],TablaEMPLEADOS[[#This Row],[ANTIGÜEDAD A FECHA FUTURO]],\"ym\")=0,\"\",DATEDIF(TablaEMPLEADOS[[#This Row],[FECHA CONTRATO]],TablaEMPLEADOS[[#This Row],[ANTIGÜEDAD A FECHA FUTURO]],\"ym\") & \" mes(es) \") & IF(DATEDIF(TablaEMPLEADOS[[#This Row],[FECHA CONTRATO]],TablaEMPLEADOS[[#This Row],[ANTIGÜEDAD A FECHA FUTURO]],\"md\")=0,\"\",DATEDIF(TablaEMPLEADOS[[#This Row],[FECHA CONTRATO]],TablaEMPLEADOS[[#This Row],[ANTIGÜEDAD A FECHA FUTURO]],\"md\") & \" día(s)\")),\"\"))","v":""},null,{"$f":"IF(TablaEMPLEADOS[[#This Row],[ANTIGÜEDAD A FECHA FUTURO]]=\"NO\",ROUND(((TODAY()-TablaEMPLEADOS[[#This Row],[FECHA CONTRATO]]+1)/365)*TablaEMPLEADOS[[#This Row],[VAC./ AÑO]]+TablaEMPLEADOS[[#This Row],[TOTA VAC. PROG.]],0),ROUND(((TablaEMPLEADOS[[#This Row],[ANTIGÜEDAD A FECHA FUTURO]]-TablaEMPLEADOS[[#This Row],[FECHA CONTRATO]]+1)/365)*TablaEMPLEADOS[[#This Row],[VAC./ AÑO]]+TablaEMPLEADOS[[#This Row],[TOTA VAC. PROG.]],0))","v":{"$error":"#VALUE!"}},null,null,{"$f":"IFERROR(IF(OR(TablaEMPLEADOS[[#This Row],[VAC./ AÑO]]=20,TablaEMPLEADOS[[#This Row],[VAC. PROG.]]=\"NO\"),0,IF(TablaEMPLEADOS[[#This Row],[ANTIGÜEDAD A FECHA FUTURO]]=\"NO\",VLOOKUP(ROUNDDOWN(YEARFRAC(TablaEMPLEADOS[[#This Row],[ACTIVACIÓN PROG.]],TODAY()),0),Tabla2[],2,0),VLOOKUP(ROUNDDOWN(YEARFRAC(TablaEMPLEADOS[[#This Row],[ACTIVACIÓN PROG.]],TablaEMPLEADOS[[#This Row],[ANTIGÜEDAD A FECHA FUTURO]]),0),Tabla2[],3,0))),\"\")","v":""},null,{"$f":"IFERROR(VLOOKUP(TablaEMPLEADOS[[#This Row],[NOMBRE]],VERIFICACION!$D$4:$G$4,4,0),\"NO\")","v":"NO"},null,null,null,42,14,{"$f":"R46+Tabla2[[#This Row],[dias]]","v":287}]
[42,null,null,null,{"$f":"IF(TablaEMPLEADOS[[#This Row],[ANTIGÜEDAD A FECHA FUTURO]]=\"NO\", IFERROR(IF(TablaEMPLEADOS[[#This Row],[FECHA CONTRATO]]=0,\"\",IF(DATEDIF(TablaEMPLEADOS[[#This Row],[FECHA CONTRATO]],TODAY(),\"y\")=0,\"\", DATEDIF(TablaEMPLEADOS[[#This Row],[FECHA CONTRATO]],TODAY(),\"y\") & \" año(s) \") & IF(DATEDIF(TablaEMPLEADOS[[#This Row],[FECHA CONTRATO]],TODAY(),\"ym\")=0,\"\",DATEDIF(TablaEMPLEADOS[[#This Row],[FECHA CONTRATO]],TODAY(),\"ym\") & \" mes(es) \") & IF(DATEDIF(TablaEMPLEADOS[[#This Row],[FECHA CONTRATO]],TODAY(),\"md\")=0,\"\",DATEDIF(TablaEMPLEADOS[[#This Row],[FECHA CONTRATO]],TODAY(),\"md\") & \" día(s)\")),\"\"), IFERROR(IF(TablaEMPLEADOS[[#This Row],[FECHA CONTRATO]]=0,\"\",IF(DATEDIF(TablaEMPLEADOS[[#This Row],[FECHA CONTRATO]],TablaEMPLEADOS[[#This Row],[ANTIGÜEDAD A FECHA FUTURO]],\"y\")=0,\"\", DATEDIF(TablaEMPLEADOS[[#This Row],[FECHA CONTRATO]],TablaEMPLEADOS[[#This Row],[ANTIGÜEDAD A FECHA FUTURO]],\"y\") & \" año(s) \") & IF(DATEDIF(TablaEMPLEADOS[[#This Row],[FECHA CONTRATO]],TablaEMPLEADOS[[#This Row],[ANTIGÜEDAD A FECHA FUTURO]],\"ym\")=0,\"\",DATEDIF(TablaEMPLEADOS[[#This Row],[FECHA CONTRATO]],TablaEMPLEADOS[[#This Row],[ANTIGÜEDAD A FECHA FUTURO]],\"ym\") & \" mes(es) \") & IF(DATEDIF(TablaEMPLEADOS[[#This Row],[FECHA CONTRATO]],TablaEMPLEADOS[[#This Row],[ANTIGÜEDAD A FECHA FUTURO]],\"md\")=0,\"\",DATEDIF(TablaEMPLEADOS[[#This Row],[FECHA CONTRATO]],TablaEMPLEADOS[[#This Row],[ANTIGÜEDAD A FECHA FUTURO]],\"md\") & \" día(s)\")),\"\"))","v":""},null,{"$f":"IF(TablaEMPLEADOS[[#This Row],[ANTIGÜEDAD A FECHA FUTURO]]=\"NO\",ROUND(((TODAY()-TablaEMPLEADOS[[#This Row],[FECHA CONTRATO]]+1)/365)*TablaEMPLEADOS[[#This Row],[VAC./ AÑO]]+TablaEMPLEADOS[[#This Row],[TOTA VAC. PROG.]],0),ROUND(((TablaEMPLEADOS[[#This Row],[ANTIGÜEDAD A FECHA FUTURO]]-TablaEMPLEADOS[[#This Row],[FECHA CONTRATO]]+1)/365)*TablaEMPLEADOS[[#This Row],[VAC./ AÑO]]+TablaEMPLEADOS[[#This Row],[TOTA VAC. PROG.]],0))","v":{"$error":"#VALUE!"}},null,null,{"$f":"IFERROR(IF(OR(TablaEMPLEADOS[[#This Row],[VAC./ AÑO]]=20,TablaEMPLEADOS[[#This Row],[VAC. PROG.]]=\"NO\"),0,IF(TablaEMPLEADOS[[#This Row],[ANTIGÜEDAD A FECHA FUTURO]]=\"NO\",VLOOKUP(ROUNDDOWN(YEARFRAC(TablaEMPLEADOS[[#This Row],[ACTIVACIÓN PROG.]],TODAY()),0),Tabla2[],2,0),VLOOKUP(ROUNDDOWN(YEARFRAC(TablaEMPLEADOS[[#This Row],[ACTIVACIÓN PROG.]],TablaEMPLEADOS[[#This Row],[ANTIGÜEDAD A FECHA FUTURO]]),0),Tabla2[],3,0))),\"\")","v":""},null,{"$f":"IFERROR(VLOOKUP(TablaEMPLEADOS[[#This Row],[NOMBRE]],VERIFICACION!$D$4:$G$4,4,0),\"NO\")","v":"NO"},null,null,null,43,14,{"$f":"R47+Tabla2[[#This Row],[dias]]","v":301}]
[43,null,null,null,null,null,{"$f":"IF(TablaEMPLEADOS[[#This Row],[ANTIGÜEDAD A FECHA FUTURO]]=\"NO\",ROUND(((TODAY()-TablaEMPLEADOS[[#This Row],[FECHA CONTRATO]]+1)/365)*TablaEMPLEADOS[[#This Row],[VAC./ AÑO]]+TablaEMPLEADOS[[#This Row],[TOTA VAC. PROG.]],0),ROUND(((TablaEMPLEADOS[[#This Row],[ANTIGÜEDAD A FECHA FUTURO]]-TablaEMPLEADOS[[#This Row],[FECHA CONTRATO]]+1)/365)*TablaEMPLEADOS[[#This Row],[VAC./ AÑO]]+TablaEMPLEADOS[[#This Row],[TOTA VAC. PROG.]],0))","v":{"$error":"#VALUE!"}},null,null,{"$f":"IFERROR(IF(OR(TablaEMPLEADOS[[#This Row],[VAC./ AÑO]]=20,TablaEMPLEADOS[[#This Row],[VAC. PROG.]]=\"NO\"),0,IF(TablaEMPLEADOS[[#This Row],[ANTIGÜEDAD A FECHA FUTURO]]=\"NO\",VLOOKUP(ROUNDDOWN(YEARFRAC(TablaEMPLEADOS[[#This Row],[ACTIVACIÓN PROG.]],TODAY()),0),Tabla2[],2,0),VLOOKUP(ROUNDDOWN(YEARFRAC(TablaEMPLEADOS[[#This Row],[ACTIVACIÓN PROG.]],TablaEMPLEADOS[[#This Row],[ANTIGÜEDAD A FECHA FUTURO]]),0),Tabla2[],3,0))),\"\")","v":""},null,{"$f":"IFERROR(VLOOKUP(TablaEMPLEADOS[[#This Row],[NOMBRE]],VERIFICACION!$D$4:$G$4,4,0),\"NO\")","v":"NO"},null,null,null,44,14,{"$f":"R48+Tabla2[[#This Row],[dias]]","v":315}]
[44,null,null,null,null,null,null,null,null,null,null,{"$f":"IFERROR(VLOOKUP(TablaEMPLEADOS[[#This Row],[NOMBRE]],VERIFICACION!$D$4:$G$4,4,0),\"NO\")","v":"NO"},null,null,null,45,15,{"$f":"R49+Tabla2[[#This Row],[dias]]","v":330}]
[45,null,null,null,null,null,null,null,null,null,null,{"$f":"IFERROR(VLOOKUP(TablaEMPLEADOS[[#This Row],[NOMBRE]],VERIFICACION!$D$4:$G$4,4,0),\"NO\")","v":"NO"},null,null,null,46,15,{"$f":"R50+Tabla2[[#This Row],[dias]]","v":345}]
[46,null,null,null,null,null,null,null,null,{"$f":"IFERROR(IF(OR(TablaEMPLEADOS[[#This Row],[VAC./ AÑO]]=20,TablaEMPLEADOS[[#This Row],[VAC. PROG.]]=\"NO\"),0,IF(TablaEMPLEADOS[[#This Row],[ANTIGÜEDAD A FECHA FUTURO]]=\"NO\",VLOOKUP(ROUNDDOWN(YEARFRAC(TablaEMPLEADOS[[#This Row],[ACTIVACIÓN PROG.]],TODAY()),0),Tabla2[],2,0),VLOOKUP(ROUNDDOWN(YEARFRAC(TablaEMPLEADOS[[#This Row],[ACTIVACIÓN PROG.]],TablaEMPLEADOS[[#This Row],[ANTIGÜEDAD A FECHA FUTURO]]),0),Tabla2[],3,0))),\"\")","v":""},null,{"$f":"IFERROR(VLOOKUP(TablaEMPLEADOS[[#This Row],[NOMBRE]],VERIFICACION!$D$4:$G$4,4,0),\"NO\")","v":"NO"},null,null,null,47,15,{"$f":"R51+Tabla2[[#This Row],[dias]]","v":360}]
[47,null,null,null,null,null,null,null,null,{"$f":"IFERROR(IF(OR(TablaEMPLEADOS[[#This Row],[VAC./ AÑO]]=20,TablaEMPLEADOS[[#This Row],[VAC. PROG.]]=\"NO\"),0,IF(TablaEMPLEADOS[[#This Row],[ANTIGÜEDAD A FECHA FUTURO]]=\"NO\",VLOOKUP(ROUNDDOWN(YEARFRAC(TablaEMPLEADOS[[#This Row],[ACTIVACIÓN PROG.]],TODAY()),0),Tabla2[],2,0),VLOOKUP(ROUNDDOWN(YEARFRAC(TablaEMPLEADOS[[#This Row],[ACTIVACIÓN PROG.]],TablaEMPLEADOS[[#This Row],[ANTIGÜEDAD A FECHA FUTURO]]),0),Tabla2[],3,0))),\"\")","v":""},null,{"$f":"IFERROR(VLOOKUP(TablaEMPLEADOS[[#This Row],[NOMBRE]],VERIFICACION!$D$4:$G$4,4,0),\"NO\")","v":"NO"},null,null,null,48,16,{"$f":"R52+Tabla2[[#This Row],[dias]]","v":376}]
[48,null,null,null,null,null,null,null,null,{"$f":"IFERROR(IF(OR(TablaEMPLEADOS[[#This Row],[VAC./ AÑO]]=20,TablaEMPLEADOS[[#This Row],[VAC. PROG.]]=\"NO\"),0,IF(TablaEMPLEADOS[[#This Row],[ANTIGÜEDAD A FECHA FUTURO]]=\"NO\",VLOOKUP(ROUNDDOWN(YEARFRAC(TablaEMPLEADOS[[#This Row],[ACTIVACIÓN PROG.]],TODAY()),0),Tabla2[],2,0),VLOOKUP(ROUNDDOWN(YEARFRAC(TablaEMPLEADOS[[#This Row],[ACTIVACIÓN PROG.]],TablaEMPLEADOS[[#This Row],[ANTIGÜEDAD A FECHA FUTURO]]),0),Tabla2[],3,0))),\"\")","v":""},null,{"$f":"IFERROR(VLOOKUP(TablaEMPLEADOS[[#This Row],[NOMBRE]],VERIFICACION!$D$4:$G$4,4,0),\"NO\")","v":"NO"},null,null,null,49,16,{"$f":"R53+Tabla2[[#This Row],[dias]]","v":392}]
[49,null,null,null,{"$f":"IF(TablaEMPLEADOS[[#This Row],[ANTIGÜEDAD A FECHA FUTURO]]=\"NO\", IFERROR(IF(TablaEMPLEADOS[[#This Row],[FECHA CONTRATO]]=0,\"\",IF(DATEDIF(TablaEMPLEADOS[[#This Row],[FECHA CONTRATO]],TODAY(),\"y\")=0,\"\", DATEDIF(TablaEMPLEADOS[[#This Row],[FECHA CONTRATO]],TODAY(),\"y\") & \" año(s) \") & IF(DATEDIF(TablaEMPLEADOS[[#This Row],[FECHA CONTRATO]],TODAY(),\"ym\")=0,\"\",DATEDIF(TablaEMPLEADOS[[#This Row],[FECHA CONTRATO]],TODAY(),\"ym\") & \" mes(es) \") & IF(DATEDIF(TablaEMPLEADOS[[#This Row],[FECHA CONTRATO]],TODAY(),\"md\")=0,\"\",DATEDIF(TablaEMPLEADOS[[#This Row],[FECHA CONTRATO]],TODAY(),\"md\") & \" día(s)\")),\"\"), IFERROR(IF(TablaEMPLEADOS[[#This Row],[FECHA CONTRATO]]=0,\"\",IF(DATEDIF(TablaEMPLEADOS[[#This Row],[FECHA CONTRATO]],TablaEMPLEADOS[[#This Row],[ANTIGÜEDAD A FECHA FUTURO]],\"y\")=0,\"\", DATEDIF(TablaEMPLEADOS[[#This Row],[FECHA CONTRATO]],TablaEMPLEADOS[[#This Row],[ANTIGÜEDAD A FECHA FUTURO]],\"y\") & \" año(s) \") & IF(DATEDIF(TablaEMPLEADOS[[#This Row],[FECHA CONTRATO]],TablaEMPLEADOS[[#This Row],[ANTIGÜEDAD A FECHA FUTURO]],\"ym\")=0,\"\",DATEDIF(TablaEMPLEADOS[[#This Row],[FECHA CONTRATO]],TablaEMPLEADOS[[#This Row],[ANTIGÜEDAD A FECHA FUTURO]],\"ym\") & \" mes(es) \") & IF(DATEDIF(TablaEMPLEADOS[[#This Row],[FECHA CONTRATO]],TablaEMPLEADOS[[#This Row],[ANTIGÜEDAD A FECHA FUTURO]],\"md\")=0,\"\",DATEDIF(TablaEMPLEADOS[[#This Row],[FECHA CONTRATO]],TablaEMPLEADOS[[#This Row],[ANTIGÜEDAD A FECHA FUTURO]],\"md\") & \" día(s)\")),\"\"))","v":""},null,{"$f":"IF(TablaEMPLEADOS[[#This Row],[ANTIGÜEDAD A FECHA FUTURO]]=\"NO\",ROUND(((TODAY()-TablaEMPLEADOS[[#This Row],[FECHA CONTRATO]]+1)/365)*TablaEMPLEADOS[[#This Row],[VAC./ AÑO]]+TablaEMPLEADOS[[#This Row],[TOTA VAC. PROG.]],0),ROUND(((TablaEMPLEADOS[[#This Row],[ANTIGÜEDAD A FECHA FUTURO]]-TablaEMPLEADOS[[#This Row],[FECHA CONTRATO]]+1)/365)*TablaEMPLEADOS[[#This Row],[VAC./ AÑO]]+TablaEMPLEADOS[[#This Row],[TOTA VAC. PROG.]],0))","v":{"$error":"#VALUE!"}},null,null,{"$f":"IFERROR(IF(OR(TablaEMPLEADOS[[#This Row],[VAC./ AÑO]]=20,TablaEMPLEADOS[[#This Row],[VAC. PROG.]]=\"NO\"),0,IF(TablaEMPLEADOS[[#This Row],[ANTIGÜEDAD A FECHA FUTURO]]=\"NO\",VLOOKUP(ROUNDDOWN(YEARFRAC(TablaEMPLEADOS[[#This Row],[ACTIVACIÓN PROG.]],TODAY()),0),Tabla2[],2,0),VLOOKUP(ROUNDDOWN(YEARFRAC(TablaEMPLEADOS[[#This Row],[ACTIVACIÓN PROG.]],TablaEMPLEADOS[[#This Row],[ANTIGÜEDAD A FECHA FUTURO]]),0),Tabla2[],3,0))),\"\")","v":""},null,{"$f":"IFERROR(VLOOKUP(TablaEMPLEADOS[[#This Row],[NOMBRE]],VERIFICACION!$D$4:$G$4,4,0),\"NO\")","v":"NO"},null,null,null,50,16,{"$f":"R54+Tabla2[[#This Row],[dias]]","v":408}]
[50,null,null,null,null,null,null,null,null,null,null,null,null,null,null,51,17,{"$f":"R55+Tabla2[[#This Row],[dias]]","v":425}]
[51,null,null,null,null,null,null,null,null,null,null,null,null,null,null,52,17,{"$f":"R56+Tabla2[[#This Row],[dias]]","v":442}]
[52]
[53]
[54]
[55]
[56]
[57]
[58]
[59]
[60]
[61]
[62]
[63]
[64]
[65]
[66]
[67]
[68]
[69]
[70]
[71]
[72]
[73]
[74]
[75]
[76]
[77]
[78]
[79]
[80]
[81]
[82]
[83]
[84]
[85]
[86]
[87]
[88]
[89]
[90]
[91]
[92]
[93]
[94]
[95]
[96]
[97]
[98]
[99]
[100]
[101]
[102]
[103]
[104]
[105]
[106]
[107]
[108]
[109]
[110]
[111]
[112]
[113]
[114]
[115]
[116]
[117]
[118]
[119]
[120]
[121]
[122]
[123]
[124]
[125]
[126]
[127]
[128]
[129]
[130]
[131]
[132]
[133]
[134]
[135]
[136]
[137]
[138]
[139]
[140]
[141]
[142]
[143]
[144]
[145]
[146]
[147]
[148]
[149]
[150]
[151]
[152]
[153]
[154]
[155]
[156]
[157]
[158]
[159]
[160]
[161]
[162]
[163]
[164]
[165]
[166]
[167]
[168]
[169]
[170]
[171]
[172]
[173]
[174]
[175]
[176]
[177]
[178]
[179]
[180]
[181]
[182]
[183]
[184]
[185]
[186]
[187]
[188]
[189]
[190]
[191]
[192]
[193]
[194]

{"sheet":"REPORTES","index":2,"n_rows":196,"n_cols":11,"rows_kept":196,"cut":false,"hidden":false,"merged":[]}
[]
[]
[null,null,null,"n°","NOMBRE","RUT","FECHA CONTRATO","ANTIGÜEDAD","DIAS ACUMULADOS","DIAS TOMADAS","DIAS RESTANTES"]
[null,null,null,1,{"$f":"IFERROR(VLOOKUP(Tabla8[[#This Row],[n°]],CONFIGURACION!$A$7:$K$200,2,),\"\")","v":"MONICA ANDREZ FERNANDEZ LAZO"},{"$f":"IFERROR(VLOOKUP(Tabla8[[#This Row],[n°]],CONFIGURACION!$A$7:$K$200,3,),\"\")","v":"13.429.987-8"},{"$f":"IFERROR(VLOOKUP(Tabla8[[#This Row],[n°]],CONFIGURACION!$A$7:$K$200,4,),\"\")","v":"2019-07-02"},{"$f":"IFERROR(VLOOKUP(Tabla8[[#This Row],[n°]],CONFIGURACION!$A$7:$K$200,5,),\"\")","v":"1 año(s) 19 día(s)"},{"$f":"IFERROR(VLOOKUP(Tabla8[[#This Row],[n°]],CONFIGURACION!$A$7:$K$200,7,),\"\")","v":16},{"$f":"IFERROR(SUMIFS(TablaBDD[TOTAL DIAS],TablaBDD[NOMBRE],Tabla8[[#This Row],[NOMBRE]])+VLOOKUP(Tabla8[[#This Row],[NOMBRE]],CONFIGURACION!$B$7:$K$200,10,0),\"\")","v":0},{"$f":"IFERROR(Tabla8[[#This Row],[DIAS ACUMULADOS]]-Tabla8[[#This Row],[DIAS TOMADAS]],\"\")","v":16}]
[null,null,null,2,{"$f":"IFERROR(VLOOKUP(Tabla8[[#This Row],[n°]],CONFIGURACION!$A$7:$K$200,2,),\"\")","v":"JOSE LUIS ANDRADE SOTO"},{"$f":"IFERROR(VLOOKUP(Tabla8[[#This Row],[n°]],CONFIGURACION!$A$7:$K$200,3,),\"\")","v":"9.383.263-9"},{"$f":"IFERROR(VLOOKUP(Tabla8[[#This Row],[n°]],CONFIGURACION!$A$7:$K$200,4,),\"\")","v":"2014-03-10"},{"$f":"IFERROR(VLOOKUP(Tabla8[[#This Row],[n°]],CONFIGURACION!$A$7:$K$200,5,),\"\")","v":"6 año(s) 4 mes(es) 11 día(s)"},{"$f":"IFERROR(VLOOKUP(Tabla8[[#This Row],[n°]],CONFIGURACION!$A$7:$K$200,7,),\"\")","v":96},{"$f":"IFERROR(SUMIFS(TablaBDD[TOTAL DIAS],TablaBDD[NOMBRE],Tabla8[[#This Row],[NOMBRE]])+VLOOKUP(Tabla8[[#This Row],[NOMBRE]],CONFIGURACION!$B$7:$K$200,10,0),\"\")","v":0},{"$f":"IFERROR(Tabla8[[#This Row],[DIAS ACUMULADOS]]-Tabla8[[#This Row],[DIAS TOMADAS]],\"\")","v":96}]
[null,null,null,3,{"$f":"IFERROR(VLOOKUP(Tabla8[[#This Row],[n°]],CONFIGURACION!$A$7:$K$200,2,),\"\")","v":"MANUEL TERCERO MORALES"},{"$f":"IFERROR(VLOOKUP(Tabla8[[#This Row],[n°]],CONFIGURACION!$A$7:$K$200,3,),\"\")","v":"6.558.985-0"},{"$f":"IFERROR(VLOOKUP(Tabla8[[#This Row],[n°]],CONFIGURACION!$A$7:$K$200,4,),\"\")","v":"2014-08-15"},{"$f":"IFERROR(VLOOKUP(Tabla8[[#This Row],[n°]],CONFIGURACION!$A$7:$K$200,5,),\"\")","v":"5 año(s) 11 mes(es) 6 día(s)"},{"$f":"IFERROR(VLOOKUP(Tabla8[[#This Row],[n°]],CONFIGURACION!$A$7:$K$200,7,),\"\")","v":89},{"$f":"IFERROR(SUMIFS(TablaBDD[TOTAL DIAS],TablaBDD[NOMBRE],Tabla8[[#This Row],[NOMBRE]])+VLOOKUP(Tabla8[[#This Row],[NOMBRE]],CONFIGURACION!$B$7:$K$200,10,0),\"\")","v":0},{"$f":"IFERROR(Tabla8[[#This Row],[DIAS ACUMULADOS]]-Tabla8[[#This Row],[DIAS TOMADAS]],\"\")","v":89}]
[null,null,null,4,{"$f":"IFERROR(VLOOKUP(Tabla8[[#This Row],[n°]],CONFIGURACION!$A$7:$K$200,2,),\"\")","v":0},{"$f":"IFERROR(VLOOKUP(Tabla8[[#This Row],[n°]],CONFIGURACION!$A$7:$K$200,3,),\"\")","v":0},{"$f":"IFERROR(VLOOKUP(Tabla8[[#This Row],[n°]],CONFIGURACION!$A$7:$K$200,4,),\"\")","v":"00:00:00"},{"$f":"IFERROR(VLOOKUP(Tabla8[[#This Row],[n°]],CONFIGURACION!$A$7:$K$200,5,),\"\")","v":""},{"$f":"IFERROR(VLOOKUP(Tabla8[[#This Row],[n°]],CONFIGURACION!$A$7:$K$200,7,),\"\")","v":""},{"$f":"IFERROR(SUMIFS(TablaBDD[TOTAL DIAS],TablaBDD[NOMBRE],Tabla8[[#This Row],[NOMBRE]])+VLOOKUP(Tabla8[[#This Row],[NOMBRE]],CONFIGURACION!$B$7:$K$200,10,0),\"\")","v":""},{"$f":"IFERROR(Tabla8[[#This Row],[DIAS ACUMULADOS]]-Tabla8[[#This Row],[DIAS TOMADAS]],\"\")","v":""}]
[null,null,null,5,{"$f":"IFERROR(VLOOKUP(Tabla8[[#This Row],[n°]],CONFIGURACION!$A$7:$K$200,2,),\"\")","v":0},{"$f":"IFERROR(VLOOKUP(Tabla8[[#This Row],[n°]],CONFIGURACION!$A$7:$K$200,3,),\"\")","v":0},{"$f":"IFERROR(VLOOKUP(Tabla8[[#This Row],[n°]],CONFIGURACION!$A$7:$K$200,4,),\"\")","v":"00:00:00"},{"$f":"IFERROR(VLOOKUP(Tabla8[[#This Row],[n°]],CONFIGURACION!$A$7:$K$200,5,),\"\")","v":""},{"$f":"IFERROR(VLOOKUP(Tabla8[[#This Row],[n°]],CONFIGURACION!$A$7:$K$200,7,),\"\")","v":""},{"$f":"IFERROR(SUMIFS(TablaBDD[TOTAL DIAS],TablaBDD[NOMBRE],Tabla8[[#This Row],[NOMBRE]])+VLOOKUP(Tabla8[[#This Row],[NOMBRE]],CONFIGURACION!$B$7:$K$200,10,0),\"\")","v":""},{"$f":"IFERROR(Tabla8[[#This Row],[DIAS ACUMULADOS]]-Tabla8[[#This Row],[DIAS TOMADAS]],\"\")","v":""}]
[null,null,null,6,{"$f":"IFERROR(VLOOKUP(Tabla8[[#This Row],[n°]],CONFIGURACION!$A$7:$K$200,2,),\"\")","v":0},{"$f":"IFERROR(VLOOKUP(Tabla8[[#This Row],[n°]],CONFIGURACION!$A$7:$K$200,3,),\"\")","v":0},{"$f":"IFERROR(VLOOKUP(Tabla8[[#This Row],[n°]],CONFIGURACION!$A$7:$K$200,4,),\"\")","v":"00:00:00"},{"$f":"IFERROR(VLOOKUP(Tabla8[[#This Row],[n°]],CONFIGURACION!$A$7:$K$200,5,),\"\")","v":""},{"$f":"IFERROR(VLOOKUP(Tabla8[[#This Row],[n°]],CONFIGURACION!$A$7:$K$200,7,),\"\")","v":""},{"$f":"IFERROR(SUMIFS(TablaBDD[TOTAL DIAS],TablaBDD[NOMBRE],Tabla8[[#This Row],[NOMBRE]])+VLOOKUP(Tabla8[[#This Row],[NOMBRE]],CONFIGURACION!$B$7:$K$200,10,0),\"\")","v":""},{"$f":"IFERROR(Tabla8[[#This Row],[DIAS ACUMULADOS]]-Tabla8[[#This Row],[DIAS TOMADAS]],\"\")","v":""}]
[null,null,null,7,{"$f":"IFERROR(VLOOKUP(Tabla8[[#This Row],[n°]],CONFIGURACION!$A$7:$K$200,2,),\"\")","v":0},{"$f":"IFERROR(VLOOKUP(Tabla8[[#This Row],[n°]],CONFIGURACION!$A$7:$K$200,3,),\"\")","v":0},{"$f":"IFERROR(VLOOKUP(Tabla8[[#This Row],[n°]],CONFIGURACION!$A$7:$K$200,4,),\"\")","v":"00:00:00"},{"$f":"IFERROR(VLOOKUP(Tabla8[[#This Row],[n°]],CONFIGURACION!$A$7:$K$200,5,),\"\")","v":""},{"$f":"IFERROR(VLOOKUP(Tabla8[[#This Row],[n°]],CONFIGURACION!$A$7:$K$200,7,),\"\")","v":""},{"$f":"IFERROR(SUMIFS(TablaBDD[TOTAL DIAS],TablaBDD[NOMBRE],Tabla8[[#This Row],[NOMBRE]])+VLOOKUP(Tabla8[[#This Row],[NOMBRE]],CONFIGURACION!$B$7:$K$200,10,0),\"\")","v":""},{"$f":"IFERROR(Tabla8[[#This Row],[DIAS ACUMULADOS]]-Tabla8[[#This Row],[DIAS TOMADAS]],\"\")","v":""}]
[null,null,null,8,{"$f":"IFERROR(VLOOKUP(Tabla8[[#This Row],[n°]],CONFIGURACION!$A$7:$K$200,2,),\"\")","v":0},{"$f":"IFERROR(VLOOKUP(Tabla8[[#This Row],[n°]],CONFIGURACION!$A$7:$K$200,3,),\"\")","v":0},{"$f":"IFERROR(VLOOKUP(Tabla8[[#This Row],[n°]],CONFIGURACION!$A$7:$K$200,4,),\"\")","v":"00:00:00"},{"$f":"IFERROR(VLOOKUP(Tabla8[[#This Row],[n°]],CONFIGURACION!$A$7:$K$200,5,),\"\")","v":""},{"$f":"IFERROR(VLOOKUP(Tabla8[[#This Row],[n°]],CONFIGURACION!$A$7:$K$200,7,),\"\")","v":""},{"$f":"IFERROR(SUMIFS(TablaBDD[TOTAL DIAS],TablaBDD[NOMBRE],Tabla8[[#This Row],[NOMBRE]])+VLOOKUP(Tabla8[[#This Row],[NOMBRE]],CONFIGURACION!$B$7:$K$200,10,0),\"\")","v":""},{"$f":"IFERROR(Tabla8[[#This Row],[DIAS ACUMULADOS]]-Tabla8[[#This Row],[DIAS TOMADAS]],\"\")","v":""}]
[null,null,null,9,{"$f":"IFERROR(VLOOKUP(Tabla8[[#This Row],[n°]],CONFIGURACION!$A$7:$K$200,2,),\"\")","v":0},{"$f":"IFERROR(VLOOKUP(Tabla8[[#This Row],[n°]],CONFIGURACION!$A$7:$K$200,3,),\"\")","v":0},{"$f":"IFERROR(VLOOKUP(Tabla8[[#This Row],[n°]],CONFIGURACION!$A$7:$K$200,4,),\"\")","v":"00:00:00"},{"$f":"IFERROR(VLOOKUP(Tabla8[[#This Row],[n°]],CONFIGURACION!$A$7:$K$200,5,),\"\")","v":""},{"$f":"IFERROR(VLOOKUP(Tabla8[[#This Row],[n°]],CONFIGURACION!$A$7:$K$200,7,),\"\")","v":""},{"$f":"IFERROR(SUMIFS(TablaBDD[TOTAL DIAS],TablaBDD[NOMBRE],Tabla8[[#This Row],[NOMBRE]])+VLOOKUP(Tabla8[[#This Row],[NOMBRE]],CONFIGURACION!$B$7:$K$200,10,0),\"\")","v":""},{"$f":"IFERROR(Tabla8[[#This Row],[DIAS ACUMULADOS]]-Tabla8[[#This Row],[DIAS TOMADAS]],\"\")","v":""}]
[null,null,null,10,{"$f":"IFERROR(VLOOKUP(Tabla8[[#This Row],[n°]],CONFIGURACION!$A$7:$K$200,2,),\"\")","v":0},{"$f":"IFERROR(VLOOKUP(Tabla8[[#This Row],[n°]],CONFIGURACION!$A$7:$K$200,3,),\"\")","v":0},{"$f":"IFERROR(VLOOKUP(Tabla8[[#This Row],[n°]],CONFIGURACION!$A$7:$K$200,4,),\"\")","v":"00:00:00"},{"$f":"IFERROR(VLOOKUP(Tabla8[[#This Row],[n°]],CONFIGURACION!$A$7:$K$200,5,),\"\")","v":""},{"$f":"IFERROR(VLOOKUP(Tabla8[[#This Row],[n°]],CONFIGURACION!$A$7:$K$200,7,),\"\")","v":""},{"$f":"IFERROR(SUMIFS(TablaBDD[TOTAL DIAS],TablaBDD[NOMBRE],Tabla8[[#This Row],[NOMBRE]])+VLOOKUP(Tabla8[[#This Row],[NOMBRE]],CONFIGURACION!$B$7:$K$200,10,0),\"\")","v":""},{"$f":"IFERROR(Tabla8[[#This Row],[DIAS ACUMULADOS]]-Tabla8[[#This Row],[DIAS TOMADAS]],\"\")","v":""}]
[null,null,null,11,{"$f":"IFERROR(VLOOKUP(Tabla8[[#This Row],[n°]],CONFIGURACION!$A$7:$K$200,2,),\"\")","v":0},{"$f":"IFERROR(VLOOKUP(Tabla8[[#This Row],[n°]],CONFIGURACION!$A$7:$K$200,3,),\"\")","v":0},{"$f":"IFERROR(VLOOKUP(Tabla8[[#This Row],[n°]],CONFIGURACION!$A$7:$K$200,4,),\"\")","v":"00:00:00"},{"$f":"IFERROR(VLOOKUP(Tabla8[[#This Row],[n°]],CONFIGURACION!$A$7:$K$200,5,),\"\")","v":""},{"$f":"IFERROR(VLOOKUP(Tabla8[[#This Row],[n°]],CONFIGURACION!$A$7:$K$200,7,),\"\")","v":""},{"$f":"IFERROR(SUMIFS(TablaBDD[TOTAL DIAS],TablaBDD[NOMBRE],Tabla8[[#This Row],[NOMBRE]])+VLOOKUP(Tabla8[[#This Row],[NOMBRE]],CONFIGURACION!$B$7:$K$200,10,0),\"\")","v":""},{"$f":"IFERROR(Tabla8[[#This Row],[DIAS ACUMULADOS]]-Tabla8[[#This Row],[DIAS TOMADAS]],\"\")","v":""}]
[null,null,null,12,{"$f":"IFERROR(VLOOKUP(Tabla8[[#This Row],[n°]],CONFIGURACION!$A$7:$K$200,2,),\"\")","v":0},{"$f":"IFERROR(VLOOKUP(Tabla8[[#This Row],[n°]],CONFIGURACION!$A$7:$K$200,3,),\"\")","v":0},{"$f":"IFERROR(VLOOKUP(Tabla8[[#This Row],[n°]],CONFIGURACION!$A$7:$K$200,4,),\"\")","v":"00:00:00"},{"$f":"IFERROR(VLOOKUP(Tabla8[[#This Row],[n°]],CONFIGURACION!$A$7:$K$200,5,),\"\")","v":""},{"$f":"IFERROR(VLOOKUP(Tabla8[[#This Row],[n°]],CONFIGURACION!$A$7:$K$200,7,),\"\")","v":""},{"$f":"IFERROR(SUMIFS(TablaBDD[TOTAL DIAS],TablaBDD[NOMBRE],Tabla8[[#This Row],[NOMBRE]])+VLOOKUP(Tabla8[[#This Row],[NOMBRE]],CONFIGURACION!$B$7:$K$200,10,0),\"\")","v":""},{"$f":"IFERROR(Tabla8[[#This Row],[DIAS ACUMULADOS]]-Tabla8[[#This Row],[DIAS TOMADAS]],\"\")","v":""}]
[null,null,null,13,{"$f":"IFERROR(VLOOKUP(Tabla8[[#This Row],[n°]],CONFIGURACION!$A$7:$K$200,2,),\"\")","v":0},{"$f":"IFERROR(VLOOKUP(Tabla8[[#This Row],[n°]],CONFIGURACION!$A$7:$K$200,3,),\"\")","v":0},{"$f":"IFERROR(VLOOKUP(Tabla8[[#This Row],[n°]],CONFIGURACION!$A$7:$K$200,4,),\"\")","v":"00:00:00"},{"$f":"IFERROR(VLOOKUP(Tabla8[[#This Row],[n°]],CONFIGURACION!$A$7:$K$200,5,),\"\")","v":""},{"$f":"IFERROR(VLOOKUP(Tabla8[[#This Row],[n°]],CONFIGURACION!$A$7:$K$200,7,),\"\")","v":""},{"$f":"IFERROR(SUMIFS(TablaBDD[TOTAL DIAS],TablaBDD[NOMBRE],Tabla8[[#This Row],[NOMBRE]])+VLOOKUP(Tabla8[[#This Row],[NOMBRE]],CONFIGURACION!$B$7:$K$200,10,0),\"\")","v":""},{"$f":"IFERROR(Tabla8[[#This Row],[DIAS ACUMULADOS]]-Tabla8[[#This Row],[DIAS TOMADAS]],\"\")","v":""}]
[null,null,null,14,{"$f":"IFERROR(VLOOKUP(Tabla8[[#This Row],[n°]],CONFIGURACION!$A$7:$K$200,2,),\"\")","v":0},{"$f":"IFERROR(VLOOKUP(Tabla8[[#This Row],[n°]],CONFIGURACION!$A$7:$K$200,3,),\"\")","v":0},{"$f":"IFERROR(VLOOKUP(Tabla8[[#This Row],[n°]],CONFIGURACION!$A$7:$K$200,4,),\"\")","v":"00:00:00"},{"$f":"IFERROR(VLOOKUP(Tabla8[[#This Row],[n°]],CONFIGURACION!$A$7:$K$200,5,),\"\")","v":""},{"$f":"IFERROR(VLOOKUP(Tabla8[[#This Row],[n°]],CONFIGURACION!$A$7:$K$200,7,),\"\")","v":""},{"$f":"IFERROR(SUMIFS(TablaBDD[TOTAL DIAS],TablaBDD[NOMBRE],Tabla8[[#This Row],[NOMBRE]])+VLOOKUP(Tabla8[[#This Row],[NOMBRE]],CONFIGURACION!$B$7:$K$200,10,0),\"\")","v":""},{"$f":"IFERROR(Tabla8[[#This Row],[DIAS ACUMULADOS]]-Tabla8[[#This Row],[DIAS TOMADAS]],\"\")","v":""}]
[null,null,null,15,{"$f":"IFERROR(VLOOKUP(Tabla8[[#This Row],[n°]],CONFIGURACION!$A$7:$K$200,2,),\"\")","v":0},{"$f":"IFERROR(VLOOKUP(Tabla8[[#This Row],[n°]],CONFIGURACION!$A$7:$K$200,3,),\"\")","v":0},{"$f":"IFERROR(VLOOKUP(Tabla8[[#This Row],[n°]],CONFIGURACION!$A$7:$K$200,4,),\"\")","v":"00:00:00"},{"$f":"IFERROR(VLOOKUP(Tabla8[[#This Row],[n°]],CONFIGURACION!$A$7:$K$200,5,),\"\")","v":""},{"$f":"IFERROR(VLOOKUP(Tabla8[[#This Row],[n°]],CONFIGURACION!$A$7:$K$200,7,),\"\")","v":""},{"$f":"IFERROR(SUMIFS(TablaBDD[TOTAL DIAS],TablaBDD[NOMBRE],Tabla8[[#This Row],[NOMBRE]])+VLOOKUP(Tabla8[[#This Row],[NOMBRE]],CONFIGURACION!$B$7:$K$200,10,0),\"\")","v":""},{"$f":"IFERROR(Tabla8[[#This Row],[DIAS ACUMULADOS]]-Tabla8[[#This Row],[DIAS TOMADAS]],\"\")","v":""}]
[null,null,null,16,{"$f":"IFERROR(VLOOKUP(Tabla8[[#This Row],[n°]],CONFIGURACION!$A$7:$K$200,2,),\"\")","v":0},{"$f":"IFERROR(VLOOKUP(Tabla8[[#This Row],[n°]],CONFIGURACION!$A$7:$K$200,3,),\"\")","v":0},{"$f":"IFERROR(VLOOKUP(Tabla8[[#This Row],[n°]],CONFIGURACION!$A$7:$K$200,4,),\"\")","v":"00:00:00"},{"$f":"IFERROR(VLOOKUP(Tabla8[[#This Row],[n°]],CONFIGURACION!$A$7:$K$200,5,),\"\")","v":""},{"$f":"IFERROR(VLOOKUP(Tabla8[[#This Row],[n°]],CONFIGURACION!$A$7:$K$200,7,),\"\")","v":""},{"$f":"IFERROR(SUMIFS(TablaBDD[TOTAL DIAS],TablaBDD[NOMBRE],Tabla8[[#This Row],[NOMBRE]])+VLOOKUP(Tabla8[[#This Row],[NOMBRE]],CONFIGURACION!$B$7:$K$200,10,0),\"\")","v":""},{"$f":"IFERROR(Tabla8[[#This Row],[DIAS ACUMULADOS]]-Tabla8[[#This Row],[DIAS TOMADAS]],\"\")","v":""}]
[null,null,null,17,{"$f":"IFERROR(VLOOKUP(Tabla8[[#This Row],[n°]],CONFIGURACION!$A$7:$K$200,2,),\"\")","v":0},{"$f":"IFERROR(VLOOKUP(Tabla8[[#This Row],[n°]],CONFIGURACION!$A$7:$K$200,3,),\"\")","v":0},{"$f":"IFERROR(VLOOKUP(Tabla8[[#This Row],[n°]],CONFIGURACION!$A$7:$K$200,4,),\"\")","v":"00:00:00"},{"$f":"IFERROR(VLOOKUP(Tabla8[[#This Row],[n°]],CONFIGURACION!$A$7:$K$200,5,),\"\")","v":""},{"$f":"IFERROR(VLOOKUP(Tabla8[[#This Row],[n°]],CONFIGURACION!$A$7:$K$200,7,),\"\")","v":""},{"$f":"IFERROR(SUMIFS(TablaBDD[TOTAL DIAS],TablaBDD[NOMBRE],Tabla8[[#This Row],[NOMBRE]])+VLOOKUP(Tabla8[[#This Row],[NOMBRE]],CONFIGURACION!$B$7:$K$200,10,0),\"\")","v":""},{"$f":"IFERROR(Tabla8[[#This Row],[DIAS ACUMULADOS]]-Tabla8[[#This Row],[DIAS TOMADAS]],\"\")","v":""}]
[null,null,null,18,{"$f":"IFERROR(VLOOKUP(Tabla8[[#This Row],[n°]],CONFIGURACION!$A$7:$K$200,2,),\"\")","v":0},{"$f":"IFERROR(VLOOKUP(Tabla8[[#This Row],[n°]],CONFIGURACION!$A$7:$K$200,3,),\"\")","v":0},{"$f":"IFERROR(VLOOKUP(Tabla8[[#This Row],[n°]],CONFIGURACION!$A$7:$K$200,4,),\"\")","v":"00:00:00"},{"$f":"IFERROR(VLOOKUP(Tabla8[[#This Row],[n°]],CONFIGURACION!$A$7:$K$200,5,),\"\")","v":""},{"$f":"IFERROR(VLOOKUP(Tabla8[[#This Row],[n°]],CONFIGURACION!$A$7:$K$200,7,),\"\")","v":""},{"$f":"IFERROR(SUMIFS(TablaBDD[TOTAL DIAS],TablaBDD[NOMBRE],Tabla8[[#This Row],[NOMBRE]])+VLOOKUP(Tabla8[[#This Row],[NOMBRE]],CONFIGURACION!$B$7:$K$200,10,0),\"\")","v":""},{"$f":"IFERROR(Tabla8[[#This Row],[DIAS ACUMULADOS]]-Tabla8[[#This Row],[DIAS TOMADAS]],\"\")","v":""}]
[null,null,null,19,{"$f":"IFERROR(VLOOKUP(Tabla8[[#This Row],[n°]],CONFIGURACION!$A$7:$K$200,2,),\"\")","v":0},{"$f":"IFERROR(VLOOKUP(Tabla8[[#This Row],[n°]],CONFIGURACION!$A$7:$K$200,3,),\"\")","v":0},{"$f":"IFERROR(VLOOKUP(Tabla8[[#This Row],[n°]],CONFIGURACION!$A$7:$K$200,4,),\"\")","v":"00:00:00"},{"$f":"IFERROR(VLOOKUP(Tabla8[[#This Row],[n°]],CONFIGURACION!$A$7:$K$200,5,),\"\")","v":""},{"$f":"IFERROR(VLOOKUP(Tabla8[[#This Row],[n°]],CONFIGURACION!$A$7:$K$200,7,),\"\")","v":""},{"$f":"IFERROR(SUMIFS(TablaBDD[TOTAL DIAS],TablaBDD[NOMBRE],Tabla8[[#This Row],[NOMBRE]])+VLOOKUP(Tabla8[[#This Row],[NOMBRE]],CONFIGURACION!$B$7:$K$200,10,0),\"\")","v":""},{"$f":"IFERROR(Tabla8[[#This Row],[DIAS ACUMULADOS]]-Tabla8[[#This Row],[DIAS TOMADAS]],\"\")","v":""}]
[null,null,null,20,{"$f":"IFERROR(VLOOKUP(Tabla8[[#This Row],[n°]],CONFIGURACION!$A$7:$K$200,2,),\"\")","v":0},{"$f":"IFERROR(VLOOKUP(Tabla8[[#This Row],[n°]],CONFIGURACION!$A$7:$K$200,3,),\"\")","v":0},{"$f":"IFERROR(VLOOKUP(Tabla8[[#This Row],[n°]],CONFIGURACION!$A$7:$K$200,4,),\"\")","v":"00:00:00"},{"$f":"IFERROR(VLOOKUP(Tabla8[[#This Row],[n°]],CONFIGURACION!$A$7:$K$200,5,),\"\")","v":""},{"$f":"IFERROR(VLOOKUP(Tabla8[[#This Row],[n°]],CONFIGURACION!$A$7:$K$200,7,),\"\")","v":""},{"$f":"IFERROR(SUMIFS(TablaBDD[TOTAL DIAS],TablaBDD[NOMBRE],Tabla8[[#This Row],[NOMBRE]])+VLOOKUP(Tabla8[[#This Row],[NOMBRE]],CONFIGURACION!$B$7:$K$200,10,0),\"\")","v":""},{"$f":"IFERROR(Tabla8[[#This Row],[DIAS ACUMULADOS]]-Tabla8[[#This Row],[DIAS TOMADAS]],\"\")","v":""}]
[null,null,null,21,{"$f":"IFERROR(VLOOKUP(Tabla8[[#This Row],[n°]],CONFIGURACION!$A$7:$K$200,2,),\"\")","v":0},{"$f":"IFERROR(VLOOKUP(Tabla8[[#This Row],[n°]],CONFIGURACION!$A$7:$K$200,3,),\"\")","v":0},{"$f":"IFERROR(VLOOKUP(Tabla8[[#This Row],[n°]],CONFIGURACION!$A$7:$K$200,4,),\"\")","v":"00:00:00"},{"$f":"IFERROR(VLOOKUP(Tabla8[[#This Row],[n°]],CONFIGURACION!$A$7:$K$200,5,),\"\")","v":""},{"$f":"IFERROR(VLOOKUP(Tabla8[[#This Row],[n°]],CONFIGURACION!$A$7:$K$200,7,),\"\")","v":""},{"$f":"IFERROR(SUMIFS(TablaBDD[TOTAL DIAS],TablaBDD[NOMBRE],Tabla8[[#This Row],[NOMBRE]])+VLOOKUP(Tabla8[[#This Row],[NOMBRE]],CONFIGURACION!$B$7:$K$200,10,0),\"\")","v":""},{"$f":"IFERROR(Tabla8[[#This Row],[DIAS ACUMULADOS]]-Tabla8[[#This Row],[DIAS TOMADAS]],\"\")","v":""}]
[null,null,null,22,{"$f":"IFERROR(VLOOKUP(Tabla8[[#This Row],[n°]],CONFIGURACION!$A$7:$K$200,2,),\"\")","v":0},{"$f":"IFERROR(VLOOKUP(Tabla8[[#This Row],[n°]],CONFIGURACION!$A$7:$K$200,3,),\"\")","v":0},{"$f":"IFERROR(VLOOKUP(Tabla8[[#This Row],[n°]],CONFIGURACION!$A$7:$K$200,4,),\"\")","v":"00:00:00"},{"$f":"IFERROR(VLOOKUP(Tabla8[[#This Row],[n°]],CONFIGURACION!$A$7:$K$200,5,),\"\")","v":""},{"$f":"IFERROR(VLOOKUP(Tabla8[[#This Row],[n°]],CONFIGURACION!$A$7:$K$200,7,),\"\")","v":""},{"$f":"IFERROR(SUMIFS(TablaBDD[TOTAL DIAS],TablaBDD[NOMBRE],Tabla8[[#This Row],[NOMBRE]])+VLOOKUP(Tabla8[[#This Row],[NOMBRE]],CONFIGURACION!$B$7:$K$200,10,0),\"\")","v":""},{"$f":"IFERROR(Tabla8[[#This Row],[DIAS ACUMULADOS]]-Tabla8[[#This Row],[DIAS TOMADAS]],\"\")","v":""}]
[null,null,null,23,{"$f":"IFERROR(VLOOKUP(Tabla8[[#This Row],[n°]],CONFIGURACION!$A$7:$K$200,2,),\"\")","v":0},{"$f":"IFERROR(VLOOKUP(Tabla8[[#This Row],[n°]],CONFIGURACION!$A$7:$K$200,3,),\"\")","v":0},{"$f":"IFERROR(VLOOKUP(Tabla8[[#This Row],[n°]],CONFIGURACION!$A$7:$K$200,4,),\"\")","v":"00:00:00"},{"$f":"IFERROR(VLOOKUP(Tabla8[[#This Row],[n°]],CONFIGURACION!$A$7:$K$200,5,),\"\")","v":""},{"$f":"IFERROR(VLOOKUP(Tabla8[[#This Row],[n°]],CONFIGURACION!$A$7:$K$200,7,),\"\")","v":""},{"$f":"IFERROR(SUMIFS(TablaBDD[TOTAL DIAS],TablaBDD[NOMBRE],Tabla8[[#This Row],[NOMBRE]])+VLOOKUP(Tabla8[[#This Row],[NOMBRE]],CONFIGURACION!$B$7:$K$200,10,0),\"\")","v":""},{"$f":"IFERROR(Tabla8[[#This Row],[DIAS ACUMULADOS]]-Tabla8[[#This Row],[DIAS TOMADAS]],\"\")","v":""}]
[null,null,null,24,{"$f":"IFERROR(VLOOKUP(Tabla8[[#This Row],[n°]],CONFIGURACION!$A$7:$K$200,2,),\"\")","v":0},{"$f":"IFERROR(VLOOKUP(Tabla8[[#This Row],[n°]],CONFIGURACION!$A$7:$K$200,3,),\"\")","v":0},{"$f":"IFERROR(VLOOKUP(Tabla8[[#This Row],[n°]],CONFIGURACION!$A$7:$K$200,4,),\"\")","v":"00:00:00"},{"$f":"IFERROR(VLOOKUP(Tabla8[[#This Row],[n°]],CONFIGURACION!$A$7:$K$200,5,),\"\")","v":""},{"$f":"IFERROR(VLOOKUP(Tabla8[[#This Row],[n°]],CONFIGURACION!$A$7:$K$200,7,),\"\")","v":""},{"$f":"IFERROR(SUMIFS(TablaBDD[TOTAL DIAS],TablaBDD[NOMBRE],Tabla8[[#This Row],[NOMBRE]])+VLOOKUP(Tabla8[[#This Row],[NOMBRE]],CONFIGURACION!$B$7:$K$200,10,0),\"\")","v":""},{"$f":"IFERROR(Tabla8[[#This Row],[DIAS ACUMULADOS]]-Tabla8[[#This Row],[DIAS TOMADAS]],\"\")","v":""}]
[null,null,null,25,{"$f":"IFERROR(VLOOKUP(Tabla8[[#This Row],[n°]],CONFIGURACION!$A$7:$K$200,2,),\"\")","v":0},{"$f":"IFERROR(VLOOKUP(Tabla8[[#This Row],[n°]],CONFIGURACION!$A$7:$K$200,3,),\"\")","v":0},{"$f":"IFERROR(VLOOKUP(Tabla8[[#This Row],[n°]],CONFIGURACION!$A$7:$K$200,4,),\"\")","v":"00:00:00"},{"$f":"IFERROR(VLOOKUP(Tabla8[[#This Row],[n°]],CONFIGURACION!$A$7:$K$200,5,),\"\")","v":""},{"$f":"IFERROR(VLOOKUP(Tabla8[[#This Row],[n°]],CONFIGURACION!$A$7:$K$200,7,),\"\")","v":""},{"$f":"IFERROR(SUMIFS(TablaBDD[TOTAL DIAS],TablaBDD[NOMBRE],Tabla8[[#This Row],[NOMBRE]])+VLOOKUP(Tabla8[[#This Row],[NOMBRE]],CONFIGURACION!$B$7:$K$200,10,0),\"\")","v":""},{"$f":"IFERROR(Tabla8[[#This Row],[DIAS ACUMULADOS]]-Tabla8[[#This Row],[DIAS TOMADAS]],\"\")","v":""}]
[null,null,null,26,{"$f":"IFERROR(VLOOKUP(Tabla8[[#This Row],[n°]],CONFIGURACION!$A$7:$K$200,2,),\"\")","v":0},{"$f":"IFERROR(VLOOKUP(Tabla8[[#This Row],[n°]],CONFIGURACION!$A$7:$K$200,3,),\"\")","v":0},{"$f":"IFERROR(VLOOKUP(Tabla8[[#This Row],[n°]],CONFIGURACION!$A$7:$K$200,4,),\"\")","v":"00:00:00"},{"$f":"IFERROR(VLOOKUP(Tabla8[[#This Row],[n°]],CONFIGURACION!$A$7:$K$200,5,),\"\")","v":""},{"$f":"IFERROR(VLOOKUP(Tabla8[[#This Row],[n°]],CONFIGURACION!$A$7:$K$200,7,),\"\")","v":""},{"$f":"IFERROR(SUMIFS(TablaBDD[TOTAL DIAS],TablaBDD[NOMBRE],Tabla8[[#This Row],[NOMBRE]])+VLOOKUP(Tabla8[[#This Row],[NOMBRE]],CONFIGURACION!$B$7:$K$200,10,0),\"\")","v":""},{"$f":"IFERROR(Tabla8[[#This Row],[DIAS ACUMULADOS]]-Tabla8[[#This Row],[DIAS TOMADAS]],\"\")","v":""}]
[null,null,null,27,{"$f":"IFERROR(VLOOKUP(Tabla8[[#This Row],[n°]],CONFIGURACION!$A$7:$K$200,2,),\"\")","v":0},{"$f":"IFERROR(VLOOKUP(Tabla8[[#This Row],[n°]],CONFIGURACION!$A$7:$K$200,3,),\"\")","v":0},{"$f":"IFERROR(VLOOKUP(Tabla8[[#This Row],[n°]],CONFIGURACION!$A$7:$K$200,4,),\"\")","v":"00:00:00"},{"$f":"IFERROR(VLOOKUP(Tabla8[[#This Row],[n°]],CONFIGURACION!$A$7:$K$200,5,),\"\")","v":""},{"$f":"IFERROR(VLOOKUP(Tabla8[[#This Row],[n°]],CONFIGURACION!$A$7:$K$200,7,),\"\")","v":""},{"$f":"IFERROR(SUMIFS(TablaBDD[TOTAL DIAS],TablaBDD[NOMBRE],Tabla8[[#This Row],[NOMBRE]])+VLOOKUP(Tabla8[[#This Row],[NOMBRE]],CONFIGURACION!$B$7:$K$200,10,0),\"\")","v":""},{"$f":"IFERROR(Tabla8[[#This Row],[DIAS ACUMULADOS]]-Tabla8[[#This Row],[DIAS TOMADAS]],\"\")","v":""}]
[null,null,null,28,{"$f":"IFERROR(VLOOKUP(Tabla8[[#This Row],[n°]],CONFIGURACION!$A$7:$K$200,2,),\"\")","v":0},{"$f":"IFERROR(VLOOKUP(Tabla8[[#This Row],[n°]],CONFIGURACION!$A$7:$K$200,3,),\"\")","v":0},{"$f":"IFERROR(VLOOKUP(Tabla8[[#This Row],[n°]],CONFIGURACION!$A$7:$K$200,4,),\"\")","v":"00:00:00"},{"$f":"IFERROR(VLOOKUP(Tabla8[[#This Row],[n°]],CONFIGURACION!$A$7:$K$200,5,),\"\")","v":""},{"$f":"IFERROR(VLOOKUP(Tabla8[[#This Row],[n°]],CONFIGURACION!$A$7:$K$200,7,),\"\")","v":""},{"$f":"IFERROR(SUMIFS(TablaBDD[TOTAL DIAS],TablaBDD[NOMBRE],Tabla8[[#This Row],[NOMBRE]])+VLOOKUP(Tabla8[[#This Row],[NOMBRE]],CONFIGURACION!$B$7:$K$200,10,0),\"\")","v":""},{"$f":"IFERROR(Tabla8[[#This Row],[DIAS ACUMULADOS]]-Tabla8[[#This Row],[DIAS TOMADAS]],\"\")","v":""}]
[null,null,null,29,{"$f":"IFERROR(VLOOKUP(Tabla8[[#This Row],[n°]],CONFIGURACION!$A$7:$K$200,2,),\"\")","v":0},{"$f":"IFERROR(VLOOKUP(Tabla8[[#This Row],[n°]],CONFIGURACION!$A$7:$K$200,3,),\"\")","v":0},{"$f":"IFERROR(VLOOKUP(Tabla8[[#This Row],[n°]],CONFIGURACION!$A$7:$K$200,4,),\"\")","v":"00:00:00"},{"$f":"IFERROR(VLOOKUP(Tabla8[[#This Row],[n°]],CONFIGURACION!$A$7:$K$200,5,),\"\")","v":""},{"$f":"IFERROR(VLOOKUP(Tabla8[[#This Row],[n°]],CONFIGURACION!$A$7:$K$200,7,),\"\")","v":""},{"$f":"IFERROR(SUMIFS(TablaBDD[TOTAL DIAS],TablaBDD[NOMBRE],Tabla8[[#This Row],[NOMBRE]])+VLOOKUP(Tabla8[[#This Row],[NOMBRE]],CONFIGURACION!$B$7:$K$200,10,0),\"\")","v":""},{"$f":"IFERROR(Tabla8[[#This Row],[DIAS ACUMULADOS]]-Tabla8[[#This Row],[DIAS TOMADAS]],\"\")","v":""}]
[null,null,null,30,{"$f":"IFERROR(VLOOKUP(Tabla8[[#This Row],[n°]],CONFIGURACION!$A$7:$K$200,2,),\"\")","v":0},{"$f":"IFERROR(VLOOKUP(Tabla8[[#This Row],[n°]],CONFIGURACION!$A$7:$K$200,3,),\"\")","v":0},{"$f":"IFERROR(VLOOKUP(Tabla8[[#This Row],[n°]],CONFIGURACION!$A$7:$K$200,4,),\"\")","v":"00:00:00"},{"$f":"IFERROR(VLOOKUP(Tabla8[[#This Row],[n°]],CONFIGURACION!$A$7:$K$200,5,),\"\")","v":""},{"$f":"IFERROR(VLOOKUP(Tabla8[[#This Row],[n°]],CONFIGURACION!$A$7:$K$200,7,),\"\")","v":""},{"$f":"IFERROR(SUMIFS(TablaBDD[TOTAL DIAS],TablaBDD[NOMBRE],Tabla8[[#This Row],[NOMBRE]])+VLOOKUP(Tabla8[[#This Row],[NOMBRE]],CONFIGURACION!$B$7:$K$200,10,0),\"\")","v":""},{"$f":"IFERROR(Tabla8[[#This Row],[DIAS ACUMULADOS]]-Tabla8[[#This Row],[DIAS TOMADAS]],\"\")","v":""}]
[null,null,null,31,{"$f":"IFERROR(VLOOKUP(Tabla8[[#This Row],[n°]],CONFIGURACION!$A$7:$K$200,2,),\"\")","v":0},{"$f":"IFERROR(VLOOKUP(Tabla8[[#This Row],[n°]],CONFIGURACION!$A$7:$K$200,3,),\"\")","v":0},{"$f":"IFERROR(VLOOKUP(Tabla8[[#This Row],[n°]],CONFIGURACION!$A$7:$K$200,4,),\"\")","v":"00:00:00"},{"$f":"IFERROR(VLOOKUP(Tabla8[[#This Row],[n°]],CONFIGURACION!$A$7:$K$200,5,),\"\")","v":""},{"$f":"IFERROR(VLOOKUP(Tabla8[[#This Row],[n°]],CONFIGURACION!$A$7:$K$200,7,),\"\")","v":""},{"$f":"IFERROR(SUMIFS(TablaBDD[TOTAL DIAS],TablaBDD[NOMBRE],Tabla8[[#This Row],[NOMBRE]])+VLOOKUP(Tabla8[[#This Row],[NOMBRE]],CONFIGURACION!$B$7:$K$200,10,0),\"\")","v":""},{"$f":"IFERROR(Tabla8[[#This Row],[DIAS ACUMULADOS]]-Tabla8[[#This Row],[DIAS TOMADAS]],\"\")","v":""}]
[null,null,null,32,{"$f":"IFERROR(VLOOKUP(Tabla8[[#This Row],[n°]],CONFIGURACION!$A$7:$K$200,2,),\"\")","v":0},{"$f":"IFERROR(VLOOKUP(Tabla8[[#This Row],[n°]],CONFIGURACION!$A$7:$K$200,3,),\"\")","v":0},{"$f":"IFERROR(VLOOKUP(Tabla8[[#This Row],[n°]],CONFIGURACION!$A$7:$K$200,4,),\"\")","v":"00:00:00"},{"$f":"IFERROR(VLOOKUP(Tabla8[[#This Row],[n°]],CONFIGURACION!$A$7:$K$200,5,),\"\")","v":""},{"$f":"IFERROR(VLOOKUP(Tabla8[[#This Row],[n°]],CONFIGURACION!$A$7:$K$200,7,),\"\")","v":""},{"$f":"IFERROR(SUMIFS(TablaBDD[TOTAL DIAS],TablaBDD[NOMBRE],Tabla8[[#This Row],[NOMBRE]])+VLOOKUP(Tabla8[[#This Row],[NOMBRE]],CONFIGURACION!$B$7:$K$200,10,0),\"\")","v":""},{"$f":"IFERROR(Tabla8[[#This Row],[DIAS ACUMULADOS]]-Tabla8[[#This Row],[DIAS TOMADAS]],\"\")","v":""}]
[null,null,null,33,{"$f":"IFERROR(VLOOKUP(Tabla8[[#This Row],[n°]],CONFIGURACION!$A$7:$K$200,2,),\"\")","v":0},{"$f":"IFERROR(VLOOKUP(Tabla8[[#This Row],[n°]],CONFIGURACION!$A$7:$K$200,3,),\"\")","v":0},{"$f":"IFERROR(VLOOKUP(Tabla8[[#This Row],[n°]],CONFIGURACION!$A$7:$K$200,4,),\"\")","v":"00:00:00"},{"$f":"IFERROR(VLOOKUP(Tabla8[[#This Row],[n°]],CONFIGURACION!$A$7:$K$200,5,),\"\")","v":""},{"$f":"IFERROR(VLOOKUP(Tabla8[[#This Row],[n°]],CONFIGURACION!$A$7:$K$200,7,),\"\")","v":""},{"$f":"IFERROR(SUMIFS(TablaBDD[TOTAL DIAS],TablaBDD[NOMBRE],Tabla8[[#This Row],[NOMBRE]])+VLOOKUP(Tabla8[[#This Row],[NOMBRE]],CONFIGURACION!$B$7:$K$200,10,0),\"\")","v":""},{"$f":"IFERROR(Tabla8[[#This Row],[DIAS ACUMULADOS]]-Tabla8[[#This Row],[DIAS TOMADAS]],\"\")","v":""}]
[null,null,null,34,{"$f":"IFERROR(VLOOKUP(Tabla8[[#This Row],[n°]],CONFIGURACION!$A$7:$K$200,2,),\"\")","v":0},{"$f":"IFERROR(VLOOKUP(Tabla8[[#This Row],[n°]],CONFIGURACION!$A$7:$K$200,3,),\"\")","v":0},{"$f":"IFERROR(VLOOKUP(Tabla8[[#This Row],[n°]],CONFIGURACION!$A$7:$K$200,4,),\"\")","v":"00:00:00"},{"$f":"IFERROR(VLOOKUP(Tabla8[[#This Row],[n°]],CONFIGURACION!$A$7:$K$200,5,),\"\")","v":""},{"$f":"IFERROR(VLOOKUP(Tabla8[[#This Row],[n°]],CONFIGURACION!$A$7:$K$200,7,),\"\")","v":""},{"$f":"IFERROR(SUMIFS(TablaBDD[TOTAL DIAS],TablaBDD[NOMBRE],Tabla8[[#This Row],[NOMBRE]])+VLOOKUP(Tabla8[[#This Row],[NOMBRE]],CONFIGURACION!$B$7:$K$200,10,0),\"\")","v":""},{"$f":"IFERROR(Tabla8[[#This Row],[DIAS ACUMULADOS]]-Tabla8[[#This Row],[DIAS TOMADAS]],\"\")","v":""}]
[null,null,null,35,{"$f":"IFERROR(VLOOKUP(Tabla8[[#This Row],[n°]],CONFIGURACION!$A$7:$K$200,2,),\"\")","v":0},{"$f":"IFERROR(VLOOKUP(Tabla8[[#This Row],[n°]],CONFIGURACION!$A$7:$K$200,3,),\"\")","v":0},{"$f":"IFERROR(VLOOKUP(Tabla8[[#This Row],[n°]],CONFIGURACION!$A$7:$K$200,4,),\"\")","v":"00:00:00"},{"$f":"IFERROR(VLOOKUP(Tabla8[[#This Row],[n°]],CONFIGURACION!$A$7:$K$200,5,),\"\")","v":""},{"$f":"IFERROR(VLOOKUP(Tabla8[[#This Row],[n°]],CONFIGURACION!$A$7:$K$200,7,),\"\")","v":""},{"$f":"IFERROR(SUMIFS(TablaBDD[TOTAL DIAS],TablaBDD[NOMBRE],Tabla8[[#This Row],[NOMBRE]])+VLOOKUP(Tabla8[[#This Row],[NOMBRE]],CONFIGURACION!$B$7:$K$200,10,0),\"\")","v":""},{"$f":"IFERROR(Tabla8[[#This Row],[DIAS ACUMULADOS]]-Tabla8[[#This Row],[DIAS TOMADAS]],\"\")","v":""}]
[null,null,null,36,{"$f":"IFERROR(VLOOKUP(Tabla8[[#This Row],[n°]],CONFIGURACION!$A$7:$K$200,2,),\"\")","v":0},{"$f":"IFERROR(VLOOKUP(Tabla8[[#This Row],[n°]],CONFIGURACION!$A$7:$K$200,3,),\"\")","v":0},{"$f":"IFERROR(VLOOKUP(Tabla8[[#This Row],[n°]],CONFIGURACION!$A$7:$K$200,4,),\"\")","v":"00:00:00"},{"$f":"IFERROR(VLOOKUP(Tabla8[[#This Row],[n°]],CONFIGURACION!$A$7:$K$200,5,),\"\")","v":""},{"$f":"IFERROR(VLOOKUP(Tabla8[[#This Row],[n°]],CONFIGURACION!$A$7:$K$200,7,),\"\")","v":""},{"$f":"IFERROR(SUMIFS(TablaBDD[TOTAL DIAS],TablaBDD[NOMBRE],Tabla8[[#This Row],[NOMBRE]])+VLOOKUP(Tabla8[[#This Row],[NOMBRE]],CONFIGURACION!$B$7:$K$200,10,0),\"\")","v":""},{"$f":"IFERROR(Tabla8[[#This Row],[DIAS ACUMULADOS]]-Tabla8[[#This Row],[DIAS TOMADAS]],\"\")","v":""}]
[null,null,null,37,{"$f":"IFERROR(VLOOKUP(Tabla8[[#This Row],[n°]],CONFIGURACION!$A$7:$K$200,2,),\"\")","v":0},{"$f":"IFERROR(VLOOKUP(Tabla8[[#This Row],[n°]],CONFIGURACION!$A$7:$K$200,3,),\"\")","v":0},{"$f":"IFERROR(VLOOKUP(Tabla8[[#This Row],[n°]],CONFIGURACION!$A$7:$K$200,4,),\"\")","v":"00:00:00"},{"$f":"IFERROR(VLOOKUP(Tabla8[[#This Row],[n°]],CONFIGURACION!$A$7:$K$200,5,),\"\")","v":""},{"$f":"IFERROR(VLOOKUP(Tabla8[[#This Row],[n°]],CONFIGURACION!$A$7:$K$200,7,),\"\")","v":""},{"$f":"IFERROR(SUMIFS(TablaBDD[TOTAL DIAS],TablaBDD[NOMBRE],Tabla8[[#This Row],[NOMBRE]])+VLOOKUP(Tabla8[[#This Row],[NOMBRE]],CONFIGURACION!$B$7:$K$200,10,0),\"\")","v":""},{"$f":"IFERROR(Tabla8[[#This Row],[DIAS ACUMULADOS]]-Tabla8[[#This Row],[DIAS TOMADAS]],\"\")","v":""}]
[null,null,null,38,{"$f":"IFERROR(VLOOKUP(Tabla8[[#This Row],[n°]],CONFIGURACION!$A$7:$K$200,2,),\"\")","v":0},{"$f":"IFERROR(VLOOKUP(Tabla8[[#This Row],[n°]],CONFIGURACION!$A$7:$K$200,3,),\"\")","v":0},{"$f":"IFERROR(VLOOKUP(Tabla8[[#This Row],[n°]],CONFIGURACION!$A$7:$K$200,4,),\"\")","v":"00:00:00"},{"$f":"IFERROR(VLOOKUP(Tabla8[[#This Row],[n°]],CONFIGURACION!$A$7:$K$200,5,),\"\")","v":""},{"$f":"IFERROR(VLOOKUP(Tabla8[[#This Row],[n°]],CONFIGURACION!$A$7:$K$200,7,),\"\")","v":""},{"$f":"IFERROR(SUMIFS(TablaBDD[TOTAL DIAS],TablaBDD[NOMBRE],Tabla8[[#This Row],[NOMBRE]])+VLOOKUP(Tabla8[[#This Row],[NOMBRE]],CONFIGURACION!$B$7:$K$200,10,0),\"\")","v":""},{"$f":"IFERROR(Tabla8[[#This Row],[DIAS ACUMULADOS]]-Tabla8[[#This Row],[DIAS TOMADAS]],\"\")","v":""}]
[null,null,null,39,{"$f":"IFERROR(VLOOKUP(Tabla8[[#This Row],[n°]],CONFIGURACION!$A$7:$K$200,2,),\"\")","v":0},{"$f":"IFERROR(VLOOKUP(Tabla8[[#This Row],[n°]],CONFIGURACION!$A$7:$K$200,3,),\"\")","v":0},{"$f":"IFERROR(VLOOKUP(Tabla8[[#This Row],[n°]],CONFIGURACION!$A$7:$K$200,4,),\"\")","v":"00:00:00"},{"$f":"IFERROR(VLOOKUP(Tabla8[[#This Row],[n°]],CONFIGURACION!$A$7:$K$200,5,),\"\")","v":""},{"$f":"IFERROR(VLOOKUP(Tabla8[[#This Row],[n°]],CONFIGURACION!$A$7:$K$200,7,),\"\")","v":""},{"$f":"IFERROR(SUMIFS(TablaBDD[TOTAL DIAS],TablaBDD[NOMBRE],Tabla8[[#This Row],[NOMBRE]])+VLOOKUP(Tabla8[[#This Row],[NOMBRE]],CONFIGURACION!$B$7:$K$200,10,0),\"\")","v":""},{"$f":"IFERROR(Tabla8[[#This Row],[DIAS ACUMULADOS]]-Tabla8[[#This Row],[DIAS TOMADAS]],\"\")","v":""}]
[null,null,null,40,{"$f":"IFERROR(VLOOKUP(Tabla8[[#This Row],[n°]],CONFIGURACION!$A$7:$K$200,2,),\"\")","v":0},{"$f":"IFERROR(VLOOKUP(Tabla8[[#This Row],[n°]],CONFIGURACION!$A$7:$K$200,3,),\"\")","v":0},{"$f":"IFERROR(VLOOKUP(Tabla8[[#This Row],[n°]],CONFIGURACION!$A$7:$K$200,4,),\"\")","v":"00:00:00"},{"$f":"IFERROR(VLOOKUP(Tabla8[[#This Row],[n°]],CONFIGURACION!$A$7:$K$200,5,),\"\")","v":""},{"$f":"IFERROR(VLOOKUP(Tabla8[[#This Row],[n°]],CONFIGURACION!$A$7:$K$200,7,),\"\")","v":""},{"$f":"IFERROR(SUMIFS(TablaBDD[TOTAL DIAS],TablaBDD[NOMBRE],Tabla8[[#This Row],[NOMBRE]])+VLOOKUP(Tabla8[[#This Row],[NOMBRE]],CONFIGURACION!$B$7:$K$200,10,0),\"\")","v":""},{"$f":"IFERROR(Tabla8[[#This Row],[DIAS ACUMULADOS]]-Tabla8[[#This Row],[DIAS TOMADAS]],\"\")","v":""}]
[null,null,null,41,{"$f":"IFERROR(VLOOKUP(Tabla8[[#This Row],[n°]],CONFIGURACION!$A$7:$K$200,2,),\"\")","v":0},{"$f":"IFERROR(VLOOKUP(Tabla8[[#This Row],[n°]],CONFIGURACION!$A$7:$K$200,3,),\"\")","v":0},{"$f":"IFERROR(VLOOKUP(Tabla8[[#This Row],[n°]],CONFIGURACION!$A$7:$K$200,4,),\"\")","v":"00:00:00"},{"$f":"IFERROR(VLOOKUP(Tabla8[[#This Row],[n°]],CONFIGURACION!$A$7:$K$200,5,),\"\")","v":""},{"$f":"IFERROR(VLOOKUP(Tabla8[[#This Row],[n°]],CONFIGURACION!$A$7:$K$200,7,),\"\")","v":""},{"$f":"IFERROR(SUMIFS(TablaBDD[TOTAL DIAS],TablaBDD[NOMBRE],Tabla8[[#This Row],[NOMBRE]])+VLOOKUP(Tabla8[[#This Row],[NOMBRE]],CONFIGURACION!$B$7:$K$200,10,0),\"\")","v":""},{"$f":"IFERROR(Tabla8[[#This Row],[DIAS ACUMULADOS]]-Tabla8[[#This Row],[DIAS TOMADAS]],\"\")","v":""}]
[null,null,null,42,{"$f":"IFERROR(VLOOKUP(Tabla8[[#This Row],[n°]],CONFIGURACION!$A$7:$K$200,2,),\"\")","v":0},{"$f":"IFERROR(VLOOKUP(Tabla8[[#This Row],[n°]],CONFIGURACION!$A$7:$K$200,3,),\"\")","v":0},{"$f":"IFERROR(VLOOKUP(Tabla8[[#This Row],[n°]],CONFIGURACION!$A$7:$K$200,4,),\"\")","v":"00:00:00"},{"$f":"IFERROR(VLOOKUP(Tabla8[[#This Row],[n°]],CONFIGURACION!$A$7:$K$200,5,),\"\")","v":""},{"$f":"IFERROR(VLOOKUP(Tabla8[[#This Row],[n°]],CONFIGURACION!$A$7:$K$200,7,),\"\")","v":""},{"$f":"IFERROR(SUMIFS(TablaBDD[TOTAL DIAS],TablaBDD[NOMBRE],Tabla8[[#This Row],[NOMBRE]])+VLOOKUP(Tabla8[[#This Row],[NOMBRE]],CONFIGURACION!$B$7:$K$200,10,0),\"\")","v":""},{"$f":"IFERROR(Tabla8[[#This Row],[DIAS ACUMULADOS]]-Tabla8[[#This Row],[DIAS TOMADAS]],\"\")","v":""}]
[null,null,null,43,{"$f":"IFERROR(VLOOKUP(Tabla8[[#This Row],[n°]],CONFIGURACION!$A$7:$K$200,2,),\"\")","v":0},{"$f":"IFERROR(VLOOKUP(Tabla8[[#This Row],[n°]],CONFIGURACION!$A$7:$K$200,3,),\"\")","v":0},{"$f":"IFERROR(VLOOKUP(Tabla8[[#This Row],[n°]],CONFIGURACION!$A$7:$K$200,4,),\"\")","v":"00:00:00"},{"$f":"IFERROR(VLOOKUP(Tabla8[[#This Row],[n°]],CONFIGURACION!$A$7:$K$200,5,),\"\")","v":0},{"$f":"IFERROR(VLOOKUP(Tabla8[[#This Row],[n°]],CONFIGURACION!$A$7:$K$200,7,),\"\")","v":""},{"$f":"IFERROR(SUMIFS(TablaBDD[TOTAL DIAS],TablaBDD[NOMBRE],Tabla8[[#This Row],[NOMBRE]])+VLOOKUP(Tabla8[[#This Row],[NOMBRE]],CONFIGURACION!$B$7:$K$200,10,0),\"\")","v":""},{"$f":"IFERROR(Tabla8[[#This Row],[DIAS ACUMULADOS]]-Tabla8[[#This Row],[DIAS TOMADAS]],\"\")","v":""}]
[null,null,null,44,{"$f":"IFERROR(VLOOKUP(Tabla8[[#This Row],[n°]],CONFIGURACION!$A$7:$K$200,2,),\"\")","v":0},{"$f":"IFERROR(VLOOKUP(Tabla8[[#This Row],[n°]],CONFIGURACION!$A$7:$K$200,3,),\"\")","v":0},{"$f":"IFERROR(VLOOKUP(Tabla8[[#This Row],[n°]],CONFIGURACION!$A$7:$K$200,4,),\"\")","v":"00:00:00"},{"$f":"IFERROR(VLOOKUP(Tabla8[[#This Row],[n°]],CONFIGURACION!$A$7:$K$200,5,),\"\")","v":0},{"$f":"IFERROR(VLOOKUP(Tabla8[[#This Row],[n°]],CONFIGURACION!$A$7:$K$200,7,),\"\")","v":0},{"$f":"IFERROR(SUMIFS(TablaBDD[TOTAL DIAS],TablaBDD[NOMBRE],Tabla8[[#This Row],[NOMBRE]])+VLOOKUP(Tabla8[[#This Row],[NOMBRE]],CONFIGURACION!$B$7:$K$200,10,0),\"\")","v":""},{"$f":"IFERROR(Tabla8[[#This Row],[DIAS ACUMULADOS]]-Tabla8[[#This Row],[DIAS TOMADAS]],\"\")","v":""}]
[null,null,null,45,{"$f":"IFERROR(VLOOKUP(Tabla8[[#This Row],[n°]],CONFIGURACION!$A$7:$K$200,2,),\"\")","v":0},{"$f":"IFERROR(VLOOKUP(Tabla8[[#This Row],[n°]],CONFIGURACION!$A$7:$K$200,3,),\"\")","v":0},{"$f":"IFERROR(VLOOKUP(Tabla8[[#This Row],[n°]],CONFIGURACION!$A$7:$K$200,4,),\"\")","v":"00:00:00"},{"$f":"IFERROR(VLOOKUP(Tabla8[[#This Row],[n°]],CONFIGURACION!$A$7:$K$200,5,),\"\")","v":0},{"$f":"IFERROR(VLOOKUP(Tabla8[[#This Row],[n°]],CONFIGURACION!$A$7:$K$200,7,),\"\")","v":0},{"$f":"IFERROR(SUMIFS(TablaBDD[TOTAL DIAS],TablaBDD[NOMBRE],Tabla8[[#This Row],[NOMBRE]])+VLOOKUP(Tabla8[[#This Row],[NOMBRE]],CONFIGURACION!$B$7:$K$200,10,0),\"\")","v":""},{"$f":"IFERROR(Tabla8[[#This Row],[DIAS ACUMULADOS]]-Tabla8[[#This Row],[DIAS TOMADAS]],\"\")","v":""}]
[null,null,null,46,{"$f":"IFERROR(VLOOKUP(Tabla8[[#This Row],[n°]],CONFIGURACION!$A$7:$K$200,2,),\"\")","v":0},{"$f":"IFERROR(VLOOKUP(Tabla8[[#This Row],[n°]],CONFIGURACION!$A$7:$K$200,3,),\"\")","v":0},{"$f":"IFERROR(VLOOKUP(Tabla8[[#This Row],[n°]],CONFIGURACION!$A$7:$K$200,4,),\"\")","v":"00:00:00"},{"$f":"IFERROR(VLOOKUP(Tabla8[[#This Row],[n°]],CONFIGURACION!$A$7:$K$200,5,),\"\")","v":0},{"$f":"IFERROR(VLOOKUP(Tabla8[[#This Row],[n°]],CONFIGURACION!$A$7:$K$200,7,),\"\")","v":0},{"$f":"IFERROR(SUMIFS(TablaBDD[TOTAL DIAS],TablaBDD[NOMBRE],Tabla8[[#This Row],[NOMBRE]])+VLOOKUP(Tabla8[[#This Row],[NOMBRE]],CONFIGURACION!$B$7:$K$200,10,0),\"\")","v":""},{"$f":"IFERROR(Tabla8[[#This Row],[DIAS ACUMULADOS]]-Tabla8[[#This Row],[DIAS TOMADAS]],\"\")","v":""}]
[null,null,null,47,{"$f":"IFERROR(VLOOKUP(Tabla8[[#This Row],[n°]],CONFIGURACION!$A$7:$K$200,2,),\"\")","v":0},{"$f":"IFERROR(VLOOKUP(Tabla8[[#This Row],[n°]],CONFIGURACION!$A$7:$K$200,3,),\"\")","v":0},{"$f":"IFERROR(VLOOKUP(Tabla8[[#This Row],[n°]],CONFIGURACION!$A$7:$K$200,4,),\"\")","v":"00:00:00"},{"$f":"IFERROR(VLOOKUP(Tabla8[[#This Row],[n°]],CONFIGURACION!$A$7:$K$200,5,),\"\")","v":0},{"$f":"IFERROR(VLOOKUP(Tabla8[[#This Row],[n°]],CONFIGURACION!$A$7:$K$200,7,),\"\")","v":0},{"$f":"IFERROR(SUMIFS(TablaBDD[TOTAL DIAS],TablaBDD[NOMBRE],Tabla8[[#This Row],[NOMBRE]])+VLOOKUP(Tabla8[[#This Row],[NOMBRE]],CONFIGURACION!$B$7:$K$200,10,0),\"\")","v":""},{"$f":"IFERROR(Tabla8[[#This Row],[DIAS ACUMULADOS]]-Tabla8[[#This Row],[DIAS TOMADAS]],\"\")","v":""}]
[null,null,null,48,{"$f":"IFERROR(VLOOKUP(Tabla8[[#This Row],[n°]],CONFIGURACION!$A$7:$K$200,2,),\"\")","v":0},{"$f":"IFERROR(VLOOKUP(Tabla8[[#This Row],[n°]],CONFIGURACION!$A$7:$K$200,3,),\"\")","v":0},{"$f":"IFERROR(VLOOKUP(Tabla8[[#This Row],[n°]],CONFIGURACION!$A$7:$K$200,4,),\"\")","v":"00:00:00"},{"$f":"IFERROR(VLOOKUP(Tabla8[[#This Row],[n°]],CONFIGURACION!$A$7:$K$200,5,),\"\")","v":0},{"$f":"IFERROR(VLOOKUP(Tabla8[[#This Row],[n°]],CONFIGURACION!$A$7:$K$200,7,),\"\")","v":0},{"$f":"IFERROR(SUMIFS(TablaBDD[TOTAL DIAS],TablaBDD[NOMBRE],Tabla8[[#This Row],[NOMBRE]])+VLOOKUP(Tabla8[[#This Row],[NOMBRE]],CONFIGURACION!$B$7:$K$200,10,0),\"\")","v":""},{"$f":"IFERROR(Tabla8[[#This Row],[DIAS ACUMULADOS]]-Tabla8[[#This Row],[DIAS TOMADAS]],\"\")","v":""}]
[null,null,null,49,{"$f":"IFERROR(VLOOKUP(Tabla8[[#This Row],[n°]],CONFIGURACION!$A$7:$K$200,2,),\"\")","v":0},{"$f":"IFERROR(VLOOKUP(Tabla8[[#This Row],[n°]],CONFIGURACION!$A$7:$K$200,3,),\"\")","v":0},{"$f":"IFERROR(VLOOKUP(Tabla8[[#This Row],[n°]],CONFIGURACION!$A$7:$K$200,4,),\"\")","v":"00:00:00"},{"$f":"IFERROR(VLOOKUP(Tabla8[[#This Row],[n°]],CONFIGURACION!$A$7:$K$200,5,),\"\")","v":""},{"$f":"IFERROR(VLOOKUP(Tabla8[[#This Row],[n°]],CONFIGURACION!$A$7:$K$200,7,),\"\")","v":""},{"$f":"IFERROR(SUMIFS(TablaBDD[TOTAL DIAS],TablaBDD[NOMBRE],Tabla8[[#This Row],[NOMBRE]])+VLOOKUP(Tabla8[[#This Row],[NOMBRE]],CONFIGURACION!$B$7:$K$200,10,0),\"\")","v":""},{"$f":"IFERROR(Tabla8[[#This Row],[DIAS ACUMULADOS]]-Tabla8[[#This Row],[DIAS TOMADAS]],\"\")","v":""}]
[null,null,null,50,{"$f":"IFERROR(VLOOKUP(Tabla8[[#This Row],[n°]],CONFIGURACION!$A$7:$K$200,2,),\"\")","v":0},{"$f":"IFERROR(VLOOKUP(Tabla8[[#This Row],[n°]],CONFIGURACION!$A$7:$K$200,3,),\"\")","v":0},{"$f":"IFERROR(VLOOKUP(Tabla8[[#This Row],[n°]],CONFIGURACION!$A$7:$K$200,4,),\"\")","v":"00:00:00"},{"$f":"IFERROR(VLOOKUP(Tabla8[[#This Row],[n°]],CONFIGURACION!$A$7:$K$200,5,),\"\")","v":0},{"$f":"IFERROR(VLOOKUP(Tabla8[[#This Row],[n°]],CONFIGURACION!$A$7:$K$200,7,),\"\")","v":0},{"$f":"IFERROR(SUMIFS(TablaBDD[TOTAL DIAS],TablaBDD[NOMBRE],Tabla8[[#This Row],[NOMBRE]])+VLOOKUP(Tabla8[[#This Row],[NOMBRE]],CONFIGURACION!$B$7:$K$200,10,0),\"\")","v":""},{"$f":"IFERROR(Tabla8[[#This Row],[DIAS ACUMULADOS]]-Tabla8[[#This Row],[DIAS TOMADAS]],\"\")","v":""}]
[null,null,null,51,{"$f":"IFERROR(VLOOKUP(Tabla8[[#This Row],[n°]],CONFIGURACION!$A$7:$K$200,2,),\"\")","v":0},{"$f":"IFERROR(VLOOKUP(Tabla8[[#This Row],[n°]],CONFIGURACION!$A$7:$K$200,3,),\"\")","v":0},{"$f":"IFERROR(VLOOKUP(Tabla8[[#This Row],[n°]],CONFIGURACION!$A$7:$K$200,4,),\"\")","v":"00:00:00"},{"$f":"IFERROR(VLOOKUP(Tabla8[[#This Row],[n°]],CONFIGURACION!$A$7:$K$200,5,),\"\")","v":0},{"$f":"IFERROR(VLOOKUP(Tabla8[[#This Row],[n°]],CONFIGURACION!$A$7:$K$200,7,),\"\")","v":0},{"$f":"IFERROR(SUMIFS(TablaBDD[TOTAL DIAS],TablaBDD[NOMBRE],Tabla8[[#This Row],[NOMBRE]])+VLOOKUP(Tabla8[[#This Row],[NOMBRE]],CONFIGURACION!$B$7:$K$200,10,0),\"\")","v":""},{"$f":"IFERROR(Tabla8[[#This Row],[DIAS ACUMULADOS]]-Tabla8[[#This Row],[DIAS TOMADAS]],\"\")","v":""}]
[null,null,null,52,{"$f":"IFERROR(VLOOKUP(Tabla8[[#This Row],[n°]],CONFIGURACION!$A$7:$K$200,2,),\"\")","v":0},{"$f":"IFERROR(VLOOKUP(Tabla8[[#This Row],[n°]],CONFIGURACION!$A$7:$K$200,3,),\"\")","v":0},{"$f":"IFERROR(VLOOKUP(Tabla8[[#This Row],[n°]],CONFIGURACION!$A$7:$K$200,4,),\"\")","v":"00:00:00"},{"$f":"IFERROR(VLOOKUP(Tabla8[[#This Row],[n°]],CONFIGURACION!$A$7:$K$200,5,),\"\")","v":0},{"$f":"IFERROR(VLOOKUP(Tabla8[[#This Row],[n°]],CONFIGURACION!$A$7:$K$200,7,),\"\")","v":0},{"$f":"IFERROR(SUMIFS(TablaBDD[TOTAL DIAS],TablaBDD[NOMBRE],Tabla8[[#This Row],[NOMBRE]])+VLOOKUP(Tabla8[[#This Row],[NOMBRE]],CONFIGURACION!$B$7:$K$200,10,0),\"\")","v":""},{"$f":"IFERROR(Tabla8[[#This Row],[DIAS ACUMULADOS]]-Tabla8[[#This Row],[DIAS TOMADAS]],\"\")","v":""}]
[null,null,null,53,{"$f":"IFERROR(VLOOKUP(Tabla8[[#This Row],[n°]],CONFIGURACION!$A$7:$K$200,2,),\"\")","v":0},{"$f":"IFERROR(VLOOKUP(Tabla8[[#This Row],[n°]],CONFIGURACION!$A$7:$K$200,3,),\"\")","v":0},{"$f":"IFERROR(VLOOKUP(Tabla8[[#This Row],[n°]],CONFIGURACION!$A$7:$K$200,4,),\"\")","v":"00:00:00"},{"$f":"IFERROR(VLOOKUP(Tabla8[[#This Row],[n°]],CONFIGURACION!$A$7:$K$200,5,),\"\")","v":0},{"$f":"IFERROR(VLOOKUP(Tabla8[[#This Row],[n°]],CONFIGURACION!$A$7:$K$200,7,),\"\")","v":0},{"$f":"IFERROR(SUMIFS(TablaBDD[TOTAL DIAS],TablaBDD[NOMBRE],Tabla8[[#This Row],[NOMBRE]])+VLOOKUP(Tabla8[[#This Row],[NOMBRE]],CONFIGURACION!$B$7:$K$200,10,0),\"\")","v":""},{"$f":"IFERROR(Tabla8[[#This Row],[DIAS ACUMULADOS]]-Tabla8[[#This Row],[DIAS TOMADAS]],\"\")","v":""}]
[null,null,null,54,{"$f":"IFERROR(VLOOKUP(Tabla8[[#This Row],[n°]],CONFIGURACION!$A$7:$K$200,2,),\"\")","v":0},{"$f":"IFERROR(VLOOKUP(Tabla8[[#This Row],[n°]],CONFIGURACION!$A$7:$K$200,3,),\"\")","v":0},{"$f":"IFERROR(VLOOKUP(Tabla8[[#This Row],[n°]],CONFIGURACION!$A$7:$K$200,4,),\"\")","v":"00:00:00"},{"$f":"IFERROR(VLOOKUP(Tabla8[[#This Row],[n°]],CONFIGURACION!$A$7:$K$200,5,),\"\")","v":0},{"$f":"IFERROR(VLOOKUP(Tabla8[[#This Row],[n°]],CONFIGURACION!$A$7:$K$200,7,),\"\")","v":0},{"$f":"IFERROR(SUMIFS(TablaBDD[TOTAL DIAS],TablaBDD[NOMBRE],Tabla8[[#This Row],[NOMBRE]])+VLOOKUP(Tabla8[[#This Row],[NOMBRE]],CONFIGURACION!$B$7:$K$200,10,0),\"\")","v":""},{"$f":"IFERROR(Tabla8[[#This Row],[DIAS ACUMULADOS]]-Tabla8[[#This Row],[DIAS TOMADAS]],\"\")","v":""}]
[null,null,null,55,{"$f":"IFERROR(VLOOKUP(Tabla8[[#This Row],[n°]],CONFIGURACION!$A$7:$K$200,2,),\"\")","v":0},{"$f":"IFERROR(VLOOKUP(Tabla8[[#This Row],[n°]],CONFIGURACION!$A$7:$K$200,3,),\"\")","v":0},{"$f":"IFERROR(VLOOKUP(Tabla8[[#This Row],[n°]],CONFIGURACION!$A$7:$K$200,4,),\"\")","v":"00:00:00"},{"$f":"IFERROR(VLOOKUP(Tabla8[[#This Row],[n°]],CONFIGURACION!$A$7:$K$200,5,),\"\")","v":0},{"$f":"IFERROR(VLOOKUP(Tabla8[[#This Row],[n°]],CONFIGURACION!$A$7:$K$200,7,),\"\")","v":0},{"$f":"IFERROR(SUMIFS(TablaBDD[TOTAL DIAS],TablaBDD[NOMBRE],Tabla8[[#This Row],[NOMBRE]])+VLOOKUP(Tabla8[[#This Row],[NOMBRE]],CONFIGURACION!$B$7:$K$200,10,0),\"\")","v":""},{"$f":"IFERROR(Tabla8[[#This Row],[DIAS ACUMULADOS]]-Tabla8[[#This Row],[DIAS TOMADAS]],\"\")","v":""}]
[null,null,null,56,{"$f":"IFERROR(VLOOKUP(Tabla8[[#This Row],[n°]],CONFIGURACION!$A$7:$K$200,2,),\"\")","v":0},{"$f":"IFERROR(VLOOKUP(Tabla8[[#This Row],[n°]],CONFIGURACION!$A$7:$K$200,3,),\"\")","v":0},{"$f":"IFERROR(VLOOKUP(Tabla8[[#This Row],[n°]],CONFIGURACION!$A$7:$K$200,4,),\"\")","v":"00:00:00"},{"$f":"IFERROR(VLOOKUP(Tabla8[[#This Row],[n°]],CONFIGURACION!$A$7:$K$200,5,),\"\")","v":0},{"$f":"IFERROR(VLOOKUP(Tabla8[[#This Row],[n°]],CONFIGURACION!$A$7:$K$200,7,),\"\")","v":0},{"$f":"IFERROR(SUMIFS(TablaBDD[TOTAL DIAS],TablaBDD[NOMBRE],Tabla8[[#This Row],[NOMBRE]])+VLOOKUP(Tabla8[[#This Row],[NOMBRE]],CONFIGURACION!$B$7:$K$200,10,0),\"\")","v":""},{"$f":"IFERROR(Tabla8[[#This Row],[DIAS ACUMULADOS]]-Tabla8[[#This Row],[DIAS TOMADAS]],\"\")","v":""}]
[null,null,null,57,{"$f":"IFERROR(VLOOKUP(Tabla8[[#This Row],[n°]],CONFIGURACION!$A$7:$K$200,2,),\"\")","v":0},{"$f":"IFERROR(VLOOKUP(Tabla8[[#This Row],[n°]],CONFIGURACION!$A$7:$K$200,3,),\"\")","v":0},{"$f":"IFERROR(VLOOKUP(Tabla8[[#This Row],[n°]],CONFIGURACION!$A$7:$K$200,4,),\"\")","v":"00:00:00"},{"$f":"IFERROR(VLOOKUP(Tabla8[[#This Row],[n°]],CONFIGURACION!$A$7:$K$200,5,),\"\")","v":0},{"$f":"IFERROR(VLOOKUP(Tabla8[[#This Row],[n°]],CONFIGURACION!$A$7:$K$200,7,),\"\")","v":0},{"$f":"IFERROR(SUMIFS(TablaBDD[TOTAL DIAS],TablaBDD[NOMBRE],Tabla8[[#This Row],[NOMBRE]])+VLOOKUP(Tabla8[[#This Row],[NOMBRE]],CONFIGURACION!$B$7:$K$200,10,0),\"\")","v":""},{"$f":"IFERROR(Tabla8[[#This Row],[DIAS ACUMULADOS]]-Tabla8[[#This Row],[DIAS TOMADAS]],\"\")","v":""}]
[null,null,null,58,{"$f":"IFERROR(VLOOKUP(Tabla8[[#This Row],[n°]],CONFIGURACION!$A$7:$K$200,2,),\"\")","v":0},{"$f":"IFERROR(VLOOKUP(Tabla8[[#This Row],[n°]],CONFIGURACION!$A$7:$K$200,3,),\"\")","v":0},{"$f":"IFERROR(VLOOKUP(Tabla8[[#This Row],[n°]],CONFIGURACION!$A$7:$K$200,4,),\"\")","v":"00:00:00"},{"$f":"IFERROR(VLOOKUP(Tabla8[[#This Row],[n°]],CONFIGURACION!$A$7:$K$200,5,),\"\")","v":0},{"$f":"IFERROR(VLOOKUP(Tabla8[[#This Row],[n°]],CONFIGURACION!$A$7:$K$200,7,),\"\")","v":0},{"$f":"IFERROR(SUMIFS(TablaBDD[TOTAL DIAS],TablaBDD[NOMBRE],Tabla8[[#This Row],[NOMBRE]])+VLOOKUP(Tabla8[[#This Row],[NOMBRE]],CONFIGURACION!$B$7:$K$200,10,0),\"\")","v":""},{"$f":"IFERROR(Tabla8[[#This Row],[DIAS ACUMULADOS]]-Tabla8[[#This Row],[DIAS TOMADAS]],\"\")","v":""}]
[null,null,null,59,{"$f":"IFERROR(VLOOKUP(Tabla8[[#This Row],[n°]],CONFIGURACION!$A$7:$K$200,2,),\"\")","v":0},{"$f":"IFERROR(VLOOKUP(Tabla8[[#This Row],[n°]],CONFIGURACION!$A$7:$K$200,3,),\"\")","v":0},{"$f":"IFERROR(VLOOKUP(Tabla8[[#This Row],[n°]],CONFIGURACION!$A$7:$K$200,4,),\"\")","v":"00:00:00"},{"$f":"IFERROR(VLOOKUP(Tabla8[[#This Row],[n°]],CONFIGURACION!$A$7:$K$200,5,),\"\")","v":0},{"$f":"IFERROR(VLOOKUP(Tabla8[[#This Row],[n°]],CONFIGURACION!$A$7:$K$200,7,),\"\")","v":0},{"$f":"IFERROR(SUMIFS(TablaBDD[TOTAL DIAS],TablaBDD[NOMBRE],Tabla8[[#This Row],[NOMBRE]])+VLOOKUP(Tabla8[[#This Row],[NOMBRE]],CONFIGURACION!$B$7:$K$200,10,0),\"\")","v":""},{"$f":"IFERROR(Tabla8[[#This Row],[DIAS ACUMULADOS]]-Tabla8[[#This Row],[DIAS TOMADAS]],\"\")","v":""}]
[null,null,null,60,{"$f":"IFERROR(VLOOKUP(Tabla8[[#This Row],[n°]],CONFIGURACION!$A$7:$K$200,2,),\"\")","v":0},{"$f":"IFERROR(VLOOKUP(Tabla8[[#This Row],[n°]],CONFIGURACION!$A$7:$K$200,3,),\"\")","v":0},{"$f":"IFERROR(VLOOKUP(Tabla8[[#This Row],[n°]],CONFIGURACION!$A$7:$K$200,4,),\"\")","v":"00:00:00"},{"$f":"IFERROR(VLOOKUP(Tabla8[[#This Row],[n°]],CONFIGURACION!$A$7:$K$200,5,),\"\")","v":0},{"$f":"IFERROR(VLOOKUP(Tabla8[[#This Row],[n°]],CONFIGURACION!$A$7:$K$200,7,),\"\")","v":0},{"$f":"IFERROR(SUMIFS(TablaBDD[TOTAL DIAS],TablaBDD[NOMBRE],Tabla8[[#This Row],[NOMBRE]])+VLOOKUP(Tabla8[[#This Row],[NOMBRE]],CONFIGURACION!$B$7:$K$200,10,0),\"\")","v":""},{"$f":"IFERROR(Tabla8[[#This Row],[DIAS ACUMULADOS]]-Tabla8[[#This Row],[DIAS TOMADAS]],\"\")","v":""}]
[null,null,null,61,{"$f":"IFERROR(VLOOKUP(Tabla8[[#This Row],[n°]],CONFIGURACION!$A$7:$K$200,2,),\"\")","v":0},{"$f":"IFERROR(VLOOKUP(Tabla8[[#This Row],[n°]],CONFIGURACION!$A$7:$K$200,3,),\"\")","v":0},{"$f":"IFERROR(VLOOKUP(Tabla8[[#This Row],[n°]],CONFIGURACION!$A$7:$K$200,4,),\"\")","v":"00:00:00"},{"$f":"IFERROR(VLOOKUP(Tabla8[[#This Row],[n°]],CONFIGURACION!$A$7:$K$200,5,),\"\")","v":0},{"$f":"IFERROR(VLOOKUP(Tabla8[[#This Row],[n°]],CONFIGURACION!$A$7:$K$200,7,),\"\")","v":0},{"$f":"IFERROR(SUMIFS(TablaBDD[TOTAL DIAS],TablaBDD[NOMBRE],Tabla8[[#This Row],[NOMBRE]])+VLOOKUP(Tabla8[[#This Row],[NOMBRE]],CONFIGURACION!$B$7:$K$200,10,0),\"\")","v":""},{"$f":"IFERROR(Tabla8[[#This Row],[DIAS ACUMULADOS]]-Tabla8[[#This Row],[DIAS TOMADAS]],\"\")","v":""}]
[null,null,null,62,{"$f":"IFERROR(VLOOKUP(Tabla8[[#This Row],[n°]],CONFIGURACION!$A$7:$K$200,2,),\"\")","v":0},{"$f":"IFERROR(VLOOKUP(Tabla8[[#This Row],[n°]],CONFIGURACION!$A$7:$K$200,3,),\"\")","v":0},{"$f":"IFERROR(VLOOKUP(Tabla8[[#This Row],[n°]],CONFIGURACION!$A$7:$K$200,4,),\"\")","v":"00:00:00"},{"$f":"IFERROR(VLOOKUP(Tabla8[[#This Row],[n°]],CONFIGURACION!$A$7:$K$200,5,),\"\")","v":0},{"$f":"IFERROR(VLOOKUP(Tabla8[[#This Row],[n°]],CONFIGURACION!$A$7:$K$200,7,),\"\")","v":0},{"$f":"IFERROR(SUMIFS(TablaBDD[TOTAL DIAS],TablaBDD[NOMBRE],Tabla8[[#This Row],[NOMBRE]])+VLOOKUP(Tabla8[[#This Row],[NOMBRE]],CONFIGURACION!$B$7:$K$200,10,0),\"\")","v":""},{"$f":"IFERROR(Tabla8[[#This Row],[DIAS ACUMULADOS]]-Tabla8[[#This Row],[DIAS TOMADAS]],\"\")","v":""}]
[null,null,null,63,{"$f":"IFERROR(VLOOKUP(Tabla8[[#This Row],[n°]],CONFIGURACION!$A$7:$K$200,2,),\"\")","v":0},{"$f":"IFERROR(VLOOKUP(Tabla8[[#This Row],[n°]],CONFIGURACION!$A$7:$K$200,3,),\"\")","v":0},{"$f":"IFERROR(VLOOKUP(Tabla8[[#This Row],[n°]],CONFIGURACION!$A$7:$K$200,4,),\"\")","v":"00:00:00"},{"$f":"IFERROR(VLOOKUP(Tabla8[[#This Row],[n°]],CONFIGURACION!$A$7:$K$200,5,),\"\")","v":0},{"$f":"IFERROR(VLOOKUP(Tabla8[[#This Row],[n°]],CONFIGURACION!$A$7:$K$200,7,),\"\")","v":0},{"$f":"IFERROR(SUMIFS(TablaBDD[TOTAL DIAS],TablaBDD[NOMBRE],Tabla8[[#This Row],[NOMBRE]])+VLOOKUP(Tabla8[[#This Row],[NOMBRE]],CONFIGURACION!$B$7:$K$200,10,0),\"\")","v":""},{"$f":"IFERROR(Tabla8[[#This Row],[DIAS ACUMULADOS]]-Tabla8[[#This Row],[DIAS TOMADAS]],\"\")","v":""}]
[null,null,null,64,{"$f":"IFERROR(VLOOKUP(Tabla8[[#This Row],[n°]],CONFIGURACION!$A$7:$K$200,2,),\"\")","v":0},{"$f":"IFERROR(VLOOKUP(Tabla8[[#This Row],[n°]],CONFIGURACION!$A$7:$K$200,3,),\"\")","v":0},{"$f":"IFERROR(VLOOKUP(Tabla8[[#This Row],[n°]],CONFIGURACION!$A$7:$K$200,4,),\"\")","v":"00:00:00"},{"$f":"IFERROR(VLOOKUP(Tabla8[[#This Row],[n°]],CONFIGURACION!$A$7:$K$200,5,),\"\")","v":0},{"$f":"IFERROR(VLOOKUP(Tabla8[[#This Row],[n°]],CONFIGURACION!$A$7:$K$200,7,),\"\")","v":0},{"$f":"IFERROR(SUMIFS(TablaBDD[TOTAL DIAS],TablaBDD[NOMBRE],Tabla8[[#This Row],[NOMBRE]])+VLOOKUP(Tabla8[[#This Row],[NOMBRE]],CONFIGURACION!$B$7:$K$200,10,0),\"\")","v":""},{"$f":"IFERROR(Tabla8[[#This Row],[DIAS ACUMULADOS]]-Tabla8[[#This Row],[DIAS TOMADAS]],\"\")","v":""}]
[null,null,null,65,{"$f":"IFERROR(VLOOKUP(Tabla8[[#This Row],[n°]],CONFIGURACION!$A$7:$K$200,2,),\"\")","v":0},{"$f":"IFERROR(VLOOKUP(Tabla8[[#This Row],[n°]],CONFIGURACION!$A$7:$K$200,3,),\"\")","v":0},{"$f":"IFERROR(VLOOKUP(Tabla8[[#This Row],[n°]],CONFIGURACION!$A$7:$K$200,4,),\"\")","v":"00:00:00"},{"$f":"IFERROR(VLOOKUP(Tabla8[[#This Row],[n°]],CONFIGURACION!$A$7:$K$200,5,),\"\")","v":0},{"$f":"IFERROR(VLOOKUP(Tabla8[[#This Row],[n°]],CONFIGURACION!$A$7:$K$200,7,),\"\")","v":0},{"$f":"IFERROR(SUMIFS(TablaBDD[TOTAL DIAS],TablaBDD[NOMBRE],Tabla8[[#This Row],[NOMBRE]])+VLOOKUP(Tabla8[[#This Row],[NOMBRE]],CONFIGURACION!$B$7:$K$200,10,0),\"\")","v":""},{"$f":"IFERROR(Tabla8[[#This Row],[DIAS ACUMULADOS]]-Tabla8[[#This Row],[DIAS TOMADAS]],\"\")","v":""}]
[null,null,null,66,{"$f":"IFERROR(VLOOKUP(Tabla8[[#This Row],[n°]],CONFIGURACION!$A$7:$K$200,2,),\"\")","v":0},{"$f":"IFERROR(VLOOKUP(Tabla8[[#This Row],[n°]],CONFIGURACION!$A$7:$K$200,3,),\"\")","v":0},{"$f":"IFERROR(VLOOKUP(Tabla8[[#This Row],[n°]],CONFIGURACION!$A$7:$K$200,4,),\"\")","v":"00:00:00"},{"$f":"IFERROR(VLOOKUP(Tabla8[[#This Row],[n°]],CONFIGURACION!$A$7:$K$200,5,),\"\")","v":0},{"$f":"IFERROR(VLOOKUP(Tabla8[[#This Row],[n°]],CONFIGURACION!$A$7:$K$200,7,),\"\")","v":0},{"$f":"IFERROR(SUMIFS(TablaBDD[TOTAL DIAS],TablaBDD[NOMBRE],Tabla8[[#This Row],[NOMBRE]])+VLOOKUP(Tabla8[[#This Row],[NOMBRE]],CONFIGURACION!$B$7:$K$200,10,0),\"\")","v":""},{"$f":"IFERROR(Tabla8[[#This Row],[DIAS ACUMULADOS]]-Tabla8[[#This Row],[DIAS TOMADAS]],\"\")","v":""}]
[null,null,null,67,{"$f":"IFERROR(VLOOKUP(Tabla8[[#This Row],[n°]],CONFIGURACION!$A$7:$K$200,2,),\"\")","v":0},{"$f":"IFERROR(VLOOKUP(Tabla8[[#This Row],[n°]],CONFIGURACION!$A$7:$K$200,3,),\"\")","v":0},{"$f":"IFERROR(VLOOKUP(Tabla8[[#This Row],[n°]],CONFIGURACION!$A$7:$K$200,4,),\"\")","v":"00:00:00"},{"$f":"IFERROR(VLOOKUP(Tabla8[[#This Row],[n°]],CONFIGURACION!$A$7:$K$200,5,),\"\")","v":0},{"$f":"IFERROR(VLOOKUP(Tabla8[[#This Row],[n°]],CONFIGURACION!$A$7:$K$200,7,),\"\")","v":0},{"$f":"IFERROR(SUMIFS(TablaBDD[TOTAL DIAS],TablaBDD[NOMBRE],Tabla8[[#This Row],[NOMBRE]])+VLOOKUP(Tabla8[[#This Row],[NOMBRE]],CONFIGURACION!$B$7:$K$200,10,0),\"\")","v":""},{"$f":"IFERROR(Tabla8[[#This Row],[DIAS ACUMULADOS]]-Tabla8[[#This Row],[DIAS TOMADAS]],\"\")","v":""}]
[null,null,null,68,{"$f":"IFERROR(VLOOKUP(Tabla8[[#This Row],[n°]],CONFIGURACION!$A$7:$K$200,2,),\"\")","v":0},{"$f":"IFERROR(VLOOKUP(Tabla8[[#This Row],[n°]],CONFIGURACION!$A$7:$K$200,3,),\"\")","v":0},{"$f":"IFERROR(VLOOKUP(Tabla8[[#This Row],[n°]],CONFIGURACION!$A$7:$K$200,4,),\"\")","v":"00:00:00"},{"$f":"IFERROR(VLOOKUP(Tabla8[[#This Row],[n°]],CONFIGURACION!$A$7:$K$200,5,),\"\")","v":0},{"$f":"IFERROR(VLOOKUP(Tabla8[[#This Row],[n°]],CONFIGURACION!$A$7:$K$200,7,),\"\")","v":0},{"$f":"IFERROR(SUMIFS(TablaBDD[TOTAL DIAS],TablaBDD[NOMBRE],Tabla8[[#This Row],[NOMBRE]])+VLOOKUP(Tabla8[[#This Row],[NOMBRE]],CONFIGURACION!$B$7:$K$200,10,0),\"\")","v":""},{"$f":"IFERROR(Tabla8[[#This Row],[DIAS ACUMULADOS]]-Tabla8[[#This Row],[DIAS TOMADAS]],\"\")","v":""}]
[null,null,null,69,{"$f":"IFERROR(VLOOKUP(Tabla8[[#This Row],[n°]],CONFIGURACION!$A$7:$K$200,2,),\"\")","v":0},{"$f":"IFERROR(VLOOKUP(Tabla8[[#This Row],[n°]],CONFIGURACION!$A$7:$K$200,3,),\"\")","v":0},{"$f":"IFERROR(VLOOKUP(Tabla8[[#This Row],[n°]],CONFIGURACION!$A$7:$K$200,4,),\"\")","v":"00:00:00"},{"$f":"IFERROR(VLOOKUP(Tabla8[[#This Row],[n°]],CONFIGURACION!$A$7:$K$200,5,),\"\")","v":0},{"$f":"IFERROR(VLOOKUP(Tabla8[[#This Row],[n°]],CONFIGURACION!$A$7:$K$200,7,),\"\")","v":0},{"$f":"IFERROR(SUMIFS(TablaBDD[TOTAL DIAS],TablaBDD[NOMBRE],Tabla8[[#This Row],[NOMBRE]])+VLOOKUP(Tabla8[[#This Row],[NOMBRE]],CONFIGURACION!$B$7:$K$200,10,0),\"\")","v":""},{"$f":"IFERROR(Tabla8[[#This Row],[DIAS ACUMULADOS]]-Tabla8[[#This Row],[DIAS TOMADAS]],\"\")","v":""}]
[null,null,null,70,{"$f":"IFERROR(VLOOKUP(Tabla8[[#This Row],[n°]],CONFIGURACION!$A$7:$K$200,2,),\"\")","v":0},{"$f":"IFERROR(VLOOKUP(Tabla8[[#This Row],[n°]],CONFIGURACION!$A$7:$K$200,3,),\"\")","v":0},{"$f":"IFERROR(VLOOKUP(Tabla8[[#This Row],[n°]],CONFIGURACION!$A$7:$K$200,4,),\"\")","v":"00:00:00"},{"$f":"IFERROR(VLOOKUP(Tabla8[[#This Row],[n°]],CONFIGURACION!$A$7:$K$200,5,),\"\")","v":0},{"$f":"IFERROR(VLOOKUP(Tabla8[[#This Row],[n°]],CONFIGURACION!$A$7:$K$200,7,),\"\")","v":0},{"$f":"IFERROR(SUMIFS(TablaBDD[TOTAL DIAS],TablaBDD[NOMBRE],Tabla8[[#This Row],[NOMBRE]])+VLOOKUP(Tabla8[[#This Row],[NOMBRE]],CONFIGURACION!$B$7:$K$200,10,0),\"\")","v":""},{"$f":"IFERROR(Tabla8[[#This Row],[DIAS ACUMULADOS]]-Tabla8[[#This Row],[DIAS TOMADAS]],\"\")","v":""}]
[null,null,null,71,{"$f":"IFERROR(VLOOKUP(Tabla8[[#This Row],[n°]],CONFIGURACION!$A$7:$K$200,2,),\"\")","v":0},{"$f":"IFERROR(VLOOKUP(Tabla8[[#This Row],[n°]],CONFIGURACION!$A$7:$K$200,3,),\"\")","v":0},{"$f":"IFERROR(VLOOKUP(Tabla8[[#This Row],[n°]],CONFIGURACION!$A$7:$K$200,4,),\"\")","v":"00:00:00"},{"$f":"IFERROR(VLOOKUP(Tabla8[[#This Row],[n°]],CONFIGURACION!$A$7:$K$200,5,),\"\")","v":0},{"$f":"IFERROR(VLOOKUP(Tabla8[[#This Row],[n°]],CONFIGURACION!$A$7:$K$200,7,),\"\")","v":0},{"$f":"IFERROR(SUMIFS(TablaBDD[TOTAL DIAS],TablaBDD[NOMBRE],Tabla8[[#This Row],[NOMBRE]])+VLOOKUP(Tabla8[[#This Row],[NOMBRE]],CONFIGURACION!$B$7:$K$200,10,0),\"\")","v":""},{"$f":"IFERROR(Tabla8[[#This Row],[DIAS ACUMULADOS]]-Tabla8[[#This Row],[DIAS TOMADAS]],\"\")","v":""}]
[null,null,null,72,{"$f":"IFERROR(VLOOKUP(Tabla8[[#This Row],[n°]],CONFIGURACION!$A$7:$K$200,2,),\"\")","v":0},{"$f":"IFERROR(VLOOKUP(Tabla8[[#This Row],[n°]],CONFIGURACION!$A$7:$K$200,3,),\"\")","v":0},{"$f":"IFERROR(VLOOKUP(Tabla8[[#This Row],[n°]],CONFIGURACION!$A$7:$K$200,4,),\"\")","v":"00:00:00"},{"$f":"IFERROR(VLOOKUP(Tabla8[[#This Row],[n°]],CONFIGURACION!$A$7:$K$200,5,),\"\")","v":0},{"$f":"IFERROR(VLOOKUP(Tabla8[[#This Row],[n°]],CONFIGURACION!$A$7:$K$200,7,),\"\")","v":0},{"$f":"IFERROR(SUMIFS(TablaBDD[TOTAL DIAS],TablaBDD[NOMBRE],Tabla8[[#This Row],[NOMBRE]])+VLOOKUP(Tabla8[[#This Row],[NOMBRE]],CONFIGURACION!$B$7:$K$200,10,0),\"\")","v":""},{"$f":"IFERROR(Tabla8[[#This Row],[DIAS ACUMULADOS]]-Tabla8[[#This Row],[DIAS TOMADAS]],\"\")","v":""}]
[null,null,null,73,{"$f":"IFERROR(VLOOKUP(Tabla8[[#This Row],[n°]],CONFIGURACION!$A$7:$K$200,2,),\"\")","v":0},{"$f":"IFERROR(VLOOKUP(Tabla8[[#This Row],[n°]],CONFIGURACION!$A$7:$K$200,3,),\"\")","v":0},{"$f":"IFERROR(VLOOKUP(Tabla8[[#This Row],[n°]],CONFIGURACION!$A$7:$K$200,4,),\"\")","v":"00:00:00"},{"$f":"IFERROR(VLOOKUP(Tabla8[[#This Row],[n°]],CONFIGURACION!$A$7:$K$200,5,),\"\")","v":0},{"$f":"IFERROR(VLOOKUP(Tabla8[[#This Row],[n°]],CONFIGURACION!$A$7:$K$200,7,),\"\")","v":0},{"$f":"IFERROR(SUMIFS(TablaBDD[TOTAL DIAS],TablaBDD[NOMBRE],Tabla8[[#This Row],[NOMBRE]])+VLOOKUP(Tabla8[[#This Row],[NOMBRE]],CONFIGURACION!$B$7:$K$200,10,0),\"\")","v":""},{"$f":"IFERROR(Tabla8[[#This Row],[DIAS ACUMULADOS]]-Tabla8[[#This Row],[DIAS TOMADAS]],\"\")","v":""}]
[null,null,null,74,{"$f":"IFERROR(VLOOKUP(Tabla8[[#This Row],[n°]],CONFIGURACION!$A$7:$K$200,2,),\"\")","v":0},{"$f":"IFERROR(VLOOKUP(Tabla8[[#This Row],[n°]],CONFIGURACION!$A$7:$K$200,3,),\"\")","v":0},{"$f":"IFERROR(VLOOKUP(Tabla8[[#This Row],[n°]],CONFIGURACION!$A$7:$K$200,4,),\"\")","v":"00:00:00"},{"$f":"IFERROR(VLOOKUP(Tabla8[[#This Row],[n°]],CONFIGURACION!$A$7:$K$200,5,),\"\")","v":0},{"$f":"IFERROR(VLOOKUP(Tabla8[[#This Row],[n°]],CONFIGURACION!$A$7:$K$200,7,),\"\")","v":0},{"$f":"IFERROR(SUMIFS(TablaBDD[TOTAL DIAS],TablaBDD[NOMBRE],Tabla8[[#This Row],[NOMBRE]])+VLOOKUP(Tabla8[[#This Row],[NOMBRE]],CONFIGURACION!$B$7:$K$200,10,0),\"\")","v":""},{"$f":"IFERROR(Tabla8[[#This Row],[DIAS ACUMULADOS]]-Tabla8[[#This Row],[DIAS TOMADAS]],\"\")","v":""}]
[null,null,null,75,{"$f":"IFERROR(VLOOKUP(Tabla8[[#This Row],[n°]],CONFIGURACION!$A$7:$K$200,2,),\"\")","v":0},{"$f":"IFERROR(VLOOKUP(Tabla8[[#This Row],[n°]],CONFIGURACION!$A$7:$K$200,3,),\"\")","v":0},{"$f":"IFERROR(VLOOKUP(Tabla8[[#This Row],[n°]],CONFIGURACION!$A$7:$K$200,4,),\"\")","v":"00:00:00"},{"$f":"IFERROR(VLOOKUP(Tabla8[[#This Row],[n°]],CONFIGURACION!$A$7:$K$200,5,),\"\")","v":0},{"$f":"IFERROR(VLOOKUP(Tabla8[[#This Row],[n°]],CONFIGURACION!$A$7:$K$200,7,),\"\")","v":0},{"$f":"IFERROR(SUMIFS(TablaBDD[TOTAL DIAS],TablaBDD[NOMBRE],Tabla8[[#This Row],[NOMBRE]])+VLOOKUP(Tabla8[[#This Row],[NOMBRE]],CONFIGURACION!$B$7:$K$200,10,0),\"\")","v":""},{"$f":"IFERROR(Tabla8[[#This Row],[DIAS ACUMULADOS]]-Tabla8[[#This Row],[DIAS TOMADAS]],\"\")","v":""}]
[null,null,null,76,{"$f":"IFERROR(VLOOKUP(Tabla8[[#This Row],[n°]],CONFIGURACION!$A$7:$K$200,2,),\"\")","v":0},{"$f":"IFERROR(VLOOKUP(Tabla8[[#This Row],[n°]],CONFIGURACION!$A$7:$K$200,3,),\"\")","v":0},{"$f":"IFERROR(VLOOKUP(Tabla8[[#This Row],[n°]],CONFIGURACION!$A$7:$K$200,4,),\"\")","v":"00:00:00"},{"$f":"IFERROR(VLOOKUP(Tabla8[[#This Row],[n°]],CONFIGURACION!$A$7:$K$200,5,),\"\")","v":0},{"$f":"IFERROR(VLOOKUP(Tabla8[[#This Row],[n°]],CONFIGURACION!$A$7:$K$200,7,),\"\")","v":0},{"$f":"IFERROR(SUMIFS(TablaBDD[TOTAL DIAS],TablaBDD[NOMBRE],Tabla8[[#This Row],[NOMBRE]])+VLOOKUP(Tabla8[[#This Row],[NOMBRE]],CONFIGURACION!$B$7:$K$200,10,0),\"\")","v":""},{"$f":"IFERROR(Tabla8[[#This Row],[DIAS ACUMULADOS]]-Tabla8[[#This Row],[DIAS TOMADAS]],\"\")","v":""}]
[null,null,null,77,{"$f":"IFERROR(VLOOKUP(Tabla8[[#This Row],[n°]],CONFIGURACION!$A$7:$K$200,2,),\"\")","v":0},{"$f":"IFERROR(VLOOKUP(Tabla8[[#This Row],[n°]],CONFIGURACION!$A$7:$K$200,3,),\"\")","v":0},{"$f":"IFERROR(VLOOKUP(Tabla8[[#This Row],[n°]],CONFIGURACION!$A$7:$K$200,4,),\"\")","v":"00:00:00"},{"$f":"IFERROR(VLOOKUP(Tabla8[[#This Row],[n°]],CONFIGURACION!$A$7:$K$200,5,),\"\")","v":0},{"$f":"IFERROR(VLOOKUP(Tabla8[[#This Row],[n°]],CONFIGURACION!$A$7:$K$200,7,),\"\")","v":0},{"$f":"IFERROR(SUMIFS(TablaBDD[TOTAL DIAS],TablaBDD[NOMBRE],Tabla8[[#This Row],[NOMBRE]])+VLOOKUP(Tabla8[[#This Row],[NOMBRE]],CONFIGURACION!$B$7:$K$200,10,0),\"\")","v":""},{"$f":"IFERROR(Tabla8[[#This Row],[DIAS ACUMULADOS]]-Tabla8[[#This Row],[DIAS TOMADAS]],\"\")","v":""}]
[null,null,null,78,{"$f":"IFERROR(VLOOKUP(Tabla8[[#This Row],[n°]],CONFIGURACION!$A$7:$K$200,2,),\"\")","v":0},{"$f":"IFERROR(VLOOKUP(Tabla8[[#This Row],[n°]],CONFIGURACION!$A$7:$K$200,3,),\"\")","v":0},{"$f":"IFERROR(VLOOKUP(Tabla8[[#This Row],[n°]],CONFIGURACION!$A$7:$K$200,4,),\"\")","v":"00:00:00"},{"$f":"IFERROR(VLOOKUP(Tabla8[[#This Row],[n°]],CONFIGURACION!$A$7:$K$200,5,),\"\")","v":0},{"$f":"IFERROR(VLOOKUP(Tabla8[[#This Row],[n°]],CONFIGURACION!$A$7:$K$200,7,),\"\")","v":0},{"$f":"IFERROR(SUMIFS(TablaBDD[TOTAL DIAS],TablaBDD[NOMBRE],Tabla8[[#This Row],[NOMBRE]])+VLOOKUP(Tabla8[[#This Row],[NOMBRE]],CONFIGURACION!$B$7:$K$200,10,0),\"\")","v":""},{"$f":"IFERROR(Tabla8[[#This Row],[DIAS ACUMULADOS]]-Tabla8[[#This Row],[DIAS TOMADAS]],\"\")","v":""}]
[null,null,null,79,{"$f":"IFERROR(VLOOKUP(Tabla8[[#This Row],[n°]],CONFIGURACION!$A$7:$K$200,2,),\"\")","v":0},{"$f":"IFERROR(VLOOKUP(Tabla8[[#This Row],[n°]],CONFIGURACION!$A$7:$K$200,3,),\"\")","v":0},{"$f":"IFERROR(VLOOKUP(Tabla8[[#This Row],[n°]],CONFIGURACION!$A$7:$K$200,4,),\"\")","v":"00:00:00"},{"$f":"IFERROR(VLOOKUP(Tabla8[[#This Row],[n°]],CONFIGURACION!$A$7:$K$200,5,),\"\")","v":0},{"$f":"IFERROR(VLOOKUP(Tabla8[[#This Row],[n°]],CONFIGURACION!$A$7:$K$200,7,),\"\")","v":0},{"$f":"IFERROR(SUMIFS(TablaBDD[TOTAL DIAS],TablaBDD[NOMBRE],Tabla8[[#This Row],[NOMBRE]])+VLOOKUP(Tabla8[[#This Row],[NOMBRE]],CONFIGURACION!$B$7:$K$200,10,0),\"\")","v":""},{"$f":"IFERROR(Tabla8[[#This Row],[DIAS ACUMULADOS]]-Tabla8[[#This Row],[DIAS TOMADAS]],\"\")","v":""}]
[null,null,null,80,{"$f":"IFERROR(VLOOKUP(Tabla8[[#This Row],[n°]],CONFIGURACION!$A$7:$K$200,2,),\"\")","v":0},{"$f":"IFERROR(VLOOKUP(Tabla8[[#This Row],[n°]],CONFIGURACION!$A$7:$K$200,3,),\"\")","v":0},{"$f":"IFERROR(VLOOKUP(Tabla8[[#This Row],[n°]],CONFIGURACION!$A$7:$K$200,4,),\"\")","v":"00:00:00"},{"$f":"IFERROR(VLOOKUP(Tabla8[[#This Row],[n°]],CONFIGURACION!$A$7:$K$200,5,),\"\")","v":0},{"$f":"IFERROR(VLOOKUP(Tabla8[[#This Row],[n°]],CONFIGURACION!$A$7:$K$200,7,),\"\")","v":0},{"$f":"IFERROR(SUMIFS(TablaBDD[TOTAL DIAS],TablaBDD[NOMBRE],Tabla8[[#This Row],[NOMBRE]])+VLOOKUP(Tabla8[[#This Row],[NOMBRE]],CONFIGURACION!$B$7:$K$200,10,0),\"\")","v":""},{"$f":"IFERROR(Tabla8[[#This Row],[DIAS ACUMULADOS]]-Tabla8[[#This Row],[DIAS TOMADAS]],\"\")","v":""}]
[null,null,null,81,{"$f":"IFERROR(VLOOKUP(Tabla8[[#This Row],[n°]],CONFIGURACION!$A$7:$K$200,2,),\"\")","v":0},{"$f":"IFERROR(VLOOKUP(Tabla8[[#This Row],[n°]],CONFIGURACION!$A$7:$K$200,3,),\"\")","v":0},{"$f":"IFERROR(VLOOKUP(Tabla8[[#This Row],[n°]],CONFIGURACION!$A$7:$K$200,4,),\"\")","v":"00:00:00"},{"$f":"IFERROR(VLOOKUP(Tabla8[[#This Row],[n°]],CONFIGURACION!$A$7:$K$200,5,),\"\")","v":0},{"$f":"IFERROR(VLOOKUP(Tabla8[[#This Row],[n°]],CONFIGURACION!$A$7:$K$200,7,),\"\")","v":0},{"$f":"IFERROR(SUMIFS(TablaBDD[TOTAL DIAS],TablaBDD[NOMBRE],Tabla8[[#This Row],[NOMBRE]])+VLOOKUP(Tabla8[[#This Row],[NOMBRE]],CONFIGURACION!$B$7:$K$200,10,0),\"\")","v":""},{"$f":"IFERROR(Tabla8[[#This Row],[DIAS ACUMULADOS]]-Tabla8[[#This Row],[DIAS TOMADAS]],\"\")","v":""}]
[null,null,null,82,{"$f":"IFERROR(VLOOKUP(Tabla8[[#This Row],[n°]],CONFIGURACION!$A$7:$K$200,2,),\"\")","v":0},{"$f":"IFERROR(VLOOKUP(Tabla8[[#This Row],[n°]],CONFIGURACION!$A$7:$K$200,3,),\"\")","v":0},{"$f":"IFERROR(VLOOKUP(Tabla8[[#This Row],[n°]],CONFIGURACION!$A$7:$K$200,4,),\"\")","v":"00:00:00"},{"$f":"IFERROR(VLOOKUP(Tabla8[[#This Row],[n°]],CONFIGURACION!$A$7:$K$200,5,),\"\")","v":0},{"$f":"IFERROR(VLOOKUP(Tabla8[[#This Row],[n°]],CONFIGURACION!$A$7:$K$200,7,),\"\")","v":0},{"$f":"IFERROR(SUMIFS(TablaBDD[TOTAL DIAS],TablaBDD[NOMBRE],Tabla8[[#This Row],[NOMBRE]])+VLOOKUP(Tabla8[[#This Row],[NOMBRE]],CONFIGURACION!$B$7:$K$200,10,0),\"\")","v":""},{"$f":"IFERROR(Tabla8[[#This Row],[DIAS ACUMULADOS]]-Tabla8[[#This Row],[DIAS TOMADAS]],\"\")","v":""}]
[null,null,null,83,{"$f":"IFERROR(VLOOKUP(Tabla8[[#This Row],[n°]],CONFIGURACION!$A$7:$K$200,2,),\"\")","v":0},{"$f":"IFERROR(VLOOKUP(Tabla8[[#This Row],[n°]],CONFIGURACION!$A$7:$K$200,3,),\"\")","v":0},{"$f":"IFERROR(VLOOKUP(Tabla8[[#This Row],[n°]],CONFIGURACION!$A$7:$K$200,4,),\"\")","v":"00:00:00"},{"$f":"IFERROR(VLOOKUP(Tabla8[[#This Row],[n°]],CONFIGURACION!$A$7:$K$200,5,),\"\")","v":0},{"$f":"IFERROR(VLOOKUP(Tabla8[[#This Row],[n°]],CONFIGURACION!$A$7:$K$200,7,),\"\")","v":0},{"$f":"IFERROR(SUMIFS(TablaBDD[TOTAL DIAS],TablaBDD[NOMBRE],Tabla8[[#This Row],[NOMBRE]])+VLOOKUP(Tabla8[[#This Row],[NOMBRE]],CONFIGURACION!$B$7:$K$200,10,0),\"\")","v":""},{"$f":"IFERROR(Tabla8[[#This Row],[DIAS ACUMULADOS]]-Tabla8[[#This Row],[DIAS TOMADAS]],\"\")","v":""}]
[null,null,null,84,{"$f":"IFERROR(VLOOKUP(Tabla8[[#This Row],[n°]],CONFIGURACION!$A$7:$K$200,2,),\"\")","v":0},{"$f":"IFERROR(VLOOKUP(Tabla8[[#This Row],[n°]],CONFIGURACION!$A$7:$K$200,3,),\"\")","v":0},{"$f":"IFERROR(VLOOKUP(Tabla8[[#This Row],[n°]],CONFIGURACION!$A$7:$K$200,4,),\"\")","v":"00:00:00"},{"$f":"IFERROR(VLOOKUP(Tabla8[[#This Row],[n°]],CONFIGURACION!$A$7:$K$200,5,),\"\")","v":0},{"$f":"IFERROR(VLOOKUP(Tabla8[[#This Row],[n°]],CONFIGURACION!$A$7:$K$200,7,),\"\")","v":0},{"$f":"IFERROR(SUMIFS(TablaBDD[TOTAL DIAS],TablaBDD[NOMBRE],Tabla8[[#This Row],[NOMBRE]])+VLOOKUP(Tabla8[[#This Row],[NOMBRE]],CONFIGURACION!$B$7:$K$200,10,0),\"\")","v":""},{"$f":"IFERROR(Tabla8[[#This Row],[DIAS ACUMULADOS]]-Tabla8[[#This Row],[DIAS TOMADAS]],\"\")","v":""}]
[null,null,null,85,{"$f":"IFERROR(VLOOKUP(Tabla8[[#This Row],[n°]],CONFIGURACION!$A$7:$K$200,2,),\"\")","v":0},{"$f":"IFERROR(VLOOKUP(Tabla8[[#This Row],[n°]],CONFIGURACION!$A$7:$K$200,3,),\"\")","v":0},{"$f":"IFERROR(VLOOKUP(Tabla8[[#This Row],[n°]],CONFIGURACION!$A$7:$K$200,4,),\"\")","v":"00:00:00"},{"$f":"IFERROR(VLOOKUP(Tabla8[[#This Row],[n°]],CONFIGURACION!$A$7:$K$200,5,),\"\")","v":0},{"$f":"IFERROR(VLOOKUP(Tabla8[[#This Row],[n°]],CONFIGURACION!$A$7:$K$200,7,),\"\")","v":0},{"$f":"IFERROR(SUMIFS(TablaBDD[TOTAL DIAS],TablaBDD[NOMBRE],Tabla8[[#This Row],[NOMBRE]])+VLOOKUP(Tabla8[[#This Row],[NOMBRE]],CONFIGURACION!$B$7:$K$200,10,0),\"\")","v":""},{"$f":"IFERROR(Tabla8[[#This Row],[DIAS ACUMULADOS]]-Tabla8[[#This Row],[DIAS TOMADAS]],\"\")","v":""}]
[null,null,null,86,{"$f":"IFERROR(VLOOKUP(Tabla8[[#This Row],[n°]],CONFIGURACION!$A$7:$K$200,2,),\"\")","v":0},{"$f":"IFERROR(VLOOKUP(Tabla8[[#This Row],[n°]],CONFIGURACION!$A$7:$K$200,3,),\"\")","v":0},{"$f":"IFERROR(VLOOKUP(Tabla8[[#This Row],[n°]],CONFIGURACION!$A$7:$K$200,4,),\"\")","v":"00:00:00"},{"$f":"IFERROR(VLOOKUP(Tabla8[[#This Row],[n°]],CONFIGURACION!$A$7:$K$200,5,),\"\")","v":0},{"$f":"IFERROR(VLOOKUP(Tabla8[[#This Row],[n°]],CONFIGURACION!$A$7:$K$200,7,),\"\")","v":0},{"$f":"IFERROR(SUMIFS(TablaBDD[TOTAL DIAS],TablaBDD[NOMBRE],Tabla8[[#This Row],[NOMBRE]])+VLOOKUP(Tabla8[[#This Row],[NOMBRE]],CONFIGURACION!$B$7:$K$200,10,0),\"\")","v":""},{"$f":"IFERROR(Tabla8[[#This Row],[DIAS ACUMULADOS]]-Tabla8[[#This Row],[DIAS TOMADAS]],\"\")","v":""}]
[null,null,null,87,{"$f":"IFERROR(VLOOKUP(Tabla8[[#This Row],[n°]],CONFIGURACION!$A$7:$K$200,2,),\"\")","v":0},{"$f":"IFERROR(VLOOKUP(Tabla8[[#This Row],[n°]],CONFIGURACION!$A$7:$K$200,3,),\"\")","v":0},{"$f":"IFERROR(VLOOKUP(Tabla8[[#This Row],[n°]],CONFIGURACION!$A$7:$K$200,4,),\"\")","v":"00:00:00"},{"$f":"IFERROR(VLOOKUP(Tabla8[[#This Row],[n°]],CONFIGURACION!$A$7:$K$200,5,),\"\")","v":0},{"$f":"IFERROR(VLOOKUP(Tabla8[[#This Row],[n°]],CONFIGURACION!$A$7:$K$200,7,),\"\")","v":0},{"$f":"IFERROR(SUMIFS(TablaBDD[TOTAL DIAS],TablaBDD[NOMBRE],Tabla8[[#This Row],[NOMBRE]])+VLOOKUP(Tabla8[[#This Row],[NOMBRE]],CONFIGURACION!$B$7:$K$200,10,0),\"\")","v":""},{"$f":"IFERROR(Tabla8[[#This Row],[DIAS ACUMULADOS]]-Tabla8[[#This Row],[DIAS TOMADAS]],\"\")","v":""}]
[null,null,null,88,{"$f":"IFERROR(VLOOKUP(Tabla8[[#This Row],[n°]],CONFIGURACION!$A$7:$K$200,2,),\"\")","v":0},{"$f":"IFERROR(VLOOKUP(Tabla8[[#This Row],[n°]],CONFIGURACION!$A$7:$K$200,3,),\"\")","v":0},{"$f":"IFERROR(VLOOKUP(Tabla8[[#This Row],[n°]],CONFIGURACION!$A$7:$K$200,4,),\"\")","v":"00:00:00"},{"$f":"IFERROR(VLOOKUP(Tabla8[[#This Row],[n°]],CONFIGURACION!$A$7:$K$200,5,),\"\")","v":0},{"$f":"IFERROR(VLOOKUP(Tabla8[[#This Row],[n°]],CONFIGURACION!$A$7:$K$200,7,),\"\")","v":0},{"$f":"IFERROR(SUMIFS(TablaBDD[TOTAL DIAS],TablaBDD[NOMBRE],Tabla8[[#This Row],[NOMBRE]])+VLOOKUP(Tabla8[[#This Row],[NOMBRE]],CONFIGURACION!$B$7:$K$200,10,0),\"\")","v":""},{"$f":"IFERROR(Tabla8[[#This Row],[DIAS ACUMULADOS]]-Tabla8[[#This Row],[DIAS TOMADAS]],\"\")","v":""}]
[null,null,null,89,{"$f":"IFERROR(VLOOKUP(Tabla8[[#This Row],[n°]],CONFIGURACION!$A$7:$K$200,2,),\"\")","v":0},{"$f":"IFERROR(VLOOKUP(Tabla8[[#This Row],[n°]],CONFIGURACION!$A$7:$K$200,3,),\"\")","v":0},{"$f":"IFERROR(VLOOKUP(Tabla8[[#This Row],[n°]],CONFIGURACION!$A$7:$K$200,4,),\"\")","v":"00:00:00"},{"$f":"IFERROR(VLOOKUP(Tabla8[[#This Row],[n°]],CONFIGURACION!$A$7:$K$200,5,),\"\")","v":0},{"$f":"IFERROR(VLOOKUP(Tabla8[[#This Row],[n°]],CONFIGURACION!$A$7:$K$200,7,),\"\")","v":0},{"$f":"IFERROR(SUMIFS(TablaBDD[TOTAL DIAS],TablaBDD[NOMBRE],Tabla8[[#This Row],[NOMBRE]])+VLOOKUP(Tabla8[[#This Row],[NOMBRE]],CONFIGURACION!$B$7:$K$200,10,0),\"\")","v":""},{"$f":"IFERROR(Tabla8[[#This Row],[DIAS ACUMULADOS]]-Tabla8[[#This Row],[DIAS TOMADAS]],\"\")","v":""}]
[null,null,null,90,{"$f":"IFERROR(VLOOKUP(Tabla8[[#This Row],[n°]],CONFIGURACION!$A$7:$K$200,2,),\"\")","v":0},{"$f":"IFERROR(VLOOKUP(Tabla8[[#This Row],[n°]],CONFIGURACION!$A$7:$K$200,3,),\"\")","v":0},{"$f":"IFERROR(VLOOKUP(Tabla8[[#This Row],[n°]],CONFIGURACION!$A$7:$K$200,4,),\"\")","v":"00:00:00"},{"$f":"IFERROR(VLOOKUP(Tabla8[[#This Row],[n°]],CONFIGURACION!$A$7:$K$200,5,),\"\")","v":0},{"$f":"IFERROR(VLOOKUP(Tabla8[[#This Row],[n°]],CONFIGURACION!$A$7:$K$200,7,),\"\")","v":0},{"$f":"IFERROR(SUMIFS(TablaBDD[TOTAL DIAS],TablaBDD[NOMBRE],Tabla8[[#This Row],[NOMBRE]])+VLOOKUP(Tabla8[[#This Row],[NOMBRE]],CONFIGURACION!$B$7:$K$200,10,0),\"\")","v":""},{"$f":"IFERROR(Tabla8[[#This Row],[DIAS ACUMULADOS]]-Tabla8[[#This Row],[DIAS TOMADAS]],\"\")","v":""}]
[null,null,null,91,{"$f":"IFERROR(VLOOKUP(Tabla8[[#This Row],[n°]],CONFIGURACION!$A$7:$K$200,2,),\"\")","v":0},{"$f":"IFERROR(VLOOKUP(Tabla8[[#This Row],[n°]],CONFIGURACION!$A$7:$K$200,3,),\"\")","v":0},{"$f":"IFERROR(VLOOKUP(Tabla8[[#This Row],[n°]],CONFIGURACION!$A$7:$K$200,4,),\"\")","v":"00:00:00"},{"$f":"IFERROR(VLOOKUP(Tabla8[[#This Row],[n°]],CONFIGURACION!$A$7:$K$200,5,),\"\")","v":0},{"$f":"IFERROR(VLOOKUP(Tabla8[[#This Row],[n°]],CONFIGURACION!$A$7:$K$200,7,),\"\")","v":0},{"$f":"IFERROR(SUMIFS(TablaBDD[TOTAL DIAS],TablaBDD[NOMBRE],Tabla8[[#This Row],[NOMBRE]])+VLOOKUP(Tabla8[[#This Row],[NOMBRE]],CONFIGURACION!$B$7:$K$200,10,0),\"\")","v":""},{"$f":"IFERROR(Tabla8[[#This Row],[DIAS ACUMULADOS]]-Tabla8[[#This Row],[DIAS TOMADAS]],\"\")","v":""}]
[null,null,null,92,{"$f":"IFERROR(VLOOKUP(Tabla8[[#This Row],[n°]],CONFIGURACION!$A$7:$K$200,2,),\"\")","v":0},{"$f":"IFERROR(VLOOKUP(Tabla8[[#This Row],[n°]],CONFIGURACION!$A$7:$K$200,3,),\"\")","v":0},{"$f":"IFERROR(VLOOKUP(Tabla8[[#This Row],[n°]],CONFIGURACION!$A$7:$K$200,4,),\"\")","v":"00:00:00"},{"$f":"IFERROR(VLOOKUP(Tabla8[[#This Row],[n°]],CONFIGURACION!$A$7:$K$200,5,),\"\")","v":0},{"$f":"IFERROR(VLOOKUP(Tabla8[[#This Row],[n°]],CONFIGURACION!$A$7:$K$200,7,),\"\")","v":0},{"$f":"IFERROR(SUMIFS(TablaBDD[TOTAL DIAS],TablaBDD[NOMBRE],Tabla8[[#This Row],[NOMBRE]])+VLOOKUP(Tabla8[[#This Row],[NOMBRE]],CONFIGURACION!$B$7:$K$200,10,0),\"\")","v":""},{"$f":"IFERROR(Tabla8[[#This Row],[DIAS ACUMULADOS]]-Tabla8[[#This Row],[DIAS TOMADAS]],\"\")","v":""}]
[null,null,null,93,{"$f":"IFERROR(VLOOKUP(Tabla8[[#This Row],[n°]],CONFIGURACION!$A$7:$K$200,2,),\"\")","v":0},{"$f":"IFERROR(VLOOKUP(Tabla8[[#This Row],[n°]],CONFIGURACION!$A$7:$K$200,3,),\"\")","v":0},{"$f":"IFERROR(VLOOKUP(Tabla8[[#This Row],[n°]],CONFIGURACION!$A$7:$K$200,4,),\"\")","v":"00:00:00"},{"$f":"IFERROR(VLOOKUP(Tabla8[[#This Row],[n°]],CONFIGURACION!$A$7:$K$200,5,),\"\")","v":0},{"$f":"IFERROR(VLOOKUP(Tabla8[[#This Row],[n°]],CONFIGURACION!$A$7:$K$200,7,),\"\")","v":0},{"$f":"IFERROR(SUMIFS(TablaBDD[TOTAL DIAS],TablaBDD[NOMBRE],Tabla8[[#This Row],[NOMBRE]])+VLOOKUP(Tabla8[[#This Row],[NOMBRE]],CONFIGURACION!$B$7:$K$200,10,0),\"\")","v":""},{"$f":"IFERROR(Tabla8[[#This Row],[DIAS ACUMULADOS]]-Tabla8[[#This Row],[DIAS TOMADAS]],\"\")","v":""}]
[null,null,null,94,{"$f":"IFERROR(VLOOKUP(Tabla8[[#This Row],[n°]],CONFIGURACION!$A$7:$K$200,2,),\"\")","v":0},{"$f":"IFERROR(VLOOKUP(Tabla8[[#This Row],[n°]],CONFIGURACION!$A$7:$K$200,3,),\"\")","v":0},{"$f":"IFERROR(VLOOKUP(Tabla8[[#This Row],[n°]],CONFIGURACION!$A$7:$K$200,4,),\"\")","v":"00:00:00"},{"$f":"IFERROR(VLOOKUP(Tabla8[[#This Row],[n°]],CONFIGURACION!$A$7:$K$200,5,),\"\")","v":0},{"$f":"IFERROR(VLOOKUP(Tabla8[[#This Row],[n°]],CONFIGURACION!$A$7:$K$200,7,),\"\")","v":0},{"$f":"IFERROR(SUMIFS(TablaBDD[TOTAL DIAS],TablaBDD[NOMBRE],Tabla8[[#This Row],[NOMBRE]])+VLOOKUP(Tabla8[[#This Row],[NOMBRE]],CONFIGURACION!$B$7:$K$200,10,0),\"\")","v":""},{"$f":"IFERROR(Tabla8[[#This Row],[DIAS ACUMULADOS]]-Tabla8[[#This Row],[DIAS TOMADAS]],\"\")","v":""}]
[null,null,null,95,{"$f":"IFERROR(VLOOKUP(Tabla8[[#This Row],[n°]],CONFIGURACION!$A$7:$K$200,2,),\"\")","v":0},{"$f":"IFERROR(VLOOKUP(Tabla8[[#This Row],[n°]],CONFIGURACION!$A$7:$K$200,3,),\"\")","v":0},{"$f":"IFERROR(VLOOKUP(Tabla8[[#This Row],[n°]],CONFIGURACION!$A$7:$K$200,4,),\"\")","v":"00:00:00"},{"$f":"IFERROR(VLOOKUP(Tabla8[[#This Row],[n°]],CONFIGURACION!$A$7:$K$200,5,),\"\")","v":0},{"$f":"IFERROR(VLOOKUP(Tabla8[[#This Row],[n°]],CONFIGURACION!$A$7:$K$200,7,),\"\")","v":0},{"$f":"IFERROR(SUMIFS(TablaBDD[TOTAL DIAS],TablaBDD[NOMBRE],Tabla8[[#This Row],[NOMBRE]])+VLOOKUP(Tabla8[[#This Row],[NOMBRE]],CONFIGURACION!$B$7:$K$200,10,0),\"\")","v":""},{"$f":"IFERROR(Tabla8[[#This Row],[DIAS ACUMULADOS]]-Tabla8[[#This Row],[DIAS TOMADAS]],\"\")","v":""}]
[null,null,null,96,{"$f":"IFERROR(VLOOKUP(Tabla8[[#This Row],[n°]],CONFIGURACION!$A$7:$K$200,2,),\"\")","v":0},{"$f":"IFERROR(VLOOKUP(Tabla8[[#This Row],[n°]],CONFIGURACION!$A$7:$K$200,3,),\"\")","v":0},{"$f":"IFERROR(VLOOKUP(Tabla8[[#This Row],[n°]],CONFIGURACION!$A$7:$K$200,4,),\"\")","v":"00:00:00"},{"$f":"IFERROR(VLOOKUP(Tabla8[[#This Row],[n°]],CONFIGURACION!$A$7:$K$200,5,),\"\")","v":0},{"$f":"IFERROR(VLOOKUP(Tabla8[[#This Row],[n°]],CONFIGURACION!$A$7:$K$200,7,),\"\")","v":0},{"$f":"IFERROR(SUMIFS(TablaBDD[TOTAL DIAS],TablaBDD[NOMBRE],Tabla8[[#This Row],[NOMBRE]])+VLOOKUP(Tabla8[[#This Row],[NOMBRE]],CONFIGURACION!$B$7:$K$200,10,0),\"\")","v":""},{"$f":"IFERROR(Tabla8[[#This Row],[DIAS ACUMULADOS]]-Tabla8[[#This Row],[DIAS TOMADAS]],\"\")","v":""}]
[null,null,null,97,{"$f":"IFERROR(VLOOKUP(Tabla8[[#This Row],[n°]],CONFIGURACION!$A$7:$K$200,2,),\"\")","v":0},{"$f":"IFERROR(VLOOKUP(Tabla8[[#This Row],[n°]],CONFIGURACION!$A$7:$K$200,3,),\"\")","v":0},{"$f":"IFERROR(VLOOKUP(Tabla8[[#This Row],[n°]],CONFIGURACION!$A$7:$K$200,4,),\"\")","v":"00:00:00"},{"$f":"IFERROR(VLOOKUP(Tabla8[[#This Row],[n°]],CONFIGURACION!$A$7:$K$200,5,),\"\")","v":0},{"$f":"IFERROR(VLOOKUP(Tabla8[[#This Row],[n°]],CONFIGURACION!$A$7:$K$200,7,),\"\")","v":0},{"$f":"IFERROR(SUMIFS(TablaBDD[TOTAL DIAS],TablaBDD[NOMBRE],Tabla8[[#This Row],[NOMBRE]])+VLOOKUP(Tabla8[[#This Row],[NOMBRE]],CONFIGURACION!$B$7:$K$200,10,0),\"\")","v":""},{"$f":"IFERROR(Tabla8[[#This Row],[DIAS ACUMULADOS]]-Tabla8[[#This Row],[DIAS TOMADAS]],\"\")","v":""}]
[null,null,null,98,{"$f":"IFERROR(VLOOKUP(Tabla8[[#This Row],[n°]],CONFIGURACION!$A$7:$K$200,2,),\"\")","v":0},{"$f":"IFERROR(VLOOKUP(Tabla8[[#This Row],[n°]],CONFIGURACION!$A$7:$K$200,3,),\"\")","v":0},{"$f":"IFERROR(VLOOKUP(Tabla8[[#This Row],[n°]],CONFIGURACION!$A$7:$K$200,4,),\"\")","v":"00:00:00"},{"$f":"IFERROR(VLOOKUP(Tabla8[[#This Row],[n°]],CONFIGURACION!$A$7:$K$200,5,),\"\")","v":0},{"$f":"IFERROR(VLOOKUP(Tabla8[[#This Row],[n°]],CONFIGURACION!$A$7:$K$200,7,),\"\")","v":0},{"$f":"IFERROR(SUMIFS(TablaBDD[TOTAL DIAS],TablaBDD[NOMBRE],Tabla8[[#This Row],[NOMBRE]])+VLOOKUP(Tabla8[[#This Row],[NOMBRE]],CONFIGURACION!$B$7:$K$200,10,0),\"\")","v":""},{"$f":"IFERROR(Tabla8[[#This Row],[DIAS ACUMULADOS]]-Tabla8[[#This Row],[DIAS TOMADAS]],\"\")","v":""}]
[null,null,null,99,{"$f":"IFERROR(VLOOKUP(Tabla8[[#This Row],[n°]],CONFIGURACION!$A$7:$K$200,2,),\"\")","v":0},{"$f":"IFERROR(VLOOKUP(Tabla8[[#This Row],[n°]],CONFIGURACION!$A$7:$K$200,3,),\"\")","v":0},{"$f":"IFERROR(VLOOKUP(Tabla8[[#This Row],[n°]],CONFIGURACION!$A$7:$K$200,4,),\"\")","v":"00:00:00"},{"$f":"IFERROR(VLOOKUP(Tabla8[[#This Row],[n°]],CONFIGURACION!$A$7:$K$200,5,),\"\")","v":0},{"$f":"IFERROR(VLOOKUP(Tabla8[[#This Row],[n°]],CONFIGURACION!$A$7:$K$200,7,),\"\")","v":0},{"$f":"IFERROR(SUMIFS(TablaBDD[TOTAL DIAS],TablaBDD[NOMBRE],Tabla8[[#This Row],[NOMBRE]])+VLOOKUP(Tabla8[[#This Row],[NOMBRE]],CONFIGURACION!$B$7:$K$200,10,0),\"\")","v":""},{"$f":"IFERROR(Tabla8[[#This Row],[DIAS ACUMULADOS]]-Tabla8[[#This Row],[DIAS TOMADAS]],\"\")","v":""}]
[null,null,null,100,{"$f":"IFERROR(VLOOKUP(Tabla8[[#This Row],[n°]],CONFIGURACION!$A$7:$K$200,2,),\"\")","v":0},{"$f":"IFERROR(VLOOKUP(Tabla8[[#This Row],[n°]],CONFIGURACION!$A$7:$K$200,3,),\"\")","v":0},{"$f":"IFERROR(VLOOKUP(Tabla8[[#This Row],[n°]],CONFIGURACION!$A$7:$K$200,4,),\"\")","v":"00:00:00"},{"$f":"IFERROR(VLOOKUP(Tabla8[[#This Row],[n°]],CONFIGURACION!$A$7:$K$200,5,),\"\")","v":0},{"$f":"IFERROR(VLOOKUP(Tabla8[[#This Row],[n°]],CONFIGURACION!$A$7:$K$200,7,),\"\")","v":0},{"$f":"IFERROR(SUMIFS(TablaBDD[TOTAL DIAS],TablaBDD[NOMBRE],Tabla8[[#This Row],[NOMBRE]])+VLOOKUP(Tabla8[[#This Row],[NOMBRE]],CONFIGURACION!$B$7:$K$200,10,0),\"\")","v":""},{"$f":"IFERROR(Tabla8[[#This Row],[DIAS ACUMULADOS]]-Tabla8[[#This Row],[DIAS TOMADAS]],\"\")","v":""}]
[null,null,null,101,{"$f":"IFERROR(VLOOKUP(Tabla8[[#This Row],[n°]],CONFIGURACION!$A$7:$K$200,2,),\"\")","v":0},{"$f":"IFERROR(VLOOKUP(Tabla8[[#This Row],[n°]],CONFIGURACION!$A$7:$K$200,3,),\"\")","v":0},{"$f":"IFERROR(VLOOKUP(Tabla8[[#This Row],[n°]],CONFIGURACION!$A$7:$K$200,4,),\"\")","v":"00:00:00"},{"$f":"IFERROR(VLOOKUP(Tabla8[[#This Row],[n°]],CONFIGURACION!$A$7:$K$200,5,),\"\")","v":0},{"$f":"IFERROR(VLOOKUP(Tabla8[[#This Row],[n°]],CONFIGURACION!$A$7:$K$200,7,),\"\")","v":0},{"$f":"IFERROR(SUMIFS(TablaBDD[TOTAL DIAS],TablaBDD[NOMBRE],Tabla8[[#This Row],[NOMBRE]])+VLOOKUP(Tabla8[[#This Row],[NOMBRE]],CONFIGURACION!$B$7:$K$200,10,0),\"\")","v":""},{"$f":"IFERROR(Tabla8[[#This Row],[DIAS ACUMULADOS]]-Tabla8[[#This Row],[DIAS TOMADAS]],\"\")","v":""}]
[null,null,null,102,{"$f":"IFERROR(VLOOKUP(Tabla8[[#This Row],[n°]],CONFIGURACION!$A$7:$K$200,2,),\"\")","v":0},{"$f":"IFERROR(VLOOKUP(Tabla8[[#This Row],[n°]],CONFIGURACION!$A$7:$K$200,3,),\"\")","v":0},{"$f":"IFERROR(VLOOKUP(Tabla8[[#This Row],[n°]],CONFIGURACION!$A$7:$K$200,4,),\"\")","v":"00:00:00"},{"$f":"IFERROR(VLOOKUP(Tabla8[[#This Row],[n°]],CONFIGURACION!$A$7:$K$200,5,),\"\")","v":0},{"$f":"IFERROR(VLOOKUP(Tabla8[[#This Row],[n°]],CONFIGURACION!$A$7:$K$200,7,),\"\")","v":0},{"$f":"IFERROR(SUMIFS(TablaBDD[TOTAL DIAS],TablaBDD[NOMBRE],Tabla8[[#This Row],[NOMBRE]])+VLOOKUP(Tabla8[[#This Row],[NOMBRE]],CONFIGURACION!$B$7:$K$200,10,0),\"\")","v":""},{"$f":"IFERROR(Tabla8[[#This Row],[DIAS ACUMULADOS]]-Tabla8[[#This Row],[DIAS TOMADAS]],\"\")","v":""}]
[null,null,null,103,{"$f":"IFERROR(VLOOKUP(Tabla8[[#This Row],[n°]],CONFIGURACION!$A$7:$K$200,2,),\"\")","v":0},{"$f":"IFERROR(VLOOKUP(Tabla8[[#This Row],[n°]],CONFIGURACION!$A$7:$K$200,3,),\"\")","v":0},{"$f":"IFERROR(VLOOKUP(Tabla8[[#This Row],[n°]],CONFIGURACION!$A$7:$K$200,4,),\"\")","v":"00:00:00"},{"$f":"IFERROR(VLOOKUP(Tabla8[[#This Row],[n°]],CONFIGURACION!$A$7:$K$200,5,),\"\")","v":0},{"$f":"IFERROR(VLOOKUP(Tabla8[[#This Row],[n°]],CONFIGURACION!$A$7:$K$200,7,),\"\")","v":0},{"$f":"IFERROR(SUMIFS(TablaBDD[TOTAL DIAS],TablaBDD[NOMBRE],Tabla8[[#This Row],[NOMBRE]])+VLOOKUP(Tabla8[[#This Row],[NOMBRE]],CONFIGURACION!$B$7:$K$200,10,0),\"\")","v":""},{"$f":"IFERROR(Tabla8[[#This Row],[DIAS ACUMULADOS]]-Tabla8[[#This Row],[DIAS TOMADAS]],\"\")","v":""}]
[null,null,null,104,{"$f":"IFERROR(VLOOKUP(Tabla8[[#This Row],[n°]],CONFIGURACION!$A$7:$K$200,2,),\"\")","v":0},{"$f":"IFERROR(VLOOKUP(Tabla8[[#This Row],[n°]],CONFIGURACION!$A$7:$K$200,3,),\"\")","v":0},{"$f":"IFERROR(VLOOKUP(Tabla8[[#This Row],[n°]],CONFIGURACION!$A$7:$K$200,4,),\"\")","v":"00:00:00"},{"$f":"IFERROR(VLOOKUP(Tabla8[[#This Row],[n°]],CONFIGURACION!$A$7:$K$200,5,),\"\")","v":0},{"$f":"IFERROR(VLOOKUP(Tabla8[[#This Row],[n°]],CONFIGURACION!$A$7:$K$200,7,),\"\")","v":0},{"$f":"IFERROR(SUMIFS(TablaBDD[TOTAL DIAS],TablaBDD[NOMBRE],Tabla8[[#This Row],[NOMBRE]])+VLOOKUP(Tabla8[[#This Row],[NOMBRE]],CONFIGURACION!$B$7:$K$200,10,0),\"\")","v":""},{"$f":"IFERROR(Tabla8[[#This Row],[DIAS ACUMULADOS]]-Tabla8[[#This Row],[DIAS TOMADAS]],\"\")","v":""}]
[null,null,null,105,{"$f":"IFERROR(VLOOKUP(Tabla8[[#This Row],[n°]],CONFIGURACION!$A$7:$K$200,2,),\"\")","v":0},{"$f":"IFERROR(VLOOKUP(Tabla8[[#This Row],[n°]],CONFIGURACION!$A$7:$K$200,3,),\"\")","v":0},{"$f":"IFERROR(VLOOKUP(Tabla8[[#This Row],[n°]],CONFIGURACION!$A$7:$K$200,4,),\"\")","v":"00:00:00"},{"$f":"IFERROR(VLOOKUP(Tabla8[[#This Row],[n°]],CONFIGURACION!$A$7:$K$200,5,),\"\")","v":0},{"$f":"IFERROR(VLOOKUP(Tabla8[[#This Row],[n°]],CONFIGURACION!$A$7:$K$200,7,),\"\")","v":0},{"$f":"IFERROR(SUMIFS(TablaBDD[TOTAL DIAS],TablaBDD[NOMBRE],Tabla8[[#This Row],[NOMBRE]])+VLOOKUP(Tabla8[[#This Row],[NOMBRE]],CONFIGURACION!$B$7:$K$200,10,0),\"\")","v":""},{"$f":"IFERROR(Tabla8[[#This Row],[DIAS ACUMULADOS]]-Tabla8[[#This Row],[DIAS TOMADAS]],\"\")","v":""}]
[null,null,null,106,{"$f":"IFERROR(VLOOKUP(Tabla8[[#This Row],[n°]],CONFIGURACION!$A$7:$K$200,2,),\"\")","v":0},{"$f":"IFERROR(VLOOKUP(Tabla8[[#This Row],[n°]],CONFIGURACION!$A$7:$K$200,3,),\"\")","v":0},{"$f":"IFERROR(VLOOKUP(Tabla8[[#This Row],[n°]],CONFIGURACION!$A$7:$K$200,4,),\"\")","v":"00:00:00"},{"$f":"IFERROR(VLOOKUP(Tabla8[[#This Row],[n°]],CONFIGURACION!$A$7:$K$200,5,),\"\")","v":0},{"$f":"IFERROR(VLOOKUP(Tabla8[[#This Row],[n°]],CONFIGURACION!$A$7:$K$200,7,),\"\")","v":0},{"$f":"IFERROR(SUMIFS(TablaBDD[TOTAL DIAS],TablaBDD[NOMBRE],Tabla8[[#This Row],[NOMBRE]])+VLOOKUP(Tabla8[[#This Row],[NOMBRE]],CONFIGURACION!$B$7:$K$200,10,0),\"\")","v":""},{"$f":"IFERROR(Tabla8[[#This Row],[DIAS ACUMULADOS]]-Tabla8[[#This Row],[DIAS TOMADAS]],\"\")","v":""}]
[null,null,null,107,{"$f":"IFERROR(VLOOKUP(Tabla8[[#This Row],[n°]],CONFIGURACION!$A$7:$K$200,2,),\"\")","v":0},{"$f":"IFERROR(VLOOKUP(Tabla8[[#This Row],[n°]],CONFIGURACION!$A$7:$K$200,3,),\"\")","v":0},{"$f":"IFERROR(VLOOKUP(Tabla8[[#This Row],[n°]],CONFIGURACION!$A$7:$K$200,4,),\"\")","v":"00:00:00"},{"$f":"IFERROR(VLOOKUP(Tabla8[[#This Row],[n°]],CONFIGURACION!$A$7:$K$200,5,),\"\")","v":0},{"$f":"IFERROR(VLOOKUP(Tabla8[[#This Row],[n°]],CONFIGURACION!$A$7:$K$200,7,),\"\")","v":0},{"$f":"IFERROR(SUMIFS(TablaBDD[TOTAL DIAS],TablaBDD[NOMBRE],Tabla8[[#This Row],[NOMBRE]])+VLOOKUP(Tabla8[[#This Row],[NOMBRE]],CONFIGURACION!$B$7:$K$200,10,0),\"\")","v":""},{"$f":"IFERROR(Tabla8[[#This Row],[DIAS ACUMULADOS]]-Tabla8[[#This Row],[DIAS TOMADAS]],\"\")","v":""}]
[null,null,null,108,{"$f":"IFERROR(VLOOKUP(Tabla8[[#This Row],[n°]],CONFIGURACION!$A$7:$K$200,2,),\"\")","v":0},{"$f":"IFERROR(VLOOKUP(Tabla8[[#This Row],[n°]],CONFIGURACION!$A$7:$K$200,3,),\"\")","v":0},{"$f":"IFERROR(VLOOKUP(Tabla8[[#This Row],[n°]],CONFIGURACION!$A$7:$K$200,4,),\"\")","v":"00:00:00"},{"$f":"IFERROR(VLOOKUP(Tabla8[[#This Row],[n°]],CONFIGURACION!$A$7:$K$200,5,),\"\")","v":0},{"$f":"IFERROR(VLOOKUP(Tabla8[[#This Row],[n°]],CONFIGURACION!$A$7:$K$200,7,),\"\")","v":0},{"$f":"IFERROR(SUMIFS(TablaBDD[TOTAL DIAS],TablaBDD[NOMBRE],Tabla8[[#This Row],[NOMBRE]])+VLOOKUP(Tabla8[[#This Row],[NOMBRE]],CONFIGURACION!$B$7:$K$200,10,0),\"\")","v":""},{"$f":"IFERROR(Tabla8[[#This Row],[DIAS ACUMULADOS]]-Tabla8[[#This Row],[DIAS TOMADAS]],\"\")","v":""}]
[null,null,null,109,{"$f":"IFERROR(VLOOKUP(Tabla8[[#This Row],[n°]],CONFIGURACION!$A$7:$K$200,2,),\"\")","v":0},{"$f":"IFERROR(VLOOKUP(Tabla8[[#This Row],[n°]],CONFIGURACION!$A$7:$K$200,3,),\"\")","v":0},{"$f":"IFERROR(VLOOKUP(Tabla8[[#This Row],[n°]],CONFIGURACION!$A$7:$K$200,4,),\"\")","v":"00:00:00"},{"$f":"IFERROR(VLOOKUP(Tabla8[[#This Row],[n°]],CONFIGURACION!$A$7:$K$200,5,),\"\")","v":0},{"$f":"IFERROR(VLOOKUP(Tabla8[[#This Row],[n°]],CONFIGURACION!$A$7:$K$200,7,),\"\")","v":0},{"$f":"IFERROR(SUMIFS(TablaBDD[TOTAL DIAS],TablaBDD[NOMBRE],Tabla8[[#This Row],[NOMBRE]])+VLOOKUP(Tabla8[[#This Row],[NOMBRE]],CONFIGURACION!$B$7:$K$200,10,0),\"\")","v":""},{"$f":"IFERROR(Tabla8[[#This Row],[DIAS ACUMULADOS]]-Tabla8[[#This Row],[DIAS TOMADAS]],\"\")","v":""}]
[null,null,null,110,{"$f":"IFERROR(VLOOKUP(Tabla8[[#This Row],[n°]],CONFIGURACION!$A$7:$K$200,2,),\"\")","v":0},{"$f":"IFERROR(VLOOKUP(Tabla8[[#This Row],[n°]],CONFIGURACION!$A$7:$K$200,3,),\"\")","v":0},{"$f":"IFERROR(VLOOKUP(Tabla8[[#This Row],[n°]],CONFIGURACION!$A$7:$K$200,4,),\"\")","v":"00:00:00"},{"$f":"IFERROR(VLOOKUP(Tabla8[[#This Row],[n°]],CONFIGURACION!$A$7:$K$200,5,),\"\")","v":0},{"$f":"IFERROR(VLOOKUP(Tabla8[[#This Row],[n°]],CONFIGURACION!$A$7:$K$200,7,),\"\")","v":0},{"$f":"IFERROR(SUMIFS(TablaBDD[TOTAL DIAS],TablaBDD[NOMBRE],Tabla8[[#This Row],[NOMBRE]])+VLOOKUP(Tabla8[[#This Row],[NOMBRE]],CONFIGURACION!$B$7:$K$200,10,0),\"\")","v":""},{"$f":"IFERROR(Tabla8[[#This Row],[DIAS ACUMULADOS]]-Tabla8[[#This Row],[DIAS TOMADAS]],\"\")","v":""}]
[null,null,null,111,{"$f":"IFERROR(VLOOKUP(Tabla8[[#This Row],[n°]],CONFIGURACION!$A$7:$K$200,2,),\"\")","v":0},{"$f":"IFERROR(VLOOKUP(Tabla8[[#This Row],[n°]],CONFIGURACION!$A$7:$K$200,3,),\"\")","v":0},{"$f":"IFERROR(VLOOKUP(Tabla8[[#This Row],[n°]],CONFIGURACION!$A$7:$K$200,4,),\"\")","v":"00:00:00"},{"$f":"IFERROR(VLOOKUP(Tabla8[[#This Row],[n°]],CONFIGURACION!$A$7:$K$200,5,),\"\")","v":0},{"$f":"IFERROR(VLOOKUP(Tabla8[[#This Row],[n°]],CONFIGURACION!$A$7:$K$200,7,),\"\")","v":0},{"$f":"IFERROR(SUMIFS(TablaBDD[TOTAL DIAS],TablaBDD[NOMBRE],Tabla8[[#This Row],[NOMBRE]])+VLOOKUP(Tabla8[[#This Row],[NOMBRE]],CONFIGURACION!$B$7:$K$200,10,0),\"\")","v":""},{"$f":"IFERROR(Tabla8[[#This Row],[DIAS ACUMULADOS]]-Tabla8[[#This Row],[DIAS TOMADAS]],\"\")","v":""}]
[null,null,null,112,{"$f":"IFERROR(VLOOKUP(Tabla8[[#This Row],[n°]],CONFIGURACION!$A$7:$K$200,2,),\"\")","v":0},{"$f":"IFERROR(VLOOKUP(Tabla8[[#This Row],[n°]],CONFIGURACION!$A$7:$K$200,3,),\"\")","v":0},{"$f":"IFERROR(VLOOKUP(Tabla8[[#This Row],[n°]],CONFIGURACION!$A$7:$K$200,4,),\"\")","v":"00:00:00"},{"$f":"IFERROR(VLOOKUP(Tabla8[[#This Row],[n°]],CONFIGURACION!$A$7:$K$200,5,),\"\")","v":0},{"$f":"IFERROR(VLOOKUP(Tabla8[[#This Row],[n°]],CONFIGURACION!$A$7:$K$200,7,),\"\")","v":0},{"$f":"IFERROR(SUMIFS(TablaBDD[TOTAL DIAS],TablaBDD[NOMBRE],Tabla8[[#This Row],[NOMBRE]])+VLOOKUP(Tabla8[[#This Row],[NOMBRE]],CONFIGURACION!$B$7:$K$200,10,0),\"\")","v":""},{"$f":"IFERROR(Tabla8[[#This Row],[DIAS ACUMULADOS]]-Tabla8[[#This Row],[DIAS TOMADAS]],\"\")","v":""}]
[null,null,null,113,{"$f":"IFERROR(VLOOKUP(Tabla8[[#This Row],[n°]],CONFIGURACION!$A$7:$K$200,2,),\"\")","v":0},{"$f":"IFERROR(VLOOKUP(Tabla8[[#This Row],[n°]],CONFIGURACION!$A$7:$K$200,3,),\"\")","v":0},{"$f":"IFERROR(VLOOKUP(Tabla8[[#This Row],[n°]],CONFIGURACION!$A$7:$K$200,4,),\"\")","v":"00:00:00"},{"$f":"IFERROR(VLOOKUP(Tabla8[[#This Row],[n°]],CONFIGURACION!$A$7:$K$200,5,),\"\")","v":0},{"$f":"IFERROR(VLOOKUP(Tabla8[[#This Row],[n°]],CONFIGURACION!$A$7:$K$200,7,),\"\")","v":0},{"$f":"IFERROR(SUMIFS(TablaBDD[TOTAL DIAS],TablaBDD[NOMBRE],Tabla8[[#This Row],[NOMBRE]])+VLOOKUP(Tabla8[[#This Row],[NOMBRE]],CONFIGURACION!$B$7:$K$200,10,0),\"\")","v":""},{"$f":"IFERROR(Tabla8[[#This Row],[DIAS ACUMULADOS]]-Tabla8[[#This Row],[DIAS TOMADAS]],\"\")","v":""}]
[null,null,null,114,{"$f":"IFERROR(VLOOKUP(Tabla8[[#This Row],[n°]],CONFIGURACION!$A$7:$K$200,2,),\"\")","v":0},{"$f":"IFERROR(VLOOKUP(Tabla8[[#This Row],[n°]],CONFIGURACION!$A$7:$K$200,3,),\"\")","v":0},{"$f":"IFERROR(VLOOKUP(Tabla8[[#This Row],[n°]],CONFIGURACION!$A$7:$K$200,4,),\"\")","v":"00:00:00"},{"$f":"IFERROR(VLOOKUP(Tabla8[[#This Row],[n°]],CONFIGURACION!$A$7:$K$200,5,),\"\")","v":0},{"$f":"IFERROR(VLOOKUP(Tabla8[[#This Row],[n°]],CONFIGURACION!$A$7:$K$200,7,),\"\")","v":0},{"$f":"IFERROR(SUMIFS(TablaBDD[TOTAL DIAS],TablaBDD[NOMBRE],Tabla8[[#This Row],[NOMBRE]])+VLOOKUP(Tabla8[[#This Row],[NOMBRE]],CONFIGURACION!$B$7:$K$200,10,0),\"\")","v":""},{"$f":"IFERROR(Tabla8[[#This Row],[DIAS ACUMULADOS]]-Tabla8[[#This Row],[DIAS TOMADAS]],\"\")","v":""}]
[null,null,null,115,{"$f":"IFERROR(VLOOKUP(Tabla8[[#This Row],[n°]],CONFIGURACION!$A$7:$K$200,2,),\"\")","v":0},{"$f":"IFERROR(VLOOKUP(Tabla8[[#This Row],[n°]],CONFIGURACION!$A$7:$K$200,3,),\"\")","v":0},{"$f":"IFERROR(VLOOKUP(Tabla8[[#This Row],[n°]],CONFIGURACION!$A$7:$K$200,4,),\"\")","v":"00:00:00"},{"$f":"IFERROR(VLOOKUP(Tabla8[[#This Row],[n°]],CONFIGURACION!$A$7:$K$200,5,),\"\")","v":0},{"$f":"IFERROR(VLOOKUP(Tabla8[[#This Row],[n°]],CONFIGURACION!$A$7:$K$200,7,),\"\")","v":0},{"$f":"IFERROR(SUMIFS(TablaBDD[TOTAL DIAS],TablaBDD[NOMBRE],Tabla8[[#This Row],[NOMBRE]])+VLOOKUP(Tabla8[[#This Row],[NOMBRE]],CONFIGURACION!$B$7:$K$200,10,0),\"\")","v":""},{"$f":"IFERROR(Tabla8[[#This Row],[DIAS ACUMULADOS]]-Tabla8[[#This Row],[DIAS TOMADAS]],\"\")","v":""}]
[null,null,null,116,{"$f":"IFERROR(VLOOKUP(Tabla8[[#This Row],[n°]],CONFIGURACION!$A$7:$K$200,2,),\"\")","v":0},{"$f":"IFERROR(VLOOKUP(Tabla8[[#This Row],[n°]],CONFIGURACION!$A$7:$K$200,3,),\"\")","v":0},{"$f":"IFERROR(VLOOKUP(Tabla8[[#This Row],[n°]],CONFIGURACION!$A$7:$K$200,4,),\"\")","v":"00:00:00"},{"$f":"IFERROR(VLOOKUP(Tabla8[[#This Row],[n°]],CONFIGURACION!$A$7:$K$200,5,),\"\")","v":0},{"$f":"IFERROR(VLOOKUP(Tabla8[[#This Row],[n°]],CONFIGURACION!$A$7:$K$200,7,),\"\")","v":0},{"$f":"IFERROR(SUMIFS(TablaBDD[TOTAL DIAS],TablaBDD[NOMBRE],Tabla8[[#This Row],[NOMBRE]])+VLOOKUP(Tabla8[[#This Row],[NOMBRE]],CONFIGURACION!$B$7:$K$200,10,0),\"\")","v":""},{"$f":"IFERROR(Tabla8[[#This Row],[DIAS ACUMULADOS]]-Tabla8[[#This Row],[DIAS TOMADAS]],\"\")","v":""}]
[null,null,null,117,{"$f":"IFERROR(VLOOKUP(Tabla8[[#This Row],[n°]],CONFIGURACION!$A$7:$K$200,2,),\"\")","v":0},{"$f":"IFERROR(VLOOKUP(Tabla8[[#This Row],[n°]],CONFIGURACION!$A$7:$K$200,3,),\"\")","v":0},{"$f":"IFERROR(VLOOKUP(Tabla8[[#This Row],[n°]],CONFIGURACION!$A$7:$K$200,4,),\"\")","v":"00:00:00"},{"$f":"IFERROR(VLOOKUP(Tabla8[[#This Row],[n°]],CONFIGURACION!$A$7:$K$200,5,),\"\")","v":0},{"$f":"IFERROR(VLOOKUP(Tabla8[[#This Row],[n°]],CONFIGURACION!$A$7:$K$200,7,),\"\")","v":0},{"$f":"IFERROR(SUMIFS(TablaBDD[TOTAL DIAS],TablaBDD[NOMBRE],Tabla8[[#This Row],[NOMBRE]])+VLOOKUP(Tabla8[[#This Row],[NOMBRE]],CONFIGURACION!$B$7:$K$200,10,0),\"\")","v":""},{"$f":"IFERROR(Tabla8[[#This Row],[DIAS ACUMULADOS]]-Tabla8[[#This Row],[DIAS TOMADAS]],\"\")","v":""}]
[null,null,null,118,{"$f":"IFERROR(VLOOKUP(Tabla8[[#This Row],[n°]],CONFIGURACION!$A$7:$K$200,2,),\"\")","v":0},{"$f":"IFERROR(VLOOKUP(Tabla8[[#This Row],[n°]],CONFIGURACION!$A$7:$K$200,3,),\"\")","v":0},{"$f":"IFERROR(VLOOKUP(Tabla8[[#This Row],[n°]],CONFIGURACION!$A$7:$K$200,4,),\"\")","v":"00:00:00"},{"$f":"IFERROR(VLOOKUP(Tabla8[[#This Row],[n°]],CONFIGURACION!$A$7:$K$200,5,),\"\")","v":0},{"$f":"IFERROR(VLOOKUP(Tabla8[[#This Row],[n°]],CONFIGURACION!$A$7:$K$200,7,),\"\")","v":0},{"$f":"IFERROR(SUMIFS(TablaBDD[TOTAL DIAS],TablaBDD[NOMBRE],Tabla8[[#This Row],[NOMBRE]])+VLOOKUP(Tabla8[[#This Row],[NOMBRE]],CONFIGURACION!$B$7:$K$200,10,0),\"\")","v":""},{"$f":"IFERROR(Tabla8[[#This Row],[DIAS ACUMULADOS]]-Tabla8[[#This Row],[DIAS TOMADAS]],\"\")","v":""}]
[null,null,null,119,{"$f":"IFERROR(VLOOKUP(Tabla8[[#This Row],[n°]],CONFIGURACION!$A$7:$K$200,2,),\"\")","v":0},{"$f":"IFERROR(VLOOKUP(Tabla8[[#This Row],[n°]],CONFIGURACION!$A$7:$K$200,3,),\"\")","v":0},{"$f":"IFERROR(VLOOKUP(Tabla8[[#This Row],[n°]],CONFIGURACION!$A$7:$K$200,4,),\"\")","v":"00:00:00"},{"$f":"IFERROR(VLOOKUP(Tabla8[[#This Row],[n°]],CONFIGURACION!$A$7:$K$200,5,),\"\")","v":0},{"$f":"IFERROR(VLOOKUP(Tabla8[[#This Row],[n°]],CONFIGURACION!$A$7:$K$200,7,),\"\")","v":0},{"$f":"IFERROR(SUMIFS(TablaBDD[TOTAL DIAS],TablaBDD[NOMBRE],Tabla8[[#This Row],[NOMBRE]])+VLOOKUP(Tabla8[[#This Row],[NOMBRE]],CONFIGURACION!$B$7:$K$200,10,0),\"\")","v":""},{"$f":"IFERROR(Tabla8[[#This Row],[DIAS ACUMULADOS]]-Tabla8[[#This Row],[DIAS TOMADAS]],\"\")","v":""}]
[null,null,null,120,{"$f":"IFERROR(VLOOKUP(Tabla8[[#This Row],[n°]],CONFIGURACION!$A$7:$K$200,2,),\"\")","v":0},{"$f":"IFERROR(VLOOKUP(Tabla8[[#This Row],[n°]],CONFIGURACION!$A$7:$K$200,3,),\"\")","v":0},{"$f":"IFERROR(VLOOKUP(Tabla8[[#This Row],[n°]],CONFIGURACION!$A$7:$K$200,4,),\"\")","v":"00:00:00"},{"$f":"IFERROR(VLOOKUP(Tabla8[[#This Row],[n°]],CONFIGURACION!$A$7:$K$200,5,),\"\")","v":0},{"$f":"IFERROR(VLOOKUP(Tabla8[[#This Row],[n°]],CONFIGURACION!$A$7:$K$200,7,),\"\")","v":0},{"$f":"IFERROR(SUMIFS(TablaBDD[TOTAL DIAS],TablaBDD[NOMBRE],Tabla8[[#This Row],[NOMBRE]])+VLOOKUP(Tabla8[[#This Row],[NOMBRE]],CONFIGURACION!$B$7:$K$200,10,0),\"\")","v":""},{"$f":"IFERROR(Tabla8[[#This Row],[DIAS ACUMULADOS]]-Tabla8[[#This Row],[DIAS TOMADAS]],\"\")","v":""}]
[null,null,null,121,{"$f":"IFERROR(VLOOKUP(Tabla8[[#This Row],[n°]],CONFIGURACION!$A$7:$K$200,2,),\"\")","v":0},{"$f":"IFERROR(VLOOKUP(Tabla8[[#This Row],[n°]],CONFIGURACION!$A$7:$K$200,3,),\"\")","v":0},{"$f":"IFERROR(VLOOKUP(Tabla8[[#This Row],[n°]],CONFIGURACION!$A$7:$K$200,4,),\"\")","v":"00:00:00"},{"$f":"IFERROR(VLOOKUP(Tabla8[[#This Row],[n°]],CONFIGURACION!$A$7:$K$200,5,),\"\")","v":0},{"$f":"IFERROR(VLOOKUP(Tabla8[[#This Row],[n°]],CONFIGURACION!$A$7:$K$200,7,),\"\")","v":0},{"$f":"IFERROR(SUMIFS(TablaBDD[TOTAL DIAS],TablaBDD[NOMBRE],Tabla8[[#This Row],[NOMBRE]])+VLOOKUP(Tabla8[[#This Row],[NOMBRE]],CONFIGURACION!$B$7:$K$200,10,0),\"\")","v":""},{"$f":"IFERROR(Tabla8[[#This Row],[DIAS ACUMULADOS]]-Tabla8[[#This Row],[DIAS TOMADAS]],\"\")","v":""}]
[null,null,null,122,{"$f":"IFERROR(VLOOKUP(Tabla8[[#This Row],[n°]],CONFIGURACION!$A$7:$K$200,2,),\"\")","v":0},{"$f":"IFERROR(VLOOKUP(Tabla8[[#This Row],[n°]],CONFIGURACION!$A$7:$K$200,3,),\"\")","v":0},{"$f":"IFERROR(VLOOKUP(Tabla8[[#This Row],[n°]],CONFIGURACION!$A$7:$K$200,4,),\"\")","v":"00:00:00"},{"$f":"IFERROR(VLOOKUP(Tabla8[[#This Row],[n°]],CONFIGURACION!$A$7:$K$200,5,),\"\")","v":0},{"$f":"IFERROR(VLOOKUP(Tabla8[[#This Row],[n°]],CONFIGURACION!$A$7:$K$200,7,),\"\")","v":0},{"$f":"IFERROR(SUMIFS(TablaBDD[TOTAL DIAS],TablaBDD[NOMBRE],Tabla8[[#This Row],[NOMBRE]])+VLOOKUP(Tabla8[[#This Row],[NOMBRE]],CONFIGURACION!$B$7:$K$200,10,0),\"\")","v":""},{"$f":"IFERROR(Tabla8[[#This Row],[DIAS ACUMULADOS]]-Tabla8[[#This Row],[DIAS TOMADAS]],\"\")","v":""}]
[null,null,null,123,{"$f":"IFERROR(VLOOKUP(Tabla8[[#This Row],[n°]],CONFIGURACION!$A$7:$K$200,2,),\"\")","v":0},{"$f":"IFERROR(VLOOKUP(Tabla8[[#This Row],[n°]],CONFIGURACION!$A$7:$K$200,3,),\"\")","v":0},{"$f":"IFERROR(VLOOKUP(Tabla8[[#This Row],[n°]],CONFIGURACION!$A$7:$K$200,4,),\"\")","v":"00:00:00"},{"$f":"IFERROR(VLOOKUP(Tabla8[[#This Row],[n°]],CONFIGURACION!$A$7:$K$200,5,),\"\")","v":0},{"$f":"IFERROR(VLOOKUP(Tabla8[[#This Row],[n°]],CONFIGURACION!$A$7:$K$200,7,),\"\")","v":0},{"$f":"IFERROR(SUMIFS(TablaBDD[TOTAL DIAS],TablaBDD[NOMBRE],Tabla8[[#This Row],[NOMBRE]])+VLOOKUP(Tabla8[[#This Row],[NOMBRE]],CONFIGURACION!$B$7:$K$200,10,0),\"\")","v":""},{"$f":"IFERROR(Tabla8[[#This Row],[DIAS ACUMULADOS]]-Tabla8[[#This Row],[DIAS TOMADAS]],\"\")","v":""}]
[null,null,null,124,{"$f":"IFERROR(VLOOKUP(Tabla8[[#This Row],[n°]],CONFIGURACION!$A$7:$K$200,2,),\"\")","v":0},{"$f":"IFERROR(VLOOKUP(Tabla8[[#This Row],[n°]],CONFIGURACION!$A$7:$K$200,3,),\"\")","v":0},{"$f":"IFERROR(VLOOKUP(Tabla8[[#This Row],[n°]],CONFIGURACION!$A$7:$K$200,4,),\"\")","v":"00:00:00"},{"$f":"IFERROR(VLOOKUP(Tabla8[[#This Row],[n°]],CONFIGURACION!$A$7:$K$200,5,),\"\")","v":0},{"$f":"IFERROR(VLOOKUP(Tabla8[[#This Row],[n°]],CONFIGURACION!$A$7:$K$200,7,),\"\")","v":0},{"$f":"IFERROR(SUMIFS(TablaBDD[TOTAL DIAS],TablaBDD[NOMBRE],Tabla8[[#This Row],[NOMBRE]])+VLOOKUP(Tabla8[[#This Row],[NOMBRE]],CONFIGURACION!$B$7:$K$200,10,0),\"\")","v":""},{"$f":"IFERROR(Tabla8[[#This Row],[DIAS ACUMULADOS]]-Tabla8[[#This Row],[DIAS TOMADAS]],\"\")","v":""}]
[null,null,null,125,{"$f":"IFERROR(VLOOKUP(Tabla8[[#This Row],[n°]],CONFIGURACION!$A$7:$K$200,2,),\"\")","v":0},{"$f":"IFERROR(VLOOKUP(Tabla8[[#This Row],[n°]],CONFIGURACION!$A$7:$K$200,3,),\"\")","v":0},{"$f":"IFERROR(VLOOKUP(Tabla8[[#This Row],[n°]],CONFIGURACION!$A$7:$K$200,4,),\"\")","v":"00:00:00"},{"$f":"IFERROR(VLOOKUP(Tabla8[[#This Row],[n°]],CONFIGURACION!$A$7:$K$200,5,),\"\")","v":0},{"$f":"IFERROR(VLOOKUP(Tabla8[[#This Row],[n°]],CONFIGURACION!$A$7:$K$200,7,),\"\")","v":0},{"$f":"IFERROR(SUMIFS(TablaBDD[TOTAL DIAS],TablaBDD[NOMBRE],Tabla8[[#This Row],[NOMBRE]])+VLOOKUP(Tabla8[[#This Row],[NOMBRE]],CONFIGURACION!$B$7:$K$200,10,0),\"\")","v":""},{"$f":"IFERROR(Tabla8[[#This Row],[DIAS ACUMULADOS]]-Tabla8[[#This Row],[DIAS TOMADAS]],\"\")","v":""}]
[null,null,null,126,{"$f":"IFERROR(VLOOKUP(Tabla8[[#This Row],[n°]],CONFIGURACION!$A$7:$K$200,2,),\"\")","v":0},{"$f":"IFERROR(VLOOKUP(Tabla8[[#This Row],[n°]],CONFIGURACION!$A$7:$K$200,3,),\"\")","v":0},{"$f":"IFERROR(VLOOKUP(Tabla8[[#This Row],[n°]],CONFIGURACION!$A$7:$K$200,4,),\"\")","v":"00:00:00"},{"$f":"IFERROR(VLOOKUP(Tabla8[[#This Row],[n°]],CONFIGURACION!$A$7:$K$200,5,),\"\")","v":0},{"$f":"IFERROR(VLOOKUP(Tabla8[[#This Row],[n°]],CONFIGURACION!$A$7:$K$200,7,),\"\")","v":0},{"$f":"IFERROR(SUMIFS(TablaBDD[TOTAL DIAS],TablaBDD[NOMBRE],Tabla8[[#This Row],[NOMBRE]])+VLOOKUP(Tabla8[[#This Row],[NOMBRE]],CONFIGURACION!$B$7:$K$200,10,0),\"\")","v":""},{"$f":"IFERROR(Tabla8[[#This Row],[DIAS ACUMULADOS]]-Tabla8[[#This Row],[DIAS TOMADAS]],\"\")","v":""}]
[null,null,null,127,{"$f":"IFERROR(VLOOKUP(Tabla8[[#This Row],[n°]],CONFIGURACION!$A$7:$K$200,2,),\"\")","v":0},{"$f":"IFERROR(VLOOKUP(Tabla8[[#This Row],[n°]],CONFIGURACION!$A$7:$K$200,3,),\"\")","v":0},{"$f":"IFERROR(VLOOKUP(Tabla8[[#This Row],[n°]],CONFIGURACION!$A$7:$K$200,4,),\"\")","v":"00:00:00"},{"$f":"IFERROR(VLOOKUP(Tabla8[[#This Row],[n°]],CONFIGURACION!$A$7:$K$200,5,),\"\")","v":0},{"$f":"IFERROR(VLOOKUP(Tabla8[[#This Row],[n°]],CONFIGURACION!$A$7:$K$200,7,),\"\")","v":0},{"$f":"IFERROR(SUMIFS(TablaBDD[TOTAL DIAS],TablaBDD[NOMBRE],Tabla8[[#This Row],[NOMBRE]])+VLOOKUP(Tabla8[[#This Row],[NOMBRE]],CONFIGURACION!$B$7:$K$200,10,0),\"\")","v":""},{"$f":"IFERROR(Tabla8[[#This Row],[DIAS ACUMULADOS]]-Tabla8[[#This Row],[DIAS TOMADAS]],\"\")","v":""}]
[null,null,null,128,{"$f":"IFERROR(VLOOKUP(Tabla8[[#This Row],[n°]],CONFIGURACION!$A$7:$K$200,2,),\"\")","v":0},{"$f":"IFERROR(VLOOKUP(Tabla8[[#This Row],[n°]],CONFIGURACION!$A$7:$K$200,3,),\"\")","v":0},{"$f":"IFERROR(VLOOKUP(Tabla8[[#This Row],[n°]],CONFIGURACION!$A$7:$K$200,4,),\"\")","v":"00:00:00"},{"$f":"IFERROR(VLOOKUP(Tabla8[[#This Row],[n°]],CONFIGURACION!$A$7:$K$200,5,),\"\")","v":0},{"$f":"IFERROR(VLOOKUP(Tabla8[[#This Row],[n°]],CONFIGURACION!$A$7:$K$200,7,),\"\")","v":0},{"$f":"IFERROR(SUMIFS(TablaBDD[TOTAL DIAS],TablaBDD[NOMBRE],Tabla8[[#This Row],[NOMBRE]])+VLOOKUP(Tabla8[[#This Row],[NOMBRE]],CONFIGURACION!$B$7:$K$200,10,0),\"\")","v":""},{"$f":"IFERROR(Tabla8[[#This Row],[DIAS ACUMULADOS]]-Tabla8[[#This Row],[DIAS TOMADAS]],\"\")","v":""}]
[null,null,null,129,{"$f":"IFERROR(VLOOKUP(Tabla8[[#This Row],[n°]],CONFIGURACION!$A$7:$K$200,2,),\"\")","v":0},{"$f":"IFERROR(VLOOKUP(Tabla8[[#This Row],[n°]],CONFIGURACION!$A$7:$K$200,3,),\"\")","v":0},{"$f":"IFERROR(VLOOKUP(Tabla8[[#This Row],[n°]],CONFIGURACION!$A$7:$K$200,4,),\"\")","v":"00:00:00"},{"$f":"IFERROR(VLOOKUP(Tabla8[[#This Row],[n°]],CONFIGURACION!$A$7:$K$200,5,),\"\")","v":0},{"$f":"IFERROR(VLOOKUP(Tabla8[[#This Row],[n°]],CONFIGURACION!$A$7:$K$200,7,),\"\")","v":0},{"$f":"IFERROR(SUMIFS(TablaBDD[TOTAL DIAS],TablaBDD[NOMBRE],Tabla8[[#This Row],[NOMBRE]])+VLOOKUP(Tabla8[[#This Row],[NOMBRE]],CONFIGURACION!$B$7:$K$200,10,0),\"\")","v":""},{"$f":"IFERROR(Tabla8[[#This Row],[DIAS ACUMULADOS]]-Tabla8[[#This Row],[DIAS TOMADAS]],\"\")","v":""}]
[null,null,null,130,{"$f":"IFERROR(VLOOKUP(Tabla8[[#This Row],[n°]],CONFIGURACION!$A$7:$K$200,2,),\"\")","v":0},{"$f":"IFERROR(VLOOKUP(Tabla8[[#This Row],[n°]],CONFIGURACION!$A$7:$K$200,3,),\"\")","v":0},{"$f":"IFERROR(VLOOKUP(Tabla8[[#This Row],[n°]],CONFIGURACION!$A$7:$K$200,4,),\"\")","v":"00:00:00"},{"$f":"IFERROR(VLOOKUP(Tabla8[[#This Row],[n°]],CONFIGURACION!$A$7:$K$200,5,),\"\")","v":0},{"$f":"IFERROR(VLOOKUP(Tabla8[[#This Row],[n°]],CONFIGURACION!$A$7:$K$200,7,),\"\")","v":0},{"$f":"IFERROR(SUMIFS(TablaBDD[TOTAL DIAS],TablaBDD[NOMBRE],Tabla8[[#This Row],[NOMBRE]])+VLOOKUP(Tabla8[[#This Row],[NOMBRE]],CONFIGURACION!$B$7:$K$200,10,0),\"\")","v":""},{"$f":"IFERROR(Tabla8[[#This Row],[DIAS ACUMULADOS]]-Tabla8[[#This Row],[DIAS TOMADAS]],\"\")","v":""}]
[null,null,null,131,{"$f":"IFERROR(VLOOKUP(Tabla8[[#This Row],[n°]],CONFIGURACION!$A$7:$K$200,2,),\"\")","v":0},{"$f":"IFERROR(VLOOKUP(Tabla8[[#This Row],[n°]],CONFIGURACION!$A$7:$K$200,3,),\"\")","v":0},{"$f":"IFERROR(VLOOKUP(Tabla8[[#This Row],[n°]],CONFIGURACION!$A$7:$K$200,4,),\"\")","v":"00:00:00"},{"$f":"IFERROR(VLOOKUP(Tabla8[[#This Row],[n°]],CONFIGURACION!$A$7:$K$200,5,),\"\")","v":0},{"$f":"IFERROR(VLOOKUP(Tabla8[[#This Row],[n°]],CONFIGURACION!$A$7:$K$200,7,),\"\")","v":0},{"$f":"IFERROR(SUMIFS(TablaBDD[TOTAL DIAS],TablaBDD[NOMBRE],Tabla8[[#This Row],[NOMBRE]])+VLOOKUP(Tabla8[[#This Row],[NOMBRE]],CONFIGURACION!$B$7:$K$200,10,0),\"\")","v":""},{"$f":"IFERROR(Tabla8[[#This Row],[DIAS ACUMULADOS]]-Tabla8[[#This Row],[DIAS TOMADAS]],\"\")","v":""}]
[null,null,null,132,{"$f":"IFERROR(VLOOKUP(Tabla8[[#This Row],[n°]],CONFIGURACION!$A$7:$K$200,2,),\"\")","v":0},{"$f":"IFERROR(VLOOKUP(Tabla8[[#This Row],[n°]],CONFIGURACION!$A$7:$K$200,3,),\"\")","v":0},{"$f":"IFERROR(VLOOKUP(Tabla8[[#This Row],[n°]],CONFIGURACION!$A$7:$K$200,4,),\"\")","v":"00:00:00"},{"$f":"IFERROR(VLOOKUP(Tabla8[[#This Row],[n°]],CONFIGURACION!$A$7:$K$200,5,),\"\")","v":0},{"$f":"IFERROR(VLOOKUP(Tabla8[[#This Row],[n°]],CONFIGURACION!$A$7:$K$200,7,),\"\")","v":0},{"$f":"IFERROR(SUMIFS(TablaBDD[TOTAL DIAS],TablaBDD[NOMBRE],Tabla8[[#This Row],[NOMBRE]])+VLOOKUP(Tabla8[[#This Row],[NOMBRE]],CONFIGURACION!$B$7:$K$200,10,0),\"\")","v":""},{"$f":"IFERROR(Tabla8[[#This Row],[DIAS ACUMULADOS]]-Tabla8[[#This Row],[DIAS TOMADAS]],\"\")","v":""}]
[null,null,null,133,{"$f":"IFERROR(VLOOKUP(Tabla8[[#This Row],[n°]],CONFIGURACION!$A$7:$K$200,2,),\"\")","v":0},{"$f":"IFERROR(VLOOKUP(Tabla8[[#This Row],[n°]],CONFIGURACION!$A$7:$K$200,3,),\"\")","v":0},{"$f":"IFERROR(VLOOKUP(Tabla8[[#This Row],[n°]],CONFIGURACION!$A$7:$K$200,4,),\"\")","v":"00:00:00"},{"$f":"IFERROR(VLOOKUP(Tabla8[[#This Row],[n°]],CONFIGURACION!$A$7:$K$200,5,),\"\")","v":0},{"$f":"IFERROR(VLOOKUP(Tabla8[[#This Row],[n°]],CONFIGURACION!$A$7:$K$200,7,),\"\")","v":0},{"$f":"IFERROR(SUMIFS(TablaBDD[TOTAL DIAS],TablaBDD[NOMBRE],Tabla8[[#This Row],[NOMBRE]])+VLOOKUP(Tabla8[[#This Row],[NOMBRE]],CONFIGURACION!$B$7:$K$200,10,0),\"\")","v":""},{"$f":"IFERROR(Tabla8[[#This Row],[DIAS ACUMULADOS]]-Tabla8[[#This Row],[DIAS TOMADAS]],\"\")","v":""}]
[null,null,null,134,{"$f":"IFERROR(VLOOKUP(Tabla8[[#This Row],[n°]],CONFIGURACION!$A$7:$K$200,2,),\"\")","v":0},{"$f":"IFERROR(VLOOKUP(Tabla8[[#This Row],[n°]],CONFIGURACION!$A$7:$K$200,3,),\"\")","v":0},{"$f":"IFERROR(VLOOKUP(Tabla8[[#This Row],[n°]],CONFIGURACION!$A$7:$K$200,4,),\"\")","v":"00:00:00"},{"$f":"IFERROR(VLOOKUP(Tabla8[[#This Row],[n°]],CONFIGURACION!$A$7:$K$200,5,),\"\")","v":0},{"$f":"IFERROR(VLOOKUP(Tabla8[[#This Row],[n°]],CONFIGURACION!$A$7:$K$200,7,),\"\")","v":0},{"$f":"IFERROR(SUMIFS(TablaBDD[TOTAL DIAS],TablaBDD[NOMBRE],Tabla8[[#This Row],[NOMBRE]])+VLOOKUP(Tabla8[[#This Row],[NOMBRE]],CONFIGURACION!$B$7:$K$200,10,0),\"\")","v":""},{"$f":"IFERROR(Tabla8[[#This Row],[DIAS ACUMULADOS]]-Tabla8[[#This Row],[DIAS TOMADAS]],\"\")","v":""}]
[null,null,null,135,{"$f":"IFERROR(VLOOKUP(Tabla8[[#This Row],[n°]],CONFIGURACION!$A$7:$K$200,2,),\"\")","v":0},{"$f":"IFERROR(VLOOKUP(Tabla8[[#This Row],[n°]],CONFIGURACION!$A$7:$K$200,3,),\"\")","v":0},{"$f":"IFERROR(VLOOKUP(Tabla8[[#This Row],[n°]],CONFIGURACION!$A$7:$K$200,4,),\"\")","v":"00:00:00"},{"$f":"IFERROR(VLOOKUP(Tabla8[[#This Row],[n°]],CONFIGURACION!$A$7:$K$200,5,),\"\")","v":0},{"$f":"IFERROR(VLOOKUP(Tabla8[[#This Row],[n°]],CONFIGURACION!$A$7:$K$200,7,),\"\")","v":0},{"$f":"IFERROR(SUMIFS(TablaBDD[TOTAL DIAS],TablaBDD[NOMBRE],Tabla8[[#This Row],[NOMBRE]])+VLOOKUP(Tabla8[[#This Row],[NOMBRE]],CONFIGURACION!$B$7:$K$200,10,0),\"\")","v":""},{"$f":"IFERROR(Tabla8[[#This Row],[DIAS ACUMULADOS]]-Tabla8[[#This Row],[DIAS TOMADAS]],\"\")","v":""}]
[null,null,null,136,{"$f":"IFERROR(VLOOKUP(Tabla8[[#This Row],[n°]],CONFIGURACION!$A$7:$K$200,2,),\"\")","v":0},{"$f":"IFERROR(VLOOKUP(Tabla8[[#This Row],[n°]],CONFIGURACION!$A$7:$K$200,3,),\"\")","v":0},{"$f":"IFERROR(VLOOKUP(Tabla8[[#This Row],[n°]],CONFIGURACION!$A$7:$K$200,4,),\"\")","v":"00:00:00"},{"$f":"IFERROR(VLOOKUP(Tabla8[[#This Row],[n°]],CONFIGURACION!$A$7:$K$200,5,),\"\")","v":0},{"$f":"IFERROR(VLOOKUP(Tabla8[[#This Row],[n°]],CONFIGURACION!$A$7:$K$200,7,),\"\")","v":0},{"$f":"IFERROR(SUMIFS(TablaBDD[TOTAL DIAS],TablaBDD[NOMBRE],Tabla8[[#This Row],[NOMBRE]])+VLOOKUP(Tabla8[[#This Row],[NOMBRE]],CONFIGURACION!$B$7:$K$200,10,0),\"\")","v":""},{"$f":"IFERROR(Tabla8[[#This Row],[DIAS ACUMULADOS]]-Tabla8[[#This Row],[DIAS TOMADAS]],\"\")","v":""}]
[null,null,null,137,{"$f":"IFERROR(VLOOKUP(Tabla8[[#This Row],[n°]],CONFIGURACION!$A$7:$K$200,2,),\"\")","v":0},{"$f":"IFERROR(VLOOKUP(Tabla8[[#This Row],[n°]],CONFIGURACION!$A$7:$K$200,3,),\"\")","v":0},{"$f":"IFERROR(VLOOKUP(Tabla8[[#This Row],[n°]],CONFIGURACION!$A$7:$K$200,4,),\"\")","v":"00:00:00"},{"$f":"IFERROR(VLOOKUP(Tabla8[[#This Row],[n°]],CONFIGURACION!$A$7:$K$200,5,),\"\")","v":0},{"$f":"IFERROR(VLOOKUP(Tabla8[[#This Row],[n°]],CONFIGURACION!$A$7:$K$200,7,),\"\")","v":0},{"$f":"IFERROR(SUMIFS(TablaBDD[TOTAL DIAS],TablaBDD[NOMBRE],Tabla8[[#This Row],[NOMBRE]])+VLOOKUP(Tabla8[[#This Row],[NOMBRE]],CONFIGURACION!$B$7:$K$200,10,0),\"\")","v":""},{"$f":"IFERROR(Tabla8[[#This Row],[DIAS ACUMULADOS]]-Tabla8[[#This Row],[DIAS TOMADAS]],\"\")","v":""}]
[null,null,null,138,{"$f":"IFERROR(VLOOKUP(Tabla8[[#This Row],[n°]],CONFIGURACION!$A$7:$K$200,2,),\"\")","v":0},{"$f":"IFERROR(VLOOKUP(Tabla8[[#This Row],[n°]],CONFIGURACION!$A$7:$K$200,3,),\"\")","v":0},{"$f":"IFERROR(VLOOKUP(Tabla8[[#This Row],[n°]],CONFIGURACION!$A$7:$K$200,4,),\"\")","v":"00:00:00"},{"$f":"IFERROR(VLOOKUP(Tabla8[[#This Row],[n°]],CONFIGURACION!$A$7:$K$200,5,),\"\")","v":0},{"$f":"IFERROR(VLOOKUP(Tabla8[[#This Row],[n°]],CONFIGURACION!$A$7:$K$200,7,),\"\")","v":0},{"$f":"IFERROR(SUMIFS(TablaBDD[TOTAL DIAS],TablaBDD[NOMBRE],Tabla8[[#This Row],[NOMBRE]])+VLOOKUP(Tabla8[[#This Row],[NOMBRE]],CONFIGURACION!$B$7:$K$200,10,0),\"\")","v":""},{"$f":"IFERROR(Tabla8[[#This Row],[DIAS ACUMULADOS]]-Tabla8[[#This Row],[DIAS TOMADAS]],\"\")","v":""}]
[null,null,null,139,{"$f":"IFERROR(VLOOKUP(Tabla8[[#This Row],[n°]],CONFIGURACION!$A$7:$K$200,2,),\"\")","v":0},{"$f":"IFERROR(VLOOKUP(Tabla8[[#This Row],[n°]],CONFIGURACION!$A$7:$K$200,3,),\"\")","v":0},{"$f":"IFERROR(VLOOKUP(Tabla8[[#This Row],[n°]],CONFIGURACION!$A$7:$K$200,4,),\"\")","v":"00:00:00"},{"$f":"IFERROR(VLOOKUP(Tabla8[[#This Row],[n°]],CONFIGURACION!$A$7:$K$200,5,),\"\")","v":0},{"$f":"IFERROR(VLOOKUP(Tabla8[[#This Row],[n°]],CONFIGURACION!$A$7:$K$200,7,),\"\")","v":0},{"$f":"IFERROR(SUMIFS(TablaBDD[TOTAL DIAS],TablaBDD[NOMBRE],Tabla8[[#This Row],[NOMBRE]])+VLOOKUP(Tabla8[[#This Row],[NOMBRE]],CONFIGURACION!$B$7:$K$200,10,0),\"\")","v":""},{"$f":"IFERROR(Tabla8[[#This Row],[DIAS ACUMULADOS]]-Tabla8[[#This Row],[DIAS TOMADAS]],\"\")","v":""}]
[null,null,null,140,{"$f":"IFERROR(VLOOKUP(Tabla8[[#This Row],[n°]],CONFIGURACION!$A$7:$K$200,2,),\"\")","v":0},{"$f":"IFERROR(VLOOKUP(Tabla8[[#This Row],[n°]],CONFIGURACION!$A$7:$K$200,3,),\"\")","v":0},{"$f":"IFERROR(VLOOKUP(Tabla8[[#This Row],[n°]],CONFIGURACION!$A$7:$K$200,4,),\"\")","v":"00:00:00"},{"$f":"IFERROR(VLOOKUP(Tabla8[[#This Row],[n°]],CONFIGURACION!$A$7:$K$200,5,),\"\")","v":0},{"$f":"IFERROR(VLOOKUP(Tabla8[[#This Row],[n°]],CONFIGURACION!$A$7:$K$200,7,),\"\")","v":0},{"$f":"IFERROR(SUMIFS(TablaBDD[TOTAL DIAS],TablaBDD[NOMBRE],Tabla8[[#This Row],[NOMBRE]])+VLOOKUP(Tabla8[[#This Row],[NOMBRE]],CONFIGURACION!$B$7:$K$200,10,0),\"\")","v":""},{"$f":"IFERROR(Tabla8[[#This Row],[DIAS ACUMULADOS]]-Tabla8[[#This Row],[DIAS TOMADAS]],\"\")","v":""}]
[null,null,null,141,{"$f":"IFERROR(VLOOKUP(Tabla8[[#This Row],[n°]],CONFIGURACION!$A$7:$K$200,2,),\"\")","v":0},{"$f":"IFERROR(VLOOKUP(Tabla8[[#This Row],[n°]],CONFIGURACION!$A$7:$K$200,3,),\"\")","v":0},{"$f":"IFERROR(VLOOKUP(Tabla8[[#This Row],[n°]],CONFIGURACION!$A$7:$K$200,4,),\"\")","v":"00:00:00"},{"$f":"IFERROR(VLOOKUP(Tabla8[[#This Row],[n°]],CONFIGURACION!$A$7:$K$200,5,),\"\")","v":0},{"$f":"IFERROR(VLOOKUP(Tabla8[[#This Row],[n°]],CONFIGURACION!$A$7:$K$200,7,),\"\")","v":0},{"$f":"IFERROR(SUMIFS(TablaBDD[TOTAL DIAS],TablaBDD[NOMBRE],Tabla8[[#This Row],[NOMBRE]])+VLOOKUP(Tabla8[[#This Row],[NOMBRE]],CONFIGURACION!$B$7:$K$200,10,0),\"\")","v":""},{"$f":"IFERROR(Tabla8[[#This Row],[DIAS ACUMULADOS]]-Tabla8[[#This Row],[DIAS TOMADAS]],\"\")","v":""}]
[null,null,null,142,{"$f":"IFERROR(VLOOKUP(Tabla8[[#This Row],[n°]],CONFIGURACION!$A$7:$K$200,2,),\"\")","v":0},{"$f":"IFERROR(VLOOKUP(Tabla8[[#This Row],[n°]],CONFIGURACION!$A$7:$K$200,3,),\"\")","v":0},{"$f":"IFERROR(VLOOKUP(Tabla8[[#This Row],[n°]],CONFIGURACION!$A$7:$K$200,4,),\"\")","v":"00:00:00"},{"$f":"IFERROR(VLOOKUP(Tabla8[[#This Row],[n°]],CONFIGURACION!$A$7:$K$200,5,),\"\")","v":0},{"$f":"IFERROR(VLOOKUP(Tabla8[[#This Row],[n°]],CONFIGURACION!$A$7:$K$200,7,),\"\")","v":0},{"$f":"IFERROR(SUMIFS(TablaBDD[TOTAL DIAS],TablaBDD[NOMBRE],Tabla8[[#This Row],[NOMBRE]])+VLOOKUP(Tabla8[[#This Row],[NOMBRE]],CONFIGURACION!$B$7:$K$200,10,0),\"\")","v":""},{"$f":"IFERROR(Tabla8[[#This Row],[DIAS ACUMULADOS]]-Tabla8[[#This Row],[DIAS TOMADAS]],\"\")","v":""}]
[null,null,null,143,{"$f":"IFERROR(VLOOKUP(Tabla8[[#This Row],[n°]],CONFIGURACION!$A$7:$K$200,2,),\"\")","v":0},{"$f":"IFERROR(VLOOKUP(Tabla8[[#This Row],[n°]],CONFIGURACION!$A$7:$K$200,3,),\"\")","v":0},{"$f":"IFERROR(VLOOKUP(Tabla8[[#This Row],[n°]],CONFIGURACION!$A$7:$K$200,4,),\"\")","v":"00:00:00"},{"$f":"IFERROR(VLOOKUP(Tabla8[[#This Row],[n°]],CONFIGURACION!$A$7:$K$200,5,),\"\")","v":0},{"$f":"IFERROR(VLOOKUP(Tabla8[[#This Row],[n°]],CONFIGURACION!$A$7:$K$200,7,),\"\")","v":0},{"$f":"IFERROR(SUMIFS(TablaBDD[TOTAL DIAS],TablaBDD[NOMBRE],Tabla8[[#This Row],[NOMBRE]])+VLOOKUP(Tabla8[[#This Row],[NOMBRE]],CONFIGURACION!$B$7:$K$200,10,0),\"\")","v":""},{"$f":"IFERROR(Tabla8[[#This Row],[DIAS ACUMULADOS]]-Tabla8[[#This Row],[DIAS TOMADAS]],\"\")","v":""}]
[null,null,null,144,{"$f":"IFERROR(VLOOKUP(Tabla8[[#This Row],[n°]],CONFIGURACION!$A$7:$K$200,2,),\"\")","v":0},{"$f":"IFERROR(VLOOKUP(Tabla8[[#This Row],[n°]],CONFIGURACION!$A$7:$K$200,3,),\"\")","v":0},{"$f":"IFERROR(VLOOKUP(Tabla8[[#This Row],[n°]],CONFIGURACION!$A$7:$K$200,4,),\"\")","v":"00:00:00"},{"$f":"IFERROR(VLOOKUP(Tabla8[[#This Row],[n°]],CONFIGURACION!$A$7:$K$200,5,),\"\")","v":0},{"$f":"IFERROR(VLOOKUP(Tabla8[[#This Row],[n°]],CONFIGURACION!$A$7:$K$200,7,),\"\")","v":0},{"$f":"IFERROR(SUMIFS(TablaBDD[TOTAL DIAS],TablaBDD[NOMBRE],Tabla8[[#This Row],[NOMBRE]])+VLOOKUP(Tabla8[[#This Row],[NOMBRE]],CONFIGURACION!$B$7:$K$200,10,0),\"\")","v":""},{"$f":"IFERROR(Tabla8[[#This Row],[DIAS ACUMULADOS]]-Tabla8[[#This Row],[DIAS TOMADAS]],\"\")","v":""}]
[null,null,null,145,{"$f":"IFERROR(VLOOKUP(Tabla8[[#This Row],[n°]],CONFIGURACION!$A$7:$K$200,2,),\"\")","v":0},{"$f":"IFERROR(VLOOKUP(Tabla8[[#This Row],[n°]],CONFIGURACION!$A$7:$K$200,3,),\"\")","v":0},{"$f":"IFERROR(VLOOKUP(Tabla8[[#This Row],[n°]],CONFIGURACION!$A$7:$K$200,4,),\"\")","v":"00:00:00"},{"$f":"IFERROR(VLOOKUP(Tabla8[[#This Row],[n°]],CONFIGURACION!$A$7:$K$200,5,),\"\")","v":0},{"$f":"IFERROR(VLOOKUP(Tabla8[[#This Row],[n°]],CONFIGURACION!$A$7:$K$200,7,),\"\")","v":0},{"$f":"IFERROR(SUMIFS(TablaBDD[TOTAL DIAS],TablaBDD[NOMBRE],Tabla8[[#This Row],[NOMBRE]])+VLOOKUP(Tabla8[[#This Row],[NOMBRE]],CONFIGURACION!$B$7:$K$200,10,0),\"\")","v":""},{"$f":"IFERROR(Tabla8[[#This Row],[DIAS ACUMULADOS]]-Tabla8[[#This Row],[DIAS TOMADAS]],\"\")","v":""}]
[null,null,null,146,{"$f":"IFERROR(VLOOKUP(Tabla8[[#This Row],[n°]],CONFIGURACION!$A$7:$K$200,2,),\"\")","v":0},{"$f":"IFERROR(VLOOKUP(Tabla8[[#This Row],[n°]],CONFIGURACION!$A$7:$K$200,3,),\"\")","v":0},{"$f":"IFERROR(VLOOKUP(Tabla8[[#This Row],[n°]],CONFIGURACION!$A$7:$K$200,4,),\"\")","v":"00:00:00"},{"$f":"IFERROR(VLOOKUP(Tabla8[[#This Row],[n°]],CONFIGURACION!$A$7:$K$200,5,),\"\")","v":0},{"$f":"IFERROR(VLOOKUP(Tabla8[[#This Row],[n°]],CONFIGURACION!$A$7:$K$200,7,),\"\")","v":0},{"$f":"IFERROR(SUMIFS(TablaBDD[TOTAL DIAS],TablaBDD[NOMBRE],Tabla8[[#This Row],[NOMBRE]])+VLOOKUP(Tabla8[[#This Row],[NOMBRE]],CONFIGURACION!$B$7:$K$200,10,0),\"\")","v":""},{"$f":"IFERROR(Tabla8[[#This Row],[DIAS ACUMULADOS]]-Tabla8[[#This Row],[DIAS TOMADAS]],\"\")","v":""}]
[null,null,null,147,{"$f":"IFERROR(VLOOKUP(Tabla8[[#This Row],[n°]],CONFIGURACION!$A$7:$K$200,2,),\"\")","v":0},{"$f":"IFERROR(VLOOKUP(Tabla8[[#This Row],[n°]],CONFIGURACION!$A$7:$K$200,3,),\"\")","v":0},{"$f":"IFERROR(VLOOKUP(Tabla8[[#This Row],[n°]],CONFIGURACION!$A$7:$K$200,4,),\"\")","v":"00:00:00"},{"$f":"IFERROR(VLOOKUP(Tabla8[[#This Row],[n°]],CONFIGURACION!$A$7:$K$200,5,),\"\")","v":0},{"$f":"IFERROR(VLOOKUP(Tabla8[[#This Row],[n°]],CONFIGURACION!$A$7:$K$200,7,),\"\")","v":0},{"$f":"IFERROR(SUMIFS(TablaBDD[TOTAL DIAS],TablaBDD[NOMBRE],Tabla8[[#This Row],[NOMBRE]])+VLOOKUP(Tabla8[[#This Row],[NOMBRE]],CONFIGURACION!$B$7:$K$200,10,0),\"\")","v":""},{"$f":"IFERROR(Tabla8[[#This Row],[DIAS ACUMULADOS]]-Tabla8[[#This Row],[DIAS TOMADAS]],\"\")","v":""}]
[null,null,null,148,{"$f":"IFERROR(VLOOKUP(Tabla8[[#This Row],[n°]],CONFIGURACION!$A$7:$K$200,2,),\"\")","v":0},{"$f":"IFERROR(VLOOKUP(Tabla8[[#This Row],[n°]],CONFIGURACION!$A$7:$K$200,3,),\"\")","v":0},{"$f":"IFERROR(VLOOKUP(Tabla8[[#This Row],[n°]],CONFIGURACION!$A$7:$K$200,4,),\"\")","v":"00:00:00"},{"$f":"IFERROR(VLOOKUP(Tabla8[[#This Row],[n°]],CONFIGURACION!$A$7:$K$200,5,),\"\")","v":0},{"$f":"IFERROR(VLOOKUP(Tabla8[[#This Row],[n°]],CONFIGURACION!$A$7:$K$200,7,),\"\")","v":0},{"$f":"IFERROR(SUMIFS(TablaBDD[TOTAL DIAS],TablaBDD[NOMBRE],Tabla8[[#This Row],[NOMBRE]])+VLOOKUP(Tabla8[[#This Row],[NOMBRE]],CONFIGURACION!$B$7:$K$200,10,0),\"\")","v":""},{"$f":"IFERROR(Tabla8[[#This Row],[DIAS ACUMULADOS]]-Tabla8[[#This Row],[DIAS TOMADAS]],\"\")","v":""}]
[null,null,null,149,{"$f":"IFERROR(VLOOKUP(Tabla8[[#This Row],[n°]],CONFIGURACION!$A$7:$K$200,2,),\"\")","v":0},{"$f":"IFERROR(VLOOKUP(Tabla8[[#This Row],[n°]],CONFIGURACION!$A$7:$K$200,3,),\"\")","v":0},{"$f":"IFERROR(VLOOKUP(Tabla8[[#This Row],[n°]],CONFIGURACION!$A$7:$K$200,4,),\"\")","v":"00:00:00"},{"$f":"IFERROR(VLOOKUP(Tabla8[[#This Row],[n°]],CONFIGURACION!$A$7:$K$200,5,),\"\")","v":0},{"$f":"IFERROR(VLOOKUP(Tabla8[[#This Row],[n°]],CONFIGURACION!$A$7:$K$200,7,),\"\")","v":0},{"$f":"IFERROR(SUMIFS(TablaBDD[TOTAL DIAS],TablaBDD[NOMBRE],Tabla8[[#This Row],[NOMBRE]])+VLOOKUP(Tabla8[[#This Row],[NOMBRE]],CONFIGURACION!$B$7:$K$200,10,0),\"\")","v":""},{"$f":"IFERROR(Tabla8[[#This Row],[DIAS ACUMULADOS]]-Tabla8[[#This Row],[DIAS TOMADAS]],\"\")","v":""}]
[null,null,null,150,{"$f":"IFERROR(VLOOKUP(Tabla8[[#This Row],[n°]],CONFIGURACION!$A$7:$K$200,2,),\"\")","v":0},{"$f":"IFERROR(VLOOKUP(Tabla8[[#This Row],[n°]],CONFIGURACION!$A$7:$K$200,3,),\"\")","v":0},{"$f":"IFERROR(VLOOKUP(Tabla8[[#This Row],[n°]],CONFIGURACION!$A$7:$K$200,4,),\"\")","v":"00:00:00"},{"$f":"IFERROR(VLOOKUP(Tabla8[[#This Row],[n°]],CONFIGURACION!$A$7:$K$200,5,),\"\")","v":0},{"$f":"IFERROR(VLOOKUP(Tabla8[[#This Row],[n°]],CONFIGURACION!$A$7:$K$200,7,),\"\")","v":0},{"$f":"IFERROR(SUMIFS(TablaBDD[TOTAL DIAS],TablaBDD[NOMBRE],Tabla8[[#This Row],[NOMBRE]])+VLOOKUP(Tabla8[[#This Row],[NOMBRE]],CONFIGURACION!$B$7:$K$200,10,0),\"\")","v":""},{"$f":"IFERROR(Tabla8[[#This Row],[DIAS ACUMULADOS]]-Tabla8[[#This Row],[DIAS TOMADAS]],\"\")","v":""}]
[null,null,null,151,{"$f":"IFERROR(VLOOKUP(Tabla8[[#This Row],[n°]],CONFIGURACION!$A$7:$K$200,2,),\"\")","v":0},{"$f":"IFERROR(VLOOKUP(Tabla8[[#This Row],[n°]],CONFIGURACION!$A$7:$K$200,3,),\"\")","v":0},{"$f":"IFERROR(VLOOKUP(Tabla8[[#This Row],[n°]],CONFIGURACION!$A$7:$K$200,4,),\"\")","v":"00:00:00"},{"$f":"IFERROR(VLOOKUP(Tabla8[[#This Row],[n°]],CONFIGURACION!$A$7:$K$200,5,),\"\")","v":0},{"$f":"IFERROR(VLOOKUP(Tabla8[[#This Row],[n°]],CONFIGURACION!$A$7:$K$200,7,),\"\")","v":0},{"$f":"IFERROR(SUMIFS(TablaBDD[TOTAL DIAS],TablaBDD[NOMBRE],Tabla8[[#This Row],[NOMBRE]])+VLOOKUP(Tabla8[[#This Row],[NOMBRE]],CONFIGURACION!$B$7:$K$200,10,0),\"\")","v":""},{"$f":"IFERROR(Tabla8[[#This Row],[DIAS ACUMULADOS]]-Tabla8[[#This Row],[DIAS TOMADAS]],\"\")","v":""}]
[null,null,null,152,{"$f":"IFERROR(VLOOKUP(Tabla8[[#This Row],[n°]],CONFIGURACION!$A$7:$K$200,2,),\"\")","v":0},{"$f":"IFERROR(VLOOKUP(Tabla8[[#This Row],[n°]],CONFIGURACION!$A$7:$K$200,3,),\"\")","v":0},{"$f":"IFERROR(VLOOKUP(Tabla8[[#This Row],[n°]],CONFIGURACION!$A$7:$K$200,4,),\"\")","v":"00:00:00"},{"$f":"IFERROR(VLOOKUP(Tabla8[[#This Row],[n°]],CONFIGURACION!$A$7:$K$200,5,),\"\")","v":0},{"$f":"IFERROR(VLOOKUP(Tabla8[[#This Row],[n°]],CONFIGURACION!$A$7:$K$200,7,),\"\")","v":0},{"$f":"IFERROR(SUMIFS(TablaBDD[TOTAL DIAS],TablaBDD[NOMBRE],Tabla8[[#This Row],[NOMBRE]])+VLOOKUP(Tabla8[[#This Row],[NOMBRE]],CONFIGURACION!$B$7:$K$200,10,0),\"\")","v":""},{"$f":"IFERROR(Tabla8[[#This Row],[DIAS ACUMULADOS]]-Tabla8[[#This Row],[DIAS TOMADAS]],\"\")","v":""}]
[null,null,null,153,{"$f":"IFERROR(VLOOKUP(Tabla8[[#This Row],[n°]],CONFIGURACION!$A$7:$K$200,2,),\"\")","v":0},{"$f":"IFERROR(VLOOKUP(Tabla8[[#This Row],[n°]],CONFIGURACION!$A$7:$K$200,3,),\"\")","v":0},{"$f":"IFERROR(VLOOKUP(Tabla8[[#This Row],[n°]],CONFIGURACION!$A$7:$K$200,4,),\"\")","v":"00:00:00"},{"$f":"IFERROR(VLOOKUP(Tabla8[[#This Row],[n°]],CONFIGURACION!$A$7:$K$200,5,),\"\")","v":0},{"$f":"IFERROR(VLOOKUP(Tabla8[[#This Row],[n°]],CONFIGURACION!$A$7:$K$200,7,),\"\")","v":0},{"$f":"IFERROR(SUMIFS(TablaBDD[TOTAL DIAS],TablaBDD[NOMBRE],Tabla8[[#This Row],[NOMBRE]])+VLOOKUP(Tabla8[[#This Row],[NOMBRE]],CONFIGURACION!$B$7:$K$200,10,0),\"\")","v":""},{"$f":"IFERROR(Tabla8[[#This Row],[DIAS ACUMULADOS]]-Tabla8[[#This Row],[DIAS TOMADAS]],\"\")","v":""}]
[null,null,null,154,{"$f":"IFERROR(VLOOKUP(Tabla8[[#This Row],[n°]],CONFIGURACION!$A$7:$K$200,2,),\"\")","v":0},{"$f":"IFERROR(VLOOKUP(Tabla8[[#This Row],[n°]],CONFIGURACION!$A$7:$K$200,3,),\"\")","v":0},{"$f":"IFERROR(VLOOKUP(Tabla8[[#This Row],[n°]],CONFIGURACION!$A$7:$K$200,4,),\"\")","v":"00:00:00"},{"$f":"IFERROR(VLOOKUP(Tabla8[[#This Row],[n°]],CONFIGURACION!$A$7:$K$200,5,),\"\")","v":0},{"$f":"IFERROR(VLOOKUP(Tabla8[[#This Row],[n°]],CONFIGURACION!$A$7:$K$200,7,),\"\")","v":0},{"$f":"IFERROR(SUMIFS(TablaBDD[TOTAL DIAS],TablaBDD[NOMBRE],Tabla8[[#This Row],[NOMBRE]])+VLOOKUP(Tabla8[[#This Row],[NOMBRE]],CONFIGURACION!$B$7:$K$200,10,0),\"\")","v":""},{"$f":"IFERROR(Tabla8[[#This Row],[DIAS ACUMULADOS]]-Tabla8[[#This Row],[DIAS TOMADAS]],\"\")","v":""}]
[null,null,null,155,{"$f":"IFERROR(VLOOKUP(Tabla8[[#This Row],[n°]],CONFIGURACION!$A$7:$K$200,2,),\"\")","v":0},{"$f":"IFERROR(VLOOKUP(Tabla8[[#This Row],[n°]],CONFIGURACION!$A$7:$K$200,3,),\"\")","v":0},{"$f":"IFERROR(VLOOKUP(Tabla8[[#This Row],[n°]],CONFIGURACION!$A$7:$K$200,4,),\"\")","v":"00:00:00"},{"$f":"IFERROR(VLOOKUP(Tabla8[[#This Row],[n°]],CONFIGURACION!$A$7:$K$200,5,),\"\")","v":0},{"$f":"IFERROR(VLOOKUP(Tabla8[[#This Row],[n°]],CONFIGURACION!$A$7:$K$200,7,),\"\")","v":0},{"$f":"IFERROR(SUMIFS(TablaBDD[TOTAL DIAS],TablaBDD[NOMBRE],Tabla8[[#This Row],[NOMBRE]])+VLOOKUP(Tabla8[[#This Row],[NOMBRE]],CONFIGURACION!$B$7:$K$200,10,0),\"\")","v":""},{"$f":"IFERROR(Tabla8[[#This Row],[DIAS ACUMULADOS]]-Tabla8[[#This Row],[DIAS TOMADAS]],\"\")","v":""}]
[null,null,null,156,{"$f":"IFERROR(VLOOKUP(Tabla8[[#This Row],[n°]],CONFIGURACION!$A$7:$K$200,2,),\"\")","v":0},{"$f":"IFERROR(VLOOKUP(Tabla8[[#This Row],[n°]],CONFIGURACION!$A$7:$K$200,3,),\"\")","v":0},{"$f":"IFERROR(VLOOKUP(Tabla8[[#This Row],[n°]],CONFIGURACION!$A$7:$K$200,4,),\"\")","v":"00:00:00"},{"$f":"IFERROR(VLOOKUP(Tabla8[[#This Row],[n°]],CONFIGURACION!$A$7:$K$200,5,),\"\")","v":0},{"$f":"IFERROR(VLOOKUP(Tabla8[[#This Row],[n°]],CONFIGURACION!$A$7:$K$200,7,),\"\")","v":0},{"$f":"IFERROR(SUMIFS(TablaBDD[TOTAL DIAS],TablaBDD[NOMBRE],Tabla8[[#This Row],[NOMBRE]])+VLOOKUP(Tabla8[[#This Row],[NOMBRE]],CONFIGURACION!$B$7:$K$200,10,0),\"\")","v":""},{"$f":"IFERROR(Tabla8[[#This Row],[DIAS ACUMULADOS]]-Tabla8[[#This Row],[DIAS TOMADAS]],\"\")","v":""}]
[null,null,null,157,{"$f":"IFERROR(VLOOKUP(Tabla8[[#This Row],[n°]],CONFIGURACION!$A$7:$K$200,2,),\"\")","v":0},{"$f":"IFERROR(VLOOKUP(Tabla8[[#This Row],[n°]],CONFIGURACION!$A$7:$K$200,3,),\"\")","v":0},{"$f":"IFERROR(VLOOKUP(Tabla8[[#This Row],[n°]],CONFIGURACION!$A$7:$K$200,4,),\"\")","v":"00:00:00"},{"$f":"IFERROR(VLOOKUP(Tabla8[[#This Row],[n°]],CONFIGURACION!$A$7:$K$200,5,),\"\")","v":0},{"$f":"IFERROR(VLOOKUP(Tabla8[[#This Row],[n°]],CONFIGURACION!$A$7:$K$200,7,),\"\")","v":0},{"$f":"IFERROR(SUMIFS(TablaBDD[TOTAL DIAS],TablaBDD[NOMBRE],Tabla8[[#This Row],[NOMBRE]])+VLOOKUP(Tabla8[[#This Row],[NOMBRE]],CONFIGURACION!$B$7:$K$200,10,0),\"\")","v":""},{"$f":"IFERROR(Tabla8[[#This Row],[DIAS ACUMULADOS]]-Tabla8[[#This Row],[DIAS TOMADAS]],\"\")","v":""}]
[null,null,null,158,{"$f":"IFERROR(VLOOKUP(Tabla8[[#This Row],[n°]],CONFIGURACION!$A$7:$K$200,2,),\"\")","v":0},{"$f":"IFERROR(VLOOKUP(Tabla8[[#This Row],[n°]],CONFIGURACION!$A$7:$K$200,3,),\"\")","v":0},{"$f":"IFERROR(VLOOKUP(Tabla8[[#This Row],[n°]],CONFIGURACION!$A$7:$K$200,4,),\"\")","v":"00:00:00"},{"$f":"IFERROR(VLOOKUP(Tabla8[[#This Row],[n°]],CONFIGURACION!$A$7:$K$200,5,),\"\")","v":0},{"$f":"IFERROR(VLOOKUP(Tabla8[[#This Row],[n°]],CONFIGURACION!$A$7:$K$200,7,),\"\")","v":0},{"$f":"IFERROR(SUMIFS(TablaBDD[TOTAL DIAS],TablaBDD[NOMBRE],Tabla8[[#This Row],[NOMBRE]])+VLOOKUP(Tabla8[[#This Row],[NOMBRE]],CONFIGURACION!$B$7:$K$200,10,0),\"\")","v":""},{"$f":"IFERROR(Tabla8[[#This Row],[DIAS ACUMULADOS]]-Tabla8[[#This Row],[DIAS TOMADAS]],\"\")","v":""}]
[null,null,null,159,{"$f":"IFERROR(VLOOKUP(Tabla8[[#This Row],[n°]],CONFIGURACION!$A$7:$K$200,2,),\"\")","v":0},{"$f":"IFERROR(VLOOKUP(Tabla8[[#This Row],[n°]],CONFIGURACION!$A$7:$K$200,3,),\"\")","v":0},{"$f":"IFERROR(VLOOKUP(Tabla8[[#This Row],[n°]],CONFIGURACION!$A$7:$K$200,4,),\"\")","v":"00:00:00"},{"$f":"IFERROR(VLOOKUP(Tabla8[[#This Row],[n°]],CONFIGURACION!$A$7:$K$200,5,),\"\")","v":0},{"$f":"IFERROR(VLOOKUP(Tabla8[[#This Row],[n°]],CONFIGURACION!$A$7:$K$200,7,),\"\")","v":0},{"$f":"IFERROR(SUMIFS(TablaBDD[TOTAL DIAS],TablaBDD[NOMBRE],Tabla8[[#This Row],[NOMBRE]])+VLOOKUP(Tabla8[[#This Row],[NOMBRE]],CONFIGURACION!$B$7:$K$200,10,0),\"\")","v":""},{"$f":"IFERROR(Tabla8[[#This Row],[DIAS ACUMULADOS]]-Tabla8[[#This Row],[DIAS TOMADAS]],\"\")","v":""}]
[null,null,null,160,{"$f":"IFERROR(VLOOKUP(Tabla8[[#This Row],[n°]],CONFIGURACION!$A$7:$K$200,2,),\"\")","v":0},{"$f":"IFERROR(VLOOKUP(Tabla8[[#This Row],[n°]],CONFIGURACION!$A$7:$K$200,3,),\"\")","v":0},{"$f":"IFERROR(VLOOKUP(Tabla8[[#This Row],[n°]],CONFIGURACION!$A$7:$K$200,4,),\"\")","v":"00:00:00"},{"$f":"IFERROR(VLOOKUP(Tabla8[[#This Row],[n°]],CONFIGURACION!$A$7:$K$200,5,),\"\")","v":0},{"$f":"IFERROR(VLOOKUP(Tabla8[[#This Row],[n°]],CONFIGURACION!$A$7:$K$200,7,),\"\")","v":0},{"$f":"IFERROR(SUMIFS(TablaBDD[TOTAL DIAS],TablaBDD[NOMBRE],Tabla8[[#This Row],[NOMBRE]])+VLOOKUP(Tabla8[[#This Row],[NOMBRE]],CONFIGURACION!$B$7:$K$200,10,0),\"\")","v":""},{"$f":"IFERROR(Tabla8[[#This Row],[DIAS ACUMULADOS]]-Tabla8[[#This Row],[DIAS TOMADAS]],\"\")","v":""}]
[null,null,null,161,{"$f":"IFERROR(VLOOKUP(Tabla8[[#This Row],[n°]],CONFIGURACION!$A$7:$K$200,2,),\"\")","v":0},{"$f":"IFERROR(VLOOKUP(Tabla8[[#This Row],[n°]],CONFIGURACION!$A$7:$K$200,3,),\"\")","v":0},{"$f":"IFERROR(VLOOKUP(Tabla8[[#This Row],[n°]],CONFIGURACION!$A$7:$K$200,4,),\"\")","v":"00:00:00"},{"$f":"IFERROR(VLOOKUP(Tabla8[[#This Row],[n°]],CONFIGURACION!$A$7:$K$200,5,),\"\")","v":0},{"$f":"IFERROR(VLOOKUP(Tabla8[[#This Row],[n°]],CONFIGURACION!$A$7:$K$200,7,),\"\")","v":0},{"$f":"IFERROR(SUMIFS(TablaBDD[TOTAL DIAS],TablaBDD[NOMBRE],Tabla8[[#This Row],[NOMBRE]])+VLOOKUP(Tabla8[[#This Row],[NOMBRE]],CONFIGURACION!$B$7:$K$200,10,0),\"\")","v":""},{"$f":"IFERROR(Tabla8[[#This Row],[DIAS ACUMULADOS]]-Tabla8[[#This Row],[DIAS TOMADAS]],\"\")","v":""}]
[null,null,null,162,{"$f":"IFERROR(VLOOKUP(Tabla8[[#This Row],[n°]],CONFIGURACION!$A$7:$K$200,2,),\"\")","v":0},{"$f":"IFERROR(VLOOKUP(Tabla8[[#This Row],[n°]],CONFIGURACION!$A$7:$K$200,3,),\"\")","v":0},{"$f":"IFERROR(VLOOKUP(Tabla8[[#This Row],[n°]],CONFIGURACION!$A$7:$K$200,4,),\"\")","v":"00:00:00"},{"$f":"IFERROR(VLOOKUP(Tabla8[[#This Row],[n°]],CONFIGURACION!$A$7:$K$200,5,),\"\")","v":0},{"$f":"IFERROR(VLOOKUP(Tabla8[[#This Row],[n°]],CONFIGURACION!$A$7:$K$200,7,),\"\")","v":0},{"$f":"IFERROR(SUMIFS(TablaBDD[TOTAL DIAS],TablaBDD[NOMBRE],Tabla8[[#This Row],[NOMBRE]])+VLOOKUP(Tabla8[[#This Row],[NOMBRE]],CONFIGURACION!$B$7:$K$200,10,0),\"\")","v":""},{"$f":"IFERROR(Tabla8[[#This Row],[DIAS ACUMULADOS]]-Tabla8[[#This Row],[DIAS TOMADAS]],\"\")","v":""}]
[null,null,null,163,{"$f":"IFERROR(VLOOKUP(Tabla8[[#This Row],[n°]],CONFIGURACION!$A$7:$K$200,2,),\"\")","v":0},{"$f":"IFERROR(VLOOKUP(Tabla8[[#This Row],[n°]],CONFIGURACION!$A$7:$K$200,3,),\"\")","v":0},{"$f":"IFERROR(VLOOKUP(Tabla8[[#This Row],[n°]],CONFIGURACION!$A$7:$K$200,4,),\"\")","v":"00:00:00"},{"$f":"IFERROR(VLOOKUP(Tabla8[[#This Row],[n°]],CONFIGURACION!$A$7:$K$200,5,),\"\")","v":0},{"$f":"IFERROR(VLOOKUP(Tabla8[[#This Row],[n°]],CONFIGURACION!$A$7:$K$200,7,),\"\")","v":0},{"$f":"IFERROR(SUMIFS(TablaBDD[TOTAL DIAS],TablaBDD[NOMBRE],Tabla8[[#This Row],[NOMBRE]])+VLOOKUP(Tabla8[[#This Row],[NOMBRE]],CONFIGURACION!$B$7:$K$200,10,0),\"\")","v":""},{"$f":"IFERROR(Tabla8[[#This Row],[DIAS ACUMULADOS]]-Tabla8[[#This Row],[DIAS TOMADAS]],\"\")","v":""}]
[null,null,null,164,{"$f":"IFERROR(VLOOKUP(Tabla8[[#This Row],[n°]],CONFIGURACION!$A$7:$K$200,2,),\"\")","v":0},{"$f":"IFERROR(VLOOKUP(Tabla8[[#This Row],[n°]],CONFIGURACION!$A$7:$K$200,3,),\"\")","v":0},{"$f":"IFERROR(VLOOKUP(Tabla8[[#This Row],[n°]],CONFIGURACION!$A$7:$K$200,4,),\"\")","v":"00:00:00"},{"$f":"IFERROR(VLOOKUP(Tabla8[[#This Row],[n°]],CONFIGURACION!$A$7:$K$200,5,),\"\")","v":0},{"$f":"IFERROR(VLOOKUP(Tabla8[[#This Row],[n°]],CONFIGURACION!$A$7:$K$200,7,),\"\")","v":0},{"$f":"IFERROR(SUMIFS(TablaBDD[TOTAL DIAS],TablaBDD[NOMBRE],Tabla8[[#This Row],[NOMBRE]])+VLOOKUP(Tabla8[[#This Row],[NOMBRE]],CONFIGURACION!$B$7:$K$200,10,0),\"\")","v":""},{"$f":"IFERROR(Tabla8[[#This Row],[DIAS ACUMULADOS]]-Tabla8[[#This Row],[DIAS TOMADAS]],\"\")","v":""}]
[null,null,null,165,{"$f":"IFERROR(VLOOKUP(Tabla8[[#This Row],[n°]],CONFIGURACION!$A$7:$K$200,2,),\"\")","v":0},{"$f":"IFERROR(VLOOKUP(Tabla8[[#This Row],[n°]],CONFIGURACION!$A$7:$K$200,3,),\"\")","v":0},{"$f":"IFERROR(VLOOKUP(Tabla8[[#This Row],[n°]],CONFIGURACION!$A$7:$K$200,4,),\"\")","v":"00:00:00"},{"$f":"IFERROR(VLOOKUP(Tabla8[[#This Row],[n°]],CONFIGURACION!$A$7:$K$200,5,),\"\")","v":0},{"$f":"IFERROR(VLOOKUP(Tabla8[[#This Row],[n°]],CONFIGURACION!$A$7:$K$200,7,),\"\")","v":0},{"$f":"IFERROR(SUMIFS(TablaBDD[TOTAL DIAS],TablaBDD[NOMBRE],Tabla8[[#This Row],[NOMBRE]])+VLOOKUP(Tabla8[[#This Row],[NOMBRE]],CONFIGURACION!$B$7:$K$200,10,0),\"\")","v":""},{"$f":"IFERROR(Tabla8[[#This Row],[DIAS ACUMULADOS]]-Tabla8[[#This Row],[DIAS TOMADAS]],\"\")","v":""}]
[null,null,null,166,{"$f":"IFERROR(VLOOKUP(Tabla8[[#This Row],[n°]],CONFIGURACION!$A$7:$K$200,2,),\"\")","v":0},{"$f":"IFERROR(VLOOKUP(Tabla8[[#This Row],[n°]],CONFIGURACION!$A$7:$K$200,3,),\"\")","v":0},{"$f":"IFERROR(VLOOKUP(Tabla8[[#This Row],[n°]],CONFIGURACION!$A$7:$K$200,4,),\"\")","v":"00:00:00"},{"$f":"IFERROR(VLOOKUP(Tabla8[[#This Row],[n°]],CONFIGURACION!$A$7:$K$200,5,),\"\")","v":0},{"$f":"IFERROR(VLOOKUP(Tabla8[[#This Row],[n°]],CONFIGURACION!$A$7:$K$200,7,),\"\")","v":0},{"$f":"IFERROR(SUMIFS(TablaBDD[TOTAL DIAS],TablaBDD[NOMBRE],Tabla8[[#This Row],[NOMBRE]])+VLOOKUP(Tabla8[[#This Row],[NOMBRE]],CONFIGURACION!$B$7:$K$200,10,0),\"\")","v":""},{"$f":"IFERROR(Tabla8[[#This Row],[DIAS ACUMULADOS]]-Tabla8[[#This Row],[DIAS TOMADAS]],\"\")","v":""}]
[null,null,null,167,{"$f":"IFERROR(VLOOKUP(Tabla8[[#This Row],[n°]],CONFIGURACION!$A$7:$K$200,2,),\"\")","v":0},{"$f":"IFERROR(VLOOKUP(Tabla8[[#This Row],[n°]],CONFIGURACION!$A$7:$K$200,3,),\"\")","v":0},{"$f":"IFERROR(VLOOKUP(Tabla8[[#This Row],[n°]],CONFIGURACION!$A$7:$K$200,4,),\"\")","v":"00:00:00"},{"$f":"IFERROR(VLOOKUP(Tabla8[[#This Row],[n°]],CONFIGURACION!$A$7:$K$200,5,),\"\")","v":0},{"$f":"IFERROR(VLOOKUP(Tabla8[[#This Row],[n°]],CONFIGURACION!$A$7:$K$200,7,),\"\")","v":0},{"$f":"IFERROR(SUMIFS(TablaBDD[TOTAL DIAS],TablaBDD[NOMBRE],Tabla8[[#This Row],[NOMBRE]])+VLOOKUP(Tabla8[[#This Row],[NOMBRE]],CONFIGURACION!$B$7:$K$200,10,0),\"\")","v":""},{"$f":"IFERROR(Tabla8[[#This Row],[DIAS ACUMULADOS]]-Tabla8[[#This Row],[DIAS TOMADAS]],\"\")","v":""}]
[null,null,null,168,{"$f":"IFERROR(VLOOKUP(Tabla8[[#This Row],[n°]],CONFIGURACION!$A$7:$K$200,2,),\"\")","v":0},{"$f":"IFERROR(VLOOKUP(Tabla8[[#This Row],[n°]],CONFIGURACION!$A$7:$K$200,3,),\"\")","v":0},{"$f":"IFERROR(VLOOKUP(Tabla8[[#This Row],[n°]],CONFIGURACION!$A$7:$K$200,4,),\"\")","v":"00:00:00"},{"$f":"IFERROR(VLOOKUP(Tabla8[[#This Row],[n°]],CONFIGURACION!$A$7:$K$200,5,),\"\")","v":0},{"$f":"IFERROR(VLOOKUP(Tabla8[[#This Row],[n°]],CONFIGURACION!$A$7:$K$200,7,),\"\")","v":0},{"$f":"IFERROR(SUMIFS(TablaBDD[TOTAL DIAS],TablaBDD[NOMBRE],Tabla8[[#This Row],[NOMBRE]])+VLOOKUP(Tabla8[[#This Row],[NOMBRE]],CONFIGURACION!$B$7:$K$200,10,0),\"\")","v":""},{"$f":"IFERROR(Tabla8[[#This Row],[DIAS ACUMULADOS]]-Tabla8[[#This Row],[DIAS TOMADAS]],\"\")","v":""}]
[null,null,null,169,{"$f":"IFERROR(VLOOKUP(Tabla8[[#This Row],[n°]],CONFIGURACION!$A$7:$K$200,2,),\"\")","v":0},{"$f":"IFERROR(VLOOKUP(Tabla8[[#This Row],[n°]],CONFIGURACION!$A$7:$K$200,3,),\"\")","v":0},{"$f":"IFERROR(VLOOKUP(Tabla8[[#This Row],[n°]],CONFIGURACION!$A$7:$K$200,4,),\"\")","v":"00:00:00"},{"$f":"IFERROR(VLOOKUP(Tabla8[[#This Row],[n°]],CONFIGURACION!$A$7:$K$200,5,),\"\")","v":0},{"$f":"IFERROR(VLOOKUP(Tabla8[[#This Row],[n°]],CONFIGURACION!$A$7:$K$200,7,),\"\")","v":0},{"$f":"IFERROR(SUMIFS(TablaBDD[TOTAL DIAS],TablaBDD[NOMBRE],Tabla8[[#This Row],[NOMBRE]])+VLOOKUP(Tabla8[[#This Row],[NOMBRE]],CONFIGURACION!$B$7:$K$200,10,0),\"\")","v":""},{"$f":"IFERROR(Tabla8[[#This Row],[DIAS ACUMULADOS]]-Tabla8[[#This Row],[DIAS TOMADAS]],\"\")","v":""}]
[null,null,null,170,{"$f":"IFERROR(VLOOKUP(Tabla8[[#This Row],[n°]],CONFIGURACION!$A$7:$K$200,2,),\"\")","v":0},{"$f":"IFERROR(VLOOKUP(Tabla8[[#This Row],[n°]],CONFIGURACION!$A$7:$K$200,3,),\"\")","v":0},{"$f":"IFERROR(VLOOKUP(Tabla8[[#This Row],[n°]],CONFIGURACION!$A$7:$K$200,4,),\"\")","v":"00:00:00"},{"$f":"IFERROR(VLOOKUP(Tabla8[[#This Row],[n°]],CONFIGURACION!$A$7:$K$200,5,),\"\")","v":0},{"$f":"IFERROR(VLOOKUP(Tabla8[[#This Row],[n°]],CONFIGURACION!$A$7:$K$200,7,),\"\")","v":0},{"$f":"IFERROR(SUMIFS(TablaBDD[TOTAL DIAS],TablaBDD[NOMBRE],Tabla8[[#This Row],[NOMBRE]])+VLOOKUP(Tabla8[[#This Row],[NOMBRE]],CONFIGURACION!$B$7:$K$200,10,0),\"\")","v":""},{"$f":"IFERROR(Tabla8[[#This Row],[DIAS ACUMULADOS]]-Tabla8[[#This Row],[DIAS TOMADAS]],\"\")","v":""}]
[null,null,null,171,{"$f":"IFERROR(VLOOKUP(Tabla8[[#This Row],[n°]],CONFIGURACION!$A$7:$K$200,2,),\"\")","v":0},{"$f":"IFERROR(VLOOKUP(Tabla8[[#This Row],[n°]],CONFIGURACION!$A$7:$K$200,3,),\"\")","v":0},{"$f":"IFERROR(VLOOKUP(Tabla8[[#This Row],[n°]],CONFIGURACION!$A$7:$K$200,4,),\"\")","v":"00:00:00"},{"$f":"IFERROR(VLOOKUP(Tabla8[[#This Row],[n°]],CONFIGURACION!$A$7:$K$200,5,),\"\")","v":0},{"$f":"IFERROR(VLOOKUP(Tabla8[[#This Row],[n°]],CONFIGURACION!$A$7:$K$200,7,),\"\")","v":0},{"$f":"IFERROR(SUMIFS(TablaBDD[TOTAL DIAS],TablaBDD[NOMBRE],Tabla8[[#This Row],[NOMBRE]])+VLOOKUP(Tabla8[[#This Row],[NOMBRE]],CONFIGURACION!$B$7:$K$200,10,0),\"\")","v":""},{"$f":"IFERROR(Tabla8[[#This Row],[DIAS ACUMULADOS]]-Tabla8[[#This Row],[DIAS TOMADAS]],\"\")","v":""}]
[null,null,null,172,{"$f":"IFERROR(VLOOKUP(Tabla8[[#This Row],[n°]],CONFIGURACION!$A$7:$K$200,2,),\"\")","v":0},{"$f":"IFERROR(VLOOKUP(Tabla8[[#This Row],[n°]],CONFIGURACION!$A$7:$K$200,3,),\"\")","v":0},{"$f":"IFERROR(VLOOKUP(Tabla8[[#This Row],[n°]],CONFIGURACION!$A$7:$K$200,4,),\"\")","v":"00:00:00"},{"$f":"IFERROR(VLOOKUP(Tabla8[[#This Row],[n°]],CONFIGURACION!$A$7:$K$200,5,),\"\")","v":0},{"$f":"IFERROR(VLOOKUP(Tabla8[[#This Row],[n°]],CONFIGURACION!$A$7:$K$200,7,),\"\")","v":0},{"$f":"IFERROR(SUMIFS(TablaBDD[TOTAL DIAS],TablaBDD[NOMBRE],Tabla8[[#This Row],[NOMBRE]])+VLOOKUP(Tabla8[[#This Row],[NOMBRE]],CONFIGURACION!$B$7:$K$200,10,0),\"\")","v":""},{"$f":"IFERROR(Tabla8[[#This Row],[DIAS ACUMULADOS]]-Tabla8[[#This Row],[DIAS TOMADAS]],\"\")","v":""}]
[null,null,null,173,{"$f":"IFERROR(VLOOKUP(Tabla8[[#This Row],[n°]],CONFIGURACION!$A$7:$K$200,2,),\"\")","v":0},{"$f":"IFERROR(VLOOKUP(Tabla8[[#This Row],[n°]],CONFIGURACION!$A$7:$K$200,3,),\"\")","v":0},{"$f":"IFERROR(VLOOKUP(Tabla8[[#This Row],[n°]],CONFIGURACION!$A$7:$K$200,4,),\"\")","v":"00:00:00"},{"$f":"IFERROR(VLOOKUP(Tabla8[[#This Row],[n°]],CONFIGURACION!$A$7:$K$200,5,),\"\")","v":0},{"$f":"IFERROR(VLOOKUP(Tabla8[[#This Row],[n°]],CONFIGURACION!$A$7:$K$200,7,),\"\")","v":0},{"$f":"IFERROR(SUMIFS(TablaBDD[TOTAL DIAS],TablaBDD[NOMBRE],Tabla8[[#This Row],[NOMBRE]])+VLOOKUP(Tabla8[[#This Row],[NOMBRE]],CONFIGURACION!$B$7:$K$200,10,0),\"\")","v":""},{"$f":"IFERROR(Tabla8[[#This Row],[DIAS ACUMULADOS]]-Tabla8[[#This Row],[DIAS TOMADAS]],\"\")","v":""}]
[null,null,null,174,{"$f":"IFERROR(VLOOKUP(Tabla8[[#This Row],[n°]],CONFIGURACION!$A$7:$K$200,2,),\"\")","v":0},{"$f":"IFERROR(VLOOKUP(Tabla8[[#This Row],[n°]],CONFIGURACION!$A$7:$K$200,3,),\"\")","v":0},{"$f":"IFERROR(VLOOKUP(Tabla8[[#This Row],[n°]],CONFIGURACION!$A$7:$K$200,4,),\"\")","v":"00:00:00"},{"$f":"IFERROR(VLOOKUP(Tabla8[[#This Row],[n°]],CONFIGURACION!$A$7:$K$200,5,),\"\")","v":0},{"$f":"IFERROR(VLOOKUP(Tabla8[[#This Row],[n°]],CONFIGURACION!$A$7:$K$200,7,),\"\")","v":0},{"$f":"IFERROR(SUMIFS(TablaBDD[TOTAL DIAS],TablaBDD[NOMBRE],Tabla8[[#This Row],[NOMBRE]])+VLOOKUP(Tabla8[[#This Row],[NOMBRE]],CONFIGURACION!$B$7:$K$200,10,0),\"\")","v":""},{"$f":"IFERROR(Tabla8[[#This Row],[DIAS ACUMULADOS]]-Tabla8[[#This Row],[DIAS TOMADAS]],\"\")","v":""}]
[null,null,null,175,{"$f":"IFERROR(VLOOKUP(Tabla8[[#This Row],[n°]],CONFIGURACION!$A$7:$K$200,2,),\"\")","v":0},{"$f":"IFERROR(VLOOKUP(Tabla8[[#This Row],[n°]],CONFIGURACION!$A$7:$K$200,3,),\"\")","v":0},{"$f":"IFERROR(VLOOKUP(Tabla8[[#This Row],[n°]],CONFIGURACION!$A$7:$K$200,4,),\"\")","v":"00:00:00"},{"$f":"IFERROR(VLOOKUP(Tabla8[[#This Row],[n°]],CONFIGURACION!$A$7:$K$200,5,),\"\")","v":0},{"$f":"IFERROR(VLOOKUP(Tabla8[[#This Row],[n°]],CONFIGURACION!$A$7:$K$200,7,),\"\")","v":0},{"$f":"IFERROR(SUMIFS(TablaBDD[TOTAL DIAS],TablaBDD[NOMBRE],Tabla8[[#This Row],[NOMBRE]])+VLOOKUP(Tabla8[[#This Row],[NOMBRE]],CONFIGURACION!$B$7:$K$200,10,0),\"\")","v":""},{"$f":"IFERROR(Tabla8[[#This Row],[DIAS ACUMULADOS]]-Tabla8[[#This Row],[DIAS TOMADAS]],\"\")","v":""}]
[null,null,null,176,{"$f":"IFERROR(VLOOKUP(Tabla8[[#This Row],[n°]],CONFIGURACION!$A$7:$K$200,2,),\"\")","v":0},{"$f":"IFERROR(VLOOKUP(Tabla8[[#This Row],[n°]],CONFIGURACION!$A$7:$K$200,3,),\"\")","v":0},{"$f":"IFERROR(VLOOKUP(Tabla8[[#This Row],[n°]],CONFIGURACION!$A$7:$K$200,4,),\"\")","v":"00:00:00"},{"$f":"IFERROR(VLOOKUP(Tabla8[[#This Row],[n°]],CONFIGURACION!$A$7:$K$200,5,),\"\")","v":0},{"$f":"IFERROR(VLOOKUP(Tabla8[[#This Row],[n°]],CONFIGURACION!$A$7:$K$200,7,),\"\")","v":0},{"$f":"IFERROR(SUMIFS(TablaBDD[TOTAL DIAS],TablaBDD[NOMBRE],Tabla8[[#This Row],[NOMBRE]])+VLOOKUP(Tabla8[[#This Row],[NOMBRE]],CONFIGURACION!$B$7:$K$200,10,0),\"\")","v":""},{"$f":"IFERROR(Tabla8[[#This Row],[DIAS ACUMULADOS]]-Tabla8[[#This Row],[DIAS TOMADAS]],\"\")","v":""}]
[null,null,null,177,{"$f":"IFERROR(VLOOKUP(Tabla8[[#This Row],[n°]],CONFIGURACION!$A$7:$K$200,2,),\"\")","v":0},{"$f":"IFERROR(VLOOKUP(Tabla8[[#This Row],[n°]],CONFIGURACION!$A$7:$K$200,3,),\"\")","v":0},{"$f":"IFERROR(VLOOKUP(Tabla8[[#This Row],[n°]],CONFIGURACION!$A$7:$K$200,4,),\"\")","v":"00:00:00"},{"$f":"IFERROR(VLOOKUP(Tabla8[[#This Row],[n°]],CONFIGURACION!$A$7:$K$200,5,),\"\")","v":0},{"$f":"IFERROR(VLOOKUP(Tabla8[[#This Row],[n°]],CONFIGURACION!$A$7:$K$200,7,),\"\")","v":0},{"$f":"IFERROR(SUMIFS(TablaBDD[TOTAL DIAS],TablaBDD[NOMBRE],Tabla8[[#This Row],[NOMBRE]])+VLOOKUP(Tabla8[[#This Row],[NOMBRE]],CONFIGURACION!$B$7:$K$200,10,0),\"\")","v":""},{"$f":"IFERROR(Tabla8[[#This Row],[DIAS ACUMULADOS]]-Tabla8[[#This Row],[DIAS TOMADAS]],\"\")","v":""}]
[null,null,null,178,{"$f":"IFERROR(VLOOKUP(Tabla8[[#This Row],[n°]],CONFIGURACION!$A$7:$K$200,2,),\"\")","v":0},{"$f":"IFERROR(VLOOKUP(Tabla8[[#This Row],[n°]],CONFIGURACION!$A$7:$K$200,3,),\"\")","v":0},{"$f":"IFERROR(VLOOKUP(Tabla8[[#This Row],[n°]],CONFIGURACION!$A$7:$K$200,4,),\"\")","v":"00:00:00"},{"$f":"IFERROR(VLOOKUP(Tabla8[[#This Row],[n°]],CONFIGURACION!$A$7:$K$200,5,),\"\")","v":0},{"$f":"IFERROR(VLOOKUP(Tabla8[[#This Row],[n°]],CONFIGURACION!$A$7:$K$200,7,),\"\")","v":0},{"$f":"IFERROR(SUMIFS(TablaBDD[TOTAL DIAS],TablaBDD[NOMBRE],Tabla8[[#This Row],[NOMBRE]])+VLOOKUP(Tabla8[[#This Row],[NOMBRE]],CONFIGURACION!$B$7:$K$200,10,0),\"\")","v":""},{"$f":"IFERROR(Tabla8[[#This Row],[DIAS ACUMULADOS]]-Tabla8[[#This Row],[DIAS TOMADAS]],\"\")","v":""}]
[null,null,null,179,{"$f":"IFERROR(VLOOKUP(Tabla8[[#This Row],[n°]],CONFIGURACION!$A$7:$K$200,2,),\"\")","v":0},{"$f":"IFERROR(VLOOKUP(Tabla8[[#This Row],[n°]],CONFIGURACION!$A$7:$K$200,3,),\"\")","v":0},{"$f":"IFERROR(VLOOKUP(Tabla8[[#This Row],[n°]],CONFIGURACION!$A$7:$K$200,4,),\"\")","v":"00:00:00"},{"$f":"IFERROR(VLOOKUP(Tabla8[[#This Row],[n°]],CONFIGURACION!$A$7:$K$200,5,),\"\")","v":0},{"$f":"IFERROR(VLOOKUP(Tabla8[[#This Row],[n°]],CONFIGURACION!$A$7:$K$200,7,),\"\")","v":0},{"$f":"IFERROR(SUMIFS(TablaBDD[TOTAL DIAS],TablaBDD[NOMBRE],Tabla8[[#This Row],[NOMBRE]])+VLOOKUP(Tabla8[[#This Row],[NOMBRE]],CONFIGURACION!$B$7:$K$200,10,0),\"\")","v":""},{"$f":"IFERROR(Tabla8[[#This Row],[DIAS ACUMULADOS]]-Tabla8[[#This Row],[DIAS TOMADAS]],\"\")","v":""}]
[null,null,null,180,{"$f":"IFERROR(VLOOKUP(Tabla8[[#This Row],[n°]],CONFIGURACION!$A$7:$K$200,2,),\"\")","v":0},{"$f":"IFERROR(VLOOKUP(Tabla8[[#This Row],[n°]],CONFIGURACION!$A$7:$K$200,3,),\"\")","v":0},{"$f":"IFERROR(VLOOKUP(Tabla8[[#This Row],[n°]],CONFIGURACION!$A$7:$K$200,4,),\"\")","v":"00:00:00"},{"$f":"IFERROR(VLOOKUP(Tabla8[[#This Row],[n°]],CONFIGURACION!$A$7:$K$200,5,),\"\")","v":0},{"$f":"IFERROR(VLOOKUP(Tabla8[[#This Row],[n°]],CONFIGURACION!$A$7:$K$200,7,),\"\")","v":0},{"$f":"IFERROR(SUMIFS(TablaBDD[TOTAL DIAS],TablaBDD[NOMBRE],Tabla8[[#This Row],[NOMBRE]])+VLOOKUP(Tabla8[[#This Row],[NOMBRE]],CONFIGURACION!$B$7:$K$200,10,0),\"\")","v":""},{"$f":"IFERROR(Tabla8[[#This Row],[DIAS ACUMULADOS]]-Tabla8[[#This Row],[DIAS TOMADAS]],\"\")","v":""}]
[null,null,null,181,{"$f":"IFERROR(VLOOKUP(Tabla8[[#This Row],[n°]],CONFIGURACION!$A$7:$K$200,2,),\"\")","v":0},{"$f":"IFERROR(VLOOKUP(Tabla8[[#This Row],[n°]],CONFIGURACION!$A$7:$K$200,3,),\"\")","v":0},{"$f":"IFERROR(VLOOKUP(Tabla8[[#This Row],[n°]],CONFIGURACION!$A$7:$K$200,4,),\"\")","v":"00:00:00"},{"$f":"IFERROR(VLOOKUP(Tabla8[[#This Row],[n°]],CONFIGURACION!$A$7:$K$200,5,),\"\")","v":0},{"$f":"IFERROR(VLOOKUP(Tabla8[[#This Row],[n°]],CONFIGURACION!$A$7:$K$200,7,),\"\")","v":0},{"$f":"IFERROR(SUMIFS(TablaBDD[TOTAL DIAS],TablaBDD[NOMBRE],Tabla8[[#This Row],[NOMBRE]])+VLOOKUP(Tabla8[[#This Row],[NOMBRE]],CONFIGURACION!$B$7:$K$200,10,0),\"\")","v":""},{"$f":"IFERROR(Tabla8[[#This Row],[DIAS ACUMULADOS]]-Tabla8[[#This Row],[DIAS TOMADAS]],\"\")","v":""}]
[null,null,null,182,{"$f":"IFERROR(VLOOKUP(Tabla8[[#This Row],[n°]],CONFIGURACION!$A$7:$K$200,2,),\"\")","v":0},{"$f":"IFERROR(VLOOKUP(Tabla8[[#This Row],[n°]],CONFIGURACION!$A$7:$K$200,3,),\"\")","v":0},{"$f":"IFERROR(VLOOKUP(Tabla8[[#This Row],[n°]],CONFIGURACION!$A$7:$K$200,4,),\"\")","v":"00:00:00"},{"$f":"IFERROR(VLOOKUP(Tabla8[[#This Row],[n°]],CONFIGURACION!$A$7:$K$200,5,),\"\")","v":0},{"$f":"IFERROR(VLOOKUP(Tabla8[[#This Row],[n°]],CONFIGURACION!$A$7:$K$200,7,),\"\")","v":0},{"$f":"IFERROR(SUMIFS(TablaBDD[TOTAL DIAS],TablaBDD[NOMBRE],Tabla8[[#This Row],[NOMBRE]])+VLOOKUP(Tabla8[[#This Row],[NOMBRE]],CONFIGURACION!$B$7:$K$200,10,0),\"\")","v":""},{"$f":"IFERROR(Tabla8[[#This Row],[DIAS ACUMULADOS]]-Tabla8[[#This Row],[DIAS TOMADAS]],\"\")","v":""}]
[null,null,null,183,{"$f":"IFERROR(VLOOKUP(Tabla8[[#This Row],[n°]],CONFIGURACION!$A$7:$K$200,2,),\"\")","v":0},{"$f":"IFERROR(VLOOKUP(Tabla8[[#This Row],[n°]],CONFIGURACION!$A$7:$K$200,3,),\"\")","v":0},{"$f":"IFERROR(VLOOKUP(Tabla8[[#This Row],[n°]],CONFIGURACION!$A$7:$K$200,4,),\"\")","v":"00:00:00"},{"$f":"IFERROR(VLOOKUP(Tabla8[[#This Row],[n°]],CONFIGURACION!$A$7:$K$200,5,),\"\")","v":0},{"$f":"IFERROR(VLOOKUP(Tabla8[[#This Row],[n°]],CONFIGURACION!$A$7:$K$200,7,),\"\")","v":0},{"$f":"IFERROR(SUMIFS(TablaBDD[TOTAL DIAS],TablaBDD[NOMBRE],Tabla8[[#This Row],[NOMBRE]])+VLOOKUP(Tabla8[[#This Row],[NOMBRE]],CONFIGURACION!$B$7:$K$200,10,0),\"\")","v":""},{"$f":"IFERROR(Tabla8[[#This Row],[DIAS ACUMULADOS]]-Tabla8[[#This Row],[DIAS TOMADAS]],\"\")","v":""}]
[null,null,null,184,{"$f":"IFERROR(VLOOKUP(Tabla8[[#This Row],[n°]],CONFIGURACION!$A$7:$K$200,2,),\"\")","v":0},{"$f":"IFERROR(VLOOKUP(Tabla8[[#This Row],[n°]],CONFIGURACION!$A$7:$K$200,3,),\"\")","v":0},{"$f":"IFERROR(VLOOKUP(Tabla8[[#This Row],[n°]],CONFIGURACION!$A$7:$K$200,4,),\"\")","v":"00:00:00"},{"$f":"IFERROR(VLOOKUP(Tabla8[[#This Row],[n°]],CONFIGURACION!$A$7:$K$200,5,),\"\")","v":0},{"$f":"IFERROR(VLOOKUP(Tabla8[[#This Row],[n°]],CONFIGURACION!$A$7:$K$200,7,),\"\")","v":0},{"$f":"IFERROR(SUMIFS(TablaBDD[TOTAL DIAS],TablaBDD[NOMBRE],Tabla8[[#This Row],[NOMBRE]])+VLOOKUP(Tabla8[[#This Row],[NOMBRE]],CONFIGURACION!$B$7:$K$200,10,0),\"\")","v":""},{"$f":"IFERROR(Tabla8[[#This Row],[DIAS ACUMULADOS]]-Tabla8[[#This Row],[DIAS TOMADAS]],\"\")","v":""}]
[null,null,null,185,{"$f":"IFERROR(VLOOKUP(Tabla8[[#This Row],[n°]],CONFIGURACION!$A$7:$K$200,2,),\"\")","v":0},{"$f":"IFERROR(VLOOKUP(Tabla8[[#This Row],[n°]],CONFIGURACION!$A$7:$K$200,3,),\"\")","v":0},{"$f":"IFERROR(VLOOKUP(Tabla8[[#This Row],[n°]],CONFIGURACION!$A$7:$K$200,4,),\"\")","v":"00:00:00"},{"$f":"IFERROR(VLOOKUP(Tabla8[[#This Row],[n°]],CONFIGURACION!$A$7:$K$200,5,),\"\")","v":0},{"$f":"IFERROR(VLOOKUP(Tabla8[[#This Row],[n°]],CONFIGURACION!$A$7:$K$200,7,),\"\")","v":0},{"$f":"IFERROR(SUMIFS(TablaBDD[TOTAL DIAS],TablaBDD[NOMBRE],Tabla8[[#This Row],[NOMBRE]])+VLOOKUP(Tabla8[[#This Row],[NOMBRE]],CONFIGURACION!$B$7:$K$200,10,0),\"\")","v":""},{"$f":"IFERROR(Tabla8[[#This Row],[DIAS ACUMULADOS]]-Tabla8[[#This Row],[DIAS TOMADAS]],\"\")","v":""}]
[null,null,null,186,{"$f":"IFERROR(VLOOKUP(Tabla8[[#This Row],[n°]],CONFIGURACION!$A$7:$K$200,2,),\"\")","v":0},{"$f":"IFERROR(VLOOKUP(Tabla8[[#This Row],[n°]],CONFIGURACION!$A$7:$K$200,3,),\"\")","v":0},{"$f":"IFERROR(VLOOKUP(Tabla8[[#This Row],[n°]],CONFIGURACION!$A$7:$K$200,4,),\"\")","v":"00:00:00"},{"$f":"IFERROR(VLOOKUP(Tabla8[[#This Row],[n°]],CONFIGURACION!$A$7:$K$200,5,),\"\")","v":0},{"$f":"IFERROR(VLOOKUP(Tabla8[[#This Row],[n°]],CONFIGURACION!$A$7:$K$200,7,),\"\")","v":0},{"$f":"IFERROR(SUMIFS(TablaBDD[TOTAL DIAS],TablaBDD[NOMBRE],Tabla8[[#This Row],[NOMBRE]])+VLOOKUP(Tabla8[[#This Row],[NOMBRE]],CONFIGURACION!$B$7:$K$200,10,0),\"\")","v":""},{"$f":"IFERROR(Tabla8[[#This Row],[DIAS ACUMULADOS]]-Tabla8[[#This Row],[DIAS TOMADAS]],\"\")","v":""}]
[null,null,null,187,{"$f":"IFERROR(VLOOKUP(Tabla8[[#This Row],[n°]],CONFIGURACION!$A$7:$K$200,2,),\"\")","v":0},{"$f":"IFERROR(VLOOKUP(Tabla8[[#This Row],[n°]],CONFIGURACION!$A$7:$K$200,3,),\"\")","v":0},{"$f":"IFERROR(VLOOKUP(Tabla8[[#This Row],[n°]],CONFIGURACION!$A$7:$K$200,4,),\"\")","v":"00:00:00"},{"$f":"IFERROR(VLOOKUP(Tabla8[[#This Row],[n°]],CONFIGURACION!$A$7:$K$200,5,),\"\")","v":0},{"$f":"IFERROR(VLOOKUP(Tabla8[[#This Row],[n°]],CONFIGURACION!$A$7:$K$200,7,),\"\")","v":0},{"$f":"IFERROR(SUMIFS(TablaBDD[TOTAL DIAS],TablaBDD[NOMBRE],Tabla8[[#This Row],[NOMBRE]])+VLOOKUP(Tabla8[[#This Row],[NOMBRE]],CONFIGURACION!$B$7:$K$200,10,0),\"\")","v":""},{"$f":"IFERROR(Tabla8[[#This Row],[DIAS ACUMULADOS]]-Tabla8[[#This Row],[DIAS TOMADAS]],\"\")","v":""}]
[null,null,null,188,{"$f":"IFERROR(VLOOKUP(Tabla8[[#This Row],[n°]],CONFIGURACION!$A$7:$K$200,2,),\"\")","v":0},{"$f":"IFERROR(VLOOKUP(Tabla8[[#This Row],[n°]],CONFIGURACION!$A$7:$K$200,3,),\"\")","v":0},{"$f":"IFERROR(VLOOKUP(Tabla8[[#This Row],[n°]],CONFIGURACION!$A$7:$K$200,4,),\"\")","v":"00:00:00"},{"$f":"IFERROR(VLOOKUP(Tabla8[[#This Row],[n°]],CONFIGURACION!$A$7:$K$200,5,),\"\")","v":0},{"$f":"IFERROR(VLOOKUP(Tabla8[[#This Row],[n°]],CONFIGURACION!$A$7:$K$200,7,),\"\")","v":0},{"$f":"IFERROR(SUMIFS(TablaBDD[TOTAL DIAS],TablaBDD[NOMBRE],Tabla8[[#This Row],[NOMBRE]])+VLOOKUP(Tabla8[[#This Row],[NOMBRE]],CONFIGURACION!$B$7:$K$200,10,0),\"\")","v":""},{"$f":"IFERROR(Tabla8[[#This Row],[DIAS ACUMULADOS]]-Tabla8[[#This Row],[DIAS TOMADAS]],\"\")","v":""}]
[null,null,null,189,{"$f":"IFERROR(VLOOKUP(Tabla8[[#This Row],[n°]],CONFIGURACION!$A$7:$K$200,2,),\"\")","v":0},{"$f":"IFERROR(VLOOKUP(Tabla8[[#This Row],[n°]],CONFIGURACION!$A$7:$K$200,3,),\"\")","v":0},{"$f":"IFERROR(VLOOKUP(Tabla8[[#This Row],[n°]],CONFIGURACION!$A$7:$K$200,4,),\"\")","v":"00:00:00"},{"$f":"IFERROR(VLOOKUP(Tabla8[[#This Row],[n°]],CONFIGURACION!$A$7:$K$200,5,),\"\")","v":0},{"$f":"IFERROR(VLOOKUP(Tabla8[[#This Row],[n°]],CONFIGURACION!$A$7:$K$200,7,),\"\")","v":0},{"$f":"IFERROR(SUMIFS(TablaBDD[TOTAL DIAS],TablaBDD[NOMBRE],Tabla8[[#This Row],[NOMBRE]])+VLOOKUP(Tabla8[[#This Row],[NOMBRE]],CONFIGURACION!$B$7:$K$200,10,0),\"\")","v":""},{"$f":"IFERROR(Tabla8[[#This Row],[DIAS ACUMULADOS]]-Tabla8[[#This Row],[DIAS TOMADAS]],\"\")","v":""}]
[null,null,null,190,{"$f":"IFERROR(VLOOKUP(Tabla8[[#This Row],[n°]],CONFIGURACION!$A$7:$K$200,2,),\"\")","v":0},{"$f":"IFERROR(VLOOKUP(Tabla8[[#This Row],[n°]],CONFIGURACION!$A$7:$K$200,3,),\"\")","v":0},{"$f":"IFERROR(VLOOKUP(Tabla8[[#This Row],[n°]],CONFIGURACION!$A$7:$K$200,4,),\"\")","v":"00:00:00"},{"$f":"IFERROR(VLOOKUP(Tabla8[[#This Row],[n°]],CONFIGURACION!$A$7:$K$200,5,),\"\")","v":0},{"$f":"IFERROR(VLOOKUP(Tabla8[[#This Row],[n°]],CONFIGURACION!$A$7:$K$200,7,),\"\")","v":0},{"$f":"IFERROR(SUMIFS(TablaBDD[TOTAL DIAS],TablaBDD[NOMBRE],Tabla8[[#This Row],[NOMBRE]])+VLOOKUP(Tabla8[[#This Row],[NOMBRE]],CONFIGURACION!$B$7:$K$200,10,0),\"\")","v":""},{"$f":"IFERROR(Tabla8[[#This Row],[DIAS ACUMULADOS]]-Tabla8[[#This Row],[DIAS TOMADAS]],\"\")","v":""}]
[null,null,null,191,{"$f":"IFERROR(VLOOKUP(Tabla8[[#This Row],[n°]],CONFIGURACION!$A$7:$K$200,2,),\"\")","v":0},{"$f":"IFERROR(VLOOKUP(Tabla8[[#This Row],[n°]],CONFIGURACION!$A$7:$K$200,3,),\"\")","v":0},{"$f":"IFERROR(VLOOKUP(Tabla8[[#This Row],[n°]],CONFIGURACION!$A$7:$K$200,4,),\"\")","v":"00:00:00"},{"$f":"IFERROR(VLOOKUP(Tabla8[[#This Row],[n°]],CONFIGURACION!$A$7:$K$200,5,),\"\")","v":0},{"$f":"IFERROR(VLOOKUP(Tabla8[[#This Row],[n°]],CONFIGURACION!$A$7:$K$200,7,),\"\")","v":0},{"$f":"IFERROR(SUMIFS(TablaBDD[TOTAL DIAS],TablaBDD[NOMBRE],Tabla8[[#This Row],[NOMBRE]])+VLOOKUP(Tabla8[[#This Row],[NOMBRE]],CONFIGURACION!$B$7:$K$200,10,0),\"\")","v":""},{"$f":"IFERROR(Tabla8[[#This Row],[DIAS ACUMULADOS]]-Tabla8[[#This Row],[DIAS TOMADAS]],\"\")","v":""}]
[null,null,null,192,{"$f":"IFERROR(VLOOKUP(Tabla8[[#This Row],[n°]],CONFIGURACION!$A$7:$K$200,2,),\"\")","v":0},{"$f":"IFERROR(VLOOKUP(Tabla8[[#This Row],[n°]],CONFIGURACION!$A$7:$K$200,3,),\"\")","v":0},{"$f":"IFERROR(VLOOKUP(Tabla8[[#This Row],[n°]],CONFIGURACION!$A$7:$K$200,4,),\"\")","v":"00:00:00"},{"$f":"IFERROR(VLOOKUP(Tabla8[[#This Row],[n°]],CONFIGURACION!$A$7:$K$200,5,),\"\")","v":0},{"$f":"IFERROR(VLOOKUP(Tabla8[[#This Row],[n°]],CONFIGURACION!$A$7:$K$200,7,),\"\")","v":0},{"$f":"IFERROR(SUMIFS(TablaBDD[TOTAL DIAS],TablaBDD[NOMBRE],Tabla8[[#This Row],[NOMBRE]])+VLOOKUP(Tabla8[[#This Row],[NOMBRE]],CONFIGURACION!$B$7:$K$200,10,0),\"\")","v":""},{"$f":"IFERROR(Tabla8[[#This Row],[DIAS ACUMULADOS]]-Tabla8[[#This Row],[DIAS TOMADAS]],\"\")","v":""}]
[null,null,null,193,{"$f":"IFERROR(VLOOKUP(Tabla8[[#This Row],[n°]],CONFIGURACION!$A$7:$K$200,2,),\"\")","v":0},{"$f":"IFERROR(VLOOKUP(Tabla8[[#This Row],[n°]],CONFIGURACION!$A$7:$K$200,3,),\"\")","v":0},{"$f":"IFERROR(VLOOKUP(Tabla8[[#This Row],[n°]],CONFIGURACION!$A$7:$K$200,4,),\"\")","v":"00:00:00"},{"$f":"IFERROR(VLOOKUP(Tabla8[[#This Row],[n°]],CONFIGURACION!$A$7:$K$200,5,),\"\")","v":0},{"$f":"IFERROR(VLOOKUP(Tabla8[[#This Row],[n°]],CONFIGURACION!$A$7:$K$200,7,),\"\")","v":0},{"$f":"IFERROR(SUMIFS(TablaBDD[TOTAL DIAS],TablaBDD[NOMBRE],Tabla8[[#This Row],[NOMBRE]])+VLOOKUP(Tabla8[[#This Row],[NOMBRE]],CONFIGURACION!$B$7:$K$200,10,0),\"\")","v":""},{"$f":"IFERROR(Tabla8[[#This Row],[DIAS ACUMULADOS]]-Tabla8[[#This Row],[DIAS TOMADAS]],\"\")","v":""}]

{"sheet":"BDD","index":3,"n_rows":13,"n_cols":10,"rows_kept":13,"cut":false,"hidden":false,"merged":[[1,2,1,6],[2,9,3,9]]}
[]
[null,null,"INGRESE LOS DATOS AQUÍ Y LUEGO PINCHAR INSERTAR - ESTA HOJA SE USA PARA INGRESAR LAS INFORMACIONES DE VAC TOMADAS"]
[null,null,"NOMBRE","RUT","FECHA INICIO","FECHA FINAL","PERIODO",null,null,"PARA GENERAR COMPRABANTE HAZ CLICK SOBRE EL NOMBRE DEL TRABAJADOR EN LA TABLA Y PRECIONAR EL Boton verde GENERAR COMPROBANTE"]
[null,null,null,{"$f":"IFERROR(VLOOKUP(nombre,TablaEMPLEADOS[],2,0),\"\")","v":""}]
[null,null,"Esa hoja se usa solo para ingresar vacaciones asignados, para borrar los datos de ejemplo, seleccione el nombre y haz click en el boton rojo ELIMINAR FILA"]
[null,"Columna1","NOMBRE","RUT","FECHA INICIO","FECHA FINAL","PERIODO","TOTAL DIAS","TOTAL DIAS MANUAL","COMENTARIO (opcional)"]
[null,{"$f":"COUNTIF($C$7:C7,VERIFICACION!$D$4)","v":0},null,{"$f":"IFERROR(VLOOKUP(BDD!$C7,TablaEMPLEADOS[],2,0),\"\")","v":""},null,null,null,{"$f":"IFERROR(IF(TablaBDD[[#This Row],[TOTAL DIAS MANUAL]]<>\"\",TablaBDD[[#This Row],[TOTAL DIAS MANUAL]],IF(OR(BDD!$E7=\"\",BDD!$F7=\"\"),\"\",NETWORKDAYS(BDD!$E7,BDD!$F7,DiasFeriados))),\"\")","v":""}]
[null,{"$f":"COUNTIF($C$7:C8,VERIFICACION!$D$4)","v":0},"VERONICA ANDREA HERNANDEZ LAZO",{"$f":"IFERROR(VLOOKUP(BDD!$C8,TablaEMPLEADOS[],2,0),\"\")","v":""},"2020-07-02","2020-07-23",null,{"$f":"IFERROR(IF(TablaBDD[[#This Row],[TOTAL DIAS MANUAL]]<>\"\",TablaBDD[[#This Row],[TOTAL DIAS MANUAL]],IF(OR(BDD!$E8=\"\",BDD!$F8=\"\"),\"\",NETWORKDAYS(BDD!$E8,BDD!$F8,DiasFeriados))),\"\")","v":15}]
[null,{"$f":"COUNTIF($C$7:C9,VERIFICACION!$D$4)","v":0},"LUCIA KARINA MONTANO BULNES",{"$f":"IFERROR(VLOOKUP(BDD!$C9,TablaEMPLEADOS[],2,0),\"\")","v":""},"2020-06-24","2020-07-27",null,{"$f":"IFERROR(IF(TablaBDD[[#This Row],[TOTAL DIAS MANUAL]]<>\"\",TablaBDD[[#This Row],[TOTAL DIAS MANUAL]],IF(OR(BDD!$E9=\"\",BDD!$F9=\"\"),\"\",NETWORKDAYS(BDD!$E9,BDD!$F9,DiasFeriados))),\"\")","v":22}]
[null,{"$f":"COUNTIF($C$7:C10,VERIFICACION!$D$4)","v":0},null,{"$f":"IFERROR(VLOOKUP(BDD!$C10,TablaEMPLEADOS[],2,0),\"\")","v":""},null,null,null,{"$f":"IFERROR(IF(TablaBDD[[#This Row],[TOTAL DIAS MANUAL]]<>\"\",TablaBDD[[#This Row],[TOTAL DIAS MANUAL]],IF(OR(BDD!$E10=\"\",BDD!$F10=\"\"),\"\",NETWORKDAYS(BDD!$E10,BDD!$F10,DiasFeriados))),\"\")","v":""}]
[null,{"$f":"COUNTIF($C$7:C11,VERIFICACION!$D$4)","v":0},null,{"$f":"IFERROR(VLOOKUP(BDD!$C11,TablaEMPLEADOS[],2,0),\"\")","v":""},null,null,null,{"$f":"IFERROR(IF(TablaBDD[[#This Row],[TOTAL DIAS MANUAL]]<>\"\",TablaBDD[[#This Row],[TOTAL DIAS MANUAL]],IF(OR(BDD!$E11=\"\",BDD!$F11=\"\"),\"\",NETWORKDAYS(BDD!$E11,BDD!$F11,DiasFeriados))),\"\")","v":""}]
[]
[null,null,null,null,"                                                               "]

{"sheet":"VERIFICACION","index":4,"n_rows":61,"n_cols":8,"rows_kept":61,"cut":false,"hidden":false,"merged":[[57,1,57,6],[3,3,3,5],[3,1,3,2],[7,1,7,7]]}
[]
[]
[]
[null,"NOMBRE EMPLEADO",null,null,null,null,{"$f":"IF($G$6=\"\",\"NO\",$G$6)","v":"NO"}]
[null,"FECHA CONTRATACION","ANTIGÜEDAD LABORAL","DIAS VACACIONES","DIAS ASIGNADOS","SALDO VACACIONES","FECHA DE CORTE"]
[null,{"$f":"IFERROR(VLOOKUP(D4,TablaEMPLEADOS[],3,0),\"\")","v":""},{"$f":"IFERROR(VLOOKUP(D4,TablaEMPLEADOS[],4,0),\"\")","v":""},{"$f":"IFERROR(VLOOKUP(D4,TablaEMPLEADOS[],6,0),\"\")","v":""},{"$f":"IFERROR((VLOOKUP(D4,TablaEMPLEADOS[],10,0))+SUM(Tabla5[DIAS TOMADOS]),\"\")","v":""},{"$f":"IFERROR(D6-E6,\"\")","v":""}]
[null,null,{"$f":"IFERROR(VLOOKUP(D4,TablaEMPLEADOS[],9,0),\"\")","v":""}]
[null,"DETALLE DE LOS FERIADOS ASIGNADOS"]
[]
[null,"NOMBRE","RUT","FECHA INICIO","FECHA FINAL","PERIODO","DIAS TOMADOS","COMENTARIO"]
[1,{"$f":"IFERROR(VLOOKUP(A11,TablaBDD[],2,0),\"\")","v":""},{"$f":"IFERROR(VLOOKUP(A11,TablaBDD[],3,0),\"\")","v":""},{"$f":"IFERROR(VLOOKUP(A11,TablaBDD[],4,0),\"\")","v":""},{"$f":"IFERROR(VLOOKUP(A11,TablaBDD[],5,0),\"\")","v":""},{"$f":"IFERROR(VLOOKUP(A11,TablaBDD[],6,0),\"\")","v":""},{"$f":"IFERROR(VLOOKUP(A11,TablaBDD[],7,0),\"\")","v":""},{"$f":"IFERROR(VLOOKUP(A11,TablaBDD[],9,0),\"\")","v":""}]
[2,{"$f":"IFERROR(VLOOKUP(A12,TablaBDD[],2,0),\"\")","v":""},{"$f":"IFERROR(VLOOKUP(A12,TablaBDD[],3,0),\"\")","v":""},{"$f":"IFERROR(VLOOKUP(A12,TablaBDD[],4,0),\"\")","v":""},{"$f":"IFERROR(VLOOKUP(A12,TablaBDD[],5,0),\"\")","v":""},{"$f":"IFERROR(VLOOKUP(A12,TablaBDD[],6,0),\"\")","v":""},{"$f":"IFERROR(VLOOKUP(A12,TablaBDD[],7,0),\"\")","v":""},{"$f":"IFERROR(VLOOKUP(A12,TablaBDD[],9,0),\"\")","v":""}]
[3,{"$f":"IFERROR(VLOOKUP(A13,TablaBDD[],2,0),\"\")","v":""},{"$f":"IFERROR(VLOOKUP(A13,TablaBDD[],3,0),\"\")","v":""},{"$f":"IFERROR(VLOOKUP(A13,TablaBDD[],4,0),\"\")","v":""},{"$f":"IFERROR(VLOOKUP(A13,TablaBDD[],5,0),\"\")","v":""},{"$f":"IFERROR(VLOOKUP(A13,TablaBDD[],6,0),\"\")","v":""},{"$f":"IFERROR(VLOOKUP(A13,TablaBDD[],7,0),\"\")","v":""},{"$f":"IFERROR(VLOOKUP(A13,TablaBDD[],9,0),\"\")","v":""}]
[4,{"$f":"IFERROR(VLOOKUP(A14,TablaBDD[],2,0),\"\")","v":""},{"$f":"IFERROR(VLOOKUP(A14,TablaBDD[],3,0),\"\")","v":""},{"$f":"IFERROR(VLOOKUP(A14,TablaBDD[],4,0),\"\")","v":""},{"$f":"IFERROR(VLOOKUP(A14,TablaBDD[],5,0),\"\")","v":""},{"$f":"IFERROR(VLOOKUP(A14,TablaBDD[],6,0),\"\")","v":""},{"$f":"IFERROR(VLOOKUP(A14,TablaBDD[],7,0),\"\")","v":""},{"$f":"IFERROR(VLOOKUP(A14,TablaBDD[],9,0),\"\")","v":""}]
[5,{"$f":"IFERROR(VLOOKUP(A15,TablaBDD[],2,0),\"\")","v":""},{"$f":"IFERROR(VLOOKUP(A15,TablaBDD[],3,0),\"\")","v":""},{"$f":"IFERROR(VLOOKUP(A15,TablaBDD[],4,0),\"\")","v":""},{"$f":"IFERROR(VLOOKUP(A15,TablaBDD[],5,0),\"\")","v":""},{"$f":"IFERROR(VLOOKUP(A15,TablaBDD[],6,0),\"\")","v":""},{"$f":"IFERROR(VLOOKUP(A15,TablaBDD[],7,0),\"\")","v":""},{"$f":"IFERROR(VLOOKUP(A15,TablaBDD[],9,0),\"\")","v":""}]
[6,{"$f":"IFERROR(VLOOKUP(A16,TablaBDD[],2,0),\"\")","v":""},{"$f":"IFERROR(VLOOKUP(A16,TablaBDD[],3,0),\"\")","v":""},{"$f":"IFERROR(VLOOKUP(A16,TablaBDD[],4,0),\"\")","v":""},{"$f":"IFERROR(VLOOKUP(A16,TablaBDD[],5,0),\"\")","v":""},{"$f":"IFERROR(VLOOKUP(A16,TablaBDD[],6,0),\"\")","v":""},{"$f":"IFERROR(VLOOKUP(A16,TablaBDD[],7,0),\"\")","v":""},{"$f":"IFERROR(VLOOKUP(A16,TablaBDD[],9,0),\"\")","v":""}]
[7,{"$f":"IFERROR(VLOOKUP(A17,TablaBDD[],2,0),\"\")","v":""},{"$f":"IFERROR(VLOOKUP(A17,TablaBDD[],3,0),\"\")","v":""},{"$f":"IFERROR(VLOOKUP(A17,TablaBDD[],4,0),\"\")","v":""},{"$f":"IFERROR(VLOOKUP(A17,TablaBDD[],5,0),\"\")","v":""},{"$f":"IFERROR(VLOOKUP(A17,TablaBDD[],6,0),\"\")","v":""},{"$f":"IFERROR(VLOOKUP(A17,TablaBDD[],7,0),\"\")","v":""},{"$f":"IFERROR(VLOOKUP(A17,TablaBDD[],9,0),\"\")","v":""}]
[8,{"$f":"IFERROR(VLOOKUP(A18,TablaBDD[],2,0),\"\")","v":""},{"$f":"IFERROR(VLOOKUP(A18,TablaBDD[],3,0),\"\")","v":""},{"$f":"IFERROR(VLOOKUP(A18,TablaBDD[],4,0),\"\")","v":""},{"$f":"IFERROR(VLOOKUP(A18,TablaBDD[],5,0),\"\")","v":""},{"$f":"IFERROR(VLOOKUP(A18,TablaBDD[],6,0),\"\")","v":""},{"$f":"IFERROR(VLOOKUP(A18,TablaBDD[],7,0),\"\")","v":""},{"$f":"IFERROR(VLOOKUP(A18,TablaBDD[],9,0),\"\")","v":""}]
[9,{"$f":"IFERROR(VLOOKUP(A19,TablaBDD[],2,0),\"\")","v":""},{"$f":"IFERROR(VLOOKUP(A19,TablaBDD[],3,0),\"\")","v":""},{"$f":"IFERROR(VLOOKUP(A19,TablaBDD[],4,0),\"\")","v":""},{"$f":"IFERROR(VLOOKUP(A19,TablaBDD[],5,0),\"\")","v":""},{"$f":"IFERROR(VLOOKUP(A19,TablaBDD[],6,0),\"\")","v":""},{"$f":"IFERROR(VLOOKUP(A19,TablaBDD[],7,0),\"\")","v":""},{"$f":"IFERROR(VLOOKUP(A19,TablaBDD[],9,0),\"\")","v":""}]
[10,{"$f":"IFERROR(VLOOKUP(A20,TablaBDD[],2,0),\"\")","v":""},{"$f":"IFERROR(VLOOKUP(A20,TablaBDD[],3,0),\"\")","v":""},{"$f":"IFERROR(VLOOKUP(A20,TablaBDD[],4,0),\"\")","v":""},{"$f":"IFERROR(VLOOKUP(A20,TablaBDD[],5,0),\"\")","v":""},{"$f":"IFERROR(VLOOKUP(A20,TablaBDD[],6,0),\"\")","v":""},{"$f":"IFERROR(VLOOKUP(A20,TablaBDD[],7,0),\"\")","v":""},{"$f":"IFERROR(VLOOKUP(A20,TablaBDD[],9,0),\"\")","v":""}]
[11,{"$f":"IFERROR(VLOOKUP(A21,TablaBDD[],2,0),\"\")","v":""},{"$f":"IFERROR(VLOOKUP(A21,TablaBDD[],3,0),\"\")","v":""},{"$f":"IFERROR(VLOOKUP(A21,TablaBDD[],4,0),\"\")","v":""},{"$f":"IFERROR(VLOOKUP(A21,TablaBDD[],5,0),\"\")","v":""},{"$f":"IFERROR(VLOOKUP(A21,TablaBDD[],6,0),\"\")","v":""},{"$f":"IFERROR(VLOOKUP(A21,TablaBDD[],7,0),\"\")","v":""},{"$f":"IFERROR(VLOOKUP(A21,TablaBDD[],9,0),\"\")","v":""}]
[12,{"$f":"IFERROR(VLOOKUP(A22,TablaBDD[],2,0),\"\")","v":""},{"$f":"IFERROR(VLOOKUP(A22,TablaBDD[],3,0),\"\")","v":""},{"$f":"IFERROR(VLOOKUP(A22,TablaBDD[],4,0),\"\")","v":""},{"$f":"IFERROR(VLOOKUP(A22,TablaBDD[],5,0),\"\")","v":""},{"$f":"IFERROR(VLOOKUP(A22,TablaBDD[],6,0),\"\")","v":""},{"$f":"IFERROR(VLOOKUP(A22,TablaBDD[],7,0),\"\")","v":""},{"$f":"IFERROR(VLOOKUP(A22,TablaBDD[],9,0),\"\")","v":""}]
[13,{"$f":"IFERROR(VLOOKUP(A23,TablaBDD[],2,0),\"\")","v":""},{"$f":"IFERROR(VLOOKUP(A23,TablaBDD[],3,0),\"\")","v":""},{"$f":"IFERROR(VLOOKUP(A23,TablaBDD[],4,0),\"\")","v":""},{"$f":"IFERROR(VLOOKUP(A23,TablaBDD[],5,0),\"\")","v":""},{"$f":"IFERROR(VLOOKUP(A23,TablaBDD[],6,0),\"\")","v":""},{"$f":"IFERROR(VLOOKUP(A23,TablaBDD[],7,0),\"\")","v":""},{"$f":"IFERROR(VLOOKUP(A23,TablaBDD[],9,0),\"\")","v":""}]
[14,{"$f":"IFERROR(VLOOKUP(A24,TablaBDD[],2,0),\"\")","v":""},{"$f":"IFERROR(VLOOKUP(A24,TablaBDD[],3,0),\"\")","v":""},{"$f":"IFERROR(VLOOKUP(A24,TablaBDD[],4,0),\"\")","v":""},{"$f":"IFERROR(VLOOKUP(A24,TablaBDD[],5,0),\"\")","v":""},{"$f":"IFERROR(VLOOKUP(A24,TablaBDD[],6,0),\"\")","v":""},{"$f":"IFERROR(VLOOKUP(A24,TablaBDD[],7,0),\"\")","v":""},{"$f":"IFERROR(VLOOKUP(A24,TablaBDD[],9,0),\"\")","v":""}]
[15,{"$f":"IFERROR(VLOOKUP(A25,TablaBDD[],2,0),\"\")","v":""},{"$f":"IFERROR(VLOOKUP(A25,TablaBDD[],3,0),\"\")","v":""},{"$f":"IFERROR(VLOOKUP(A25,TablaBDD[],4,0),\"\")","v":""},{"$f":"IFERROR(VLOOKUP(A25,TablaBDD[],5,0),\"\")","v":""},{"$f":"IFERROR(VLOOKUP(A25,TablaBDD[],6,0),\"\")","v":""},{"$f":"IFERROR(VLOOKUP(A25,TablaBDD[],7,0),\"\")","v":""},{"$f":"IFERROR(VLOOKUP(A25,TablaBDD[],9,0),\"\")","v":""}]
[16,{"$f":"IFERROR(VLOOKUP(A26,TablaBDD[],2,0),\"\")","v":""},{"$f":"IFERROR(VLOOKUP(A26,TablaBDD[],3,0),\"\")","v":""},{"$f":"IFERROR(VLOOKUP(A26,TablaBDD[],4,0),\"\")","v":""},{"$f":"IFERROR(VLOOKUP(A26,TablaBDD[],5,0),\"\")","v":""},{"$f":"IFERROR(VLOOKUP(A26,TablaBDD[],6,0),\"\")","v":""},{"$f":"IFERROR(VLOOKUP(A26,TablaBDD[],7,0),\"\")","v":""},{"$f":"IFERROR(VLOOKUP(A26,TablaBDD[],9,0),\"\")","v":""}]
[17,{"$f":"IFERROR(VLOOKUP(A27,TablaBDD[],2,0),\"\")","v":""},{"$f":"IFERROR(VLOOKUP(A27,TablaBDD[],3,0),\"\")","v":""},{"$f":"IFERROR(VLOOKUP(A27,TablaBDD[],4,0),\"\")","v":""},{"$f":"IFERROR(VLOOKUP(A27,TablaBDD[],5,0),\"\")","v":""},{"$f":"IFERROR(VLOOKUP(A27,TablaBDD[],6,0),\"\")","v":""},{"$f":"IFERROR(VLOOKUP(A27,TablaBDD[],7,0),\"\")","v":""},{"$f":"IFERROR(VLOOKUP(A27,TablaBDD[],9,0),\"\")","v":""}]
[18,{"$f":"IFERROR(VLOOKUP(A28,TablaBDD[],2,0),\"\")","v":""},{"$f":"IFERROR(VLOOKUP(A28,TablaBDD[],3,0),\"\")","v":""},{"$f":"IFERROR(VLOOKUP(A28,TablaBDD[],4,0),\"\")","v":""},{"$f":"IFERROR(VLOOKUP(A28,TablaBDD[],5,0),\"\")","v":""},{"$f":"IFERROR(VLOOKUP(A28,TablaBDD[],6,0),\"\")","v":""},{"$f":"IFERROR(VLOOKUP(A28,TablaBDD[],7,0),\"\")","v":""},{"$f":"IFERROR(VLOOKUP(A28,TablaBDD[],9,0),\"\")","v":""}]
[19,{"$f":"IFERROR(VLOOKUP(A29,TablaBDD[],2,0),\"\")","v":""},{"$f":"IFERROR(VLOOKUP(A29,TablaBDD[],3,0),\"\")","v":""},{"$f":"IFERROR(VLOOKUP(A29,TablaBDD[],4,0),\"\")","v":""},{"$f":"IFERROR(VLOOKUP(A29,TablaBDD[],5,0),\"\")","v":""},{"$f":"IFERROR(VLOOKUP(A29,TablaBDD[],6,0),\"\")","v":""},{"$f":"IFERROR(VLOOKUP(A29,TablaBDD[],7,0),\"\")","v":""},{"$f":"IFERROR(VLOOKUP(A29,TablaBDD[],9,0),\"\")","v":""}]
[20,{"$f":"IFERROR(VLOOKUP(A30,TablaBDD[],2,0),\"\")","v":""},{"$f":"IFERROR(VLOOKUP(A30,TablaBDD[],3,0),\"\")","v":""},{"$f":"IFERROR(VLOOKUP(A30,TablaBDD[],4,0),\"\")","v":""},{"$f":"IFERROR(VLOOKUP(A30,TablaBDD[],5,0),\"\")","v":""},{"$f":"IFERROR(VLOOKUP(A30,TablaBDD[],6,0),\"\")","v":""},{"$f":"IFERROR(VLOOKUP(A30,TablaBDD[],7,0),\"\")","v":""},{"$f":"IFERROR(VLOOKUP(A30,TablaBDD[],9,0),\"\")","v":""}]
[21,{"$f":"IFERROR(VLOOKUP(A31,TablaBDD[],2,0),\"\")","v":""},{"$f":"IFERROR(VLOOKUP(A31,TablaBDD[],3,0),\"\")","v":""},{"$f":"IFERROR(VLOOKUP(A31,TablaBDD[],4,0),\"\")","v":""},{"$f":"IFERROR(VLOOKUP(A31,TablaBDD[],5,0),\"\")","v":""},{"$f":"IFERROR(VLOOKUP(A31,TablaBDD[],6,0),\"\")","v":""},{"$f":"IFERROR(VLOOKUP(A31,TablaBDD[],7,0),\"\")","v":""},{"$f":"IFERROR(VLOOKUP(A31,TablaBDD[],9,0),\"\")","v":""}]
[22,{"$f":"IFERROR(VLOOKUP(A32,TablaBDD[],2,0),\"\")","v":""},{"$f":"IFERROR(VLOOKUP(A32,TablaBDD[],3,0),\"\")","v":""},{"$f":"IFERROR(VLOOKUP(A32,TablaBDD[],4,0),\"\")","v":""},{"$f":"IFERROR(VLOOKUP(A32,TablaBDD[],5,0),\"\")","v":""},{"$f":"IFERROR(VLOOKUP(A32,TablaBDD[],6,0),\"\")","v":""},{"$f":"IFERROR(VLOOKUP(A32,TablaBDD[],7,0),\"\")","v":""},{"$f":"IFERROR(VLOOKUP(A32,TablaBDD[],9,0),\"\")","v":""}]
[23,{"$f":"IFERROR(VLOOKUP(A33,TablaBDD[],2,0),\"\")","v":""},{"$f":"IFERROR(VLOOKUP(A33,TablaBDD[],3,0),\"\")","v":""},{"$f":"IFERROR(VLOOKUP(A33,TablaBDD[],4,0),\"\")","v":""},{"$f":"IFERROR(VLOOKUP(A33,TablaBDD[],5,0),\"\")","v":""},{"$f":"IFERROR(VLOOKUP(A33,TablaBDD[],6,0),\"\")","v":""},{"$f":"IFERROR(VLOOKUP(A33,TablaBDD[],7,0),\"\")","v":""},{"$f":"IFERROR(VLOOKUP(A33,TablaBDD[],9,0),\"\")","v":""}]
[24,{"$f":"IFERROR(VLOOKUP(A34,TablaBDD[],2,0),\"\")","v":""},{"$f":"IFERROR(VLOOKUP(A34,TablaBDD[],3,0),\"\")","v":""},{"$f":"IFERROR(VLOOKUP(A34,TablaBDD[],4,0),\"\")","v":""},{"$f":"IFERROR(VLOOKUP(A34,TablaBDD[],5,0),\"\")","v":""},{"$f":"IFERROR(VLOOKUP(A34,TablaBDD[],6,0),\"\")","v":""},{"$f":"IFERROR(VLOOKUP(A34,TablaBDD[],7,0),\"\")","v":""},{"$f":"IFERROR(VLOOKUP(A34,TablaBDD[],9,0),\"\")","v":""}]
[25,{"$f":"IFERROR(VLOOKUP(A35,TablaBDD[],2,0),\"\")","v":""},{"$f":"IFERROR(VLOOKUP(A35,TablaBDD[],3,0),\"\")","v":""},{"$f":"IFERROR(VLOOKUP(A35,TablaBDD[],4,0),\"\")","v":""},{"$f":"IFERROR(VLOOKUP(A35,TablaBDD[],5,0),\"\")","v":""},{"$f":"IFERROR(VLOOKUP(A35,TablaBDD[],6,0),\"\")","v":""},{"$f":"IFERROR(VLOOKUP(A35,TablaBDD[],7,0),\"\")","v":""},{"$f":"IFERROR(VLOOKUP(A35,TablaBDD[],9,0),\"\")","v":""}]
[26,{"$f":"IFERROR(VLOOKUP(A36,TablaBDD[],2,0),\"\")","v":""},{"$f":"IFERROR(VLOOKUP(A36,TablaBDD[],3,0),\"\")","v":""},{"$f":"IFERROR(VLOOKUP(A36,TablaBDD[],4,0),\"\")","v":""},{"$f":"IFERROR(VLOOKUP(A36,TablaBDD[],5,0),\"\")","v":""},{"$f":"IFERROR(VLOOKUP(A36,TablaBDD[],6,0),\"\")","v":""},{"$f":"IFERROR(VLOOKUP(A36,TablaBDD[],7,0),\"\")","v":""},{"$f":"IFERROR(VLOOKUP(A36,TablaBDD[],9,0),\"\")","v":""}]
[27,{"$f":"IFERROR(VLOOKUP(A37,TablaBDD[],2,0),\"\")","v":""},{"$f":"IFERROR(VLOOKUP(A37,TablaBDD[],3,0),\"\")","v":""},{"$f":"IFERROR(VLOOKUP(A37,TablaBDD[],4,0),\"\")","v":""},{"$f":"IFERROR(VLOOKUP(A37,TablaBDD[],5,0),\"\")","v":""},{"$f":"IFERROR(VLOOKUP(A37,TablaBDD[],6,0),\"\")","v":""},{"$f":"IFERROR(VLOOKUP(A37,TablaBDD[],7,0),\"\")","v":""},{"$f":"IFERROR(VLOOKUP(A37,TablaBDD[],9,0),\"\")","v":""}]
[28,{"$f":"IFERROR(VLOOKUP(A38,TablaBDD[],2,0),\"\")","v":""},{"$f":"IFERROR(VLOOKUP(A38,TablaBDD[],3,0),\"\")","v":""},{"$f":"IFERROR(VLOOKUP(A38,TablaBDD[],4,0),\"\")","v":""},{"$f":"IFERROR(VLOOKUP(A38,TablaBDD[],5,0),\"\")","v":""},{"$f":"IFERROR(VLOOKUP(A38,TablaBDD[],6,0),\"\")","v":""},{"$f":"IFERROR(VLOOKUP(A38,TablaBDD[],7,0),\"\")","v":""},{"$f":"IFERROR(VLOOKUP(A38,TablaBDD[],9,0),\"\")","v":""}]
[29,{"$f":"IFERROR(VLOOKUP(A39,TablaBDD[],2,0),\"\")","v":""},{"$f":"IFERROR(VLOOKUP(A39,TablaBDD[],3,0),\"\")","v":""},{"$f":"IFERROR(VLOOKUP(A39,TablaBDD[],4,0),\"\")","v":""},{"$f":"IFERROR(VLOOKUP(A39,TablaBDD[],5,0),\"\")","v":""},{"$f":"IFERROR(VLOOKUP(A39,TablaBDD[],6,0),\"\")","v":""},{"$f":"IFERROR(VLOOKUP(A39,TablaBDD[],7,0),\"\")","v":""},{"$f":"IFERROR(VLOOKUP(A39,TablaBDD[],9,0),\"\")","v":""}]
[30,{"$f":"IFERROR(VLOOKUP(A40,TablaBDD[],2,0),\"\")","v":""},{"$f":"IFERROR(VLOOKUP(A40,TablaBDD[],3,0),\"\")","v":""},{"$f":"IFERROR(VLOOKUP(A40,TablaBDD[],4,0),\"\")","v":""},{"$f":"IFERROR(VLOOKUP(A40,TablaBDD[],5,0),\"\")","v":""},{"$f":"IFERROR(VLOOKUP(A40,TablaBDD[],6,0),\"\")","v":""},{"$f":"IFERROR(VLOOKUP(A40,TablaBDD[],7,0),\"\")","v":""},{"$f":"IFERROR(VLOOKUP(A40,TablaBDD[],9,0),\"\")","v":""}]
[31,{"$f":"IFERROR(VLOOKUP(A41,TablaBDD[],2,0),\"\")","v":""},{"$f":"IFERROR(VLOOKUP(A41,TablaBDD[],3,0),\"\")","v":""},{"$f":"IFERROR(VLOOKUP(A41,TablaBDD[],4,0),\"\")","v":""},{"$f":"IFERROR(VLOOKUP(A41,TablaBDD[],5,0),\"\")","v":""},{"$f":"IFERROR(VLOOKUP(A41,TablaBDD[],6,0),\"\")","v":""},{"$f":"IFERROR(VLOOKUP(A41,TablaBDD[],7,0),\"\")","v":""},{"$f":"IFERROR(VLOOKUP(A41,TablaBDD[],9,0),\"\")","v":""}]
[32,{"$f":"IFERROR(VLOOKUP(A42,TablaBDD[],2,0),\"\")","v":""},{"$f":"IFERROR(VLOOKUP(A42,TablaBDD[],3,0),\"\")","v":""},{"$f":"IFERROR(VLOOKUP(A42,TablaBDD[],4,0),\"\")","v":""},{"$f":"IFERROR(VLOOKUP(A42,TablaBDD[],5,0),\"\")","v":""},{"$f":"IFERROR(VLOOKUP(A42,TablaBDD[],6,0),\"\")","v":""},{"$f":"IFERROR(VLOOKUP(A42,TablaBDD[],7,0),\"\")","v":""},{"$f":"IFERROR(VLOOKUP(A42,TablaBDD[],9,0),\"\")","v":""}]
[33,{"$f":"IFERROR(VLOOKUP(A43,TablaBDD[],2,0),\"\")","v":""},{"$f":"IFERROR(VLOOKUP(A43,TablaBDD[],3,0),\"\")","v":""},{"$f":"IFERROR(VLOOKUP(A43,TablaBDD[],4,0),\"\")","v":""},{"$f":"IFERROR(VLOOKUP(A43,TablaBDD[],5,0),\"\")","v":""},{"$f":"IFERROR(VLOOKUP(A43,TablaBDD[],6,0),\"\")","v":""},{"$f":"IFERROR(VLOOKUP(A43,TablaBDD[],7,0),\"\")","v":""},{"$f":"IFERROR(VLOOKUP(A43,TablaBDD[],9,0),\"\")","v":""}]
[34,{"$f":"IFERROR(VLOOKUP(A44,TablaBDD[],2,0),\"\")","v":""},{"$f":"IFERROR(VLOOKUP(A44,TablaBDD[],3,0),\"\")","v":""},{"$f":"IFERROR(VLOOKUP(A44,TablaBDD[],4,0),\"\")","v":""},{"$f":"IFERROR(VLOOKUP(A44,TablaBDD[],5,0),\"\")","v":""},{"$f":"IFERROR(VLOOKUP(A44,TablaBDD[],6,0),\"\")","v":""},{"$f":"IFERROR(VLOOKUP(A44,TablaBDD[],7,0),\"\")","v":""},{"$f":"IFERROR(VLOOKUP(A44,TablaBDD[],9,0),\"\")","v":""}]
[35,{"$f":"IFERROR(VLOOKUP(A45,TablaBDD[],2,0),\"\")","v":""},{"$f":"IFERROR(VLOOKUP(A45,TablaBDD[],3,0),\"\")","v":""},{"$f":"IFERROR(VLOOKUP(A45,TablaBDD[],4,0),\"\")","v":""},{"$f":"IFERROR(VLOOKUP(A45,TablaBDD[],5,0),\"\")","v":""},{"$f":"IFERROR(VLOOKUP(A45,TablaBDD[],6,0),\"\")","v":""},{"$f":"IFERROR(VLOOKUP(A45,TablaBDD[],7,0),\"\")","v":""},{"$f":"IFERROR(VLOOKUP(A45,TablaBDD[],9,0),\"\")","v":""}]
[36,{"$f":"IFERROR(VLOOKUP(A46,TablaBDD[],2,0),\"\")","v":""},{"$f":"IFERROR(VLOOKUP(A46,TablaBDD[],3,0),\"\")","v":""},{"$f":"IFERROR(VLOOKUP(A46,TablaBDD[],4,0),\"\")","v":""},{"$f":"IFERROR(VLOOKUP(A46,TablaBDD[],5,0),\"\")","v":""},{"$f":"IFERROR(VLOOKUP(A46,TablaBDD[],6,0),\"\")","v":""},{"$f":"IFERROR(VLOOKUP(A46,TablaBDD[],7,0),\"\")","v":""},{"$f":"IFERROR(VLOOKUP(A46,TablaBDD[],9,0),\"\")","v":""}]
[37,{"$f":"IFERROR(VLOOKUP(A47,TablaBDD[],2,0),\"\")","v":""},{"$f":"IFERROR(VLOOKUP(A47,TablaBDD[],3,0),\"\")","v":""},{"$f":"IFERROR(VLOOKUP(A47,TablaBDD[],4,0),\"\")","v":""},{"$f":"IFERROR(VLOOKUP(A47,TablaBDD[],5,0),\"\")","v":""},{"$f":"IFERROR(VLOOKUP(A47,TablaBDD[],6,0),\"\")","v":""},{"$f":"IFERROR(VLOOKUP(A47,TablaBDD[],7,0),\"\")","v":""},{"$f":"IFERROR(VLOOKUP(A47,TablaBDD[],9,0),\"\")","v":""}]
[38,{"$f":"IFERROR(VLOOKUP(A48,TablaBDD[],2,0),\"\")","v":""},{"$f":"IFERROR(VLOOKUP(A48,TablaBDD[],3,0),\"\")","v":""},{"$f":"IFERROR(VLOOKUP(A48,TablaBDD[],4,0),\"\")","v":""},{"$f":"IFERROR(VLOOKUP(A48,TablaBDD[],5,0),\"\")","v":""},{"$f":"IFERROR(VLOOKUP(A48,TablaBDD[],6,0),\"\")","v":""},{"$f":"IFERROR(VLOOKUP(A48,TablaBDD[],7,0),\"\")","v":""},{"$f":"IFERROR(VLOOKUP(A48,TablaBDD[],9,0),\"\")","v":""}]
[39,{"$f":"IFERROR(VLOOKUP(A49,TablaBDD[],2,0),\"\")","v":""},{"$f":"IFERROR(VLOOKUP(A49,TablaBDD[],3,0),\"\")","v":""},{"$f":"IFERROR(VLOOKUP(A49,TablaBDD[],4,0),\"\")","v":""},{"$f":"IFERROR(VLOOKUP(A49,TablaBDD[],5,0),\"\")","v":""},{"$f":"IFERROR(VLOOKUP(A49,TablaBDD[],6,0),\"\")","v":""},{"$f":"IFERROR(VLOOKUP(A49,TablaBDD[],7,0),\"\")","v":""},{"$f":"IFERROR(VLOOKUP(A49,TablaBDD[],9,0),\"\")","v":""}]
[40,{"$f":"IFERROR(VLOOKUP(A50,TablaBDD[],2,0),\"\")","v":""},{"$f":"IFERROR(VLOOKUP(A50,TablaBDD[],3,0),\"\")","v":""},{"$f":"IFERROR(VLOOKUP(A50,TablaBDD[],4,0),\"\")","v":""},{"$f":"IFERROR(VLOOKUP(A50,TablaBDD[],5,0),\"\")","v":""},{"$f":"IFERROR(VLOOKUP(A50,TablaBDD[],6,0),\"\")","v":""},{"$f":"IFERROR(VLOOKUP(A50,TablaBDD[],7,0),\"\")","v":""},{"$f":"IFERROR(VLOOKUP(A50,TablaBDD[],9,0),\"\")","v":""}]
[41,{"$f":"IFERROR(VLOOKUP(A51,TablaBDD[],2,0),\"\")","v":""},{"$f":"IFERROR(VLOOKUP(A51,TablaBDD[],3,0),\"\")","v":""},{"$f":"IFERROR(VLOOKUP(A51,TablaBDD[],4,0),\"\")","v":""},{"$f":"IFERROR(VLOOKUP(A51,TablaBDD[],5,0),\"\")","v":""},{"$f":"IFERROR(VLOOKUP(A51,TablaBDD[],6,0),\"\")","v":""},{"$f":"IFERROR(VLOOKUP(A51,TablaBDD[],7,0),\"\")","v":""},{"$f":"IFERROR(VLOOKUP(A51,TablaBDD[],9,0),\"\")","v":""}]
[42,{"$f":"IFERROR(VLOOKUP(A52,TablaBDD[],2,0),\"\")","v":""},{"$f":"IFERROR(VLOOKUP(A52,TablaBDD[],3,0),\"\")","v":""},{"$f":"IFERROR(VLOOKUP(A52,TablaBDD[],4,0),\"\")","v":""},{"$f":"IFERROR(VLOOKUP(A52,TablaBDD[],5,0),\"\")","v":""},{"$f":"IFERROR(VLOOKUP(A52,TablaBDD[],6,0),\"\")","v":""},{"$f":"IFERROR(VLOOKUP(A52,TablaBDD[],7,0),\"\")","v":""},{"$f":"IFERROR(VLOOKUP(A52,TablaBDD[],9,0),\"\")","v":""}]
[43,{"$f":"IFERROR(VLOOKUP(A53,TablaBDD[],2,0),\"\")","v":""},{"$f":"IFERROR(VLOOKUP(A53,TablaBDD[],3,0),\"\")","v":""},{"$f":"IFERROR(VLOOKUP(A53,TablaBDD[],4,0),\"\")","v":""},{"$f":"IFERROR(VLOOKUP(A53,TablaBDD[],5,0),\"\")","v":""},{"$f":"IFERROR(VLOOKUP(A53,TablaBDD[],6,0),\"\")","v":""},{"$f":"IFERROR(VLOOKUP(A53,TablaBDD[],7,0),\"\")","v":""},{"$f":"IFERROR(VLOOKUP(A53,TablaBDD[],9,0),\"\")","v":""}]
[44,{"$f":"IFERROR(VLOOKUP(A54,TablaBDD[],2,0),\"\")","v":""},{"$f":"IFERROR(VLOOKUP(A54,TablaBDD[],3,0),\"\")","v":""},{"$f":"IFERROR(VLOOKUP(A54,TablaBDD[],4,0),\"\")","v":""},{"$f":"IFERROR(VLOOKUP(A54,TablaBDD[],5,0),\"\")","v":""},{"$f":"IFERROR(VLOOKUP(A54,TablaBDD[],6,0),\"\")","v":""},{"$f":"IFERROR(VLOOKUP(A54,TablaBDD[],7,0),\"\")","v":""},{"$f":"IFERROR(VLOOKUP(A54,TablaBDD[],9,0),\"\")","v":""}]
[45,{"$f":"IFERROR(VLOOKUP(A55,TablaBDD[],2,0),\"\")","v":""},{"$f":"IFERROR(VLOOKUP(A55,TablaBDD[],3,0),\"\")","v":""},{"$f":"IFERROR(VLOOKUP(A55,TablaBDD[],4,0),\"\")","v":""},{"$f":"IFERROR(VLOOKUP(A55,TablaBDD[],5,0),\"\")","v":""},{"$f":"IFERROR(VLOOKUP(A55,TablaBDD[],6,0),\"\")","v":""},{"$f":"IFERROR(VLOOKUP(A55,TablaBDD[],7,0),\"\")","v":""},{"$f":"IFERROR(VLOOKUP(A55,TablaBDD[],9,0),\"\")","v":""}]
[46,{"$f":"IFERROR(VLOOKUP(A56,TablaBDD[],2,0),\"\")","v":""},{"$f":"IFERROR(VLOOKUP(A56,TablaBDD[],3,0),\"\")","v":""},{"$f":"IFERROR(VLOOKUP(A56,TablaBDD[],4,0),\"\")","v":""},{"$f":"IFERROR(VLOOKUP(A56,TablaBDD[],5,0),\"\")","v":""},{"$f":"IFERROR(VLOOKUP(A56,TablaBDD[],6,0),\"\")","v":""},{"$f":"IFERROR(VLOOKUP(A56,TablaBDD[],7,0),\"\")","v":""},{"$f":"IFERROR(VLOOKUP(A56,TablaBDD[],9,0),\"\")","v":""}]
[]
[null,"RESUMEN DE LAS VACACIONES"]
[null,"PERIODO",{"$f":"CONFIGURACION!D3","v":2017},"PERIODO",{"$f":"C59+1","v":2018},"PERIODO",{"$f":"E59+1","v":2019}]
[null,"TOTAL DIAS TOMADOS",{"$f":"SUMIF(Tabla5[PERIODO],C59,Tabla5[DIAS TOMADOS])","v":0},"TOTAL DIAS TOMADOS",{"$f":"SUMIF(Tabla5[PERIODO],E59,Tabla5[DIAS TOMADOS])","v":0},"TOTAL DIAS TOMADOS",{"$f":"SUMIF(Tabla5[PERIODO],G59,Tabla5[DIAS TOMADOS])","v":0}]
[null,"TOTAL DIAS PENDIENTES",{"$f":"15-C60","v":15},"TOTAL DIAS PENDIENTES",{"$f":"15-E60","v":15},"TOTAL DIAS PENDIENTES",{"$f":"15-G60","v":15}]

{"sheet":"COMPROBANTE","index":5,"n_rows":35,"n_cols":14,"rows_kept":35,"cut":false,"hidden":false,"merged":[[12,3,12,7],[2,4,2,8],[18,2,18,11],[7,2,8,6],[10,2,11,11],[12,9,12,10],[13,10,13,11],[14,2,14,9],[15,2,15,11],[16,2,16,9],[17,3,17,4],[17,6,17,7],[2,2,2,3],[29,4,29,5],[33,3,33,4],[33,9,33,10],[19,2,19,11],[20,3,20,4],[20,6,20,11],[23,2,23,5],[23,8,23,11],[24,2,24,5],[25,2,25,5],[27,2,27,5],[28,2,28,5],[26,2,26,5],[24,8,27,11]]}
[]
[]
[null,null,"NOMBRE EMPLEADO"]
[]
[null,null,null,null,null,null,null,null,null,null,null,null,null,{"$f":"D13&\" \"&TEXT(D18,\"DD-MM-YY\")","v":" "}]
[{"$f":"IFERROR(VLOOKUP(E3,TablaEMPLEADOS[],6,0),\"\")","v":""}]
[{"$f":"IFERROR((VLOOKUP(E3,TablaEMPLEADOS[],9,0))+SUM(Tabla5[DIAS TOMADOS]),\"\")","v":""}]
[null,null,"COMPROBANTE DE FERIADO",null,null,null,null,null,"LUGAR","DÍA","MES","AÑO"]
[null,null,null,null,null,null,null,{"$f":"VLOOKUP($E$3,VERIFICACION!$D$4:$G$4,4,0)","v":{"$error":"#N/A"}},"Stgo",{"$f":"TODAY()","v":"2020-07-21"},{"$f":"TODAY()","v":"2020-07-21"},{"$f":"TODAY()","v":"2020-07-21"}]
[]
[null,null,"En cumplimiento a las disposiciones legales vigentes PG SECURITY deja constancia que a contar de las fechas que se indican el trabajador :"]
[]
[null,null,"DON(A)   :",null,null,null,null,null,"RUT :",{"$f":"IFERROR(VLOOKUP($D$13,BDD!$C$6:$I$20001,2,0),\"\")","v":""}]
[null,null,"Hará uso de sus días Vacaciones correspondiente a:"]
[null,null,"Feriado Anual con remuneración íntegra de acuerdo al siguiente detalle de fechas:"]
[]
[null,null,"DESCANSO EFECTIVO ENTRE LAS FECHAS QUE SE INDICAN:"]
[null,null,"DESDE EL:",{"$f":"IFERROR(VLOOKUP($D$13,BDD!$C$6:$I$20001,3,0),\"\")","v":""},null,"HASTA EL :",{"$f":"IFERROR(VLOOKUP($D$13,BDD!$C$6:$I$20001,4,0),\"\")","v":""}]
[]
[]
[]
[]
[]
[null,null,"DETALLE DEL FERIADO",null,null,null,"DÍAS",{"$f":"IF(DIA_MANUAL<>\"\",DIA_MANUAL,NETWORKDAYS(D18,G18,DiasFeriados))-H28","v":{"$error":"#VALUE!"}},"NOTA"]
[null,null,"DÍAS VACACIONES",null,null,null,{"$f":"IFERROR(H24,\"\")","v":""}]
[null,null,"VACACIONS PROGRESIVAS",null,null,null,0]
[{"$f":"G18-D18+1","v":{"$error":"#VALUE!"}},null,"SABADOS, DOMINGOS E INHABILES",null,null,null,{"$f":"IFERROR(A27-H24,\"\")","v":""}]
[null,null,"DÍAS ASIGNADOS",null,null,null,{"$f":"IFERROR(G25+G26,\"\")","v":""},{"$f":"G26","v":0}]
[null,null,"SALDO VACACIONES",null,null,null,{"$f":"IFERROR(($A$6-$A$7)-VLOOKUP($E$3,TablaEMPLEADOS[],10,0),\"\")","v":""}]
[]
[]
[]
[]
[null,null,null,"FIRMA DEL EMPLEADOR",null,null,null,null,null,"FIRMA DEL TRABAJADOR"]
[null,null,null,null,null,null,null,null,null,"RUT: ",{"$f":"J13","v":""}]

{"sheet":"LICENCIAS","index":6,"n_rows":812,"n_cols":11,"rows_kept":812,"cut":false,"hidden":false,"merged":[]}
[]
[]
[null,null,null,"No","NOMBRE","RUT","FECHA INICIO","FECHA FINAL","DURACION"]
[null,null,null,{"$f":"COUNTIF($E$4:E4, VERIFICACIONLICENCIA!$F$3)","v":0},"LUCIA KARINA MONTANO BULNES",{"$f":"IFERROR(VLOOKUP(Tabla4[[#This Row],[NOMBRE]],TablaEMPLEADOS[],2,0),\"\")","v":""},"2020-03-29","2020-04-11",14]
[null,null,null,{"$f":"COUNTIF($E$4:E5, VERIFICACIONLICENCIA!$F$3)","v":1},"WALDO ARTURO IBAÑEZ LISBOA",{"$f":"IFERROR(VLOOKUP(Tabla4[[#This Row],[NOMBRE]],TablaEMPLEADOS[],2,0),\"\")","v":""},"2020-03-12","2020-04-28",7,"<---------","Seleccione una celda de la fila de la cual necesita"]
[null,null,null,{"$f":"COUNTIF($E$4:E6, VERIFICACIONLICENCIA!$F$3)","v":2},"WALDO ARTURO IBAÑEZ LISBOA",{"$f":"IFERROR(VLOOKUP(Tabla4[[#This Row],[NOMBRE]],TablaEMPLEADOS[],2,0),\"\")","v":""},"2020-04-29","2020-05-12",14,null,"generar el comprobante y haz click en el boton :"]
[null,null,null,{"$f":"COUNTIF($E$4:E7, VERIFICACIONLICENCIA!$F$3)","v":3},"WALDO ARTURO IBAÑEZ LISBOA",{"$f":"IFERROR(VLOOKUP(Tabla4[[#This Row],[NOMBRE]],TablaEMPLEADOS[],2,0),\"\")","v":""},"2020-05-13","2020-06-11",30,null,"GENERAR COMPROBANTE"]
[null,null,null,{"$f":"COUNTIF($E$4:E8, VERIFICACIONLICENCIA!$F$3)","v":4},"WALDO ARTURO IBAÑEZ LISBOA",{"$f":"IFERROR(VLOOKUP(Tabla4[[#This Row],[NOMBRE]],TablaEMPLEADOS[],2,0),\"\")","v":""},"2020-06-12","2020-07-16",45]
[null,null,null,{"$f":"COUNTIF($E$4:E9, VERIFICACIONLICENCIA!$F$3)","v":4},"JOSE DEL CARMEN ANDRADE SALDIVIA",{"$f":"IFERROR(VLOOKUP(Tabla4[[#This Row],[NOMBRE]],TablaEMPLEADOS[],2,0),\"\")","v":""},"2020-06-17","2020-06-30",14]
[null,null,null,{"$f":"COUNTIF($E$4:E10, VERIFICACIONLICENCIA!$F$3)","v":4},"LUIS ROBERTO PEREZ GUERRA",{"$f":"IFERROR(VLOOKUP(Tabla4[[#This Row],[NOMBRE]],TablaEMPLEADOS[],2,0),\"\")","v":""},"2020-06-22","2020-06-25",4]
[null,null,null,{"$f":"COUNTIF($E$4:E11, VERIFICACIONLICENCIA!$F$3)","v":4},null,{"$f":"IFERROR(VLOOKUP(Tabla4[[#This Row],[NOMBRE]],TablaEMPLEADOS[],2,0),\"\")","v":""}]
[null,null,null,{"$f":"COUNTIF($E$4:E12, VERIFICACIONLICENCIA!$F$3)","v":4},null,{"$f":"IFERROR(VLOOKUP(Tabla4[[#This Row],[NOMBRE]],TablaEMPLEADOS[],2,0),\"\")","v":""}]
[null,null,null,{"$f":"COUNTIF($E$4:E13, VERIFICACIONLICENCIA!$F$3)","v":4},null,{"$f":"IFERROR(VLOOKUP(Tabla4[[#This Row],[NOMBRE]],TablaEMPLEADOS[],2,0),\"\")","v":""}]
[null,null,null,{"$f":"COUNTIF($E$4:E14, VERIFICACIONLICENCIA!$F$3)","v":4},null,{"$f":"IFERROR(VLOOKUP(Tabla4[[#This Row],[NOMBRE]],TablaEMPLEADOS[],2,0),\"\")","v":""}]
[null,null,null,{"$f":"COUNTIF($E$4:E15, VERIFICACIONLICENCIA!$F$3)","v":4},null,{"$f":"IFERROR(VLOOKUP(Tabla4[[#This Row],[NOMBRE]],TablaEMPLEADOS[],2,0),\"\")","v":""}]
[null,null,null,{"$f":"COUNTIF($E$4:E16, VERIFICACIONLICENCIA!$F$3)","v":4},null,{"$f":"IFERROR(VLOOKUP(Tabla4[[#This Row],[NOMBRE]],TablaEMPLEADOS[],2,0),\"\")","v":""}]
[null,null,null,{"$f":"COUNTIF($E$4:E17, VERIFICACIONLICENCIA!$F$3)","v":4},null,{"$f":"IFERROR(VLOOKUP(Tabla4[[#This Row],[NOMBRE]],TablaEMPLEADOS[],2,0),\"\")","v":""}]
[null,null,null,{"$f":"COUNTIF($E$4:E18, VERIFICACIONLICENCIA!$F$3)","v":4},null,{"$f":"IFERROR(VLOOKUP(Tabla4[[#This Row],[NOMBRE]],TablaEMPLEADOS[],2,0),\"\")","v":""}]
[null,null,null,{"$f":"COUNTIF($E$4:E19, VERIFICACIONLICENCIA!$F$3)","v":4},null,{"$f":"IFERROR(VLOOKUP(Tabla4[[#This Row],[NOMBRE]],TablaEMPLEADOS[],2,0),\"\")","v":""}]
[null,null,null,{"$f":"COUNTIF($E$4:E20, VERIFICACIONLICENCIA!$F$3)","v":4},null,{"$f":"IFERROR(VLOOKUP(Tabla4[[#This Row],[NOMBRE]],TablaEMPLEADOS[],2,0),\"\")","v":""}]
[null,null,null,{"$f":"COUNTIF($E$4:E21, VERIFICACIONLICENCIA!$F$3)","v":4},null,{"$f":"IFERROR(VLOOKUP(Tabla4[[#This Row],[NOMBRE]],TablaEMPLEADOS[],2,0),\"\")","v":""}]
[null,null,null,{"$f":"COUNTIF($E$4:E22, VERIFICACIONLICENCIA!$F$3)","v":4},null,{"$f":"IFERROR(VLOOKUP(Tabla4[[#This Row],[NOMBRE]],TablaEMPLEADOS[],2,0),\"\")","v":""}]
[null,null,null,{"$f":"COUNTIF($E$4:E23, VERIFICACIONLICENCIA!$F$3)","v":4},null,{"$f":"IFERROR(VLOOKUP(Tabla4[[#This Row],[NOMBRE]],TablaEMPLEADOS[],2,0),\"\")","v":""}]
[null,null,null,{"$f":"COUNTIF($E$4:E24, VERIFICACIONLICENCIA!$F$3)","v":4},null,{"$f":"IFERROR(VLOOKUP(Tabla4[[#This Row],[NOMBRE]],TablaEMPLEADOS[],2,0),\"\")","v":""}]
[null,null,null,{"$f":"COUNTIF($E$4:E25, VERIFICACIONLICENCIA!$F$3)","v":4},null,{"$f":"IFERROR(VLOOKUP(Tabla4[[#This Row],[NOMBRE]],TablaEMPLEADOS[],2,0),\"\")","v":""}]
[null,null,null,{"$f":"COUNTIF($E$4:E26, VERIFICACIONLICENCIA!$F$3)","v":4},null,{"$f":"IFERROR(VLOOKUP(Tabla4[[#This Row],[NOMBRE]],TablaEMPLEADOS[],2,0),\"\")","v":""}]
[null,null,null,{"$f":"COUNTIF($E$4:E27, VERIFICACIONLICENCIA!$F$3)","v":4},null,{"$f":"IFERROR(VLOOKUP(Tabla4[[#This Row],[NOMBRE]],TablaEMPLEADOS[],2,0),\"\")","v":""}]
[null,null,null,{"$f":"COUNTIF($E$4:E28, VERIFICACIONLICENCIA!$F$3)","v":4},null,{"$f":"IFERROR(VLOOKUP(Tabla4[[#This Row],[NOMBRE]],TablaEMPLEADOS[],2,0),\"\")","v":""}]
[null,null,null,{"$f":"COUNTIF($E$4:E29, VERIFICACIONLICENCIA!$F$3)","v":4},null,{"$f":"IFERROR(VLOOKUP(Tabla4[[#This Row],[NOMBRE]],TablaEMPLEADOS[],2,0),\"\")","v":""}]
[null,null,null,{"$f":"COUNTIF($E$4:E30, VERIFICACIONLICENCIA!$F$3)","v":4},null,{"$f":"IFERROR(VLOOKUP(Tabla4[[#This Row],[NOMBRE]],TablaEMPLEADOS[],2,0),\"\")","v":""}]
[null,null,null,{"$f":"COUNTIF($E$4:E31, VERIFICACIONLICENCIA!$F$3)","v":4},null,{"$f":"IFERROR(VLOOKUP(Tabla4[[#This Row],[NOMBRE]],TablaEMPLEADOS[],2,0),\"\")","v":""}]
[null,null,null,{"$f":"COUNTIF($E$4:E32, VERIFICACIONLICENCIA!$F$3)","v":4},null,{"$f":"IFERROR(VLOOKUP(Tabla4[[#This Row],[NOMBRE]],TablaEMPLEADOS[],2,0),\"\")","v":""}]
[null,null,null,{"$f":"COUNTIF($E$4:E33, VERIFICACIONLICENCIA!$F$3)","v":4},null,{"$f":"IFERROR(VLOOKUP(Tabla4[[#This Row],[NOMBRE]],TablaEMPLEADOS[],2,0),\"\")","v":""}]
[null,null,null,{"$f":"COUNTIF($E$4:E34, VERIFICACIONLICENCIA!$F$3)","v":4},null,{"$f":"IFERROR(VLOOKUP(Tabla4[[#This Row],[NOMBRE]],TablaEMPLEADOS[],2,0),\"\")","v":""}]
[null,null,null,{"$f":"COUNTIF($E$4:E35, VERIFICACIONLICENCIA!$F$3)","v":4},null,{"$f":"IFERROR(VLOOKUP(Tabla4[[#This Row],[NOMBRE]],TablaEMPLEADOS[],2,0),\"\")","v":""}]
[null,null,null,{"$f":"COUNTIF($E$4:E36, VERIFICACIONLICENCIA!$F$3)","v":4},null,{"$f":"IFERROR(VLOOKUP(Tabla4[[#This Row],[NOMBRE]],TablaEMPLEADOS[],2,0),\"\")","v":""}]
[null,null,null,{"$f":"COUNTIF($E$4:E37, VERIFICACIONLICENCIA!$F$3)","v":4},null,{"$f":"IFERROR(VLOOKUP(Tabla4[[#This Row],[NOMBRE]],TablaEMPLEADOS[],2,0),\"\")","v":""}]
[null,null,null,{"$f":"COUNTIF($E$4:E38, VERIFICACIONLICENCIA!$F$3)","v":4},null,{"$f":"IFERROR(VLOOKUP(Tabla4[[#This Row],[NOMBRE]],TablaEMPLEADOS[],2,0),\"\")","v":""}]
[null,null,null,{"$f":"COUNTIF($E$4:E39, VERIFICACIONLICENCIA!$F$3)","v":4},null,{"$f":"IFERROR(VLOOKUP(Tabla4[[#This Row],[NOMBRE]],TablaEMPLEADOS[],2,0),\"\")","v":""}]
[null,null,null,{"$f":"COUNTIF($E$4:E40, VERIFICACIONLICENCIA!$F$3)","v":4},null,{"$f":"IFERROR(VLOOKUP(Tabla4[[#This Row],[NOMBRE]],TablaEMPLEADOS[],2,0),\"\")","v":""}]
[null,null,null,{"$f":"COUNTIF($E$4:E41, VERIFICACIONLICENCIA!$F$3)","v":4},null,{"$f":"IFERROR(VLOOKUP(Tabla4[[#This Row],[NOMBRE]],TablaEMPLEADOS[],2,0),\"\")","v":""}]
[null,null,null,{"$f":"COUNTIF($E$4:E42, VERIFICACIONLICENCIA!$F$3)","v":4},null,{"$f":"IFERROR(VLOOKUP(Tabla4[[#This Row],[NOMBRE]],TablaEMPLEADOS[],2,0),\"\")","v":""}]
[null,null,null,{"$f":"COUNTIF($E$4:E43, VERIFICACIONLICENCIA!$F$3)","v":4},null,{"$f":"IFERROR(VLOOKUP(Tabla4[[#This Row],[NOMBRE]],TablaEMPLEADOS[],2,0),\"\")","v":""}]
[null,null,null,{"$f":"COUNTIF($E$4:E44, VERIFICACIONLICENCIA!$F$3)","v":4},null,{"$f":"IFERROR(VLOOKUP(Tabla4[[#This Row],[NOMBRE]],TablaEMPLEADOS[],2,0),\"\")","v":""}]
[null,null,null,{"$f":"COUNTIF($E$4:E45, VERIFICACIONLICENCIA!$F$3)","v":4},null,{"$f":"IFERROR(VLOOKUP(Tabla4[[#This Row],[NOMBRE]],TablaEMPLEADOS[],2,0),\"\")","v":""}]
[null,null,null,{"$f":"COUNTIF($E$4:E46, VERIFICACIONLICENCIA!$F$3)","v":4},null,{"$f":"IFERROR(VLOOKUP(Tabla4[[#This Row],[NOMBRE]],TablaEMPLEADOS[],2,0),\"\")","v":""}]
[null,null,null,{"$f":"COUNTIF($E$4:E47, VERIFICACIONLICENCIA!$F$3)","v":4},null,{"$f":"IFERROR(VLOOKUP(Tabla4[[#This Row],[NOMBRE]],TablaEMPLEADOS[],2,0),\"\")","v":""}]
[null,null,null,{"$f":"COUNTIF($E$4:E48, VERIFICACIONLICENCIA!$F$3)","v":4},null,{"$f":"IFERROR(VLOOKUP(Tabla4[[#This Row],[NOMBRE]],TablaEMPLEADOS[],2,0),\"\")","v":""}]
[null,null,null,{"$f":"COUNTIF($E$4:E49, VERIFICACIONLICENCIA!$F$3)","v":4},null,{"$f":"IFERROR(VLOOKUP(Tabla4[[#This Row],[NOMBRE]],TablaEMPLEADOS[],2,0),\"\")","v":""}]
[null,null,null,{"$f":"COUNTIF($E$4:E50, VERIFICACIONLICENCIA!$F$3)","v":4},null,{"$f":"IFERROR(VLOOKUP(Tabla4[[#This Row],[NOMBRE]],TablaEMPLEADOS[],2,0),\"\")","v":""}]
[null,null,null,{"$f":"COUNTIF($E$4:E51, VERIFICACIONLICENCIA!$F$3)","v":4},null,{"$f":"IFERROR(VLOOKUP(Tabla4[[#This Row],[NOMBRE]],TablaEMPLEADOS[],2,0),\"\")","v":""}]
[null,null,null,{"$f":"COUNTIF($E$4:E52, VERIFICACIONLICENCIA!$F$3)","v":4},null,{"$f":"IFERROR(VLOOKUP(Tabla4[[#This Row],[NOMBRE]],TablaEMPLEADOS[],2,0),\"\")","v":""}]
[null,null,null,{"$f":"COUNTIF($E$4:E53, VERIFICACIONLICENCIA!$F$3)","v":4},null,{"$f":"IFERROR(VLOOKUP(Tabla4[[#This Row],[NOMBRE]],TablaEMPLEADOS[],2,0),\"\")","v":""}]
[null,null,null,{"$f":"COUNTIF($E$4:E54, VERIFICACIONLICENCIA!$F$3)","v":4},null,{"$f":"IFERROR(VLOOKUP(Tabla4[[#This Row],[NOMBRE]],TablaEMPLEADOS[],2,0),\"\")","v":""}]
[null,null,null,{"$f":"COUNTIF($E$4:E55, VERIFICACIONLICENCIA!$F$3)","v":4},null,{"$f":"IFERROR(VLOOKUP(Tabla4[[#This Row],[NOMBRE]],TablaEMPLEADOS[],2,0),\"\")","v":""}]
[null,null,null,{"$f":"COUNTIF($E$4:E56, VERIFICACIONLICENCIA!$F$3)","v":4},null,{"$f":"IFERROR(VLOOKUP(Tabla4[[#This Row],[NOMBRE]],TablaEMPLEADOS[],2,0),\"\")","v":""}]
[null,null,null,{"$f":"COUNTIF($E$4:E57, VERIFICACIONLICENCIA!$F$3)","v":4},null,{"$f":"IFERROR(VLOOKUP(Tabla4[[#This Row],[NOMBRE]],TablaEMPLEADOS[],2,0),\"\")","v":""}]
[null,null,null,{"$f":"COUNTIF($E$4:E58, VERIFICACIONLICENCIA!$F$3)","v":4},null,{"$f":"IFERROR(VLOOKUP(Tabla4[[#This Row],[NOMBRE]],TablaEMPLEADOS[],2,0),\"\")","v":""}]
[null,null,null,{"$f":"COUNTIF($E$4:E59, VERIFICACIONLICENCIA!$F$3)","v":4},null,{"$f":"IFERROR(VLOOKUP(Tabla4[[#This Row],[NOMBRE]],TablaEMPLEADOS[],2,0),\"\")","v":""}]
[null,null,null,{"$f":"COUNTIF($E$4:E60, VERIFICACIONLICENCIA!$F$3)","v":4},null,{"$f":"IFERROR(VLOOKUP(Tabla4[[#This Row],[NOMBRE]],TablaEMPLEADOS[],2,0),\"\")","v":""}]
[null,null,null,{"$f":"COUNTIF($E$4:E61, VERIFICACIONLICENCIA!$F$3)","v":4},null,{"$f":"IFERROR(VLOOKUP(Tabla4[[#This Row],[NOMBRE]],TablaEMPLEADOS[],2,0),\"\")","v":""}]
[null,null,null,{"$f":"COUNTIF($E$4:E62, VERIFICACIONLICENCIA!$F$3)","v":4},null,{"$f":"IFERROR(VLOOKUP(Tabla4[[#This Row],[NOMBRE]],TablaEMPLEADOS[],2,0),\"\")","v":""}]
[null,null,null,{"$f":"COUNTIF($E$4:E63, VERIFICACIONLICENCIA!$F$3)","v":4},null,{"$f":"IFERROR(VLOOKUP(Tabla4[[#This Row],[NOMBRE]],TablaEMPLEADOS[],2,0),\"\")","v":""}]
[null,null,null,{"$f":"COUNTIF($E$4:E64, VERIFICACIONLICENCIA!$F$3)","v":4},null,{"$f":"IFERROR(VLOOKUP(Tabla4[[#This Row],[NOMBRE]],TablaEMPLEADOS[],2,0),\"\")","v":""}]
[null,null,null,{"$f":"COUNTIF($E$4:E65, VERIFICACIONLICENCIA!$F$3)","v":4},null,{"$f":"IFERROR(VLOOKUP(Tabla4[[#This Row],[NOMBRE]],TablaEMPLEADOS[],2,0),\"\")","v":""}]
[null,null,null,{"$f":"COUNTIF($E$4:E66, VERIFICACIONLICENCIA!$F$3)","v":4},null,{"$f":"IFERROR(VLOOKUP(Tabla4[[#This Row],[NOMBRE]],TablaEMPLEADOS[],2,0),\"\")","v":""}]
[null,null,null,{"$f":"COUNTIF($E$4:E67, VERIFICACIONLICENCIA!$F$3)","v":4},null,{"$f":"IFERROR(VLOOKUP(Tabla4[[#This Row],[NOMBRE]],TablaEMPLEADOS[],2,0),\"\")","v":""}]
[null,null,null,{"$f":"COUNTIF($E$4:E68, VERIFICACIONLICENCIA!$F$3)","v":4},null,{"$f":"IFERROR(VLOOKUP(Tabla4[[#This Row],[NOMBRE]],TablaEMPLEADOS[],2,0),\"\")","v":""}]
[null,null,null,{"$f":"COUNTIF($E$4:E69, VERIFICACIONLICENCIA!$F$3)","v":4},null,{"$f":"IFERROR(VLOOKUP(Tabla4[[#This Row],[NOMBRE]],TablaEMPLEADOS[],2,0),\"\")","v":""}]
[null,null,null,{"$f":"COUNTIF($E$4:E70, VERIFICACIONLICENCIA!$F$3)","v":4},null,{"$f":"IFERROR(VLOOKUP(Tabla4[[#This Row],[NOMBRE]],TablaEMPLEADOS[],2,0),\"\")","v":""}]
[null,null,null,{"$f":"COUNTIF($E$4:E71, VERIFICACIONLICENCIA!$F$3)","v":4},null,{"$f":"IFERROR(VLOOKUP(Tabla4[[#This Row],[NOMBRE]],TablaEMPLEADOS[],2,0),\"\")","v":""}]
[null,null,null,{"$f":"COUNTIF($E$4:E72, VERIFICACIONLICENCIA!$F$3)","v":4},null,{"$f":"IFERROR(VLOOKUP(Tabla4[[#This Row],[NOMBRE]],TablaEMPLEADOS[],2,0),\"\")","v":""}]
[null,null,null,{"$f":"COUNTIF($E$4:E73, VERIFICACIONLICENCIA!$F$3)","v":4},null,{"$f":"IFERROR(VLOOKUP(Tabla4[[#This Row],[NOMBRE]],TablaEMPLEADOS[],2,0),\"\")","v":""}]
[null,null,null,{"$f":"COUNTIF($E$4:E74, VERIFICACIONLICENCIA!$F$3)","v":4},null,{"$f":"IFERROR(VLOOKUP(Tabla4[[#This Row],[NOMBRE]],TablaEMPLEADOS[],2,0),\"\")","v":""}]
[null,null,null,{"$f":"COUNTIF($E$4:E75, VERIFICACIONLICENCIA!$F$3)","v":4},null,{"$f":"IFERROR(VLOOKUP(Tabla4[[#This Row],[NOMBRE]],TablaEMPLEADOS[],2,0),\"\")","v":""}]
[null,null,null,{"$f":"COUNTIF($E$4:E76, VERIFICACIONLICENCIA!$F$3)","v":4},null,{"$f":"IFERROR(VLOOKUP(Tabla4[[#This Row],[NOMBRE]],TablaEMPLEADOS[],2,0),\"\")","v":""}]
[null,null,null,{"$f":"COUNTIF($E$4:E77, VERIFICACIONLICENCIA!$F$3)","v":4},null,{"$f":"IFERROR(VLOOKUP(Tabla4[[#This Row],[NOMBRE]],TablaEMPLEADOS[],2,0),\"\")","v":""}]
[null,null,null,{"$f":"COUNTIF($E$4:E78, VERIFICACIONLICENCIA!$F$3)","v":4},null,{"$f":"IFERROR(VLOOKUP(Tabla4[[#This Row],[NOMBRE]],TablaEMPLEADOS[],2,0),\"\")","v":""}]
[null,null,null,{"$f":"COUNTIF($E$4:E79, VERIFICACIONLICENCIA!$F$3)","v":4},null,{"$f":"IFERROR(VLOOKUP(Tabla4[[#This Row],[NOMBRE]],TablaEMPLEADOS[],2,0),\"\")","v":""}]
[null,null,null,{"$f":"COUNTIF($E$4:E80, VERIFICACIONLICENCIA!$F$3)","v":4},null,{"$f":"IFERROR(VLOOKUP(Tabla4[[#This Row],[NOMBRE]],TablaEMPLEADOS[],2,0),\"\")","v":""}]
[null,null,null,{"$f":"COUNTIF($E$4:E81, VERIFICACIONLICENCIA!$F$3)","v":4},null,{"$f":"IFERROR(VLOOKUP(Tabla4[[#This Row],[NOMBRE]],TablaEMPLEADOS[],2,0),\"\")","v":""}]
[null,null,null,{"$f":"COUNTIF($E$4:E82, VERIFICACIONLICENCIA!$F$3)","v":4},null,{"$f":"IFERROR(VLOOKUP(Tabla4[[#This Row],[NOMBRE]],TablaEMPLEADOS[],2,0),\"\")","v":""}]
[null,null,null,{"$f":"COUNTIF($E$4:E83, VERIFICACIONLICENCIA!$F$3)","v":4},null,{"$f":"IFERROR(VLOOKUP(Tabla4[[#This Row],[NOMBRE]],TablaEMPLEADOS[],2,0),\"\")","v":""}]
[null,null,null,{"$f":"COUNTIF($E$4:E84, VERIFICACIONLICENCIA!$F$3)","v":4},null,{"$f":"IFERROR(VLOOKUP(Tabla4[[#This Row],[NOMBRE]],TablaEMPLEADOS[],2,0),\"\")","v":""}]
[null,null,null,{"$f":"COUNTIF($E$4:E85, VERIFICACIONLICENCIA!$F$3)","v":4},null,{"$f":"IFERROR(VLOOKUP(Tabla4[[#This Row],[NOMBRE]],TablaEMPLEADOS[],2,0),\"\")","v":""}]
[null,null,null,{"$f":"COUNTIF($E$4:E86, VERIFICACIONLICENCIA!$F$3)","v":4},null,{"$f":"IFERROR(VLOOKUP(Tabla4[[#This Row],[NOMBRE]],TablaEMPLEADOS[],2,0),\"\")","v":""}]
[null,null,null,{"$f":"COUNTIF($E$4:E87, VERIFICACIONLICENCIA!$F$3)","v":4},null,{"$f":"IFERROR(VLOOKUP(Tabla4[[#This Row],[NOMBRE]],TablaEMPLEADOS[],2,0),\"\")","v":""}]
[null,null,null,{"$f":"COUNTIF($E$4:E88, VERIFICACIONLICENCIA!$F$3)","v":4},null,{"$f":"IFERROR(VLOOKUP(Tabla4[[#This Row],[NOMBRE]],TablaEMPLEADOS[],2,0),\"\")","v":""}]
[null,null,null,{"$f":"COUNTIF($E$4:E89, VERIFICACIONLICENCIA!$F$3)","v":4},null,{"$f":"IFERROR(VLOOKUP(Tabla4[[#This Row],[NOMBRE]],TablaEMPLEADOS[],2,0),\"\")","v":""}]
[null,null,null,{"$f":"COUNTIF($E$4:E90, VERIFICACIONLICENCIA!$F$3)","v":4},null,{"$f":"IFERROR(VLOOKUP(Tabla4[[#This Row],[NOMBRE]],TablaEMPLEADOS[],2,0),\"\")","v":""}]
[null,null,null,{"$f":"COUNTIF($E$4:E91, VERIFICACIONLICENCIA!$F$3)","v":4},null,{"$f":"IFERROR(VLOOKUP(Tabla4[[#This Row],[NOMBRE]],TablaEMPLEADOS[],2,0),\"\")","v":""}]
[null,null,null,{"$f":"COUNTIF($E$4:E92, VERIFICACIONLICENCIA!$F$3)","v":4},null,{"$f":"IFERROR(VLOOKUP(Tabla4[[#This Row],[NOMBRE]],TablaEMPLEADOS[],2,0),\"\")","v":""}]
[null,null,null,{"$f":"COUNTIF($E$4:E93, VERIFICACIONLICENCIA!$F$3)","v":4},null,{"$f":"IFERROR(VLOOKUP(Tabla4[[#This Row],[NOMBRE]],TablaEMPLEADOS[],2,0),\"\")","v":""}]
[null,null,null,{"$f":"COUNTIF($E$4:E94, VERIFICACIONLICENCIA!$F$3)","v":4},null,{"$f":"IFERROR(VLOOKUP(Tabla4[[#This Row],[NOMBRE]],TablaEMPLEADOS[],2,0),\"\")","v":""}]
[null,null,null,{"$f":"COUNTIF($E$4:E95, VERIFICACIONLICENCIA!$F$3)","v":4},null,{"$f":"IFERROR(VLOOKUP(Tabla4[[#This Row],[NOMBRE]],TablaEMPLEADOS[],2,0),\"\")","v":""}]
[null,null,null,{"$f":"COUNTIF($E$4:E96, VERIFICACIONLICENCIA!$F$3)","v":4},null,{"$f":"IFERROR(VLOOKUP(Tabla4[[#This Row],[NOMBRE]],TablaEMPLEADOS[],2,0),\"\")","v":""}]
[null,null,null,{"$f":"COUNTIF($E$4:E97, VERIFICACIONLICENCIA!$F$3)","v":4},null,{"$f":"IFERROR(VLOOKUP(Tabla4[[#This Row],[NOMBRE]],TablaEMPLEADOS[],2,0),\"\")","v":""}]
[null,null,null,{"$f":"COUNTIF($E$4:E98, VERIFICACIONLICENCIA!$F$3)","v":4},null,{"$f":"IFERROR(VLOOKUP(Tabla4[[#This Row],[NOMBRE]],TablaEMPLEADOS[],2,0),\"\")","v":""}]
[null,null,null,{"$f":"COUNTIF($E$4:E99, VERIFICACIONLICENCIA!$F$3)","v":4},null,{"$f":"IFERROR(VLOOKUP(Tabla4[[#This Row],[NOMBRE]],TablaEMPLEADOS[],2,0),\"\")","v":""}]
[null,null,null,{"$f":"COUNTIF($E$4:E100, VERIFICACIONLICENCIA!$F$3)","v":4},null,{"$f":"IFERROR(VLOOKUP(Tabla4[[#This Row],[NOMBRE]],TablaEMPLEADOS[],2,0),\"\")","v":""}]
[null,null,null,{"$f":"COUNTIF($E$4:E101, VERIFICACIONLICENCIA!$F$3)","v":4},null,{"$f":"IFERROR(VLOOKUP(Tabla4[[#This Row],[NOMBRE]],TablaEMPLEADOS[],2,0),\"\")","v":""}]
[null,null,null,{"$f":"COUNTIF($E$4:E102, VERIFICACIONLICENCIA!$F$3)","v":4},null,{"$f":"IFERROR(VLOOKUP(Tabla4[[#This Row],[NOMBRE]],TablaEMPLEADOS[],2,0),\"\")","v":""}]
[null,null,null,{"$f":"COUNTIF($E$4:E103, VERIFICACIONLICENCIA!$F$3)","v":4},null,{"$f":"IFERROR(VLOOKUP(Tabla4[[#This Row],[NOMBRE]],TablaEMPLEADOS[],2,0),\"\")","v":""}]
[null,null,null,{"$f":"COUNTIF($E$4:E104, VERIFICACIONLICENCIA!$F$3)","v":4},null,{"$f":"IFERROR(VLOOKUP(Tabla4[[#This Row],[NOMBRE]],TablaEMPLEADOS[],2,0),\"\")","v":""}]
[null,null,null,{"$f":"COUNTIF($E$4:E105, VERIFICACIONLICENCIA!$F$3)","v":4},null,{"$f":"IFERROR(VLOOKUP(Tabla4[[#This Row],[NOMBRE]],TablaEMPLEADOS[],2,0),\"\")","v":""}]
[null,null,null,{"$f":"COUNTIF($E$4:E106, VERIFICACIONLICENCIA!$F$3)","v":4},null,{"$f":"IFERROR(VLOOKUP(Tabla4[[#This Row],[NOMBRE]],TablaEMPLEADOS[],2,0),\"\")","v":""}]
[null,null,null,{"$f":"COUNTIF($E$4:E107, VERIFICACIONLICENCIA!$F$3)","v":4},null,{"$f":"IFERROR(VLOOKUP(Tabla4[[#This Row],[NOMBRE]],TablaEMPLEADOS[],2,0),\"\")","v":""}]
[null,null,null,{"$f":"COUNTIF($E$4:E108, VERIFICACIONLICENCIA!$F$3)","v":4},null,{"$f":"IFERROR(VLOOKUP(Tabla4[[#This Row],[NOMBRE]],TablaEMPLEADOS[],2,0),\"\")","v":""}]
[null,null,null,{"$f":"COUNTIF($E$4:E109, VERIFICACIONLICENCIA!$F$3)","v":4},null,{"$f":"IFERROR(VLOOKUP(Tabla4[[#This Row],[NOMBRE]],TablaEMPLEADOS[],2,0),\"\")","v":""}]
[null,null,null,{"$f":"COUNTIF($E$4:E110, VERIFICACIONLICENCIA!$F$3)","v":4},null,{"$f":"IFERROR(VLOOKUP(Tabla4[[#This Row],[NOMBRE]],TablaEMPLEADOS[],2,0),\"\")","v":""}]
[null,null,null,{"$f":"COUNTIF($E$4:E111, VERIFICACIONLICENCIA!$F$3)","v":4},null,{"$f":"IFERROR(VLOOKUP(Tabla4[[#This Row],[NOMBRE]],TablaEMPLEADOS[],2,0),\"\")","v":""}]
[null,null,null,{"$f":"COUNTIF($E$4:E112, VERIFICACIONLICENCIA!$F$3)","v":4},null,{"$f":"IFERROR(VLOOKUP(Tabla4[[#This Row],[NOMBRE]],TablaEMPLEADOS[],2,0),\"\")","v":""}]
[null,null,null,{"$f":"COUNTIF($E$4:E113, VERIFICACIONLICENCIA!$F$3)","v":4},null,{"$f":"IFERROR(VLOOKUP(Tabla4[[#This Row],[NOMBRE]],TablaEMPLEADOS[],2,0),\"\")","v":""}]
[null,null,null,{"$f":"COUNTIF($E$4:E114, VERIFICACIONLICENCIA!$F$3)","v":4},null,{"$f":"IFERROR(VLOOKUP(Tabla4[[#This Row],[NOMBRE]],TablaEMPLEADOS[],2,0),\"\")","v":""}]
[null,null,null,{"$f":"COUNTIF($E$4:E115, VERIFICACIONLICENCIA!$F$3)","v":4},null,{"$f":"IFERROR(VLOOKUP(Tabla4[[#This Row],[NOMBRE]],TablaEMPLEADOS[],2,0),\"\")","v":""}]
[null,null,null,{"$f":"COUNTIF($E$4:E116, VERIFICACIONLICENCIA!$F$3)","v":4},null,{"$f":"IFERROR(VLOOKUP(Tabla4[[#This Row],[NOMBRE]],TablaEMPLEADOS[],2,0),\"\")","v":""}]
[null,null,null,{"$f":"COUNTIF($E$4:E117, VERIFICACIONLICENCIA!$F$3)","v":4},null,{"$f":"IFERROR(VLOOKUP(Tabla4[[#This Row],[NOMBRE]],TablaEMPLEADOS[],2,0),\"\")","v":""}]
[null,null,null,{"$f":"COUNTIF($E$4:E118, VERIFICACIONLICENCIA!$F$3)","v":4},null,{"$f":"IFERROR(VLOOKUP(Tabla4[[#This Row],[NOMBRE]],TablaEMPLEADOS[],2,0),\"\")","v":""}]
[null,null,null,{"$f":"COUNTIF($E$4:E119, VERIFICACIONLICENCIA!$F$3)","v":4},null,{"$f":"IFERROR(VLOOKUP(Tabla4[[#This Row],[NOMBRE]],TablaEMPLEADOS[],2,0),\"\")","v":""}]
[null,null,null,{"$f":"COUNTIF($E$4:E120, VERIFICACIONLICENCIA!$F$3)","v":4},null,{"$f":"IFERROR(VLOOKUP(Tabla4[[#This Row],[NOMBRE]],TablaEMPLEADOS[],2,0),\"\")","v":""}]
[null,null,null,{"$f":"COUNTIF($E$4:E121, VERIFICACIONLICENCIA!$F$3)","v":4},null,{"$f":"IFERROR(VLOOKUP(Tabla4[[#This Row],[NOMBRE]],TablaEMPLEADOS[],2,0),\"\")","v":""}]
[null,null,null,{"$f":"COUNTIF($E$4:E122, VERIFICACIONLICENCIA!$F$3)","v":4},null,{"$f":"IFERROR(VLOOKUP(Tabla4[[#This Row],[NOMBRE]],TablaEMPLEADOS[],2,0),\"\")","v":""}]
[null,null,null,{"$f":"COUNTIF($E$4:E123, VERIFICACIONLICENCIA!$F$3)","v":4},null,{"$f":"IFERROR(VLOOKUP(Tabla4[[#This Row],[NOMBRE]],TablaEMPLEADOS[],2,0),\"\")","v":""}]
[null,null,null,{"$f":"COUNTIF($E$4:E124, VERIFICACIONLICENCIA!$F$3)","v":4},null,{"$f":"IFERROR(VLOOKUP(Tabla4[[#This Row],[NOMBRE]],TablaEMPLEADOS[],2,0),\"\")","v":""}]
[null,null,null,{"$f":"COUNTIF($E$4:E125, VERIFICACIONLICENCIA!$F$3)","v":4},null,{"$f":"IFERROR(VLOOKUP(Tabla4[[#This Row],[NOMBRE]],TablaEMPLEADOS[],2,0),\"\")","v":""}]
[null,null,null,{"$f":"COUNTIF($E$4:E126, VERIFICACIONLICENCIA!$F$3)","v":4},null,{"$f":"IFERROR(VLOOKUP(Tabla4[[#This Row],[NOMBRE]],TablaEMPLEADOS[],2,0),\"\")","v":""}]
[null,null,null,{"$f":"COUNTIF($E$4:E127, VERIFICACIONLICENCIA!$F$3)","v":4},null,{"$f":"IFERROR(VLOOKUP(Tabla4[[#This Row],[NOMBRE]],TablaEMPLEADOS[],2,0),\"\")","v":""}]
[null,null,null,{"$f":"COUNTIF($E$4:E128, VERIFICACIONLICENCIA!$F$3)","v":4},null,{"$f":"IFERROR(VLOOKUP(Tabla4[[#This Row],[NOMBRE]],TablaEMPLEADOS[],2,0),\"\")","v":""}]
[null,null,null,{"$f":"COUNTIF($E$4:E129, VERIFICACIONLICENCIA!$F$3)","v":4},null,{"$f":"IFERROR(VLOOKUP(Tabla4[[#This Row],[NOMBRE]],TablaEMPLEADOS[],2,0),\"\")","v":""}]
[null,null,null,{"$f":"COUNTIF($E$4:E130, VERIFICACIONLICENCIA!$F$3)","v":4},null,{"$f":"IFERROR(VLOOKUP(Tabla4[[#This Row],[NOMBRE]],TablaEMPLEADOS[],2,0),\"\")","v":""}]
[null,null,null,{"$f":"COUNTIF($E$4:E131, VERIFICACIONLICENCIA!$F$3)","v":4},null,{"$f":"IFERROR(VLOOKUP(Tabla4[[#This Row],[NOMBRE]],TablaEMPLEADOS[],2,0),\"\")","v":""}]
[null,null,null,{"$f":"COUNTIF($E$4:E132, VERIFICACIONLICENCIA!$F$3)","v":4},null,{"$f":"IFERROR(VLOOKUP(Tabla4[[#This Row],[NOMBRE]],TablaEMPLEADOS[],2,0),\"\")","v":""}]
[null,null,null,{"$f":"COUNTIF($E$4:E133, VERIFICACIONLICENCIA!$F$3)","v":4},null,{"$f":"IFERROR(VLOOKUP(Tabla4[[#This Row],[NOMBRE]],TablaEMPLEADOS[],2,0),\"\")","v":""}]
[null,null,null,{"$f":"COUNTIF($E$4:E134, VERIFICACIONLICENCIA!$F$3)","v":4},null,{"$f":"IFERROR(VLOOKUP(Tabla4[[#This Row],[NOMBRE]],TablaEMPLEADOS[],2,0),\"\")","v":""}]
[null,null,null,{"$f":"COUNTIF($E$4:E135, VERIFICACIONLICENCIA!$F$3)","v":4},null,{"$f":"IFERROR(VLOOKUP(Tabla4[[#This Row],[NOMBRE]],TablaEMPLEADOS[],2,0),\"\")","v":""}]
[null,null,null,{"$f":"COUNTIF($E$4:E136, VERIFICACIONLICENCIA!$F$3)","v":4},null,{"$f":"IFERROR(VLOOKUP(Tabla4[[#This Row],[NOMBRE]],TablaEMPLEADOS[],2,0),\"\")","v":""}]
[null,null,null,{"$f":"COUNTIF($E$4:E137, VERIFICACIONLICENCIA!$F$3)","v":4},null,{"$f":"IFERROR(VLOOKUP(Tabla4[[#This Row],[NOMBRE]],TablaEMPLEADOS[],2,0),\"\")","v":""}]
[null,null,null,{"$f":"COUNTIF($E$4:E138, VERIFICACIONLICENCIA!$F$3)","v":4},null,{"$f":"IFERROR(VLOOKUP(Tabla4[[#This Row],[NOMBRE]],TablaEMPLEADOS[],2,0),\"\")","v":""}]
[null,null,null,{"$f":"COUNTIF($E$4:E139, VERIFICACIONLICENCIA!$F$3)","v":4},null,{"$f":"IFERROR(VLOOKUP(Tabla4[[#This Row],[NOMBRE]],TablaEMPLEADOS[],2,0),\"\")","v":""}]
[null,null,null,{"$f":"COUNTIF($E$4:E140, VERIFICACIONLICENCIA!$F$3)","v":4},null,{"$f":"IFERROR(VLOOKUP(Tabla4[[#This Row],[NOMBRE]],TablaEMPLEADOS[],2,0),\"\")","v":""}]
[null,null,null,{"$f":"COUNTIF($E$4:E141, VERIFICACIONLICENCIA!$F$3)","v":4},null,{"$f":"IFERROR(VLOOKUP(Tabla4[[#This Row],[NOMBRE]],TablaEMPLEADOS[],2,0),\"\")","v":""}]
[null,null,null,{"$f":"COUNTIF($E$4:E142, VERIFICACIONLICENCIA!$F$3)","v":4},null,{"$f":"IFERROR(VLOOKUP(Tabla4[[#This Row],[NOMBRE]],TablaEMPLEADOS[],2,0),\"\")","v":""}]
[null,null,null,{"$f":"COUNTIF($E$4:E143, VERIFICACIONLICENCIA!$F$3)","v":4},null,{"$f":"IFERROR(VLOOKUP(Tabla4[[#This Row],[NOMBRE]],TablaEMPLEADOS[],2,0),\"\")","v":""}]
[null,null,null,{"$f":"COUNTIF($E$4:E144, VERIFICACIONLICENCIA!$F$3)","v":4},null,{"$f":"IFERROR(VLOOKUP(Tabla4[[#This Row],[NOMBRE]],TablaEMPLEADOS[],2,0),\"\")","v":""}]
[null,null,null,{"$f":"COUNTIF($E$4:E145, VERIFICACIONLICENCIA!$F$3)","v":4},null,{"$f":"IFERROR(VLOOKUP(Tabla4[[#This Row],[NOMBRE]],TablaEMPLEADOS[],2,0),\"\")","v":""}]
[null,null,null,{"$f":"COUNTIF($E$4:E146, VERIFICACIONLICENCIA!$F$3)","v":4},null,{"$f":"IFERROR(VLOOKUP(Tabla4[[#This Row],[NOMBRE]],TablaEMPLEADOS[],2,0),\"\")","v":""}]
[null,null,null,{"$f":"COUNTIF($E$4:E147, VERIFICACIONLICENCIA!$F$3)","v":4},null,{"$f":"IFERROR(VLOOKUP(Tabla4[[#This Row],[NOMBRE]],TablaEMPLEADOS[],2,0),\"\")","v":""}]
[null,null,null,{"$f":"COUNTIF($E$4:E148, VERIFICACIONLICENCIA!$F$3)","v":4},null,{"$f":"IFERROR(VLOOKUP(Tabla4[[#This Row],[NOMBRE]],TablaEMPLEADOS[],2,0),\"\")","v":""}]
[null,null,null,{"$f":"COUNTIF($E$4:E149, VERIFICACIONLICENCIA!$F$3)","v":4},null,{"$f":"IFERROR(VLOOKUP(Tabla4[[#This Row],[NOMBRE]],TablaEMPLEADOS[],2,0),\"\")","v":""}]
[null,null,null,{"$f":"COUNTIF($E$4:E150, VERIFICACIONLICENCIA!$F$3)","v":4},null,{"$f":"IFERROR(VLOOKUP(Tabla4[[#This Row],[NOMBRE]],TablaEMPLEADOS[],2,0),\"\")","v":""}]
[null,null,null,{"$f":"COUNTIF($E$4:E151, VERIFICACIONLICENCIA!$F$3)","v":4},null,{"$f":"IFERROR(VLOOKUP(Tabla4[[#This Row],[NOMBRE]],TablaEMPLEADOS[],2,0),\"\")","v":""}]
[null,null,null,{"$f":"COUNTIF($E$4:E152, VERIFICACIONLICENCIA!$F$3)","v":4},null,{"$f":"IFERROR(VLOOKUP(Tabla4[[#This Row],[NOMBRE]],TablaEMPLEADOS[],2,0),\"\")","v":""}]
[null,null,null,{"$f":"COUNTIF($E$4:E153, VERIFICACIONLICENCIA!$F$3)","v":4},null,{"$f":"IFERROR(VLOOKUP(Tabla4[[#This Row],[NOMBRE]],TablaEMPLEADOS[],2,0),\"\")","v":""}]
[null,null,null,{"$f":"COUNTIF($E$4:E154, VERIFICACIONLICENCIA!$F$3)","v":4},null,{"$f":"IFERROR(VLOOKUP(Tabla4[[#This Row],[NOMBRE]],TablaEMPLEADOS[],2,0),\"\")","v":""}]
[null,null,null,{"$f":"COUNTIF($E$4:E155, VERIFICACIONLICENCIA!$F$3)","v":4},null,{"$f":"IFERROR(VLOOKUP(Tabla4[[#This Row],[NOMBRE]],TablaEMPLEADOS[],2,0),\"\")","v":""}]
[null,null,null,{"$f":"COUNTIF($E$4:E156, VERIFICACIONLICENCIA!$F$3)","v":4},null,{"$f":"IFERROR(VLOOKUP(Tabla4[[#This Row],[NOMBRE]],TablaEMPLEADOS[],2,0),\"\")","v":""}]
[null,null,null,{"$f":"COUNTIF($E$4:E157, VERIFICACIONLICENCIA!$F$3)","v":4},null,{"$f":"IFERROR(VLOOKUP(Tabla4[[#This Row],[NOMBRE]],TablaEMPLEADOS[],2,0),\"\")","v":""}]
[null,null,null,{"$f":"COUNTIF($E$4:E158, VERIFICACIONLICENCIA!$F$3)","v":4},null,{"$f":"IFERROR(VLOOKUP(Tabla4[[#This Row],[NOMBRE]],TablaEMPLEADOS[],2,0),\"\")","v":""}]
[null,null,null,{"$f":"COUNTIF($E$4:E159, VERIFICACIONLICENCIA!$F$3)","v":4},null,{"$f":"IFERROR(VLOOKUP(Tabla4[[#This Row],[NOMBRE]],TablaEMPLEADOS[],2,0),\"\")","v":""}]
[null,null,null,{"$f":"COUNTIF($E$4:E160, VERIFICACIONLICENCIA!$F$3)","v":4},null,{"$f":"IFERROR(VLOOKUP(Tabla4[[#This Row],[NOMBRE]],TablaEMPLEADOS[],2,0),\"\")","v":""}]
[null,null,null,{"$f":"COUNTIF($E$4:E161, VERIFICACIONLICENCIA!$F$3)","v":4},null,{"$f":"IFERROR(VLOOKUP(Tabla4[[#This Row],[NOMBRE]],TablaEMPLEADOS[],2,0),\"\")","v":""}]
[null,null,null,{"$f":"COUNTIF($E$4:E162, VERIFICACIONLICENCIA!$F$3)","v":4},null,{"$f":"IFERROR(VLOOKUP(Tabla4[[#This Row],[NOMBRE]],TablaEMPLEADOS[],2,0),\"\")","v":""}]
[null,null,null,{"$f":"COUNTIF($E$4:E163, VERIFICACIONLICENCIA!$F$3)","v":4},null,{"$f":"IFERROR(VLOOKUP(Tabla4[[#This Row],[NOMBRE]],TablaEMPLEADOS[],2,0),\"\")","v":""}]
[null,null,null,{"$f":"COUNTIF($E$4:E164, VERIFICACIONLICENCIA!$F$3)","v":4},null,{"$f":"IFERROR(VLOOKUP(Tabla4[[#This Row],[NOMBRE]],TablaEMPLEADOS[],2,0),\"\")","v":""}]
[null,null,null,{"$f":"COUNTIF($E$4:E165, VERIFICACIONLICENCIA!$F$3)","v":4},null,{"$f":"IFERROR(VLOOKUP(Tabla4[[#This Row],[NOMBRE]],TablaEMPLEADOS[],2,0),\"\")","v":""}]
[null,null,null,{"$f":"COUNTIF($E$4:E166, VERIFICACIONLICENCIA!$F$3)","v":4},null,{"$f":"IFERROR(VLOOKUP(Tabla4[[#This Row],[NOMBRE]],TablaEMPLEADOS[],2,0),\"\")","v":""}]
[null,null,null,{"$f":"COUNTIF($E$4:E167, VERIFICACIONLICENCIA!$F$3)","v":4},null,{"$f":"IFERROR(VLOOKUP(Tabla4[[#This Row],[NOMBRE]],TablaEMPLEADOS[],2,0),\"\")","v":""}]
[null,null,null,{"$f":"COUNTIF($E$4:E168, VERIFICACIONLICENCIA!$F$3)","v":4},null,{"$f":"IFERROR(VLOOKUP(Tabla4[[#This Row],[NOMBRE]],TablaEMPLEADOS[],2,0),\"\")","v":""}]
[null,null,null,{"$f":"COUNTIF($E$4:E169, VERIFICACIONLICENCIA!$F$3)","v":4},null,{"$f":"IFERROR(VLOOKUP(Tabla4[[#This Row],[NOMBRE]],TablaEMPLEADOS[],2,0),\"\")","v":""}]
[null,null,null,{"$f":"COUNTIF($E$4:E170, VERIFICACIONLICENCIA!$F$3)","v":4},null,{"$f":"IFERROR(VLOOKUP(Tabla4[[#This Row],[NOMBRE]],TablaEMPLEADOS[],2,0),\"\")","v":""}]
[null,null,null,{"$f":"COUNTIF($E$4:E171, VERIFICACIONLICENCIA!$F$3)","v":4},null,{"$f":"IFERROR(VLOOKUP(Tabla4[[#This Row],[NOMBRE]],TablaEMPLEADOS[],2,0),\"\")","v":""}]
[null,null,null,{"$f":"COUNTIF($E$4:E172, VERIFICACIONLICENCIA!$F$3)","v":4},null,{"$f":"IFERROR(VLOOKUP(Tabla4[[#This Row],[NOMBRE]],TablaEMPLEADOS[],2,0),\"\")","v":""}]
[null,null,null,{"$f":"COUNTIF($E$4:E173, VERIFICACIONLICENCIA!$F$3)","v":4},null,{"$f":"IFERROR(VLOOKUP(Tabla4[[#This Row],[NOMBRE]],TablaEMPLEADOS[],2,0),\"\")","v":""}]
[null,null,null,{"$f":"COUNTIF($E$4:E174, VERIFICACIONLICENCIA!$F$3)","v":4},null,{"$f":"IFERROR(VLOOKUP(Tabla4[[#This Row],[NOMBRE]],TablaEMPLEADOS[],2,0),\"\")","v":""}]
[null,null,null,{"$f":"COUNTIF($E$4:E175, VERIFICACIONLICENCIA!$F$3)","v":4},null,{"$f":"IFERROR(VLOOKUP(Tabla4[[#This Row],[NOMBRE]],TablaEMPLEADOS[],2,0),\"\")","v":""}]
[null,null,null,{"$f":"COUNTIF($E$4:E176, VERIFICACIONLICENCIA!$F$3)","v":4},null,{"$f":"IFERROR(VLOOKUP(Tabla4[[#This Row],[NOMBRE]],TablaEMPLEADOS[],2,0),\"\")","v":""}]
[null,null,null,{"$f":"COUNTIF($E$4:E177, VERIFICACIONLICENCIA!$F$3)","v":4},null,{"$f":"IFERROR(VLOOKUP(Tabla4[[#This Row],[NOMBRE]],TablaEMPLEADOS[],2,0),\"\")","v":""}]
[null,null,null,{"$f":"COUNTIF($E$4:E178, VERIFICACIONLICENCIA!$F$3)","v":4},null,{"$f":"IFERROR(VLOOKUP(Tabla4[[#This Row],[NOMBRE]],TablaEMPLEADOS[],2,0),\"\")","v":""}]
[null,null,null,{"$f":"COUNTIF($E$4:E179, VERIFICACIONLICENCIA!$F$3)","v":4},null,{"$f":"IFERROR(VLOOKUP(Tabla4[[#This Row],[NOMBRE]],TablaEMPLEADOS[],2,0),\"\")","v":""}]
[null,null,null,{"$f":"COUNTIF($E$4:E180, VERIFICACIONLICENCIA!$F$3)","v":4},null,{"$f":"IFERROR(VLOOKUP(Tabla4[[#This Row],[NOMBRE]],TablaEMPLEADOS[],2,0),\"\")","v":""}]
[null,null,null,{"$f":"COUNTIF($E$4:E181, VERIFICACIONLICENCIA!$F$3)","v":4},null,{"$f":"IFERROR(VLOOKUP(Tabla4[[#This Row],[NOMBRE]],TablaEMPLEADOS[],2,0),\"\")","v":""}]
[null,null,null,{"$f":"COUNTIF($E$4:E182, VERIFICACIONLICENCIA!$F$3)","v":4},null,{"$f":"IFERROR(VLOOKUP(Tabla4[[#This Row],[NOMBRE]],TablaEMPLEADOS[],2,0),\"\")","v":""}]
[null,null,null,{"$f":"COUNTIF($E$4:E183, VERIFICACIONLICENCIA!$F$3)","v":4},null,{"$f":"IFERROR(VLOOKUP(Tabla4[[#This Row],[NOMBRE]],TablaEMPLEADOS[],2,0),\"\")","v":""}]
[null,null,null,{"$f":"COUNTIF($E$4:E184, VERIFICACIONLICENCIA!$F$3)","v":4},null,{"$f":"IFERROR(VLOOKUP(Tabla4[[#This Row],[NOMBRE]],TablaEMPLEADOS[],2,0),\"\")","v":""}]
[null,null,null,{"$f":"COUNTIF($E$4:E185, VERIFICACIONLICENCIA!$F$3)","v":4},null,{"$f":"IFERROR(VLOOKUP(Tabla4[[#This Row],[NOMBRE]],TablaEMPLEADOS[],2,0),\"\")","v":""}]
[null,null,null,{"$f":"COUNTIF($E$4:E186, VERIFICACIONLICENCIA!$F$3)","v":4},null,{"$f":"IFERROR(VLOOKUP(Tabla4[[#This Row],[NOMBRE]],TablaEMPLEADOS[],2,0),\"\")","v":""}]
[null,null,null,{"$f":"COUNTIF($E$4:E187, VERIFICACIONLICENCIA!$F$3)","v":4},null,{"$f":"IFERROR(VLOOKUP(Tabla4[[#This Row],[NOMBRE]],TablaEMPLEADOS[],2,0),\"\")","v":""}]
[null,null,null,{"$f":"COUNTIF($E$4:E188, VERIFICACIONLICENCIA!$F$3)","v":4},null,{"$f":"IFERROR(VLOOKUP(Tabla4[[#This Row],[NOMBRE]],TablaEMPLEADOS[],2,0),\"\")","v":""}]
[null,null,null,{"$f":"COUNTIF($E$4:E189, VERIFICACIONLICENCIA!$F$3)","v":4},null,{"$f":"IFERROR(VLOOKUP(Tabla4[[#This Row],[NOMBRE]],TablaEMPLEADOS[],2,0),\"\")","v":""}]
[null,null,null,{"$f":"COUNTIF($E$4:E190, VERIFICACIONLICENCIA!$F$3)","v":4},null,{"$f":"IFERROR(VLOOKUP(Tabla4[[#This Row],[NOMBRE]],TablaEMPLEADOS[],2,0),\"\")","v":""}]
[null,null,null,{"$f":"COUNTIF($E$4:E191, VERIFICACIONLICENCIA!$F$3)","v":4},null,{"$f":"IFERROR(VLOOKUP(Tabla4[[#This Row],[NOMBRE]],TablaEMPLEADOS[],2,0),\"\")","v":""}]
[null,null,null,{"$f":"COUNTIF($E$4:E192, VERIFICACIONLICENCIA!$F$3)","v":4},null,{"$f":"IFERROR(VLOOKUP(Tabla4[[#This Row],[NOMBRE]],TablaEMPLEADOS[],2,0),\"\")","v":""}]
[null,null,null,{"$f":"COUNTIF($E$4:E193, VERIFICACIONLICENCIA!$F$3)","v":4},null,{"$f":"IFERROR(VLOOKUP(Tabla4[[#This Row],[NOMBRE]],TablaEMPLEADOS[],2,0),\"\")","v":""}]
[null,null,null,{"$f":"COUNTIF($E$4:E194, VERIFICACIONLICENCIA!$F$3)","v":4},null,{"$f":"IFERROR(VLOOKUP(Tabla4[[#This Row],[NOMBRE]],TablaEMPLEADOS[],2,0),\"\")","v":""}]
[null,null,null,{"$f":"COUNTIF($E$4:E195, VERIFICACIONLICENCIA!$F$3)","v":4},null,{"$f":"IFERROR(VLOOKUP(Tabla4[[#This Row],[NOMBRE]],TablaEMPLEADOS[],2,0),\"\")","v":""}]
[null,null,null,{"$f":"COUNTIF($E$4:E196, VERIFICACIONLICENCIA!$F$3)","v":4},null,{"$f":"IFERROR(VLOOKUP(Tabla4[[#This Row],[NOMBRE]],TablaEMPLEADOS[],2,0),\"\")","v":""}]
[null,null,null,{"$f":"COUNTIF($E$4:E197, VERIFICACIONLICENCIA!$F$3)","v":4},null,{"$f":"IFERROR(VLOOKUP(Tabla4[[#This Row],[NOMBRE]],TablaEMPLEADOS[],2,0),\"\")","v":""}]
[null,null,null,{"$f":"COUNTIF($E$4:E198, VERIFICACIONLICENCIA!$F$3)","v":4},null,{"$f":"IFERROR(VLOOKUP(Tabla4[[#This Row],[NOMBRE]],TablaEMPLEADOS[],2,0),\"\")","v":""}]
[null,null,null,{"$f":"COUNTIF($E$4:E199, VERIFICACIONLICENCIA!$F$3)","v":4},null,{"$f":"IFERROR(VLOOKUP(Tabla4[[#This Row],[NOMBRE]],TablaEMPLEADOS[],2,0),\"\")","v":""}]
[null,null,null,{"$f":"COUNTIF($E$4:E200, VERIFICACIONLICENCIA!$F$3)","v":4},null,{"$f":"IFERROR(VLOOKUP(Tabla4[[#This Row],[NOMBRE]],TablaEMPLEADOS[],2,0),\"\")","v":""}]
[null,null,null,{"$f":"COUNTIF($E$4:E201, VERIFICACIONLICENCIA!$F$3)","v":4},null,{"$f":"IFERROR(VLOOKUP(Tabla4[[#This Row],[NOMBRE]],TablaEMPLEADOS[],2,0),\"\")","v":""}]
[null,null,null,{"$f":"COUNTIF($E$4:E202, VERIFICACIONLICENCIA!$F$3)","v":4},null,{"$f":"IFERROR(VLOOKUP(Tabla4[[#This Row],[NOMBRE]],TablaEMPLEADOS[],2,0),\"\")","v":""}]
[null,null,null,{"$f":"COUNTIF($E$4:E203, VERIFICACIONLICENCIA!$F$3)","v":4},null,{"$f":"IFERROR(VLOOKUP(Tabla4[[#This Row],[NOMBRE]],TablaEMPLEADOS[],2,0),\"\")","v":""}]
[null,null,null,{"$f":"COUNTIF($E$4:E204, VERIFICACIONLICENCIA!$F$3)","v":4},null,{"$f":"IFERROR(VLOOKUP(Tabla4[[#This Row],[NOMBRE]],TablaEMPLEADOS[],2,0),\"\")","v":""}]
[null,null,null,{"$f":"COUNTIF($E$4:E205, VERIFICACIONLICENCIA!$F$3)","v":4},null,{"$f":"IFERROR(VLOOKUP(Tabla4[[#This Row],[NOMBRE]],TablaEMPLEADOS[],2,0),\"\")","v":""}]
[null,null,null,{"$f":"COUNTIF($E$4:E206, VERIFICACIONLICENCIA!$F$3)","v":4},null,{"$f":"IFERROR(VLOOKUP(Tabla4[[#This Row],[NOMBRE]],TablaEMPLEADOS[],2,0),\"\")","v":""}]
[null,null,null,{"$f":"COUNTIF($E$4:E207, VERIFICACIONLICENCIA!$F$3)","v":4},null,{"$f":"IFERROR(VLOOKUP(Tabla4[[#This Row],[NOMBRE]],TablaEMPLEADOS[],2,0),\"\")","v":""}]
[null,null,null,{"$f":"COUNTIF($E$4:E208, VERIFICACIONLICENCIA!$F$3)","v":4},null,{"$f":"IFERROR(VLOOKUP(Tabla4[[#This Row],[NOMBRE]],TablaEMPLEADOS[],2,0),\"\")","v":""}]
[null,null,null,{"$f":"COUNTIF($E$4:E209, VERIFICACIONLICENCIA!$F$3)","v":4},null,{"$f":"IFERROR(VLOOKUP(Tabla4[[#This Row],[NOMBRE]],TablaEMPLEADOS[],2,0),\"\")","v":""}]
[null,null,null,{"$f":"COUNTIF($E$4:E210, VERIFICACIONLICENCIA!$F$3)","v":4},null,{"$f":"IFERROR(VLOOKUP(Tabla4[[#This Row],[NOMBRE]],TablaEMPLEADOS[],2,0),\"\")","v":""}]
[null,null,null,{"$f":"COUNTIF($E$4:E211, VERIFICACIONLICENCIA!$F$3)","v":4},null,{"$f":"IFERROR(VLOOKUP(Tabla4[[#This Row],[NOMBRE]],TablaEMPLEADOS[],2,0),\"\")","v":""}]
[null,null,null,{"$f":"COUNTIF($E$4:E212, VERIFICACIONLICENCIA!$F$3)","v":4},null,{"$f":"IFERROR(VLOOKUP(Tabla4[[#This Row],[NOMBRE]],TablaEMPLEADOS[],2,0),\"\")","v":""}]
[null,null,null,{"$f":"COUNTIF($E$4:E213, VERIFICACIONLICENCIA!$F$3)","v":4},null,{"$f":"IFERROR(VLOOKUP(Tabla4[[#This Row],[NOMBRE]],TablaEMPLEADOS[],2,0),\"\")","v":""}]
[null,null,null,{"$f":"COUNTIF($E$4:E214, VERIFICACIONLICENCIA!$F$3)","v":4},null,{"$f":"IFERROR(VLOOKUP(Tabla4[[#This Row],[NOMBRE]],TablaEMPLEADOS[],2,0),\"\")","v":""}]
[null,null,null,{"$f":"COUNTIF($E$4:E215, VERIFICACIONLICENCIA!$F$3)","v":4},null,{"$f":"IFERROR(VLOOKUP(Tabla4[[#This Row],[NOMBRE]],TablaEMPLEADOS[],2,0),\"\")","v":""}]
[null,null,null,{"$f":"COUNTIF($E$4:E216, VERIFICACIONLICENCIA!$F$3)","v":4},null,{"$f":"IFERROR(VLOOKUP(Tabla4[[#This Row],[NOMBRE]],TablaEMPLEADOS[],2,0),\"\")","v":""}]
[null,null,null,{"$f":"COUNTIF($E$4:E217, VERIFICACIONLICENCIA!$F$3)","v":4},null,{"$f":"IFERROR(VLOOKUP(Tabla4[[#This Row],[NOMBRE]],TablaEMPLEADOS[],2,0),\"\")","v":""}]
[null,null,null,{"$f":"COUNTIF($E$4:E218, VERIFICACIONLICENCIA!$F$3)","v":4},null,{"$f":"IFERROR(VLOOKUP(Tabla4[[#This Row],[NOMBRE]],TablaEMPLEADOS[],2,0),\"\")","v":""}]
[null,null,null,{"$f":"COUNTIF($E$4:E219, VERIFICACIONLICENCIA!$F$3)","v":4},null,{"$f":"IFERROR(VLOOKUP(Tabla4[[#This Row],[NOMBRE]],TablaEMPLEADOS[],2,0),\"\")","v":""}]
[null,null,null,{"$f":"COUNTIF($E$4:E220, VERIFICACIONLICENCIA!$F$3)","v":4},null,{"$f":"IFERROR(VLOOKUP(Tabla4[[#This Row],[NOMBRE]],TablaEMPLEADOS[],2,0),\"\")","v":""}]
[null,null,null,{"$f":"COUNTIF($E$4:E221, VERIFICACIONLICENCIA!$F$3)","v":4},null,{"$f":"IFERROR(VLOOKUP(Tabla4[[#This Row],[NOMBRE]],TablaEMPLEADOS[],2,0),\"\")","v":""}]
[null,null,null,{"$f":"COUNTIF($E$4:E222, VERIFICACIONLICENCIA!$F$3)","v":4},null,{"$f":"IFERROR(VLOOKUP(Tabla4[[#This Row],[NOMBRE]],TablaEMPLEADOS[],2,0),\"\")","v":""}]
[null,null,null,{"$f":"COUNTIF($E$4:E223, VERIFICACIONLICENCIA!$F$3)","v":4},null,{"$f":"IFERROR(VLOOKUP(Tabla4[[#This Row],[NOMBRE]],TablaEMPLEADOS[],2,0),\"\")","v":""}]
[null,null,null,{"$f":"COUNTIF($E$4:E224, VERIFICACIONLICENCIA!$F$3)","v":4},null,{"$f":"IFERROR(VLOOKUP(Tabla4[[#This Row],[NOMBRE]],TablaEMPLEADOS[],2,0),\"\")","v":""}]
[null,null,null,{"$f":"COUNTIF($E$4:E225, VERIFICACIONLICENCIA!$F$3)","v":4},null,{"$f":"IFERROR(VLOOKUP(Tabla4[[#This Row],[NOMBRE]],TablaEMPLEADOS[],2,0),\"\")","v":""}]
[null,null,null,{"$f":"COUNTIF($E$4:E226, VERIFICACIONLICENCIA!$F$3)","v":4},null,{"$f":"IFERROR(VLOOKUP(Tabla4[[#This Row],[NOMBRE]],TablaEMPLEADOS[],2,0),\"\")","v":""}]
[null,null,null,{"$f":"COUNTIF($E$4:E227, VERIFICACIONLICENCIA!$F$3)","v":4},null,{"$f":"IFERROR(VLOOKUP(Tabla4[[#This Row],[NOMBRE]],TablaEMPLEADOS[],2,0),\"\")","v":""}]
[null,null,null,{"$f":"COUNTIF($E$4:E228, VERIFICACIONLICENCIA!$F$3)","v":4},null,{"$f":"IFERROR(VLOOKUP(Tabla4[[#This Row],[NOMBRE]],TablaEMPLEADOS[],2,0),\"\")","v":""}]
[null,null,null,{"$f":"COUNTIF($E$4:E229, VERIFICACIONLICENCIA!$F$3)","v":4},null,{"$f":"IFERROR(VLOOKUP(Tabla4[[#This Row],[NOMBRE]],TablaEMPLEADOS[],2,0),\"\")","v":""}]
[null,null,null,{"$f":"COUNTIF($E$4:E230, VERIFICACIONLICENCIA!$F$3)","v":4},null,{"$f":"IFERROR(VLOOKUP(Tabla4[[#This Row],[NOMBRE]],TablaEMPLEADOS[],2,0),\"\")","v":""}]
[null,null,null,{"$f":"COUNTIF($E$4:E231, VERIFICACIONLICENCIA!$F$3)","v":4},null,{"$f":"IFERROR(VLOOKUP(Tabla4[[#This Row],[NOMBRE]],TablaEMPLEADOS[],2,0),\"\")","v":""}]
[null,null,null,{"$f":"COUNTIF($E$4:E232, VERIFICACIONLICENCIA!$F$3)","v":4},null,{"$f":"IFERROR(VLOOKUP(Tabla4[[#This Row],[NOMBRE]],TablaEMPLEADOS[],2,0),\"\")","v":""}]
[null,null,null,{"$f":"COUNTIF($E$4:E233, VERIFICACIONLICENCIA!$F$3)","v":4},null,{"$f":"IFERROR(VLOOKUP(Tabla4[[#This Row],[NOMBRE]],TablaEMPLEADOS[],2,0),\"\")","v":""}]
[null,null,null,{"$f":"COUNTIF($E$4:E234, VERIFICACIONLICENCIA!$F$3)","v":4},null,{"$f":"IFERROR(VLOOKUP(Tabla4[[#This Row],[NOMBRE]],TablaEMPLEADOS[],2,0),\"\")","v":""}]
[null,null,null,{"$f":"COUNTIF($E$4:E235, VERIFICACIONLICENCIA!$F$3)","v":4},null,{"$f":"IFERROR(VLOOKUP(Tabla4[[#This Row],[NOMBRE]],TablaEMPLEADOS[],2,0),\"\")","v":""}]
[null,null,null,{"$f":"COUNTIF($E$4:E236, VERIFICACIONLICENCIA!$F$3)","v":4},null,{"$f":"IFERROR(VLOOKUP(Tabla4[[#This Row],[NOMBRE]],TablaEMPLEADOS[],2,0),\"\")","v":""}]
[null,null,null,{"$f":"COUNTIF($E$4:E237, VERIFICACIONLICENCIA!$F$3)","v":4},null,{"$f":"IFERROR(VLOOKUP(Tabla4[[#This Row],[NOMBRE]],TablaEMPLEADOS[],2,0),\"\")","v":""}]
[null,null,null,{"$f":"COUNTIF($E$4:E238, VERIFICACIONLICENCIA!$F$3)","v":4},null,{"$f":"IFERROR(VLOOKUP(Tabla4[[#This Row],[NOMBRE]],TablaEMPLEADOS[],2,0),\"\")","v":""}]
[null,null,null,{"$f":"COUNTIF($E$4:E239, VERIFICACIONLICENCIA!$F$3)","v":4},null,{"$f":"IFERROR(VLOOKUP(Tabla4[[#This Row],[NOMBRE]],TablaEMPLEADOS[],2,0),\"\")","v":""}]
[null,null,null,{"$f":"COUNTIF($E$4:E240, VERIFICACIONLICENCIA!$F$3)","v":4},null,{"$f":"IFERROR(VLOOKUP(Tabla4[[#This Row],[NOMBRE]],TablaEMPLEADOS[],2,0),\"\")","v":""}]
[null,null,null,{"$f":"COUNTIF($E$4:E241, VERIFICACIONLICENCIA!$F$3)","v":4},null,{"$f":"IFERROR(VLOOKUP(Tabla4[[#This Row],[NOMBRE]],TablaEMPLEADOS[],2,0),\"\")","v":""}]
[null,null,null,{"$f":"COUNTIF($E$4:E242, VERIFICACIONLICENCIA!$F$3)","v":4},null,{"$f":"IFERROR(VLOOKUP(Tabla4[[#This Row],[NOMBRE]],TablaEMPLEADOS[],2,0),\"\")","v":""}]
[null,null,null,{"$f":"COUNTIF($E$4:E243, VERIFICACIONLICENCIA!$F$3)","v":4},null,{"$f":"IFERROR(VLOOKUP(Tabla4[[#This Row],[NOMBRE]],TablaEMPLEADOS[],2,0),\"\")","v":""}]
[null,null,null,{"$f":"COUNTIF($E$4:E244, VERIFICACIONLICENCIA!$F$3)","v":4},null,{"$f":"IFERROR(VLOOKUP(Tabla4[[#This Row],[NOMBRE]],TablaEMPLEADOS[],2,0),\"\")","v":""}]
[null,null,null,{"$f":"COUNTIF($E$4:E245, VERIFICACIONLICENCIA!$F$3)","v":4},null,{"$f":"IFERROR(VLOOKUP(Tabla4[[#This Row],[NOMBRE]],TablaEMPLEADOS[],2,0),\"\")","v":""}]
[null,null,null,{"$f":"COUNTIF($E$4:E246, VERIFICACIONLICENCIA!$F$3)","v":4},null,{"$f":"IFERROR(VLOOKUP(Tabla4[[#This Row],[NOMBRE]],TablaEMPLEADOS[],2,0),\"\")","v":""}]
[null,null,null,{"$f":"COUNTIF($E$4:E247, VERIFICACIONLICENCIA!$F$3)","v":4},null,{"$f":"IFERROR(VLOOKUP(Tabla4[[#This Row],[NOMBRE]],TablaEMPLEADOS[],2,0),\"\")","v":""}]
[null,null,null,{"$f":"COUNTIF($E$4:E248, VERIFICACIONLICENCIA!$F$3)","v":4},null,{"$f":"IFERROR(VLOOKUP(Tabla4[[#This Row],[NOMBRE]],TablaEMPLEADOS[],2,0),\"\")","v":""}]
[null,null,null,{"$f":"COUNTIF($E$4:E249, VERIFICACIONLICENCIA!$F$3)","v":4},null,{"$f":"IFERROR(VLOOKUP(Tabla4[[#This Row],[NOMBRE]],TablaEMPLEADOS[],2,0),\"\")","v":""}]
[null,null,null,{"$f":"COUNTIF($E$4:E250, VERIFICACIONLICENCIA!$F$3)","v":4},null,{"$f":"IFERROR(VLOOKUP(Tabla4[[#This Row],[NOMBRE]],TablaEMPLEADOS[],2,0),\"\")","v":""}]
[null,null,null,{"$f":"COUNTIF($E$4:E251, VERIFICACIONLICENCIA!$F$3)","v":4},null,{"$f":"IFERROR(VLOOKUP(Tabla4[[#This Row],[NOMBRE]],TablaEMPLEADOS[],2,0),\"\")","v":""}]
[null,null,null,{"$f":"COUNTIF($E$4:E252, VERIFICACIONLICENCIA!$F$3)","v":4},null,{"$f":"IFERROR(VLOOKUP(Tabla4[[#This Row],[NOMBRE]],TablaEMPLEADOS[],2,0),\"\")","v":""}]
[null,null,null,{"$f":"COUNTIF($E$4:E253, VERIFICACIONLICENCIA!$F$3)","v":4},null,{"$f":"IFERROR(VLOOKUP(Tabla4[[#This Row],[NOMBRE]],TablaEMPLEADOS[],2,0),\"\")","v":""}]
[null,null,null,{"$f":"COUNTIF($E$4:E254, VERIFICACIONLICENCIA!$F$3)","v":4},null,{"$f":"IFERROR(VLOOKUP(Tabla4[[#This Row],[NOMBRE]],TablaEMPLEADOS[],2,0),\"\")","v":""}]
[null,null,null,{"$f":"COUNTIF($E$4:E255, VERIFICACIONLICENCIA!$F$3)","v":4},null,{"$f":"IFERROR(VLOOKUP(Tabla4[[#This Row],[NOMBRE]],TablaEMPLEADOS[],2,0),\"\")","v":""}]
[null,null,null,{"$f":"COUNTIF($E$4:E256, VERIFICACIONLICENCIA!$F$3)","v":4},null,{"$f":"IFERROR(VLOOKUP(Tabla4[[#This Row],[NOMBRE]],TablaEMPLEADOS[],2,0),\"\")","v":""}]
[null,null,null,{"$f":"COUNTIF($E$4:E257, VERIFICACIONLICENCIA!$F$3)","v":4},null,{"$f":"IFERROR(VLOOKUP(Tabla4[[#This Row],[NOMBRE]],TablaEMPLEADOS[],2,0),\"\")","v":""}]
[null,null,null,{"$f":"COUNTIF($E$4:E258, VERIFICACIONLICENCIA!$F$3)","v":4},null,{"$f":"IFERROR(VLOOKUP(Tabla4[[#This Row],[NOMBRE]],TablaEMPLEADOS[],2,0),\"\")","v":""}]
[null,null,null,{"$f":"COUNTIF($E$4:E259, VERIFICACIONLICENCIA!$F$3)","v":4},null,{"$f":"IFERROR(VLOOKUP(Tabla4[[#This Row],[NOMBRE]],TablaEMPLEADOS[],2,0),\"\")","v":""}]
[null,null,null,{"$f":"COUNTIF($E$4:E260, VERIFICACIONLICENCIA!$F$3)","v":4},null,{"$f":"IFERROR(VLOOKUP(Tabla4[[#This Row],[NOMBRE]],TablaEMPLEADOS[],2,0),\"\")","v":""}]
[null,null,null,{"$f":"COUNTIF($E$4:E261, VERIFICACIONLICENCIA!$F$3)","v":4},null,{"$f":"IFERROR(VLOOKUP(Tabla4[[#This Row],[NOMBRE]],TablaEMPLEADOS[],2,0),\"\")","v":""}]
[null,null,null,{"$f":"COUNTIF($E$4:E262, VERIFICACIONLICENCIA!$F$3)","v":4},null,{"$f":"IFERROR(VLOOKUP(Tabla4[[#This Row],[NOMBRE]],TablaEMPLEADOS[],2,0),\"\")","v":""}]
[null,null,null,{"$f":"COUNTIF($E$4:E263, VERIFICACIONLICENCIA!$F$3)","v":4},null,{"$f":"IFERROR(VLOOKUP(Tabla4[[#This Row],[NOMBRE]],TablaEMPLEADOS[],2,0),\"\")","v":""}]
[null,null,null,{"$f":"COUNTIF($E$4:E264, VERIFICACIONLICENCIA!$F$3)","v":4},null,{"$f":"IFERROR(VLOOKUP(Tabla4[[#This Row],[NOMBRE]],TablaEMPLEADOS[],2,0),\"\")","v":""}]
[null,null,null,{"$f":"COUNTIF($E$4:E265, VERIFICACIONLICENCIA!$F$3)","v":4},null,{"$f":"IFERROR(VLOOKUP(Tabla4[[#This Row],[NOMBRE]],TablaEMPLEADOS[],2,0),\"\")","v":""}]
[null,null,null,{"$f":"COUNTIF($E$4:E266, VERIFICACIONLICENCIA!$F$3)","v":4},null,{"$f":"IFERROR(VLOOKUP(Tabla4[[#This Row],[NOMBRE]],TablaEMPLEADOS[],2,0),\"\")","v":""}]
[null,null,null,{"$f":"COUNTIF($E$4:E267, VERIFICACIONLICENCIA!$F$3)","v":4},null,{"$f":"IFERROR(VLOOKUP(Tabla4[[#This Row],[NOMBRE]],TablaEMPLEADOS[],2,0),\"\")","v":""}]
[null,null,null,{"$f":"COUNTIF($E$4:E268, VERIFICACIONLICENCIA!$F$3)","v":4},null,{"$f":"IFERROR(VLOOKUP(Tabla4[[#This Row],[NOMBRE]],TablaEMPLEADOS[],2,0),\"\")","v":""}]
[null,null,null,{"$f":"COUNTIF($E$4:E269, VERIFICACIONLICENCIA!$F$3)","v":4},null,{"$f":"IFERROR(VLOOKUP(Tabla4[[#This Row],[NOMBRE]],TablaEMPLEADOS[],2,0),\"\")","v":""}]
[null,null,null,{"$f":"COUNTIF($E$4:E270, VERIFICACIONLICENCIA!$F$3)","v":4},null,{"$f":"IFERROR(VLOOKUP(Tabla4[[#This Row],[NOMBRE]],TablaEMPLEADOS[],2,0),\"\")","v":""}]
[null,null,null,{"$f":"COUNTIF($E$4:E271, VERIFICACIONLICENCIA!$F$3)","v":4},null,{"$f":"IFERROR(VLOOKUP(Tabla4[[#This Row],[NOMBRE]],TablaEMPLEADOS[],2,0),\"\")","v":""}]
[null,null,null,{"$f":"COUNTIF($E$4:E272, VERIFICACIONLICENCIA!$F$3)","v":4},null,{"$f":"IFERROR(VLOOKUP(Tabla4[[#This Row],[NOMBRE]],TablaEMPLEADOS[],2,0),\"\")","v":""}]
[null,null,null,{"$f":"COUNTIF($E$4:E273, VERIFICACIONLICENCIA!$F$3)","v":4},null,{"$f":"IFERROR(VLOOKUP(Tabla4[[#This Row],[NOMBRE]],TablaEMPLEADOS[],2,0),\"\")","v":""}]
[null,null,null,{"$f":"COUNTIF($E$4:E274, VERIFICACIONLICENCIA!$F$3)","v":4},null,{"$f":"IFERROR(VLOOKUP(Tabla4[[#This Row],[NOMBRE]],TablaEMPLEADOS[],2,0),\"\")","v":""}]
[null,null,null,{"$f":"COUNTIF($E$4:E275, VERIFICACIONLICENCIA!$F$3)","v":4},null,{"$f":"IFERROR(VLOOKUP(Tabla4[[#This Row],[NOMBRE]],TablaEMPLEADOS[],2,0),\"\")","v":""}]
[null,null,null,{"$f":"COUNTIF($E$4:E276, VERIFICACIONLICENCIA!$F$3)","v":4},null,{"$f":"IFERROR(VLOOKUP(Tabla4[[#This Row],[NOMBRE]],TablaEMPLEADOS[],2,0),\"\")","v":""}]
[null,null,null,{"$f":"COUNTIF($E$4:E277, VERIFICACIONLICENCIA!$F$3)","v":4},null,{"$f":"IFERROR(VLOOKUP(Tabla4[[#This Row],[NOMBRE]],TablaEMPLEADOS[],2,0),\"\")","v":""}]
[null,null,null,{"$f":"COUNTIF($E$4:E278, VERIFICACIONLICENCIA!$F$3)","v":4},null,{"$f":"IFERROR(VLOOKUP(Tabla4[[#This Row],[NOMBRE]],TablaEMPLEADOS[],2,0),\"\")","v":""}]
[null,null,null,{"$f":"COUNTIF($E$4:E279, VERIFICACIONLICENCIA!$F$3)","v":4},null,{"$f":"IFERROR(VLOOKUP(Tabla4[[#This Row],[NOMBRE]],TablaEMPLEADOS[],2,0),\"\")","v":""}]
[null,null,null,{"$f":"COUNTIF($E$4:E280, VERIFICACIONLICENCIA!$F$3)","v":4},null,{"$f":"IFERROR(VLOOKUP(Tabla4[[#This Row],[NOMBRE]],TablaEMPLEADOS[],2,0),\"\")","v":""}]
[null,null,null,{"$f":"COUNTIF($E$4:E281, VERIFICACIONLICENCIA!$F$3)","v":4},null,{"$f":"IFERROR(VLOOKUP(Tabla4[[#This Row],[NOMBRE]],TablaEMPLEADOS[],2,0),\"\")","v":""}]
[null,null,null,{"$f":"COUNTIF($E$4:E282, VERIFICACIONLICENCIA!$F$3)","v":4},null,{"$f":"IFERROR(VLOOKUP(Tabla4[[#This Row],[NOMBRE]],TablaEMPLEADOS[],2,0),\"\")","v":""}]
[null,null,null,{"$f":"COUNTIF($E$4:E283, VERIFICACIONLICENCIA!$F$3)","v":4},null,{"$f":"IFERROR(VLOOKUP(Tabla4[[#This Row],[NOMBRE]],TablaEMPLEADOS[],2,0),\"\")","v":""}]
[null,null,null,{"$f":"COUNTIF($E$4:E284, VERIFICACIONLICENCIA!$F$3)","v":4},null,{"$f":"IFERROR(VLOOKUP(Tabla4[[#This Row],[NOMBRE]],TablaEMPLEADOS[],2,0),\"\")","v":""}]
[null,null,null,{"$f":"COUNTIF($E$4:E285, VERIFICACIONLICENCIA!$F$3)","v":4},null,{"$f":"IFERROR(VLOOKUP(Tabla4[[#This Row],[NOMBRE]],TablaEMPLEADOS[],2,0),\"\")","v":""}]
[null,null,null,{"$f":"COUNTIF($E$4:E286, VERIFICACIONLICENCIA!$F$3)","v":4},null,{"$f":"IFERROR(VLOOKUP(Tabla4[[#This Row],[NOMBRE]],TablaEMPLEADOS[],2,0),\"\")","v":""}]
[null,null,null,{"$f":"COUNTIF($E$4:E287, VERIFICACIONLICENCIA!$F$3)","v":4},null,{"$f":"IFERROR(VLOOKUP(Tabla4[[#This Row],[NOMBRE]],TablaEMPLEADOS[],2,0),\"\")","v":""}]
[null,null,null,{"$f":"COUNTIF($E$4:E288, VERIFICACIONLICENCIA!$F$3)","v":4},null,{"$f":"IFERROR(VLOOKUP(Tabla4[[#This Row],[NOMBRE]],TablaEMPLEADOS[],2,0),\"\")","v":""}]
[null,null,null,{"$f":"COUNTIF($E$4:E289, VERIFICACIONLICENCIA!$F$3)","v":4},null,{"$f":"IFERROR(VLOOKUP(Tabla4[[#This Row],[NOMBRE]],TablaEMPLEADOS[],2,0),\"\")","v":""}]
[null,null,null,{"$f":"COUNTIF($E$4:E290, VERIFICACIONLICENCIA!$F$3)","v":4},null,{"$f":"IFERROR(VLOOKUP(Tabla4[[#This Row],[NOMBRE]],TablaEMPLEADOS[],2,0),\"\")","v":""}]
[null,null,null,{"$f":"COUNTIF($E$4:E291, VERIFICACIONLICENCIA!$F$3)","v":4},null,{"$f":"IFERROR(VLOOKUP(Tabla4[[#This Row],[NOMBRE]],TablaEMPLEADOS[],2,0),\"\")","v":""}]
[null,null,null,{"$f":"COUNTIF($E$4:E292, VERIFICACIONLICENCIA!$F$3)","v":4},null,{"$f":"IFERROR(VLOOKUP(Tabla4[[#This Row],[NOMBRE]],TablaEMPLEADOS[],2,0),\"\")","v":""}]
[null,null,null,{"$f":"COUNTIF($E$4:E293, VERIFICACIONLICENCIA!$F$3)","v":4},null,{"$f":"IFERROR(VLOOKUP(Tabla4[[#This Row],[NOMBRE]],TablaEMPLEADOS[],2,0),\"\")","v":""}]
[null,null,null,{"$f":"COUNTIF($E$4:E294, VERIFICACIONLICENCIA!$F$3)","v":4},null,{"$f":"IFERROR(VLOOKUP(Tabla4[[#This Row],[NOMBRE]],TablaEMPLEADOS[],2,0),\"\")","v":""}]
[null,null,null,{"$f":"COUNTIF($E$4:E295, VERIFICACIONLICENCIA!$F$3)","v":4},null,{"$f":"IFERROR(VLOOKUP(Tabla4[[#This Row],[NOMBRE]],TablaEMPLEADOS[],2,0),\"\")","v":""}]
[null,null,null,{"$f":"COUNTIF($E$4:E296, VERIFICACIONLICENCIA!$F$3)","v":4},null,{"$f":"IFERROR(VLOOKUP(Tabla4[[#This Row],[NOMBRE]],TablaEMPLEADOS[],2,0),\"\")","v":""}]
[null,null,null,{"$f":"COUNTIF($E$4:E297, VERIFICACIONLICENCIA!$F$3)","v":4},null,{"$f":"IFERROR(VLOOKUP(Tabla4[[#This Row],[NOMBRE]],TablaEMPLEADOS[],2,0),\"\")","v":""}]
[null,null,null,{"$f":"COUNTIF($E$4:E298, VERIFICACIONLICENCIA!$F$3)","v":4},null,{"$f":"IFERROR(VLOOKUP(Tabla4[[#This Row],[NOMBRE]],TablaEMPLEADOS[],2,0),\"\")","v":""}]
[null,null,null,{"$f":"COUNTIF($E$4:E299, VERIFICACIONLICENCIA!$F$3)","v":4},null,{"$f":"IFERROR(VLOOKUP(Tabla4[[#This Row],[NOMBRE]],TablaEMPLEADOS[],2,0),\"\")","v":""}]
[null,null,null,{"$f":"COUNTIF($E$4:E300, VERIFICACIONLICENCIA!$F$3)","v":4},null,{"$f":"IFERROR(VLOOKUP(Tabla4[[#This Row],[NOMBRE]],TablaEMPLEADOS[],2,0),\"\")","v":""}]
[null,null,null,{"$f":"COUNTIF($E$4:E301, VERIFICACIONLICENCIA!$F$3)","v":4},null,{"$f":"IFERROR(VLOOKUP(Tabla4[[#This Row],[NOMBRE]],TablaEMPLEADOS[],2,0),\"\")","v":""}]
[null,null,null,{"$f":"COUNTIF($E$4:E302, VERIFICACIONLICENCIA!$F$3)","v":4},null,{"$f":"IFERROR(VLOOKUP(Tabla4[[#This Row],[NOMBRE]],TablaEMPLEADOS[],2,0),\"\")","v":""}]
[null,null,null,{"$f":"COUNTIF($E$4:E303, VERIFICACIONLICENCIA!$F$3)","v":4},null,{"$f":"IFERROR(VLOOKUP(Tabla4[[#This Row],[NOMBRE]],TablaEMPLEADOS[],2,0),\"\")","v":""}]
[null,null,null,{"$f":"COUNTIF($E$4:E304, VERIFICACIONLICENCIA!$F$3)","v":4},null,{"$f":"IFERROR(VLOOKUP(Tabla4[[#This Row],[NOMBRE]],TablaEMPLEADOS[],2,0),\"\")","v":""}]
[null,null,null,{"$f":"COUNTIF($E$4:E305, VERIFICACIONLICENCIA!$F$3)","v":4},null,{"$f":"IFERROR(VLOOKUP(Tabla4[[#This Row],[NOMBRE]],TablaEMPLEADOS[],2,0),\"\")","v":""}]
[null,null,null,{"$f":"COUNTIF($E$4:E306, VERIFICACIONLICENCIA!$F$3)","v":4},null,{"$f":"IFERROR(VLOOKUP(Tabla4[[#This Row],[NOMBRE]],TablaEMPLEADOS[],2,0),\"\")","v":""}]
[null,null,null,{"$f":"COUNTIF($E$4:E307, VERIFICACIONLICENCIA!$F$3)","v":4},null,{"$f":"IFERROR(VLOOKUP(Tabla4[[#This Row],[NOMBRE]],TablaEMPLEADOS[],2,0),\"\")","v":""}]
[null,null,null,{"$f":"COUNTIF($E$4:E308, VERIFICACIONLICENCIA!$F$3)","v":4},null,{"$f":"IFERROR(VLOOKUP(Tabla4[[#This Row],[NOMBRE]],TablaEMPLEADOS[],2,0),\"\")","v":""}]
[null,null,null,{"$f":"COUNTIF($E$4:E309, VERIFICACIONLICENCIA!$F$3)","v":4},null,{"$f":"IFERROR(VLOOKUP(Tabla4[[#This Row],[NOMBRE]],TablaEMPLEADOS[],2,0),\"\")","v":""}]
[null,null,null,{"$f":"COUNTIF($E$4:E310, VERIFICACIONLICENCIA!$F$3)","v":4},null,{"$f":"IFERROR(VLOOKUP(Tabla4[[#This Row],[NOMBRE]],TablaEMPLEADOS[],2,0),\"\")","v":""}]
[null,null,null,{"$f":"COUNTIF($E$4:E311, VERIFICACIONLICENCIA!$F$3)","v":4},null,{"$f":"IFERROR(VLOOKUP(Tabla4[[#This Row],[NOMBRE]],TablaEMPLEADOS[],2,0),\"\")","v":""}]
[null,null,null,{"$f":"COUNTIF($E$4:E312, VERIFICACIONLICENCIA!$F$3)","v":4},null,{"$f":"IFERROR(VLOOKUP(Tabla4[[#This Row],[NOMBRE]],TablaEMPLEADOS[],2,0),\"\")","v":""}]
[null,null,null,{"$f":"COUNTIF($E$4:E313, VERIFICACIONLICENCIA!$F$3)","v":4},null,{"$f":"IFERROR(VLOOKUP(Tabla4[[#This Row],[NOMBRE]],TablaEMPLEADOS[],2,0),\"\")","v":""}]
[null,null,null,{"$f":"COUNTIF($E$4:E314, VERIFICACIONLICENCIA!$F$3)","v":4},null,{"$f":"IFERROR(VLOOKUP(Tabla4[[#This Row],[NOMBRE]],TablaEMPLEADOS[],2,0),\"\")","v":""}]
[null,null,null,{"$f":"COUNTIF($E$4:E315, VERIFICACIONLICENCIA!$F$3)","v":4},null,{"$f":"IFERROR(VLOOKUP(Tabla4[[#This Row],[NOMBRE]],TablaEMPLEADOS[],2,0),\"\")","v":""}]
[null,null,null,{"$f":"COUNTIF($E$4:E316, VERIFICACIONLICENCIA!$F$3)","v":4},null,{"$f":"IFERROR(VLOOKUP(Tabla4[[#This Row],[NOMBRE]],TablaEMPLEADOS[],2,0),\"\")","v":""}]
[null,null,null,{"$f":"COUNTIF($E$4:E317, VERIFICACIONLICENCIA!$F$3)","v":4},null,{"$f":"IFERROR(VLOOKUP(Tabla4[[#This Row],[NOMBRE]],TablaEMPLEADOS[],2,0),\"\")","v":""}]
[null,null,null,{"$f":"COUNTIF($E$4:E318, VERIFICACIONLICENCIA!$F$3)","v":4},null,{"$f":"IFERROR(VLOOKUP(Tabla4[[#This Row],[NOMBRE]],TablaEMPLEADOS[],2,0),\"\")","v":""}]
[null,null,null,{"$f":"COUNTIF($E$4:E319, VERIFICACIONLICENCIA!$F$3)","v":4},null,{"$f":"IFERROR(VLOOKUP(Tabla4[[#This Row],[NOMBRE]],TablaEMPLEADOS[],2,0),\"\")","v":""}]
[null,null,null,{"$f":"COUNTIF($E$4:E320, VERIFICACIONLICENCIA!$F$3)","v":4},null,{"$f":"IFERROR(VLOOKUP(Tabla4[[#This Row],[NOMBRE]],TablaEMPLEADOS[],2,0),\"\")","v":""}]
[null,null,null,{"$f":"COUNTIF($E$4:E321, VERIFICACIONLICENCIA!$F$3)","v":4},null,{"$f":"IFERROR(VLOOKUP(Tabla4[[#This Row],[NOMBRE]],TablaEMPLEADOS[],2,0),\"\")","v":""}]
[null,null,null,{"$f":"COUNTIF($E$4:E322, VERIFICACIONLICENCIA!$F$3)","v":4},null,{"$f":"IFERROR(VLOOKUP(Tabla4[[#This Row],[NOMBRE]],TablaEMPLEADOS[],2,0),\"\")","v":""}]
[null,null,null,{"$f":"COUNTIF($E$4:E323, VERIFICACIONLICENCIA!$F$3)","v":4},null,{"$f":"IFERROR(VLOOKUP(Tabla4[[#This Row],[NOMBRE]],TablaEMPLEADOS[],2,0),\"\")","v":""}]
[null,null,null,{"$f":"COUNTIF($E$4:E324, VERIFICACIONLICENCIA!$F$3)","v":4},null,{"$f":"IFERROR(VLOOKUP(Tabla4[[#This Row],[NOMBRE]],TablaEMPLEADOS[],2,0),\"\")","v":""}]
[null,null,null,{"$f":"COUNTIF($E$4:E325, VERIFICACIONLICENCIA!$F$3)","v":4},null,{"$f":"IFERROR(VLOOKUP(Tabla4[[#This Row],[NOMBRE]],TablaEMPLEADOS[],2,0),\"\")","v":""}]
[null,null,null,{"$f":"COUNTIF($E$4:E326, VERIFICACIONLICENCIA!$F$3)","v":4},null,{"$f":"IFERROR(VLOOKUP(Tabla4[[#This Row],[NOMBRE]],TablaEMPLEADOS[],2,0),\"\")","v":""}]
[null,null,null,{"$f":"COUNTIF($E$4:E327, VERIFICACIONLICENCIA!$F$3)","v":4},null,{"$f":"IFERROR(VLOOKUP(Tabla4[[#This Row],[NOMBRE]],TablaEMPLEADOS[],2,0),\"\")","v":""}]
[null,null,null,{"$f":"COUNTIF($E$4:E328, VERIFICACIONLICENCIA!$F$3)","v":4},null,{"$f":"IFERROR(VLOOKUP(Tabla4[[#This Row],[NOMBRE]],TablaEMPLEADOS[],2,0),\"\")","v":""}]
[null,null,null,{"$f":"COUNTIF($E$4:E329, VERIFICACIONLICENCIA!$F$3)","v":4},null,{"$f":"IFERROR(VLOOKUP(Tabla4[[#This Row],[NOMBRE]],TablaEMPLEADOS[],2,0),\"\")","v":""}]
[null,null,null,{"$f":"COUNTIF($E$4:E330, VERIFICACIONLICENCIA!$F$3)","v":4},null,{"$f":"IFERROR(VLOOKUP(Tabla4[[#This Row],[NOMBRE]],TablaEMPLEADOS[],2,0),\"\")","v":""}]
[null,null,null,{"$f":"COUNTIF($E$4:E331, VERIFICACIONLICENCIA!$F$3)","v":4},null,{"$f":"IFERROR(VLOOKUP(Tabla4[[#This Row],[NOMBRE]],TablaEMPLEADOS[],2,0),\"\")","v":""}]
[null,null,null,{"$f":"COUNTIF($E$4:E332, VERIFICACIONLICENCIA!$F$3)","v":4},null,{"$f":"IFERROR(VLOOKUP(Tabla4[[#This Row],[NOMBRE]],TablaEMPLEADOS[],2,0),\"\")","v":""}]
[null,null,null,{"$f":"COUNTIF($E$4:E333, VERIFICACIONLICENCIA!$F$3)","v":4},null,{"$f":"IFERROR(VLOOKUP(Tabla4[[#This Row],[NOMBRE]],TablaEMPLEADOS[],2,0),\"\")","v":""}]
[null,null,null,{"$f":"COUNTIF($E$4:E334, VERIFICACIONLICENCIA!$F$3)","v":4},null,{"$f":"IFERROR(VLOOKUP(Tabla4[[#This Row],[NOMBRE]],TablaEMPLEADOS[],2,0),\"\")","v":""}]
[null,null,null,{"$f":"COUNTIF($E$4:E335, VERIFICACIONLICENCIA!$F$3)","v":4},null,{"$f":"IFERROR(VLOOKUP(Tabla4[[#This Row],[NOMBRE]],TablaEMPLEADOS[],2,0),\"\")","v":""}]
[null,null,null,{"$f":"COUNTIF($E$4:E336, VERIFICACIONLICENCIA!$F$3)","v":4},null,{"$f":"IFERROR(VLOOKUP(Tabla4[[#This Row],[NOMBRE]],TablaEMPLEADOS[],2,0),\"\")","v":""}]
[null,null,null,{"$f":"COUNTIF($E$4:E337, VERIFICACIONLICENCIA!$F$3)","v":4},null,{"$f":"IFERROR(VLOOKUP(Tabla4[[#This Row],[NOMBRE]],TablaEMPLEADOS[],2,0),\"\")","v":""}]
[null,null,null,{"$f":"COUNTIF($E$4:E338, VERIFICACIONLICENCIA!$F$3)","v":4},null,{"$f":"IFERROR(VLOOKUP(Tabla4[[#This Row],[NOMBRE]],TablaEMPLEADOS[],2,0),\"\")","v":""}]
[null,null,null,{"$f":"COUNTIF($E$4:E339, VERIFICACIONLICENCIA!$F$3)","v":4},null,{"$f":"IFERROR(VLOOKUP(Tabla4[[#This Row],[NOMBRE]],TablaEMPLEADOS[],2,0),\"\")","v":""}]
[null,null,null,{"$f":"COUNTIF($E$4:E340, VERIFICACIONLICENCIA!$F$3)","v":4},null,{"$f":"IFERROR(VLOOKUP(Tabla4[[#This Row],[NOMBRE]],TablaEMPLEADOS[],2,0),\"\")","v":""}]
[null,null,null,{"$f":"COUNTIF($E$4:E341, VERIFICACIONLICENCIA!$F$3)","v":4},null,{"$f":"IFERROR(VLOOKUP(Tabla4[[#This Row],[NOMBRE]],TablaEMPLEADOS[],2,0),\"\")","v":""}]
[null,null,null,{"$f":"COUNTIF($E$4:E342, VERIFICACIONLICENCIA!$F$3)","v":4},null,{"$f":"IFERROR(VLOOKUP(Tabla4[[#This Row],[NOMBRE]],TablaEMPLEADOS[],2,0),\"\")","v":""}]
[null,null,null,{"$f":"COUNTIF($E$4:E343, VERIFICACIONLICENCIA!$F$3)","v":4},null,{"$f":"IFERROR(VLOOKUP(Tabla4[[#This Row],[NOMBRE]],TablaEMPLEADOS[],2,0),\"\")","v":""}]
[null,null,null,{"$f":"COUNTIF($E$4:E344, VERIFICACIONLICENCIA!$F$3)","v":4},null,{"$f":"IFERROR(VLOOKUP(Tabla4[[#This Row],[NOMBRE]],TablaEMPLEADOS[],2,0),\"\")","v":""}]
[null,null,null,{"$f":"COUNTIF($E$4:E345, VERIFICACIONLICENCIA!$F$3)","v":4},null,{"$f":"IFERROR(VLOOKUP(Tabla4[[#This Row],[NOMBRE]],TablaEMPLEADOS[],2,0),\"\")","v":""}]
[null,null,null,{"$f":"COUNTIF($E$4:E346, VERIFICACIONLICENCIA!$F$3)","v":4},null,{"$f":"IFERROR(VLOOKUP(Tabla4[[#This Row],[NOMBRE]],TablaEMPLEADOS[],2,0),\"\")","v":""}]
[null,null,null,{"$f":"COUNTIF($E$4:E347, VERIFICACIONLICENCIA!$F$3)","v":4},null,{"$f":"IFERROR(VLOOKUP(Tabla4[[#This Row],[NOMBRE]],TablaEMPLEADOS[],2,0),\"\")","v":""}]
[null,null,null,{"$f":"COUNTIF($E$4:E348, VERIFICACIONLICENCIA!$F$3)","v":4},null,{"$f":"IFERROR(VLOOKUP(Tabla4[[#This Row],[NOMBRE]],TablaEMPLEADOS[],2,0),\"\")","v":""}]
[null,null,null,{"$f":"COUNTIF($E$4:E349, VERIFICACIONLICENCIA!$F$3)","v":4},null,{"$f":"IFERROR(VLOOKUP(Tabla4[[#This Row],[NOMBRE]],TablaEMPLEADOS[],2,0),\"\")","v":""}]
[null,null,null,{"$f":"COUNTIF($E$4:E350, VERIFICACIONLICENCIA!$F$3)","v":4},null,{"$f":"IFERROR(VLOOKUP(Tabla4[[#This Row],[NOMBRE]],TablaEMPLEADOS[],2,0),\"\")","v":""}]
[null,null,null,{"$f":"COUNTIF($E$4:E351, VERIFICACIONLICENCIA!$F$3)","v":4},null,{"$f":"IFERROR(VLOOKUP(Tabla4[[#This Row],[NOMBRE]],TablaEMPLEADOS[],2,0),\"\")","v":""}]
[null,null,null,{"$f":"COUNTIF($E$4:E352, VERIFICACIONLICENCIA!$F$3)","v":4},null,{"$f":"IFERROR(VLOOKUP(Tabla4[[#This Row],[NOMBRE]],TablaEMPLEADOS[],2,0),\"\")","v":""}]
[null,null,null,{"$f":"COUNTIF($E$4:E353, VERIFICACIONLICENCIA!$F$3)","v":4},null,{"$f":"IFERROR(VLOOKUP(Tabla4[[#This Row],[NOMBRE]],TablaEMPLEADOS[],2,0),\"\")","v":""}]
[null,null,null,{"$f":"COUNTIF($E$4:E354, VERIFICACIONLICENCIA!$F$3)","v":4},null,{"$f":"IFERROR(VLOOKUP(Tabla4[[#This Row],[NOMBRE]],TablaEMPLEADOS[],2,0),\"\")","v":""}]
[null,null,null,{"$f":"COUNTIF($E$4:E355, VERIFICACIONLICENCIA!$F$3)","v":4},null,{"$f":"IFERROR(VLOOKUP(Tabla4[[#This Row],[NOMBRE]],TablaEMPLEADOS[],2,0),\"\")","v":""}]
[null,null,null,{"$f":"COUNTIF($E$4:E356, VERIFICACIONLICENCIA!$F$3)","v":4},null,{"$f":"IFERROR(VLOOKUP(Tabla4[[#This Row],[NOMBRE]],TablaEMPLEADOS[],2,0),\"\")","v":""}]
[null,null,null,{"$f":"COUNTIF($E$4:E357, VERIFICACIONLICENCIA!$F$3)","v":4},null,{"$f":"IFERROR(VLOOKUP(Tabla4[[#This Row],[NOMBRE]],TablaEMPLEADOS[],2,0),\"\")","v":""}]
[null,null,null,{"$f":"COUNTIF($E$4:E358, VERIFICACIONLICENCIA!$F$3)","v":4},null,{"$f":"IFERROR(VLOOKUP(Tabla4[[#This Row],[NOMBRE]],TablaEMPLEADOS[],2,0),\"\")","v":""}]
[null,null,null,{"$f":"COUNTIF($E$4:E359, VERIFICACIONLICENCIA!$F$3)","v":4},null,{"$f":"IFERROR(VLOOKUP(Tabla4[[#This Row],[NOMBRE]],TablaEMPLEADOS[],2,0),\"\")","v":""}]
[null,null,null,{"$f":"COUNTIF($E$4:E360, VERIFICACIONLICENCIA!$F$3)","v":4},null,{"$f":"IFERROR(VLOOKUP(Tabla4[[#This Row],[NOMBRE]],TablaEMPLEADOS[],2,0),\"\")","v":""}]
[null,null,null,{"$f":"COUNTIF($E$4:E361, VERIFICACIONLICENCIA!$F$3)","v":4},null,{"$f":"IFERROR(VLOOKUP(Tabla4[[#This Row],[NOMBRE]],TablaEMPLEADOS[],2,0),\"\")","v":""}]
[null,null,null,{"$f":"COUNTIF($E$4:E362, VERIFICACIONLICENCIA!$F$3)","v":4},null,{"$f":"IFERROR(VLOOKUP(Tabla4[[#This Row],[NOMBRE]],TablaEMPLEADOS[],2,0),\"\")","v":""}]
[null,null,null,{"$f":"COUNTIF($E$4:E363, VERIFICACIONLICENCIA!$F$3)","v":4},null,{"$f":"IFERROR(VLOOKUP(Tabla4[[#This Row],[NOMBRE]],TablaEMPLEADOS[],2,0),\"\")","v":""}]
[null,null,null,{"$f":"COUNTIF($E$4:E364, VERIFICACIONLICENCIA!$F$3)","v":4},null,{"$f":"IFERROR(VLOOKUP(Tabla4[[#This Row],[NOMBRE]],TablaEMPLEADOS[],2,0),\"\")","v":""}]
[null,null,null,{"$f":"COUNTIF($E$4:E365, VERIFICACIONLICENCIA!$F$3)","v":4},null,{"$f":"IFERROR(VLOOKUP(Tabla4[[#This Row],[NOMBRE]],TablaEMPLEADOS[],2,0),\"\")","v":""}]
[null,null,null,{"$f":"COUNTIF($E$4:E366, VERIFICACIONLICENCIA!$F$3)","v":4},null,{"$f":"IFERROR(VLOOKUP(Tabla4[[#This Row],[NOMBRE]],TablaEMPLEADOS[],2,0),\"\")","v":""}]
[null,null,null,{"$f":"COUNTIF($E$4:E367, VERIFICACIONLICENCIA!$F$3)","v":4},null,{"$f":"IFERROR(VLOOKUP(Tabla4[[#This Row],[NOMBRE]],TablaEMPLEADOS[],2,0),\"\")","v":""}]
[null,null,null,{"$f":"COUNTIF($E$4:E368, VERIFICACIONLICENCIA!$F$3)","v":4},null,{"$f":"IFERROR(VLOOKUP(Tabla4[[#This Row],[NOMBRE]],TablaEMPLEADOS[],2,0),\"\")","v":""}]
[null,null,null,{"$f":"COUNTIF($E$4:E369, VERIFICACIONLICENCIA!$F$3)","v":4},null,{"$f":"IFERROR(VLOOKUP(Tabla4[[#This Row],[NOMBRE]],TablaEMPLEADOS[],2,0),\"\")","v":""}]
[null,null,null,{"$f":"COUNTIF($E$4:E370, VERIFICACIONLICENCIA!$F$3)","v":4},null,{"$f":"IFERROR(VLOOKUP(Tabla4[[#This Row],[NOMBRE]],TablaEMPLEADOS[],2,0),\"\")","v":""}]
[null,null,null,{"$f":"COUNTIF($E$4:E371, VERIFICACIONLICENCIA!$F$3)","v":4},null,{"$f":"IFERROR(VLOOKUP(Tabla4[[#This Row],[NOMBRE]],TablaEMPLEADOS[],2,0),\"\")","v":""}]
[null,null,null,{"$f":"COUNTIF($E$4:E372, VERIFICACIONLICENCIA!$F$3)","v":4},null,{"$f":"IFERROR(VLOOKUP(Tabla4[[#This Row],[NOMBRE]],TablaEMPLEADOS[],2,0),\"\")","v":""}]
[null,null,null,{"$f":"COUNTIF($E$4:E373, VERIFICACIONLICENCIA!$F$3)","v":4},null,{"$f":"IFERROR(VLOOKUP(Tabla4[[#This Row],[NOMBRE]],TablaEMPLEADOS[],2,0),\"\")","v":""}]
[null,null,null,{"$f":"COUNTIF($E$4:E374, VERIFICACIONLICENCIA!$F$3)","v":4},null,{"$f":"IFERROR(VLOOKUP(Tabla4[[#This Row],[NOMBRE]],TablaEMPLEADOS[],2,0),\"\")","v":""}]
[null,null,null,{"$f":"COUNTIF($E$4:E375, VERIFICACIONLICENCIA!$F$3)","v":4},null,{"$f":"IFERROR(VLOOKUP(Tabla4[[#This Row],[NOMBRE]],TablaEMPLEADOS[],2,0),\"\")","v":""}]
[null,null,null,{"$f":"COUNTIF($E$4:E376, VERIFICACIONLICENCIA!$F$3)","v":4},null,{"$f":"IFERROR(VLOOKUP(Tabla4[[#This Row],[NOMBRE]],TablaEMPLEADOS[],2,0),\"\")","v":""}]
[null,null,null,{"$f":"COUNTIF($E$4:E377, VERIFICACIONLICENCIA!$F$3)","v":4},null,{"$f":"IFERROR(VLOOKUP(Tabla4[[#This Row],[NOMBRE]],TablaEMPLEADOS[],2,0),\"\")","v":""}]
[null,null,null,{"$f":"COUNTIF($E$4:E378, VERIFICACIONLICENCIA!$F$3)","v":4},null,{"$f":"IFERROR(VLOOKUP(Tabla4[[#This Row],[NOMBRE]],TablaEMPLEADOS[],2,0),\"\")","v":""}]
[null,null,null,{"$f":"COUNTIF($E$4:E379, VERIFICACIONLICENCIA!$F$3)","v":4},null,{"$f":"IFERROR(VLOOKUP(Tabla4[[#This Row],[NOMBRE]],TablaEMPLEADOS[],2,0),\"\")","v":""}]
[null,null,null,{"$f":"COUNTIF($E$4:E380, VERIFICACIONLICENCIA!$F$3)","v":4},null,{"$f":"IFERROR(VLOOKUP(Tabla4[[#This Row],[NOMBRE]],TablaEMPLEADOS[],2,0),\"\")","v":""}]
[null,null,null,{"$f":"COUNTIF($E$4:E381, VERIFICACIONLICENCIA!$F$3)","v":4},null,{"$f":"IFERROR(VLOOKUP(Tabla4[[#This Row],[NOMBRE]],TablaEMPLEADOS[],2,0),\"\")","v":""}]
[null,null,null,{"$f":"COUNTIF($E$4:E382, VERIFICACIONLICENCIA!$F$3)","v":4},null,{"$f":"IFERROR(VLOOKUP(Tabla4[[#This Row],[NOMBRE]],TablaEMPLEADOS[],2,0),\"\")","v":""}]
[null,null,null,{"$f":"COUNTIF($E$4:E383, VERIFICACIONLICENCIA!$F$3)","v":4},null,{"$f":"IFERROR(VLOOKUP(Tabla4[[#This Row],[NOMBRE]],TablaEMPLEADOS[],2,0),\"\")","v":""}]
[null,null,null,{"$f":"COUNTIF($E$4:E384, VERIFICACIONLICENCIA!$F$3)","v":4},null,{"$f":"IFERROR(VLOOKUP(Tabla4[[#This Row],[NOMBRE]],TablaEMPLEADOS[],2,0),\"\")","v":""}]
[null,null,null,{"$f":"COUNTIF($E$4:E385, VERIFICACIONLICENCIA!$F$3)","v":4},null,{"$f":"IFERROR(VLOOKUP(Tabla4[[#This Row],[NOMBRE]],TablaEMPLEADOS[],2,0),\"\")","v":""}]
[null,null,null,{"$f":"COUNTIF($E$4:E386, VERIFICACIONLICENCIA!$F$3)","v":4},null,{"$f":"IFERROR(VLOOKUP(Tabla4[[#This Row],[NOMBRE]],TablaEMPLEADOS[],2,0),\"\")","v":""}]
[null,null,null,{"$f":"COUNTIF($E$4:E387, VERIFICACIONLICENCIA!$F$3)","v":4},null,{"$f":"IFERROR(VLOOKUP(Tabla4[[#This Row],[NOMBRE]],TablaEMPLEADOS[],2,0),\"\")","v":""}]
[null,null,null,{"$f":"COUNTIF($E$4:E388, VERIFICACIONLICENCIA!$F$3)","v":4},null,{"$f":"IFERROR(VLOOKUP(Tabla4[[#This Row],[NOMBRE]],TablaEMPLEADOS[],2,0),\"\")","v":""}]
[null,null,null,{"$f":"COUNTIF($E$4:E389, VERIFICACIONLICENCIA!$F$3)","v":4},null,{"$f":"IFERROR(VLOOKUP(Tabla4[[#This Row],[NOMBRE]],TablaEMPLEADOS[],2,0),\"\")","v":""}]
[null,null,null,{"$f":"COUNTIF($E$4:E390, VERIFICACIONLICENCIA!$F$3)","v":4},null,{"$f":"IFERROR(VLOOKUP(Tabla4[[#This Row],[NOMBRE]],TablaEMPLEADOS[],2,0),\"\")","v":""}]
[null,null,null,{"$f":"COUNTIF($E$4:E391, VERIFICACIONLICENCIA!$F$3)","v":4},null,{"$f":"IFERROR(VLOOKUP(Tabla4[[#This Row],[NOMBRE]],TablaEMPLEADOS[],2,0),\"\")","v":""}]
[null,null,null,{"$f":"COUNTIF($E$4:E392, VERIFICACIONLICENCIA!$F$3)","v":4},null,{"$f":"IFERROR(VLOOKUP(Tabla4[[#This Row],[NOMBRE]],TablaEMPLEADOS[],2,0),\"\")","v":""}]
[null,null,null,{"$f":"COUNTIF($E$4:E393, VERIFICACIONLICENCIA!$F$3)","v":4},null,{"$f":"IFERROR(VLOOKUP(Tabla4[[#This Row],[NOMBRE]],TablaEMPLEADOS[],2,0),\"\")","v":""}]
[null,null,null,{"$f":"COUNTIF($E$4:E394, VERIFICACIONLICENCIA!$F$3)","v":4},null,{"$f":"IFERROR(VLOOKUP(Tabla4[[#This Row],[NOMBRE]],TablaEMPLEADOS[],2,0),\"\")","v":""}]
[null,null,null,{"$f":"COUNTIF($E$4:E395, VERIFICACIONLICENCIA!$F$3)","v":4},null,{"$f":"IFERROR(VLOOKUP(Tabla4[[#This Row],[NOMBRE]],TablaEMPLEADOS[],2,0),\"\")","v":""}]
[null,null,null,{"$f":"COUNTIF($E$4:E396, VERIFICACIONLICENCIA!$F$3)","v":4},null,{"$f":"IFERROR(VLOOKUP(Tabla4[[#This Row],[NOMBRE]],TablaEMPLEADOS[],2,0),\"\")","v":""}]
[null,null,null,{"$f":"COUNTIF($E$4:E397, VERIFICACIONLICENCIA!$F$3)","v":4},null,{"$f":"IFERROR(VLOOKUP(Tabla4[[#This Row],[NOMBRE]],TablaEMPLEADOS[],2,0),\"\")","v":""}]
[null,null,null,{"$f":"COUNTIF($E$4:E398, VERIFICACIONLICENCIA!$F$3)","v":4},null,{"$f":"IFERROR(VLOOKUP(Tabla4[[#This Row],[NOMBRE]],TablaEMPLEADOS[],2,0),\"\")","v":""}]
[null,null,null,{"$f":"COUNTIF($E$4:E399, VERIFICACIONLICENCIA!$F$3)","v":4},null,{"$f":"IFERROR(VLOOKUP(Tabla4[[#This Row],[NOMBRE]],TablaEMPLEADOS[],2,0),\"\")","v":""}]
[null,null,null,{"$f":"COUNTIF($E$4:E400, VERIFICACIONLICENCIA!$F$3)","v":4},null,{"$f":"IFERROR(VLOOKUP(Tabla4[[#This Row],[NOMBRE]],TablaEMPLEADOS[],2,0),\"\")","v":""}]
[null,null,null,{"$f":"COUNTIF($E$4:E401, VERIFICACIONLICENCIA!$F$3)","v":4},null,{"$f":"IFERROR(VLOOKUP(Tabla4[[#This Row],[NOMBRE]],TablaEMPLEADOS[],2,0),\"\")","v":""}]
[null,null,null,{"$f":"COUNTIF($E$4:E402, VERIFICACIONLICENCIA!$F$3)","v":4},null,{"$f":"IFERROR(VLOOKUP(Tabla4[[#This Row],[NOMBRE]],TablaEMPLEADOS[],2,0),\"\")","v":""}]
[null,null,null,{"$f":"COUNTIF($E$4:E403, VERIFICACIONLICENCIA!$F$3)","v":4},null,{"$f":"IFERROR(VLOOKUP(Tabla4[[#This Row],[NOMBRE]],TablaEMPLEADOS[],2,0),\"\")","v":""}]
[null,null,null,{"$f":"COUNTIF($E$4:E404, VERIFICACIONLICENCIA!$F$3)","v":4},null,{"$f":"IFERROR(VLOOKUP(Tabla4[[#This Row],[NOMBRE]],TablaEMPLEADOS[],2,0),\"\")","v":""}]
[null,null,null,{"$f":"COUNTIF($E$4:E405, VERIFICACIONLICENCIA!$F$3)","v":4},null,{"$f":"IFERROR(VLOOKUP(Tabla4[[#This Row],[NOMBRE]],TablaEMPLEADOS[],2,0),\"\")","v":""}]
[null,null,null,{"$f":"COUNTIF($E$4:E406, VERIFICACIONLICENCIA!$F$3)","v":4},null,{"$f":"IFERROR(VLOOKUP(Tabla4[[#This Row],[NOMBRE]],TablaEMPLEADOS[],2,0),\"\")","v":""}]
[null,null,null,{"$f":"COUNTIF($E$4:E407, VERIFICACIONLICENCIA!$F$3)","v":4},null,{"$f":"IFERROR(VLOOKUP(Tabla4[[#This Row],[NOMBRE]],TablaEMPLEADOS[],2,0),\"\")","v":""}]
[null,null,null,{"$f":"COUNTIF($E$4:E408, VERIFICACIONLICENCIA!$F$3)","v":4},null,{"$f":"IFERROR(VLOOKUP(Tabla4[[#This Row],[NOMBRE]],TablaEMPLEADOS[],2,0),\"\")","v":""}]
[null,null,null,{"$f":"COUNTIF($E$4:E409, VERIFICACIONLICENCIA!$F$3)","v":4},null,{"$f":"IFERROR(VLOOKUP(Tabla4[[#This Row],[NOMBRE]],TablaEMPLEADOS[],2,0),\"\")","v":""}]
[null,null,null,{"$f":"COUNTIF($E$4:E410, VERIFICACIONLICENCIA!$F$3)","v":4},null,{"$f":"IFERROR(VLOOKUP(Tabla4[[#This Row],[NOMBRE]],TablaEMPLEADOS[],2,0),\"\")","v":""}]
[null,null,null,{"$f":"COUNTIF($E$4:E411, VERIFICACIONLICENCIA!$F$3)","v":4},null,{"$f":"IFERROR(VLOOKUP(Tabla4[[#This Row],[NOMBRE]],TablaEMPLEADOS[],2,0),\"\")","v":""}]
[null,null,null,{"$f":"COUNTIF($E$4:E412, VERIFICACIONLICENCIA!$F$3)","v":4},null,{"$f":"IFERROR(VLOOKUP(Tabla4[[#This Row],[NOMBRE]],TablaEMPLEADOS[],2,0),\"\")","v":""}]
[null,null,null,{"$f":"COUNTIF($E$4:E413, VERIFICACIONLICENCIA!$F$3)","v":4},null,{"$f":"IFERROR(VLOOKUP(Tabla4[[#This Row],[NOMBRE]],TablaEMPLEADOS[],2,0),\"\")","v":""}]
[null,null,null,{"$f":"COUNTIF($E$4:E414, VERIFICACIONLICENCIA!$F$3)","v":4},null,{"$f":"IFERROR(VLOOKUP(Tabla4[[#This Row],[NOMBRE]],TablaEMPLEADOS[],2,0),\"\")","v":""}]
[null,null,null,{"$f":"COUNTIF($E$4:E415, VERIFICACIONLICENCIA!$F$3)","v":4},null,{"$f":"IFERROR(VLOOKUP(Tabla4[[#This Row],[NOMBRE]],TablaEMPLEADOS[],2,0),\"\")","v":""}]
[null,null,null,{"$f":"COUNTIF($E$4:E416, VERIFICACIONLICENCIA!$F$3)","v":4},null,{"$f":"IFERROR(VLOOKUP(Tabla4[[#This Row],[NOMBRE]],TablaEMPLEADOS[],2,0),\"\")","v":""}]
[null,null,null,{"$f":"COUNTIF($E$4:E417, VERIFICACIONLICENCIA!$F$3)","v":4},null,{"$f":"IFERROR(VLOOKUP(Tabla4[[#This Row],[NOMBRE]],TablaEMPLEADOS[],2,0),\"\")","v":""}]
[null,null,null,{"$f":"COUNTIF($E$4:E418, VERIFICACIONLICENCIA!$F$3)","v":4},null,{"$f":"IFERROR(VLOOKUP(Tabla4[[#This Row],[NOMBRE]],TablaEMPLEADOS[],2,0),\"\")","v":""}]
[null,null,null,{"$f":"COUNTIF($E$4:E419, VERIFICACIONLICENCIA!$F$3)","v":4},null,{"$f":"IFERROR(VLOOKUP(Tabla4[[#This Row],[NOMBRE]],TablaEMPLEADOS[],2,0),\"\")","v":""}]
[null,null,null,{"$f":"COUNTIF($E$4:E420, VERIFICACIONLICENCIA!$F$3)","v":4},null,{"$f":"IFERROR(VLOOKUP(Tabla4[[#This Row],[NOMBRE]],TablaEMPLEADOS[],2,0),\"\")","v":""}]
[null,null,null,{"$f":"COUNTIF($E$4:E421, VERIFICACIONLICENCIA!$F$3)","v":4},null,{"$f":"IFERROR(VLOOKUP(Tabla4[[#This Row],[NOMBRE]],TablaEMPLEADOS[],2,0),\"\")","v":""}]
[null,null,null,{"$f":"COUNTIF($E$4:E422, VERIFICACIONLICENCIA!$F$3)","v":4},null,{"$f":"IFERROR(VLOOKUP(Tabla4[[#This Row],[NOMBRE]],TablaEMPLEADOS[],2,0),\"\")","v":""}]
[null,null,null,{"$f":"COUNTIF($E$4:E423, VERIFICACIONLICENCIA!$F$3)","v":4},null,{"$f":"IFERROR(VLOOKUP(Tabla4[[#This Row],[NOMBRE]],TablaEMPLEADOS[],2,0),\"\")","v":""}]
[null,null,null,{"$f":"COUNTIF($E$4:E424, VERIFICACIONLICENCIA!$F$3)","v":4},null,{"$f":"IFERROR(VLOOKUP(Tabla4[[#This Row],[NOMBRE]],TablaEMPLEADOS[],2,0),\"\")","v":""}]
[null,null,null,{"$f":"COUNTIF($E$4:E425, VERIFICACIONLICENCIA!$F$3)","v":4},null,{"$f":"IFERROR(VLOOKUP(Tabla4[[#This Row],[NOMBRE]],TablaEMPLEADOS[],2,0),\"\")","v":""}]
[null,null,null,{"$f":"COUNTIF($E$4:E426, VERIFICACIONLICENCIA!$F$3)","v":4},null,{"$f":"IFERROR(VLOOKUP(Tabla4[[#This Row],[NOMBRE]],TablaEMPLEADOS[],2,0),\"\")","v":""}]
[null,null,null,{"$f":"COUNTIF($E$4:E427, VERIFICACIONLICENCIA!$F$3)","v":4},null,{"$f":"IFERROR(VLOOKUP(Tabla4[[#This Row],[NOMBRE]],TablaEMPLEADOS[],2,0),\"\")","v":""}]
[null,null,null,{"$f":"COUNTIF($E$4:E428, VERIFICACIONLICENCIA!$F$3)","v":4},null,{"$f":"IFERROR(VLOOKUP(Tabla4[[#This Row],[NOMBRE]],TablaEMPLEADOS[],2,0),\"\")","v":""}]
[null,null,null,{"$f":"COUNTIF($E$4:E429, VERIFICACIONLICENCIA!$F$3)","v":4},null,{"$f":"IFERROR(VLOOKUP(Tabla4[[#This Row],[NOMBRE]],TablaEMPLEADOS[],2,0),\"\")","v":""}]
[null,null,null,{"$f":"COUNTIF($E$4:E430, VERIFICACIONLICENCIA!$F$3)","v":4},null,{"$f":"IFERROR(VLOOKUP(Tabla4[[#This Row],[NOMBRE]],TablaEMPLEADOS[],2,0),\"\")","v":""}]
[null,null,null,{"$f":"COUNTIF($E$4:E431, VERIFICACIONLICENCIA!$F$3)","v":4},null,{"$f":"IFERROR(VLOOKUP(Tabla4[[#This Row],[NOMBRE]],TablaEMPLEADOS[],2,0),\"\")","v":""}]
[null,null,null,{"$f":"COUNTIF($E$4:E432, VERIFICACIONLICENCIA!$F$3)","v":4},null,{"$f":"IFERROR(VLOOKUP(Tabla4[[#This Row],[NOMBRE]],TablaEMPLEADOS[],2,0),\"\")","v":""}]
[null,null,null,{"$f":"COUNTIF($E$4:E433, VERIFICACIONLICENCIA!$F$3)","v":4},null,{"$f":"IFERROR(VLOOKUP(Tabla4[[#This Row],[NOMBRE]],TablaEMPLEADOS[],2,0),\"\")","v":""}]
[null,null,null,{"$f":"COUNTIF($E$4:E434, VERIFICACIONLICENCIA!$F$3)","v":4},null,{"$f":"IFERROR(VLOOKUP(Tabla4[[#This Row],[NOMBRE]],TablaEMPLEADOS[],2,0),\"\")","v":""}]
[null,null,null,{"$f":"COUNTIF($E$4:E435, VERIFICACIONLICENCIA!$F$3)","v":4},null,{"$f":"IFERROR(VLOOKUP(Tabla4[[#This Row],[NOMBRE]],TablaEMPLEADOS[],2,0),\"\")","v":""}]
[null,null,null,{"$f":"COUNTIF($E$4:E436, VERIFICACIONLICENCIA!$F$3)","v":4},null,{"$f":"IFERROR(VLOOKUP(Tabla4[[#This Row],[NOMBRE]],TablaEMPLEADOS[],2,0),\"\")","v":""}]
[null,null,null,{"$f":"COUNTIF($E$4:E437, VERIFICACIONLICENCIA!$F$3)","v":4},null,{"$f":"IFERROR(VLOOKUP(Tabla4[[#This Row],[NOMBRE]],TablaEMPLEADOS[],2,0),\"\")","v":""}]
[null,null,null,{"$f":"COUNTIF($E$4:E438, VERIFICACIONLICENCIA!$F$3)","v":4},null,{"$f":"IFERROR(VLOOKUP(Tabla4[[#This Row],[NOMBRE]],TablaEMPLEADOS[],2,0),\"\")","v":""}]
[null,null,null,{"$f":"COUNTIF($E$4:E439, VERIFICACIONLICENCIA!$F$3)","v":4},null,{"$f":"IFERROR(VLOOKUP(Tabla4[[#This Row],[NOMBRE]],TablaEMPLEADOS[],2,0),\"\")","v":""}]
[null,null,null,{"$f":"COUNTIF($E$4:E440, VERIFICACIONLICENCIA!$F$3)","v":4},null,{"$f":"IFERROR(VLOOKUP(Tabla4[[#This Row],[NOMBRE]],TablaEMPLEADOS[],2,0),\"\")","v":""}]
[null,null,null,{"$f":"COUNTIF($E$4:E441, VERIFICACIONLICENCIA!$F$3)","v":4},null,{"$f":"IFERROR(VLOOKUP(Tabla4[[#This Row],[NOMBRE]],TablaEMPLEADOS[],2,0),\"\")","v":""}]
[null,null,null,{"$f":"COUNTIF($E$4:E442, VERIFICACIONLICENCIA!$F$3)","v":4},null,{"$f":"IFERROR(VLOOKUP(Tabla4[[#This Row],[NOMBRE]],TablaEMPLEADOS[],2,0),\"\")","v":""}]
[null,null,null,{"$f":"COUNTIF($E$4:E443, VERIFICACIONLICENCIA!$F$3)","v":4},null,{"$f":"IFERROR(VLOOKUP(Tabla4[[#This Row],[NOMBRE]],TablaEMPLEADOS[],2,0),\"\")","v":""}]
[null,null,null,{"$f":"COUNTIF($E$4:E444, VERIFICACIONLICENCIA!$F$3)","v":4},null,{"$f":"IFERROR(VLOOKUP(Tabla4[[#This Row],[NOMBRE]],TablaEMPLEADOS[],2,0),\"\")","v":""}]
[null,null,null,{"$f":"COUNTIF($E$4:E445, VERIFICACIONLICENCIA!$F$3)","v":4},null,{"$f":"IFERROR(VLOOKUP(Tabla4[[#This Row],[NOMBRE]],TablaEMPLEADOS[],2,0),\"\")","v":""}]
[null,null,null,{"$f":"COUNTIF($E$4:E446, VERIFICACIONLICENCIA!$F$3)","v":4},null,{"$f":"IFERROR(VLOOKUP(Tabla4[[#This Row],[NOMBRE]],TablaEMPLEADOS[],2,0),\"\")","v":""}]
[null,null,null,{"$f":"COUNTIF($E$4:E447, VERIFICACIONLICENCIA!$F$3)","v":4},null,{"$f":"IFERROR(VLOOKUP(Tabla4[[#This Row],[NOMBRE]],TablaEMPLEADOS[],2,0),\"\")","v":""}]
[null,null,null,{"$f":"COUNTIF($E$4:E448, VERIFICACIONLICENCIA!$F$3)","v":4},null,{"$f":"IFERROR(VLOOKUP(Tabla4[[#This Row],[NOMBRE]],TablaEMPLEADOS[],2,0),\"\")","v":""}]
[null,null,null,{"$f":"COUNTIF($E$4:E449, VERIFICACIONLICENCIA!$F$3)","v":4},null,{"$f":"IFERROR(VLOOKUP(Tabla4[[#This Row],[NOMBRE]],TablaEMPLEADOS[],2,0),\"\")","v":""}]
[null,null,null,{"$f":"COUNTIF($E$4:E450, VERIFICACIONLICENCIA!$F$3)","v":4},null,{"$f":"IFERROR(VLOOKUP(Tabla4[[#This Row],[NOMBRE]],TablaEMPLEADOS[],2,0),\"\")","v":""}]
[null,null,null,{"$f":"COUNTIF($E$4:E451, VERIFICACIONLICENCIA!$F$3)","v":4},null,{"$f":"IFERROR(VLOOKUP(Tabla4[[#This Row],[NOMBRE]],TablaEMPLEADOS[],2,0),\"\")","v":""}]
[null,null,null,{"$f":"COUNTIF($E$4:E452, VERIFICACIONLICENCIA!$F$3)","v":4},null,{"$f":"IFERROR(VLOOKUP(Tabla4[[#This Row],[NOMBRE]],TablaEMPLEADOS[],2,0),\"\")","v":""}]
[null,null,null,{"$f":"COUNTIF($E$4:E453, VERIFICACIONLICENCIA!$F$3)","v":4},null,{"$f":"IFERROR(VLOOKUP(Tabla4[[#This Row],[NOMBRE]],TablaEMPLEADOS[],2,0),\"\")","v":""}]
[null,null,null,{"$f":"COUNTIF($E$4:E454, VERIFICACIONLICENCIA!$F$3)","v":4},null,{"$f":"IFERROR(VLOOKUP(Tabla4[[#This Row],[NOMBRE]],TablaEMPLEADOS[],2,0),\"\")","v":""}]
[null,null,null,{"$f":"COUNTIF($E$4:E455, VERIFICACIONLICENCIA!$F$3)","v":4},null,{"$f":"IFERROR(VLOOKUP(Tabla4[[#This Row],[NOMBRE]],TablaEMPLEADOS[],2,0),\"\")","v":""}]
[null,null,null,{"$f":"COUNTIF($E$4:E456, VERIFICACIONLICENCIA!$F$3)","v":4},null,{"$f":"IFERROR(VLOOKUP(Tabla4[[#This Row],[NOMBRE]],TablaEMPLEADOS[],2,0),\"\")","v":""}]
[null,null,null,{"$f":"COUNTIF($E$4:E457, VERIFICACIONLICENCIA!$F$3)","v":4},null,{"$f":"IFERROR(VLOOKUP(Tabla4[[#This Row],[NOMBRE]],TablaEMPLEADOS[],2,0),\"\")","v":""}]
[null,null,null,{"$f":"COUNTIF($E$4:E458, VERIFICACIONLICENCIA!$F$3)","v":4},null,{"$f":"IFERROR(VLOOKUP(Tabla4[[#This Row],[NOMBRE]],TablaEMPLEADOS[],2,0),\"\")","v":""}]
[null,null,null,{"$f":"COUNTIF($E$4:E459, VERIFICACIONLICENCIA!$F$3)","v":4},null,{"$f":"IFERROR(VLOOKUP(Tabla4[[#This Row],[NOMBRE]],TablaEMPLEADOS[],2,0),\"\")","v":""}]
[null,null,null,{"$f":"COUNTIF($E$4:E460, VERIFICACIONLICENCIA!$F$3)","v":4},null,{"$f":"IFERROR(VLOOKUP(Tabla4[[#This Row],[NOMBRE]],TablaEMPLEADOS[],2,0),\"\")","v":""}]
[null,null,null,{"$f":"COUNTIF($E$4:E461, VERIFICACIONLICENCIA!$F$3)","v":4},null,{"$f":"IFERROR(VLOOKUP(Tabla4[[#This Row],[NOMBRE]],TablaEMPLEADOS[],2,0),\"\")","v":""}]
[null,null,null,{"$f":"COUNTIF($E$4:E462, VERIFICACIONLICENCIA!$F$3)","v":4},null,{"$f":"IFERROR(VLOOKUP(Tabla4[[#This Row],[NOMBRE]],TablaEMPLEADOS[],2,0),\"\")","v":""}]
[null,null,null,{"$f":"COUNTIF($E$4:E463, VERIFICACIONLICENCIA!$F$3)","v":4},null,{"$f":"IFERROR(VLOOKUP(Tabla4[[#This Row],[NOMBRE]],TablaEMPLEADOS[],2,0),\"\")","v":""}]
[null,null,null,{"$f":"COUNTIF($E$4:E464, VERIFICACIONLICENCIA!$F$3)","v":4},null,{"$f":"IFERROR(VLOOKUP(Tabla4[[#This Row],[NOMBRE]],TablaEMPLEADOS[],2,0),\"\")","v":""}]
[null,null,null,{"$f":"COUNTIF($E$4:E465, VERIFICACIONLICENCIA!$F$3)","v":4},null,{"$f":"IFERROR(VLOOKUP(Tabla4[[#This Row],[NOMBRE]],TablaEMPLEADOS[],2,0),\"\")","v":""}]
[null,null,null,{"$f":"COUNTIF($E$4:E466, VERIFICACIONLICENCIA!$F$3)","v":4},null,{"$f":"IFERROR(VLOOKUP(Tabla4[[#This Row],[NOMBRE]],TablaEMPLEADOS[],2,0),\"\")","v":""}]
[null,null,null,{"$f":"COUNTIF($E$4:E467, VERIFICACIONLICENCIA!$F$3)","v":4},null,{"$f":"IFERROR(VLOOKUP(Tabla4[[#This Row],[NOMBRE]],TablaEMPLEADOS[],2,0),\"\")","v":""}]
[null,null,null,{"$f":"COUNTIF($E$4:E468, VERIFICACIONLICENCIA!$F$3)","v":4},null,{"$f":"IFERROR(VLOOKUP(Tabla4[[#This Row],[NOMBRE]],TablaEMPLEADOS[],2,0),\"\")","v":""}]
[null,null,null,{"$f":"COUNTIF($E$4:E469, VERIFICACIONLICENCIA!$F$3)","v":4},null,{"$f":"IFERROR(VLOOKUP(Tabla4[[#This Row],[NOMBRE]],TablaEMPLEADOS[],2,0),\"\")","v":""}]
[null,null,null,{"$f":"COUNTIF($E$4:E470, VERIFICACIONLICENCIA!$F$3)","v":4},null,{"$f":"IFERROR(VLOOKUP(Tabla4[[#This Row],[NOMBRE]],TablaEMPLEADOS[],2,0),\"\")","v":""}]
[null,null,null,{"$f":"COUNTIF($E$4:E471, VERIFICACIONLICENCIA!$F$3)","v":4},null,{"$f":"IFERROR(VLOOKUP(Tabla4[[#This Row],[NOMBRE]],TablaEMPLEADOS[],2,0),\"\")","v":""}]
[null,null,null,{"$f":"COUNTIF($E$4:E472, VERIFICACIONLICENCIA!$F$3)","v":4},null,{"$f":"IFERROR(VLOOKUP(Tabla4[[#This Row],[NOMBRE]],TablaEMPLEADOS[],2,0),\"\")","v":""}]
[null,null,null,{"$f":"COUNTIF($E$4:E473, VERIFICACIONLICENCIA!$F$3)","v":4},null,{"$f":"IFERROR(VLOOKUP(Tabla4[[#This Row],[NOMBRE]],TablaEMPLEADOS[],2,0),\"\")","v":""}]
[null,null,null,{"$f":"COUNTIF($E$4:E474, VERIFICACIONLICENCIA!$F$3)","v":4},null,{"$f":"IFERROR(VLOOKUP(Tabla4[[#This Row],[NOMBRE]],TablaEMPLEADOS[],2,0),\"\")","v":""}]
[null,null,null,{"$f":"COUNTIF($E$4:E475, VERIFICACIONLICENCIA!$F$3)","v":4},null,{"$f":"IFERROR(VLOOKUP(Tabla4[[#This Row],[NOMBRE]],TablaEMPLEADOS[],2,0),\"\")","v":""}]
[null,null,null,{"$f":"COUNTIF($E$4:E476, VERIFICACIONLICENCIA!$F$3)","v":4},null,{"$f":"IFERROR(VLOOKUP(Tabla4[[#This Row],[NOMBRE]],TablaEMPLEADOS[],2,0),\"\")","v":""}]
[null,null,null,{"$f":"COUNTIF($E$4:E477, VERIFICACIONLICENCIA!$F$3)","v":4},null,{"$f":"IFERROR(VLOOKUP(Tabla4[[#This Row],[NOMBRE]],TablaEMPLEADOS[],2,0),\"\")","v":""}]
[null,null,null,{"$f":"COUNTIF($E$4:E478, VERIFICACIONLICENCIA!$F$3)","v":4},null,{"$f":"IFERROR(VLOOKUP(Tabla4[[#This Row],[NOMBRE]],TablaEMPLEADOS[],2,0),\"\")","v":""}]
[null,null,null,{"$f":"COUNTIF($E$4:E479, VERIFICACIONLICENCIA!$F$3)","v":4},null,{"$f":"IFERROR(VLOOKUP(Tabla4[[#This Row],[NOMBRE]],TablaEMPLEADOS[],2,0),\"\")","v":""}]
[null,null,null,{"$f":"COUNTIF($E$4:E480, VERIFICACIONLICENCIA!$F$3)","v":4},null,{"$f":"IFERROR(VLOOKUP(Tabla4[[#This Row],[NOMBRE]],TablaEMPLEADOS[],2,0),\"\")","v":""}]
[null,null,null,{"$f":"COUNTIF($E$4:E481, VERIFICACIONLICENCIA!$F$3)","v":4},null,{"$f":"IFERROR(VLOOKUP(Tabla4[[#This Row],[NOMBRE]],TablaEMPLEADOS[],2,0),\"\")","v":""}]
[null,null,null,{"$f":"COUNTIF($E$4:E482, VERIFICACIONLICENCIA!$F$3)","v":4},null,{"$f":"IFERROR(VLOOKUP(Tabla4[[#This Row],[NOMBRE]],TablaEMPLEADOS[],2,0),\"\")","v":""}]
[null,null,null,{"$f":"COUNTIF($E$4:E483, VERIFICACIONLICENCIA!$F$3)","v":4},null,{"$f":"IFERROR(VLOOKUP(Tabla4[[#This Row],[NOMBRE]],TablaEMPLEADOS[],2,0),\"\")","v":""}]
[null,null,null,{"$f":"COUNTIF($E$4:E484, VERIFICACIONLICENCIA!$F$3)","v":4},null,{"$f":"IFERROR(VLOOKUP(Tabla4[[#This Row],[NOMBRE]],TablaEMPLEADOS[],2,0),\"\")","v":""}]
[null,null,null,{"$f":"COUNTIF($E$4:E485, VERIFICACIONLICENCIA!$F$3)","v":4},null,{"$f":"IFERROR(VLOOKUP(Tabla4[[#This Row],[NOMBRE]],TablaEMPLEADOS[],2,0),\"\")","v":""}]
[null,null,null,{"$f":"COUNTIF($E$4:E486, VERIFICACIONLICENCIA!$F$3)","v":4},null,{"$f":"IFERROR(VLOOKUP(Tabla4[[#This Row],[NOMBRE]],TablaEMPLEADOS[],2,0),\"\")","v":""}]
[null,null,null,{"$f":"COUNTIF($E$4:E487, VERIFICACIONLICENCIA!$F$3)","v":4},null,{"$f":"IFERROR(VLOOKUP(Tabla4[[#This Row],[NOMBRE]],TablaEMPLEADOS[],2,0),\"\")","v":""}]
[null,null,null,{"$f":"COUNTIF($E$4:E488, VERIFICACIONLICENCIA!$F$3)","v":4},null,{"$f":"IFERROR(VLOOKUP(Tabla4[[#This Row],[NOMBRE]],TablaEMPLEADOS[],2,0),\"\")","v":""}]
[null,null,null,{"$f":"COUNTIF($E$4:E489, VERIFICACIONLICENCIA!$F$3)","v":4},null,{"$f":"IFERROR(VLOOKUP(Tabla4[[#This Row],[NOMBRE]],TablaEMPLEADOS[],2,0),\"\")","v":""}]
[null,null,null,{"$f":"COUNTIF($E$4:E490, VERIFICACIONLICENCIA!$F$3)","v":4},null,{"$f":"IFERROR(VLOOKUP(Tabla4[[#This Row],[NOMBRE]],TablaEMPLEADOS[],2,0),\"\")","v":""}]
[null,null,null,{"$f":"COUNTIF($E$4:E491, VERIFICACIONLICENCIA!$F$3)","v":4},null,{"$f":"IFERROR(VLOOKUP(Tabla4[[#This Row],[NOMBRE]],TablaEMPLEADOS[],2,0),\"\")","v":""}]
[null,null,null,{"$f":"COUNTIF($E$4:E492, VERIFICACIONLICENCIA!$F$3)","v":4},null,{"$f":"IFERROR(VLOOKUP(Tabla4[[#This Row],[NOMBRE]],TablaEMPLEADOS[],2,0),\"\")","v":""}]
[null,null,null,{"$f":"COUNTIF($E$4:E493, VERIFICACIONLICENCIA!$F$3)","v":4},null,{"$f":"IFERROR(VLOOKUP(Tabla4[[#This Row],[NOMBRE]],TablaEMPLEADOS[],2,0),\"\")","v":""}]
[null,null,null,{"$f":"COUNTIF($E$4:E494, VERIFICACIONLICENCIA!$F$3)","v":4},null,{"$f":"IFERROR(VLOOKUP(Tabla4[[#This Row],[NOMBRE]],TablaEMPLEADOS[],2,0),\"\")","v":""}]
[null,null,null,{"$f":"COUNTIF($E$4:E495, VERIFICACIONLICENCIA!$F$3)","v":4},null,{"$f":"IFERROR(VLOOKUP(Tabla4[[#This Row],[NOMBRE]],TablaEMPLEADOS[],2,0),\"\")","v":""}]
[null,null,null,{"$f":"COUNTIF($E$4:E496, VERIFICACIONLICENCIA!$F$3)","v":4},null,{"$f":"IFERROR(VLOOKUP(Tabla4[[#This Row],[NOMBRE]],TablaEMPLEADOS[],2,0),\"\")","v":""}]
[null,null,null,{"$f":"COUNTIF($E$4:E497, VERIFICACIONLICENCIA!$F$3)","v":4},null,{"$f":"IFERROR(VLOOKUP(Tabla4[[#This Row],[NOMBRE]],TablaEMPLEADOS[],2,0),\"\")","v":""}]
[null,null,null,{"$f":"COUNTIF($E$4:E498, VERIFICACIONLICENCIA!$F$3)","v":4},null,{"$f":"IFERROR(VLOOKUP(Tabla4[[#This Row],[NOMBRE]],TablaEMPLEADOS[],2,0),\"\")","v":""}]
[null,null,null,{"$f":"COUNTIF($E$4:E499, VERIFICACIONLICENCIA!$F$3)","v":4},null,{"$f":"IFERROR(VLOOKUP(Tabla4[[#This Row],[NOMBRE]],TablaEMPLEADOS[],2,0),\"\")","v":""}]
[null,null,null,{"$f":"COUNTIF($E$4:E500, VERIFICACIONLICENCIA!$F$3)","v":4},null,{"$f":"IFERROR(VLOOKUP(Tabla4[[#This Row],[NOMBRE]],TablaEMPLEADOS[],2,0),\"\")","v":""}]
[null,null,null,{"$f":"COUNTIF($E$4:E501, VERIFICACIONLICENCIA!$F$3)","v":4},null,{"$f":"IFERROR(VLOOKUP(Tabla4[[#This Row],[NOMBRE]],TablaEMPLEADOS[],2,0),\"\")","v":""}]
[null,null,null,{"$f":"COUNTIF($E$4:E502, VERIFICACIONLICENCIA!$F$3)","v":4},null,{"$f":"IFERROR(VLOOKUP(Tabla4[[#This Row],[NOMBRE]],TablaEMPLEADOS[],2,0),\"\")","v":""}]
[null,null,null,{"$f":"COUNTIF($E$4:E503, VERIFICACIONLICENCIA!$F$3)","v":4},null,{"$f":"IFERROR(VLOOKUP(Tabla4[[#This Row],[NOMBRE]],TablaEMPLEADOS[],2,0),\"\")","v":""}]
[null,null,null,{"$f":"COUNTIF($E$4:E504, VERIFICACIONLICENCIA!$F$3)","v":4},null,{"$f":"IFERROR(VLOOKUP(Tabla4[[#This Row],[NOMBRE]],TablaEMPLEADOS[],2,0),\"\")","v":""}]
[null,null,null,{"$f":"COUNTIF($E$4:E505, VERIFICACIONLICENCIA!$F$3)","v":4},null,{"$f":"IFERROR(VLOOKUP(Tabla4[[#This Row],[NOMBRE]],TablaEMPLEADOS[],2,0),\"\")","v":""}]
[null,null,null,{"$f":"COUNTIF($E$4:E506, VERIFICACIONLICENCIA!$F$3)","v":4},null,{"$f":"IFERROR(VLOOKUP(Tabla4[[#This Row],[NOMBRE]],TablaEMPLEADOS[],2,0),\"\")","v":""}]
[null,null,null,{"$f":"COUNTIF($E$4:E507, VERIFICACIONLICENCIA!$F$3)","v":4},null,{"$f":"IFERROR(VLOOKUP(Tabla4[[#This Row],[NOMBRE]],TablaEMPLEADOS[],2,0),\"\")","v":""}]
[null,null,null,{"$f":"COUNTIF($E$4:E508, VERIFICACIONLICENCIA!$F$3)","v":4},null,{"$f":"IFERROR(VLOOKUP(Tabla4[[#This Row],[NOMBRE]],TablaEMPLEADOS[],2,0),\"\")","v":""}]
[null,null,null,{"$f":"COUNTIF($E$4:E509, VERIFICACIONLICENCIA!$F$3)","v":4},null,{"$f":"IFERROR(VLOOKUP(Tabla4[[#This Row],[NOMBRE]],TablaEMPLEADOS[],2,0),\"\")","v":""}]
[null,null,null,{"$f":"COUNTIF($E$4:E510, VERIFICACIONLICENCIA!$F$3)","v":4},null,{"$f":"IFERROR(VLOOKUP(Tabla4[[#This Row],[NOMBRE]],TablaEMPLEADOS[],2,0),\"\")","v":""}]
[null,null,null,{"$f":"COUNTIF($E$4:E511, VERIFICACIONLICENCIA!$F$3)","v":4},null,{"$f":"IFERROR(VLOOKUP(Tabla4[[#This Row],[NOMBRE]],TablaEMPLEADOS[],2,0),\"\")","v":""}]
[null,null,null,{"$f":"COUNTIF($E$4:E512, VERIFICACIONLICENCIA!$F$3)","v":4},null,{"$f":"IFERROR(VLOOKUP(Tabla4[[#This Row],[NOMBRE]],TablaEMPLEADOS[],2,0),\"\")","v":""}]
[null,null,null,{"$f":"COUNTIF($E$4:E513, VERIFICACIONLICENCIA!$F$3)","v":4},null,{"$f":"IFERROR(VLOOKUP(Tabla4[[#This Row],[NOMBRE]],TablaEMPLEADOS[],2,0),\"\")","v":""}]
[null,null,null,{"$f":"COUNTIF($E$4:E514, VERIFICACIONLICENCIA!$F$3)","v":4},null,{"$f":"IFERROR(VLOOKUP(Tabla4[[#This Row],[NOMBRE]],TablaEMPLEADOS[],2,0),\"\")","v":""}]
[null,null,null,{"$f":"COUNTIF($E$4:E515, VERIFICACIONLICENCIA!$F$3)","v":4},null,{"$f":"IFERROR(VLOOKUP(Tabla4[[#This Row],[NOMBRE]],TablaEMPLEADOS[],2,0),\"\")","v":""}]
[null,null,null,{"$f":"COUNTIF($E$4:E516, VERIFICACIONLICENCIA!$F$3)","v":4},null,{"$f":"IFERROR(VLOOKUP(Tabla4[[#This Row],[NOMBRE]],TablaEMPLEADOS[],2,0),\"\")","v":""}]
[null,null,null,{"$f":"COUNTIF($E$4:E517, VERIFICACIONLICENCIA!$F$3)","v":4},null,{"$f":"IFERROR(VLOOKUP(Tabla4[[#This Row],[NOMBRE]],TablaEMPLEADOS[],2,0),\"\")","v":""}]
[null,null,null,{"$f":"COUNTIF($E$4:E518, VERIFICACIONLICENCIA!$F$3)","v":4},null,{"$f":"IFERROR(VLOOKUP(Tabla4[[#This Row],[NOMBRE]],TablaEMPLEADOS[],2,0),\"\")","v":""}]
[null,null,null,{"$f":"COUNTIF($E$4:E519, VERIFICACIONLICENCIA!$F$3)","v":4},null,{"$f":"IFERROR(VLOOKUP(Tabla4[[#This Row],[NOMBRE]],TablaEMPLEADOS[],2,0),\"\")","v":""}]
[null,null,null,{"$f":"COUNTIF($E$4:E520, VERIFICACIONLICENCIA!$F$3)","v":4},null,{"$f":"IFERROR(VLOOKUP(Tabla4[[#This Row],[NOMBRE]],TablaEMPLEADOS[],2,0),\"\")","v":""}]
[null,null,null,{"$f":"COUNTIF($E$4:E521, VERIFICACIONLICENCIA!$F$3)","v":4},null,{"$f":"IFERROR(VLOOKUP(Tabla4[[#This Row],[NOMBRE]],TablaEMPLEADOS[],2,0),\"\")","v":""}]
[null,null,null,{"$f":"COUNTIF($E$4:E522, VERIFICACIONLICENCIA!$F$3)","v":4},null,{"$f":"IFERROR(VLOOKUP(Tabla4[[#This Row],[NOMBRE]],TablaEMPLEADOS[],2,0),\"\")","v":""}]
[null,null,null,{"$f":"COUNTIF($E$4:E523, VERIFICACIONLICENCIA!$F$3)","v":4},null,{"$f":"IFERROR(VLOOKUP(Tabla4[[#This Row],[NOMBRE]],TablaEMPLEADOS[],2,0),\"\")","v":""}]
[null,null,null,{"$f":"COUNTIF($E$4:E524, VERIFICACIONLICENCIA!$F$3)","v":4},null,{"$f":"IFERROR(VLOOKUP(Tabla4[[#This Row],[NOMBRE]],TablaEMPLEADOS[],2,0),\"\")","v":""}]
[null,null,null,{"$f":"COUNTIF($E$4:E525, VERIFICACIONLICENCIA!$F$3)","v":4},null,{"$f":"IFERROR(VLOOKUP(Tabla4[[#This Row],[NOMBRE]],TablaEMPLEADOS[],2,0),\"\")","v":""}]
[null,null,null,{"$f":"COUNTIF($E$4:E526, VERIFICACIONLICENCIA!$F$3)","v":4},null,{"$f":"IFERROR(VLOOKUP(Tabla4[[#This Row],[NOMBRE]],TablaEMPLEADOS[],2,0),\"\")","v":""}]
[null,null,null,{"$f":"COUNTIF($E$4:E527, VERIFICACIONLICENCIA!$F$3)","v":4},null,{"$f":"IFERROR(VLOOKUP(Tabla4[[#This Row],[NOMBRE]],TablaEMPLEADOS[],2,0),\"\")","v":""}]
[null,null,null,{"$f":"COUNTIF($E$4:E528, VERIFICACIONLICENCIA!$F$3)","v":4},null,{"$f":"IFERROR(VLOOKUP(Tabla4[[#This Row],[NOMBRE]],TablaEMPLEADOS[],2,0),\"\")","v":""}]
[null,null,null,{"$f":"COUNTIF($E$4:E529, VERIFICACIONLICENCIA!$F$3)","v":4},null,{"$f":"IFERROR(VLOOKUP(Tabla4[[#This Row],[NOMBRE]],TablaEMPLEADOS[],2,0),\"\")","v":""}]
[null,null,null,{"$f":"COUNTIF($E$4:E530, VERIFICACIONLICENCIA!$F$3)","v":4},null,{"$f":"IFERROR(VLOOKUP(Tabla4[[#This Row],[NOMBRE]],TablaEMPLEADOS[],2,0),\"\")","v":""}]
[null,null,null,{"$f":"COUNTIF($E$4:E531, VERIFICACIONLICENCIA!$F$3)","v":4},null,{"$f":"IFERROR(VLOOKUP(Tabla4[[#This Row],[NOMBRE]],TablaEMPLEADOS[],2,0),\"\")","v":""}]
[null,null,null,{"$f":"COUNTIF($E$4:E532, VERIFICACIONLICENCIA!$F$3)","v":4},null,{"$f":"IFERROR(VLOOKUP(Tabla4[[#This Row],[NOMBRE]],TablaEMPLEADOS[],2,0),\"\")","v":""}]
[null,null,null,{"$f":"COUNTIF($E$4:E533, VERIFICACIONLICENCIA!$F$3)","v":4},null,{"$f":"IFERROR(VLOOKUP(Tabla4[[#This Row],[NOMBRE]],TablaEMPLEADOS[],2,0),\"\")","v":""}]
[null,null,null,{"$f":"COUNTIF($E$4:E534, VERIFICACIONLICENCIA!$F$3)","v":4},null,{"$f":"IFERROR(VLOOKUP(Tabla4[[#This Row],[NOMBRE]],TablaEMPLEADOS[],2,0),\"\")","v":""}]
[null,null,null,{"$f":"COUNTIF($E$4:E535, VERIFICACIONLICENCIA!$F$3)","v":4},null,{"$f":"IFERROR(VLOOKUP(Tabla4[[#This Row],[NOMBRE]],TablaEMPLEADOS[],2,0),\"\")","v":""}]
[null,null,null,{"$f":"COUNTIF($E$4:E536, VERIFICACIONLICENCIA!$F$3)","v":4},null,{"$f":"IFERROR(VLOOKUP(Tabla4[[#This Row],[NOMBRE]],TablaEMPLEADOS[],2,0),\"\")","v":""}]
[null,null,null,{"$f":"COUNTIF($E$4:E537, VERIFICACIONLICENCIA!$F$3)","v":4},null,{"$f":"IFERROR(VLOOKUP(Tabla4[[#This Row],[NOMBRE]],TablaEMPLEADOS[],2,0),\"\")","v":""}]
[null,null,null,{"$f":"COUNTIF($E$4:E538, VERIFICACIONLICENCIA!$F$3)","v":4},null,{"$f":"IFERROR(VLOOKUP(Tabla4[[#This Row],[NOMBRE]],TablaEMPLEADOS[],2,0),\"\")","v":""}]
[null,null,null,{"$f":"COUNTIF($E$4:E539, VERIFICACIONLICENCIA!$F$3)","v":4},null,{"$f":"IFERROR(VLOOKUP(Tabla4[[#This Row],[NOMBRE]],TablaEMPLEADOS[],2,0),\"\")","v":""}]
[null,null,null,{"$f":"COUNTIF($E$4:E540, VERIFICACIONLICENCIA!$F$3)","v":4},null,{"$f":"IFERROR(VLOOKUP(Tabla4[[#This Row],[NOMBRE]],TablaEMPLEADOS[],2,0),\"\")","v":""}]
[null,null,null,{"$f":"COUNTIF($E$4:E541, VERIFICACIONLICENCIA!$F$3)","v":4},null,{"$f":"IFERROR(VLOOKUP(Tabla4[[#This Row],[NOMBRE]],TablaEMPLEADOS[],2,0),\"\")","v":""}]
[null,null,null,{"$f":"COUNTIF($E$4:E542, VERIFICACIONLICENCIA!$F$3)","v":4},null,{"$f":"IFERROR(VLOOKUP(Tabla4[[#This Row],[NOMBRE]],TablaEMPLEADOS[],2,0),\"\")","v":""}]
[null,null,null,{"$f":"COUNTIF($E$4:E543, VERIFICACIONLICENCIA!$F$3)","v":4},null,{"$f":"IFERROR(VLOOKUP(Tabla4[[#This Row],[NOMBRE]],TablaEMPLEADOS[],2,0),\"\")","v":""}]
[null,null,null,{"$f":"COUNTIF($E$4:E544, VERIFICACIONLICENCIA!$F$3)","v":4},null,{"$f":"IFERROR(VLOOKUP(Tabla4[[#This Row],[NOMBRE]],TablaEMPLEADOS[],2,0),\"\")","v":""}]
[null,null,null,{"$f":"COUNTIF($E$4:E545, VERIFICACIONLICENCIA!$F$3)","v":4},null,{"$f":"IFERROR(VLOOKUP(Tabla4[[#This Row],[NOMBRE]],TablaEMPLEADOS[],2,0),\"\")","v":""}]
[null,null,null,{"$f":"COUNTIF($E$4:E546, VERIFICACIONLICENCIA!$F$3)","v":4},null,{"$f":"IFERROR(VLOOKUP(Tabla4[[#This Row],[NOMBRE]],TablaEMPLEADOS[],2,0),\"\")","v":""}]
[null,null,null,{"$f":"COUNTIF($E$4:E547, VERIFICACIONLICENCIA!$F$3)","v":4},null,{"$f":"IFERROR(VLOOKUP(Tabla4[[#This Row],[NOMBRE]],TablaEMPLEADOS[],2,0),\"\")","v":""}]
[null,null,null,{"$f":"COUNTIF($E$4:E548, VERIFICACIONLICENCIA!$F$3)","v":4},null,{"$f":"IFERROR(VLOOKUP(Tabla4[[#This Row],[NOMBRE]],TablaEMPLEADOS[],2,0),\"\")","v":""}]
[null,null,null,{"$f":"COUNTIF($E$4:E549, VERIFICACIONLICENCIA!$F$3)","v":4},null,{"$f":"IFERROR(VLOOKUP(Tabla4[[#This Row],[NOMBRE]],TablaEMPLEADOS[],2,0),\"\")","v":""}]
[null,null,null,{"$f":"COUNTIF($E$4:E550, VERIFICACIONLICENCIA!$F$3)","v":4},null,{"$f":"IFERROR(VLOOKUP(Tabla4[[#This Row],[NOMBRE]],TablaEMPLEADOS[],2,0),\"\")","v":""}]
[null,null,null,{"$f":"COUNTIF($E$4:E551, VERIFICACIONLICENCIA!$F$3)","v":4},null,{"$f":"IFERROR(VLOOKUP(Tabla4[[#This Row],[NOMBRE]],TablaEMPLEADOS[],2,0),\"\")","v":""}]
[null,null,null,{"$f":"COUNTIF($E$4:E552, VERIFICACIONLICENCIA!$F$3)","v":4},null,{"$f":"IFERROR(VLOOKUP(Tabla4[[#This Row],[NOMBRE]],TablaEMPLEADOS[],2,0),\"\")","v":""}]
[null,null,null,{"$f":"COUNTIF($E$4:E553, VERIFICACIONLICENCIA!$F$3)","v":4},null,{"$f":"IFERROR(VLOOKUP(Tabla4[[#This Row],[NOMBRE]],TablaEMPLEADOS[],2,0),\"\")","v":""}]
[null,null,null,{"$f":"COUNTIF($E$4:E554, VERIFICACIONLICENCIA!$F$3)","v":4},null,{"$f":"IFERROR(VLOOKUP(Tabla4[[#This Row],[NOMBRE]],TablaEMPLEADOS[],2,0),\"\")","v":""}]
[null,null,null,{"$f":"COUNTIF($E$4:E555, VERIFICACIONLICENCIA!$F$3)","v":4},null,{"$f":"IFERROR(VLOOKUP(Tabla4[[#This Row],[NOMBRE]],TablaEMPLEADOS[],2,0),\"\")","v":""}]
[null,null,null,{"$f":"COUNTIF($E$4:E556, VERIFICACIONLICENCIA!$F$3)","v":4},null,{"$f":"IFERROR(VLOOKUP(Tabla4[[#This Row],[NOMBRE]],TablaEMPLEADOS[],2,0),\"\")","v":""}]
[null,null,null,{"$f":"COUNTIF($E$4:E557, VERIFICACIONLICENCIA!$F$3)","v":4},null,{"$f":"IFERROR(VLOOKUP(Tabla4[[#This Row],[NOMBRE]],TablaEMPLEADOS[],2,0),\"\")","v":""}]
[null,null,null,{"$f":"COUNTIF($E$4:E558, VERIFICACIONLICENCIA!$F$3)","v":4},null,{"$f":"IFERROR(VLOOKUP(Tabla4[[#This Row],[NOMBRE]],TablaEMPLEADOS[],2,0),\"\")","v":""}]
[null,null,null,{"$f":"COUNTIF($E$4:E559, VERIFICACIONLICENCIA!$F$3)","v":4},null,{"$f":"IFERROR(VLOOKUP(Tabla4[[#This Row],[NOMBRE]],TablaEMPLEADOS[],2,0),\"\")","v":""}]
[null,null,null,{"$f":"COUNTIF($E$4:E560, VERIFICACIONLICENCIA!$F$3)","v":4},null,{"$f":"IFERROR(VLOOKUP(Tabla4[[#This Row],[NOMBRE]],TablaEMPLEADOS[],2,0),\"\")","v":""}]
[null,null,null,{"$f":"COUNTIF($E$4:E561, VERIFICACIONLICENCIA!$F$3)","v":4},null,{"$f":"IFERROR(VLOOKUP(Tabla4[[#This Row],[NOMBRE]],TablaEMPLEADOS[],2,0),\"\")","v":""}]
[null,null,null,{"$f":"COUNTIF($E$4:E562, VERIFICACIONLICENCIA!$F$3)","v":4},null,{"$f":"IFERROR(VLOOKUP(Tabla4[[#This Row],[NOMBRE]],TablaEMPLEADOS[],2,0),\"\")","v":""}]
[null,null,null,{"$f":"COUNTIF($E$4:E563, VERIFICACIONLICENCIA!$F$3)","v":4},null,{"$f":"IFERROR(VLOOKUP(Tabla4[[#This Row],[NOMBRE]],TablaEMPLEADOS[],2,0),\"\")","v":""}]
[null,null,null,{"$f":"COUNTIF($E$4:E564, VERIFICACIONLICENCIA!$F$3)","v":4},null,{"$f":"IFERROR(VLOOKUP(Tabla4[[#This Row],[NOMBRE]],TablaEMPLEADOS[],2,0),\"\")","v":""}]
[null,null,null,{"$f":"COUNTIF($E$4:E565, VERIFICACIONLICENCIA!$F$3)","v":4},null,{"$f":"IFERROR(VLOOKUP(Tabla4[[#This Row],[NOMBRE]],TablaEMPLEADOS[],2,0),\"\")","v":""}]
[null,null,null,{"$f":"COUNTIF($E$4:E566, VERIFICACIONLICENCIA!$F$3)","v":4},null,{"$f":"IFERROR(VLOOKUP(Tabla4[[#This Row],[NOMBRE]],TablaEMPLEADOS[],2,0),\"\")","v":""}]
[null,null,null,{"$f":"COUNTIF($E$4:E567, VERIFICACIONLICENCIA!$F$3)","v":4},null,{"$f":"IFERROR(VLOOKUP(Tabla4[[#This Row],[NOMBRE]],TablaEMPLEADOS[],2,0),\"\")","v":""}]
[null,null,null,{"$f":"COUNTIF($E$4:E568, VERIFICACIONLICENCIA!$F$3)","v":4},null,{"$f":"IFERROR(VLOOKUP(Tabla4[[#This Row],[NOMBRE]],TablaEMPLEADOS[],2,0),\"\")","v":""}]
[null,null,null,{"$f":"COUNTIF($E$4:E569, VERIFICACIONLICENCIA!$F$3)","v":4},null,{"$f":"IFERROR(VLOOKUP(Tabla4[[#This Row],[NOMBRE]],TablaEMPLEADOS[],2,0),\"\")","v":""}]
[null,null,null,{"$f":"COUNTIF($E$4:E570, VERIFICACIONLICENCIA!$F$3)","v":4},null,{"$f":"IFERROR(VLOOKUP(Tabla4[[#This Row],[NOMBRE]],TablaEMPLEADOS[],2,0),\"\")","v":""}]
[null,null,null,{"$f":"COUNTIF($E$4:E571, VERIFICACIONLICENCIA!$F$3)","v":4},null,{"$f":"IFERROR(VLOOKUP(Tabla4[[#This Row],[NOMBRE]],TablaEMPLEADOS[],2,0),\"\")","v":""}]
[null,null,null,{"$f":"COUNTIF($E$4:E572, VERIFICACIONLICENCIA!$F$3)","v":4},null,{"$f":"IFERROR(VLOOKUP(Tabla4[[#This Row],[NOMBRE]],TablaEMPLEADOS[],2,0),\"\")","v":""}]
[null,null,null,{"$f":"COUNTIF($E$4:E573, VERIFICACIONLICENCIA!$F$3)","v":4},null,{"$f":"IFERROR(VLOOKUP(Tabla4[[#This Row],[NOMBRE]],TablaEMPLEADOS[],2,0),\"\")","v":""}]
[null,null,null,{"$f":"COUNTIF($E$4:E574, VERIFICACIONLICENCIA!$F$3)","v":4},null,{"$f":"IFERROR(VLOOKUP(Tabla4[[#This Row],[NOMBRE]],TablaEMPLEADOS[],2,0),\"\")","v":""}]
[null,null,null,{"$f":"COUNTIF($E$4:E575, VERIFICACIONLICENCIA!$F$3)","v":4},null,{"$f":"IFERROR(VLOOKUP(Tabla4[[#This Row],[NOMBRE]],TablaEMPLEADOS[],2,0),\"\")","v":""}]
[null,null,null,{"$f":"COUNTIF($E$4:E576, VERIFICACIONLICENCIA!$F$3)","v":4},null,{"$f":"IFERROR(VLOOKUP(Tabla4[[#This Row],[NOMBRE]],TablaEMPLEADOS[],2,0),\"\")","v":""}]
[null,null,null,{"$f":"COUNTIF($E$4:E577, VERIFICACIONLICENCIA!$F$3)","v":4},null,{"$f":"IFERROR(VLOOKUP(Tabla4[[#This Row],[NOMBRE]],TablaEMPLEADOS[],2,0),\"\")","v":""}]
[null,null,null,{"$f":"COUNTIF($E$4:E578, VERIFICACIONLICENCIA!$F$3)","v":4},null,{"$f":"IFERROR(VLOOKUP(Tabla4[[#This Row],[NOMBRE]],TablaEMPLEADOS[],2,0),\"\")","v":""}]
[null,null,null,{"$f":"COUNTIF($E$4:E579, VERIFICACIONLICENCIA!$F$3)","v":4},null,{"$f":"IFERROR(VLOOKUP(Tabla4[[#This Row],[NOMBRE]],TablaEMPLEADOS[],2,0),\"\")","v":""}]
[null,null,null,{"$f":"COUNTIF($E$4:E580, VERIFICACIONLICENCIA!$F$3)","v":4},null,{"$f":"IFERROR(VLOOKUP(Tabla4[[#This Row],[NOMBRE]],TablaEMPLEADOS[],2,0),\"\")","v":""}]
[null,null,null,{"$f":"COUNTIF($E$4:E581, VERIFICACIONLICENCIA!$F$3)","v":4},null,{"$f":"IFERROR(VLOOKUP(Tabla4[[#This Row],[NOMBRE]],TablaEMPLEADOS[],2,0),\"\")","v":""}]
[null,null,null,{"$f":"COUNTIF($E$4:E582, VERIFICACIONLICENCIA!$F$3)","v":4},null,{"$f":"IFERROR(VLOOKUP(Tabla4[[#This Row],[NOMBRE]],TablaEMPLEADOS[],2,0),\"\")","v":""}]
[null,null,null,{"$f":"COUNTIF($E$4:E583, VERIFICACIONLICENCIA!$F$3)","v":4},null,{"$f":"IFERROR(VLOOKUP(Tabla4[[#This Row],[NOMBRE]],TablaEMPLEADOS[],2,0),\"\")","v":""}]
[null,null,null,{"$f":"COUNTIF($E$4:E584, VERIFICACIONLICENCIA!$F$3)","v":4},null,{"$f":"IFERROR(VLOOKUP(Tabla4[[#This Row],[NOMBRE]],TablaEMPLEADOS[],2,0),\"\")","v":""}]
[null,null,null,{"$f":"COUNTIF($E$4:E585, VERIFICACIONLICENCIA!$F$3)","v":4},null,{"$f":"IFERROR(VLOOKUP(Tabla4[[#This Row],[NOMBRE]],TablaEMPLEADOS[],2,0),\"\")","v":""}]
[null,null,null,{"$f":"COUNTIF($E$4:E586, VERIFICACIONLICENCIA!$F$3)","v":4},null,{"$f":"IFERROR(VLOOKUP(Tabla4[[#This Row],[NOMBRE]],TablaEMPLEADOS[],2,0),\"\")","v":""}]
[null,null,null,{"$f":"COUNTIF($E$4:E587, VERIFICACIONLICENCIA!$F$3)","v":4},null,{"$f":"IFERROR(VLOOKUP(Tabla4[[#This Row],[NOMBRE]],TablaEMPLEADOS[],2,0),\"\")","v":""}]
[null,null,null,{"$f":"COUNTIF($E$4:E588, VERIFICACIONLICENCIA!$F$3)","v":4},null,{"$f":"IFERROR(VLOOKUP(Tabla4[[#This Row],[NOMBRE]],TablaEMPLEADOS[],2,0),\"\")","v":""}]
[null,null,null,{"$f":"COUNTIF($E$4:E589, VERIFICACIONLICENCIA!$F$3)","v":4},null,{"$f":"IFERROR(VLOOKUP(Tabla4[[#This Row],[NOMBRE]],TablaEMPLEADOS[],2,0),\"\")","v":""}]
[null,null,null,{"$f":"COUNTIF($E$4:E590, VERIFICACIONLICENCIA!$F$3)","v":4},null,{"$f":"IFERROR(VLOOKUP(Tabla4[[#This Row],[NOMBRE]],TablaEMPLEADOS[],2,0),\"\")","v":""}]
[null,null,null,{"$f":"COUNTIF($E$4:E591, VERIFICACIONLICENCIA!$F$3)","v":4},null,{"$f":"IFERROR(VLOOKUP(Tabla4[[#This Row],[NOMBRE]],TablaEMPLEADOS[],2,0),\"\")","v":""}]
[null,null,null,{"$f":"COUNTIF($E$4:E592, VERIFICACIONLICENCIA!$F$3)","v":4},null,{"$f":"IFERROR(VLOOKUP(Tabla4[[#This Row],[NOMBRE]],TablaEMPLEADOS[],2,0),\"\")","v":""}]
[null,null,null,{"$f":"COUNTIF($E$4:E593, VERIFICACIONLICENCIA!$F$3)","v":4},null,{"$f":"IFERROR(VLOOKUP(Tabla4[[#This Row],[NOMBRE]],TablaEMPLEADOS[],2,0),\"\")","v":""}]
[null,null,null,{"$f":"COUNTIF($E$4:E594, VERIFICACIONLICENCIA!$F$3)","v":4},null,{"$f":"IFERROR(VLOOKUP(Tabla4[[#This Row],[NOMBRE]],TablaEMPLEADOS[],2,0),\"\")","v":""}]
[null,null,null,{"$f":"COUNTIF($E$4:E595, VERIFICACIONLICENCIA!$F$3)","v":4},null,{"$f":"IFERROR(VLOOKUP(Tabla4[[#This Row],[NOMBRE]],TablaEMPLEADOS[],2,0),\"\")","v":""}]
[null,null,null,{"$f":"COUNTIF($E$4:E596, VERIFICACIONLICENCIA!$F$3)","v":4},null,{"$f":"IFERROR(VLOOKUP(Tabla4[[#This Row],[NOMBRE]],TablaEMPLEADOS[],2,0),\"\")","v":""}]
[null,null,null,{"$f":"COUNTIF($E$4:E597, VERIFICACIONLICENCIA!$F$3)","v":4},null,{"$f":"IFERROR(VLOOKUP(Tabla4[[#This Row],[NOMBRE]],TablaEMPLEADOS[],2,0),\"\")","v":""}]
[null,null,null,{"$f":"COUNTIF($E$4:E598, VERIFICACIONLICENCIA!$F$3)","v":4},null,{"$f":"IFERROR(VLOOKUP(Tabla4[[#This Row],[NOMBRE]],TablaEMPLEADOS[],2,0),\"\")","v":""}]
[null,null,null,{"$f":"COUNTIF($E$4:E599, VERIFICACIONLICENCIA!$F$3)","v":4},null,{"$f":"IFERROR(VLOOKUP(Tabla4[[#This Row],[NOMBRE]],TablaEMPLEADOS[],2,0),\"\")","v":""}]
[null,null,null,{"$f":"COUNTIF($E$4:E600, VERIFICACIONLICENCIA!$F$3)","v":4},null,{"$f":"IFERROR(VLOOKUP(Tabla4[[#This Row],[NOMBRE]],TablaEMPLEADOS[],2,0),\"\")","v":""}]
[null,null,null,{"$f":"COUNTIF($E$4:E601, VERIFICACIONLICENCIA!$F$3)","v":4},null,{"$f":"IFERROR(VLOOKUP(Tabla4[[#This Row],[NOMBRE]],TablaEMPLEADOS[],2,0),\"\")","v":""}]
[null,null,null,{"$f":"COUNTIF($E$4:E602, VERIFICACIONLICENCIA!$F$3)","v":4},null,{"$f":"IFERROR(VLOOKUP(Tabla4[[#This Row],[NOMBRE]],TablaEMPLEADOS[],2,0),\"\")","v":""}]
[null,null,null,{"$f":"COUNTIF($E$4:E603, VERIFICACIONLICENCIA!$F$3)","v":4},null,{"$f":"IFERROR(VLOOKUP(Tabla4[[#This Row],[NOMBRE]],TablaEMPLEADOS[],2,0),\"\")","v":""}]
[null,null,null,{"$f":"COUNTIF($E$4:E604, VERIFICACIONLICENCIA!$F$3)","v":4},null,{"$f":"IFERROR(VLOOKUP(Tabla4[[#This Row],[NOMBRE]],TablaEMPLEADOS[],2,0),\"\")","v":""}]
[null,null,null,{"$f":"COUNTIF($E$4:E605, VERIFICACIONLICENCIA!$F$3)","v":4},null,{"$f":"IFERROR(VLOOKUP(Tabla4[[#This Row],[NOMBRE]],TablaEMPLEADOS[],2,0),\"\")","v":""}]
[null,null,null,{"$f":"COUNTIF($E$4:E606, VERIFICACIONLICENCIA!$F$3)","v":4},null,{"$f":"IFERROR(VLOOKUP(Tabla4[[#This Row],[NOMBRE]],TablaEMPLEADOS[],2,0),\"\")","v":""}]
[null,null,null,{"$f":"COUNTIF($E$4:E607, VERIFICACIONLICENCIA!$F$3)","v":4},null,{"$f":"IFERROR(VLOOKUP(Tabla4[[#This Row],[NOMBRE]],TablaEMPLEADOS[],2,0),\"\")","v":""}]
[null,null,null,{"$f":"COUNTIF($E$4:E608, VERIFICACIONLICENCIA!$F$3)","v":4},null,{"$f":"IFERROR(VLOOKUP(Tabla4[[#This Row],[NOMBRE]],TablaEMPLEADOS[],2,0),\"\")","v":""}]
[null,null,null,{"$f":"COUNTIF($E$4:E609, VERIFICACIONLICENCIA!$F$3)","v":4},null,{"$f":"IFERROR(VLOOKUP(Tabla4[[#This Row],[NOMBRE]],TablaEMPLEADOS[],2,0),\"\")","v":""}]
[null,null,null,{"$f":"COUNTIF($E$4:E610, VERIFICACIONLICENCIA!$F$3)","v":4},null,{"$f":"IFERROR(VLOOKUP(Tabla4[[#This Row],[NOMBRE]],TablaEMPLEADOS[],2,0),\"\")","v":""}]
[null,null,null,{"$f":"COUNTIF($E$4:E611, VERIFICACIONLICENCIA!$F$3)","v":4},null,{"$f":"IFERROR(VLOOKUP(Tabla4[[#This Row],[NOMBRE]],TablaEMPLEADOS[],2,0),\"\")","v":""}]
[null,null,null,{"$f":"COUNTIF($E$4:E612, VERIFICACIONLICENCIA!$F$3)","v":4},null,{"$f":"IFERROR(VLOOKUP(Tabla4[[#This Row],[NOMBRE]],TablaEMPLEADOS[],2,0),\"\")","v":""}]
[null,null,null,{"$f":"COUNTIF($E$4:E613, VERIFICACIONLICENCIA!$F$3)","v":4},null,{"$f":"IFERROR(VLOOKUP(Tabla4[[#This Row],[NOMBRE]],TablaEMPLEADOS[],2,0),\"\")","v":""}]
[null,null,null,{"$f":"COUNTIF($E$4:E614, VERIFICACIONLICENCIA!$F$3)","v":4},null,{"$f":"IFERROR(VLOOKUP(Tabla4[[#This Row],[NOMBRE]],TablaEMPLEADOS[],2,0),\"\")","v":""}]
[null,null,null,{"$f":"COUNTIF($E$4:E615, VERIFICACIONLICENCIA!$F$3)","v":4},null,{"$f":"IFERROR(VLOOKUP(Tabla4[[#This Row],[NOMBRE]],TablaEMPLEADOS[],2,0),\"\")","v":""}]
[null,null,null,{"$f":"COUNTIF($E$4:E616, VERIFICACIONLICENCIA!$F$3)","v":4},null,{"$f":"IFERROR(VLOOKUP(Tabla4[[#This Row],[NOMBRE]],TablaEMPLEADOS[],2,0),\"\")","v":""}]
[null,null,null,{"$f":"COUNTIF($E$4:E617, VERIFICACIONLICENCIA!$F$3)","v":4},null,{"$f":"IFERROR(VLOOKUP(Tabla4[[#This Row],[NOMBRE]],TablaEMPLEADOS[],2,0),\"\")","v":""}]
[null,null,null,{"$f":"COUNTIF($E$4:E618, VERIFICACIONLICENCIA!$F$3)","v":4},null,{"$f":"IFERROR(VLOOKUP(Tabla4[[#This Row],[NOMBRE]],TablaEMPLEADOS[],2,0),\"\")","v":""}]
[null,null,null,{"$f":"COUNTIF($E$4:E619, VERIFICACIONLICENCIA!$F$3)","v":4},null,{"$f":"IFERROR(VLOOKUP(Tabla4[[#This Row],[NOMBRE]],TablaEMPLEADOS[],2,0),\"\")","v":""}]
[null,null,null,{"$f":"COUNTIF($E$4:E620, VERIFICACIONLICENCIA!$F$3)","v":4},null,{"$f":"IFERROR(VLOOKUP(Tabla4[[#This Row],[NOMBRE]],TablaEMPLEADOS[],2,0),\"\")","v":""}]
[null,null,null,{"$f":"COUNTIF($E$4:E621, VERIFICACIONLICENCIA!$F$3)","v":4},null,{"$f":"IFERROR(VLOOKUP(Tabla4[[#This Row],[NOMBRE]],TablaEMPLEADOS[],2,0),\"\")","v":""}]
[null,null,null,{"$f":"COUNTIF($E$4:E622, VERIFICACIONLICENCIA!$F$3)","v":4},null,{"$f":"IFERROR(VLOOKUP(Tabla4[[#This Row],[NOMBRE]],TablaEMPLEADOS[],2,0),\"\")","v":""}]
[null,null,null,{"$f":"COUNTIF($E$4:E623, VERIFICACIONLICENCIA!$F$3)","v":4},null,{"$f":"IFERROR(VLOOKUP(Tabla4[[#This Row],[NOMBRE]],TablaEMPLEADOS[],2,0),\"\")","v":""}]
[null,null,null,{"$f":"COUNTIF($E$4:E624, VERIFICACIONLICENCIA!$F$3)","v":4},null,{"$f":"IFERROR(VLOOKUP(Tabla4[[#This Row],[NOMBRE]],TablaEMPLEADOS[],2,0),\"\")","v":""}]
[null,null,null,{"$f":"COUNTIF($E$4:E625, VERIFICACIONLICENCIA!$F$3)","v":4},null,{"$f":"IFERROR(VLOOKUP(Tabla4[[#This Row],[NOMBRE]],TablaEMPLEADOS[],2,0),\"\")","v":""}]
[null,null,null,{"$f":"COUNTIF($E$4:E626, VERIFICACIONLICENCIA!$F$3)","v":4},null,{"$f":"IFERROR(VLOOKUP(Tabla4[[#This Row],[NOMBRE]],TablaEMPLEADOS[],2,0),\"\")","v":""}]
[null,null,null,{"$f":"COUNTIF($E$4:E627, VERIFICACIONLICENCIA!$F$3)","v":4},null,{"$f":"IFERROR(VLOOKUP(Tabla4[[#This Row],[NOMBRE]],TablaEMPLEADOS[],2,0),\"\")","v":""}]
[null,null,null,{"$f":"COUNTIF($E$4:E628, VERIFICACIONLICENCIA!$F$3)","v":4},null,{"$f":"IFERROR(VLOOKUP(Tabla4[[#This Row],[NOMBRE]],TablaEMPLEADOS[],2,0),\"\")","v":""}]
[null,null,null,{"$f":"COUNTIF($E$4:E629, VERIFICACIONLICENCIA!$F$3)","v":4},null,{"$f":"IFERROR(VLOOKUP(Tabla4[[#This Row],[NOMBRE]],TablaEMPLEADOS[],2,0),\"\")","v":""}]
[null,null,null,{"$f":"COUNTIF($E$4:E630, VERIFICACIONLICENCIA!$F$3)","v":4},null,{"$f":"IFERROR(VLOOKUP(Tabla4[[#This Row],[NOMBRE]],TablaEMPLEADOS[],2,0),\"\")","v":""}]
[null,null,null,{"$f":"COUNTIF($E$4:E631, VERIFICACIONLICENCIA!$F$3)","v":4},null,{"$f":"IFERROR(VLOOKUP(Tabla4[[#This Row],[NOMBRE]],TablaEMPLEADOS[],2,0),\"\")","v":""}]
[null,null,null,{"$f":"COUNTIF($E$4:E632, VERIFICACIONLICENCIA!$F$3)","v":4},null,{"$f":"IFERROR(VLOOKUP(Tabla4[[#This Row],[NOMBRE]],TablaEMPLEADOS[],2,0),\"\")","v":""}]
[null,null,null,{"$f":"COUNTIF($E$4:E633, VERIFICACIONLICENCIA!$F$3)","v":4},null,{"$f":"IFERROR(VLOOKUP(Tabla4[[#This Row],[NOMBRE]],TablaEMPLEADOS[],2,0),\"\")","v":""}]
[null,null,null,{"$f":"COUNTIF($E$4:E634, VERIFICACIONLICENCIA!$F$3)","v":4},null,{"$f":"IFERROR(VLOOKUP(Tabla4[[#This Row],[NOMBRE]],TablaEMPLEADOS[],2,0),\"\")","v":""}]
[null,null,null,{"$f":"COUNTIF($E$4:E635, VERIFICACIONLICENCIA!$F$3)","v":4},null,{"$f":"IFERROR(VLOOKUP(Tabla4[[#This Row],[NOMBRE]],TablaEMPLEADOS[],2,0),\"\")","v":""}]
[null,null,null,{"$f":"COUNTIF($E$4:E636, VERIFICACIONLICENCIA!$F$3)","v":4},null,{"$f":"IFERROR(VLOOKUP(Tabla4[[#This Row],[NOMBRE]],TablaEMPLEADOS[],2,0),\"\")","v":""}]
[null,null,null,{"$f":"COUNTIF($E$4:E637, VERIFICACIONLICENCIA!$F$3)","v":4},null,{"$f":"IFERROR(VLOOKUP(Tabla4[[#This Row],[NOMBRE]],TablaEMPLEADOS[],2,0),\"\")","v":""}]
[null,null,null,{"$f":"COUNTIF($E$4:E638, VERIFICACIONLICENCIA!$F$3)","v":4},null,{"$f":"IFERROR(VLOOKUP(Tabla4[[#This Row],[NOMBRE]],TablaEMPLEADOS[],2,0),\"\")","v":""}]
[null,null,null,{"$f":"COUNTIF($E$4:E639, VERIFICACIONLICENCIA!$F$3)","v":4},null,{"$f":"IFERROR(VLOOKUP(Tabla4[[#This Row],[NOMBRE]],TablaEMPLEADOS[],2,0),\"\")","v":""}]
[null,null,null,{"$f":"COUNTIF($E$4:E640, VERIFICACIONLICENCIA!$F$3)","v":4},null,{"$f":"IFERROR(VLOOKUP(Tabla4[[#This Row],[NOMBRE]],TablaEMPLEADOS[],2,0),\"\")","v":""}]
[null,null,null,{"$f":"COUNTIF($E$4:E641, VERIFICACIONLICENCIA!$F$3)","v":4},null,{"$f":"IFERROR(VLOOKUP(Tabla4[[#This Row],[NOMBRE]],TablaEMPLEADOS[],2,0),\"\")","v":""}]
[null,null,null,{"$f":"COUNTIF($E$4:E642, VERIFICACIONLICENCIA!$F$3)","v":4},null,{"$f":"IFERROR(VLOOKUP(Tabla4[[#This Row],[NOMBRE]],TablaEMPLEADOS[],2,0),\"\")","v":""}]
[null,null,null,{"$f":"COUNTIF($E$4:E643, VERIFICACIONLICENCIA!$F$3)","v":4},null,{"$f":"IFERROR(VLOOKUP(Tabla4[[#This Row],[NOMBRE]],TablaEMPLEADOS[],2,0),\"\")","v":""}]
[null,null,null,{"$f":"COUNTIF($E$4:E644, VERIFICACIONLICENCIA!$F$3)","v":4},null,{"$f":"IFERROR(VLOOKUP(Tabla4[[#This Row],[NOMBRE]],TablaEMPLEADOS[],2,0),\"\")","v":""}]
[null,null,null,{"$f":"COUNTIF($E$4:E645, VERIFICACIONLICENCIA!$F$3)","v":4},null,{"$f":"IFERROR(VLOOKUP(Tabla4[[#This Row],[NOMBRE]],TablaEMPLEADOS[],2,0),\"\")","v":""}]
[null,null,null,{"$f":"COUNTIF($E$4:E646, VERIFICACIONLICENCIA!$F$3)","v":4},null,{"$f":"IFERROR(VLOOKUP(Tabla4[[#This Row],[NOMBRE]],TablaEMPLEADOS[],2,0),\"\")","v":""}]
[null,null,null,{"$f":"COUNTIF($E$4:E647, VERIFICACIONLICENCIA!$F$3)","v":4},null,{"$f":"IFERROR(VLOOKUP(Tabla4[[#This Row],[NOMBRE]],TablaEMPLEADOS[],2,0),\"\")","v":""}]
[null,null,null,{"$f":"COUNTIF($E$4:E648, VERIFICACIONLICENCIA!$F$3)","v":4},null,{"$f":"IFERROR(VLOOKUP(Tabla4[[#This Row],[NOMBRE]],TablaEMPLEADOS[],2,0),\"\")","v":""}]
[null,null,null,{"$f":"COUNTIF($E$4:E649, VERIFICACIONLICENCIA!$F$3)","v":4},null,{"$f":"IFERROR(VLOOKUP(Tabla4[[#This Row],[NOMBRE]],TablaEMPLEADOS[],2,0),\"\")","v":""}]
[null,null,null,{"$f":"COUNTIF($E$4:E650, VERIFICACIONLICENCIA!$F$3)","v":4},null,{"$f":"IFERROR(VLOOKUP(Tabla4[[#This Row],[NOMBRE]],TablaEMPLEADOS[],2,0),\"\")","v":""}]
[null,null,null,{"$f":"COUNTIF($E$4:E651, VERIFICACIONLICENCIA!$F$3)","v":4},null,{"$f":"IFERROR(VLOOKUP(Tabla4[[#This Row],[NOMBRE]],TablaEMPLEADOS[],2,0),\"\")","v":""}]
[null,null,null,{"$f":"COUNTIF($E$4:E652, VERIFICACIONLICENCIA!$F$3)","v":4},null,{"$f":"IFERROR(VLOOKUP(Tabla4[[#This Row],[NOMBRE]],TablaEMPLEADOS[],2,0),\"\")","v":""}]
[null,null,null,{"$f":"COUNTIF($E$4:E653, VERIFICACIONLICENCIA!$F$3)","v":4},null,{"$f":"IFERROR(VLOOKUP(Tabla4[[#This Row],[NOMBRE]],TablaEMPLEADOS[],2,0),\"\")","v":""}]
[null,null,null,{"$f":"COUNTIF($E$4:E654, VERIFICACIONLICENCIA!$F$3)","v":4},null,{"$f":"IFERROR(VLOOKUP(Tabla4[[#This Row],[NOMBRE]],TablaEMPLEADOS[],2,0),\"\")","v":""}]
[null,null,null,{"$f":"COUNTIF($E$4:E655, VERIFICACIONLICENCIA!$F$3)","v":4},null,{"$f":"IFERROR(VLOOKUP(Tabla4[[#This Row],[NOMBRE]],TablaEMPLEADOS[],2,0),\"\")","v":""}]
[null,null,null,{"$f":"COUNTIF($E$4:E656, VERIFICACIONLICENCIA!$F$3)","v":4},null,{"$f":"IFERROR(VLOOKUP(Tabla4[[#This Row],[NOMBRE]],TablaEMPLEADOS[],2,0),\"\")","v":""}]
[null,null,null,{"$f":"COUNTIF($E$4:E657, VERIFICACIONLICENCIA!$F$3)","v":4},null,{"$f":"IFERROR(VLOOKUP(Tabla4[[#This Row],[NOMBRE]],TablaEMPLEADOS[],2,0),\"\")","v":""}]
[null,null,null,{"$f":"COUNTIF($E$4:E658, VERIFICACIONLICENCIA!$F$3)","v":4},null,{"$f":"IFERROR(VLOOKUP(Tabla4[[#This Row],[NOMBRE]],TablaEMPLEADOS[],2,0),\"\")","v":""}]
[null,null,null,{"$f":"COUNTIF($E$4:E659, VERIFICACIONLICENCIA!$F$3)","v":4},null,{"$f":"IFERROR(VLOOKUP(Tabla4[[#This Row],[NOMBRE]],TablaEMPLEADOS[],2,0),\"\")","v":""}]
[null,null,null,{"$f":"COUNTIF($E$4:E660, VERIFICACIONLICENCIA!$F$3)","v":4},null,{"$f":"IFERROR(VLOOKUP(Tabla4[[#This Row],[NOMBRE]],TablaEMPLEADOS[],2,0),\"\")","v":""}]
[null,null,null,{"$f":"COUNTIF($E$4:E661, VERIFICACIONLICENCIA!$F$3)","v":4},null,{"$f":"IFERROR(VLOOKUP(Tabla4[[#This Row],[NOMBRE]],TablaEMPLEADOS[],2,0),\"\")","v":""}]
[null,null,null,{"$f":"COUNTIF($E$4:E662, VERIFICACIONLICENCIA!$F$3)","v":4},null,{"$f":"IFERROR(VLOOKUP(Tabla4[[#This Row],[NOMBRE]],TablaEMPLEADOS[],2,0),\"\")","v":""}]
[null,null,null,{"$f":"COUNTIF($E$4:E663, VERIFICACIONLICENCIA!$F$3)","v":4},null,{"$f":"IFERROR(VLOOKUP(Tabla4[[#This Row],[NOMBRE]],TablaEMPLEADOS[],2,0),\"\")","v":""}]
[null,null,null,{"$f":"COUNTIF($E$4:E664, VERIFICACIONLICENCIA!$F$3)","v":4},null,{"$f":"IFERROR(VLOOKUP(Tabla4[[#This Row],[NOMBRE]],TablaEMPLEADOS[],2,0),\"\")","v":""}]
[null,null,null,{"$f":"COUNTIF($E$4:E665, VERIFICACIONLICENCIA!$F$3)","v":4},null,{"$f":"IFERROR(VLOOKUP(Tabla4[[#This Row],[NOMBRE]],TablaEMPLEADOS[],2,0),\"\")","v":""}]
[null,null,null,{"$f":"COUNTIF($E$4:E666, VERIFICACIONLICENCIA!$F$3)","v":4},null,{"$f":"IFERROR(VLOOKUP(Tabla4[[#This Row],[NOMBRE]],TablaEMPLEADOS[],2,0),\"\")","v":""}]
[null,null,null,{"$f":"COUNTIF($E$4:E667, VERIFICACIONLICENCIA!$F$3)","v":4},null,{"$f":"IFERROR(VLOOKUP(Tabla4[[#This Row],[NOMBRE]],TablaEMPLEADOS[],2,0),\"\")","v":""}]
[null,null,null,{"$f":"COUNTIF($E$4:E668, VERIFICACIONLICENCIA!$F$3)","v":4},null,{"$f":"IFERROR(VLOOKUP(Tabla4[[#This Row],[NOMBRE]],TablaEMPLEADOS[],2,0),\"\")","v":""}]
[null,null,null,{"$f":"COUNTIF($E$4:E669, VERIFICACIONLICENCIA!$F$3)","v":4},null,{"$f":"IFERROR(VLOOKUP(Tabla4[[#This Row],[NOMBRE]],TablaEMPLEADOS[],2,0),\"\")","v":""}]
[null,null,null,{"$f":"COUNTIF($E$4:E670, VERIFICACIONLICENCIA!$F$3)","v":4},null,{"$f":"IFERROR(VLOOKUP(Tabla4[[#This Row],[NOMBRE]],TablaEMPLEADOS[],2,0),\"\")","v":""}]
[null,null,null,{"$f":"COUNTIF($E$4:E671, VERIFICACIONLICENCIA!$F$3)","v":4},null,{"$f":"IFERROR(VLOOKUP(Tabla4[[#This Row],[NOMBRE]],TablaEMPLEADOS[],2,0),\"\")","v":""}]
[null,null,null,{"$f":"COUNTIF($E$4:E672, VERIFICACIONLICENCIA!$F$3)","v":4},null,{"$f":"IFERROR(VLOOKUP(Tabla4[[#This Row],[NOMBRE]],TablaEMPLEADOS[],2,0),\"\")","v":""}]
[null,null,null,{"$f":"COUNTIF($E$4:E673, VERIFICACIONLICENCIA!$F$3)","v":4},null,{"$f":"IFERROR(VLOOKUP(Tabla4[[#This Row],[NOMBRE]],TablaEMPLEADOS[],2,0),\"\")","v":""}]
[null,null,null,{"$f":"COUNTIF($E$4:E674, VERIFICACIONLICENCIA!$F$3)","v":4},null,{"$f":"IFERROR(VLOOKUP(Tabla4[[#This Row],[NOMBRE]],TablaEMPLEADOS[],2,0),\"\")","v":""}]
[null,null,null,{"$f":"COUNTIF($E$4:E675, VERIFICACIONLICENCIA!$F$3)","v":4},null,{"$f":"IFERROR(VLOOKUP(Tabla4[[#This Row],[NOMBRE]],TablaEMPLEADOS[],2,0),\"\")","v":""}]
[null,null,null,{"$f":"COUNTIF($E$4:E676, VERIFICACIONLICENCIA!$F$3)","v":4},null,{"$f":"IFERROR(VLOOKUP(Tabla4[[#This Row],[NOMBRE]],TablaEMPLEADOS[],2,0),\"\")","v":""}]
[null,null,null,{"$f":"COUNTIF($E$4:E677, VERIFICACIONLICENCIA!$F$3)","v":4},null,{"$f":"IFERROR(VLOOKUP(Tabla4[[#This Row],[NOMBRE]],TablaEMPLEADOS[],2,0),\"\")","v":""}]
[null,null,null,{"$f":"COUNTIF($E$4:E678, VERIFICACIONLICENCIA!$F$3)","v":4},null,{"$f":"IFERROR(VLOOKUP(Tabla4[[#This Row],[NOMBRE]],TablaEMPLEADOS[],2,0),\"\")","v":""}]
[null,null,null,{"$f":"COUNTIF($E$4:E679, VERIFICACIONLICENCIA!$F$3)","v":4},null,{"$f":"IFERROR(VLOOKUP(Tabla4[[#This Row],[NOMBRE]],TablaEMPLEADOS[],2,0),\"\")","v":""}]
[null,null,null,{"$f":"COUNTIF($E$4:E680, VERIFICACIONLICENCIA!$F$3)","v":4},null,{"$f":"IFERROR(VLOOKUP(Tabla4[[#This Row],[NOMBRE]],TablaEMPLEADOS[],2,0),\"\")","v":""}]
[null,null,null,{"$f":"COUNTIF($E$4:E681, VERIFICACIONLICENCIA!$F$3)","v":4},null,{"$f":"IFERROR(VLOOKUP(Tabla4[[#This Row],[NOMBRE]],TablaEMPLEADOS[],2,0),\"\")","v":""}]
[null,null,null,{"$f":"COUNTIF($E$4:E682, VERIFICACIONLICENCIA!$F$3)","v":4},null,{"$f":"IFERROR(VLOOKUP(Tabla4[[#This Row],[NOMBRE]],TablaEMPLEADOS[],2,0),\"\")","v":""}]
[null,null,null,{"$f":"COUNTIF($E$4:E683, VERIFICACIONLICENCIA!$F$3)","v":4},null,{"$f":"IFERROR(VLOOKUP(Tabla4[[#This Row],[NOMBRE]],TablaEMPLEADOS[],2,0),\"\")","v":""}]
[null,null,null,{"$f":"COUNTIF($E$4:E684, VERIFICACIONLICENCIA!$F$3)","v":4},null,{"$f":"IFERROR(VLOOKUP(Tabla4[[#This Row],[NOMBRE]],TablaEMPLEADOS[],2,0),\"\")","v":""}]
[null,null,null,{"$f":"COUNTIF($E$4:E685, VERIFICACIONLICENCIA!$F$3)","v":4},null,{"$f":"IFERROR(VLOOKUP(Tabla4[[#This Row],[NOMBRE]],TablaEMPLEADOS[],2,0),\"\")","v":""}]
[null,null,null,{"$f":"COUNTIF($E$4:E686, VERIFICACIONLICENCIA!$F$3)","v":4},null,{"$f":"IFERROR(VLOOKUP(Tabla4[[#This Row],[NOMBRE]],TablaEMPLEADOS[],2,0),\"\")","v":""}]
[null,null,null,{"$f":"COUNTIF($E$4:E687, VERIFICACIONLICENCIA!$F$3)","v":4},null,{"$f":"IFERROR(VLOOKUP(Tabla4[[#This Row],[NOMBRE]],TablaEMPLEADOS[],2,0),\"\")","v":""}]
[null,null,null,{"$f":"COUNTIF($E$4:E688, VERIFICACIONLICENCIA!$F$3)","v":4},null,{"$f":"IFERROR(VLOOKUP(Tabla4[[#This Row],[NOMBRE]],TablaEMPLEADOS[],2,0),\"\")","v":""}]
[null,null,null,{"$f":"COUNTIF($E$4:E689, VERIFICACIONLICENCIA!$F$3)","v":4},null,{"$f":"IFERROR(VLOOKUP(Tabla4[[#This Row],[NOMBRE]],TablaEMPLEADOS[],2,0),\"\")","v":""}]
[null,null,null,{"$f":"COUNTIF($E$4:E690, VERIFICACIONLICENCIA!$F$3)","v":4},null,{"$f":"IFERROR(VLOOKUP(Tabla4[[#This Row],[NOMBRE]],TablaEMPLEADOS[],2,0),\"\")","v":""}]
[null,null,null,{"$f":"COUNTIF($E$4:E691, VERIFICACIONLICENCIA!$F$3)","v":4},null,{"$f":"IFERROR(VLOOKUP(Tabla4[[#This Row],[NOMBRE]],TablaEMPLEADOS[],2,0),\"\")","v":""}]
[null,null,null,{"$f":"COUNTIF($E$4:E692, VERIFICACIONLICENCIA!$F$3)","v":4},null,{"$f":"IFERROR(VLOOKUP(Tabla4[[#This Row],[NOMBRE]],TablaEMPLEADOS[],2,0),\"\")","v":""}]
[null,null,null,{"$f":"COUNTIF($E$4:E693, VERIFICACIONLICENCIA!$F$3)","v":4},null,{"$f":"IFERROR(VLOOKUP(Tabla4[[#This Row],[NOMBRE]],TablaEMPLEADOS[],2,0),\"\")","v":""}]
[null,null,null,{"$f":"COUNTIF($E$4:E694, VERIFICACIONLICENCIA!$F$3)","v":4},null,{"$f":"IFERROR(VLOOKUP(Tabla4[[#This Row],[NOMBRE]],TablaEMPLEADOS[],2,0),\"\")","v":""}]
[null,null,null,{"$f":"COUNTIF($E$4:E695, VERIFICACIONLICENCIA!$F$3)","v":4},null,{"$f":"IFERROR(VLOOKUP(Tabla4[[#This Row],[NOMBRE]],TablaEMPLEADOS[],2,0),\"\")","v":""}]
[null,null,null,{"$f":"COUNTIF($E$4:E696, VERIFICACIONLICENCIA!$F$3)","v":4},null,{"$f":"IFERROR(VLOOKUP(Tabla4[[#This Row],[NOMBRE]],TablaEMPLEADOS[],2,0),\"\")","v":""}]
[null,null,null,{"$f":"COUNTIF($E$4:E697, VERIFICACIONLICENCIA!$F$3)","v":4},null,{"$f":"IFERROR(VLOOKUP(Tabla4[[#This Row],[NOMBRE]],TablaEMPLEADOS[],2,0),\"\")","v":""}]
[null,null,null,{"$f":"COUNTIF($E$4:E698, VERIFICACIONLICENCIA!$F$3)","v":4},null,{"$f":"IFERROR(VLOOKUP(Tabla4[[#This Row],[NOMBRE]],TablaEMPLEADOS[],2,0),\"\")","v":""}]
[null,null,null,{"$f":"COUNTIF($E$4:E699, VERIFICACIONLICENCIA!$F$3)","v":4},null,{"$f":"IFERROR(VLOOKUP(Tabla4[[#This Row],[NOMBRE]],TablaEMPLEADOS[],2,0),\"\")","v":""}]
[null,null,null,{"$f":"COUNTIF($E$4:E700, VERIFICACIONLICENCIA!$F$3)","v":4},null,{"$f":"IFERROR(VLOOKUP(Tabla4[[#This Row],[NOMBRE]],TablaEMPLEADOS[],2,0),\"\")","v":""}]
[null,null,null,{"$f":"COUNTIF($E$4:E701, VERIFICACIONLICENCIA!$F$3)","v":4},null,{"$f":"IFERROR(VLOOKUP(Tabla4[[#This Row],[NOMBRE]],TablaEMPLEADOS[],2,0),\"\")","v":""}]
[null,null,null,{"$f":"COUNTIF($E$4:E702, VERIFICACIONLICENCIA!$F$3)","v":4},null,{"$f":"IFERROR(VLOOKUP(Tabla4[[#This Row],[NOMBRE]],TablaEMPLEADOS[],2,0),\"\")","v":""}]
[null,null,null,{"$f":"COUNTIF($E$4:E703, VERIFICACIONLICENCIA!$F$3)","v":4},null,{"$f":"IFERROR(VLOOKUP(Tabla4[[#This Row],[NOMBRE]],TablaEMPLEADOS[],2,0),\"\")","v":""}]
[null,null,null,{"$f":"COUNTIF($E$4:E704, VERIFICACIONLICENCIA!$F$3)","v":4},null,{"$f":"IFERROR(VLOOKUP(Tabla4[[#This Row],[NOMBRE]],TablaEMPLEADOS[],2,0),\"\")","v":""}]
[null,null,null,{"$f":"COUNTIF($E$4:E705, VERIFICACIONLICENCIA!$F$3)","v":4},null,{"$f":"IFERROR(VLOOKUP(Tabla4[[#This Row],[NOMBRE]],TablaEMPLEADOS[],2,0),\"\")","v":""}]
[null,null,null,{"$f":"COUNTIF($E$4:E706, VERIFICACIONLICENCIA!$F$3)","v":4},null,{"$f":"IFERROR(VLOOKUP(Tabla4[[#This Row],[NOMBRE]],TablaEMPLEADOS[],2,0),\"\")","v":""}]
[null,null,null,{"$f":"COUNTIF($E$4:E707, VERIFICACIONLICENCIA!$F$3)","v":4},null,{"$f":"IFERROR(VLOOKUP(Tabla4[[#This Row],[NOMBRE]],TablaEMPLEADOS[],2,0),\"\")","v":""}]
[null,null,null,{"$f":"COUNTIF($E$4:E708, VERIFICACIONLICENCIA!$F$3)","v":4},null,{"$f":"IFERROR(VLOOKUP(Tabla4[[#This Row],[NOMBRE]],TablaEMPLEADOS[],2,0),\"\")","v":""}]
[null,null,null,{"$f":"COUNTIF($E$4:E709, VERIFICACIONLICENCIA!$F$3)","v":4},null,{"$f":"IFERROR(VLOOKUP(Tabla4[[#This Row],[NOMBRE]],TablaEMPLEADOS[],2,0),\"\")","v":""}]
[null,null,null,{"$f":"COUNTIF($E$4:E710, VERIFICACIONLICENCIA!$F$3)","v":4},null,{"$f":"IFERROR(VLOOKUP(Tabla4[[#This Row],[NOMBRE]],TablaEMPLEADOS[],2,0),\"\")","v":""}]
[null,null,null,{"$f":"COUNTIF($E$4:E711, VERIFICACIONLICENCIA!$F$3)","v":4},null,{"$f":"IFERROR(VLOOKUP(Tabla4[[#This Row],[NOMBRE]],TablaEMPLEADOS[],2,0),\"\")","v":""}]
[null,null,null,{"$f":"COUNTIF($E$4:E712, VERIFICACIONLICENCIA!$F$3)","v":4},null,{"$f":"IFERROR(VLOOKUP(Tabla4[[#This Row],[NOMBRE]],TablaEMPLEADOS[],2,0),\"\")","v":""}]
[null,null,null,{"$f":"COUNTIF($E$4:E713, VERIFICACIONLICENCIA!$F$3)","v":4},null,{"$f":"IFERROR(VLOOKUP(Tabla4[[#This Row],[NOMBRE]],TablaEMPLEADOS[],2,0),\"\")","v":""}]
[null,null,null,{"$f":"COUNTIF($E$4:E714, VERIFICACIONLICENCIA!$F$3)","v":4},null,{"$f":"IFERROR(VLOOKUP(Tabla4[[#This Row],[NOMBRE]],TablaEMPLEADOS[],2,0),\"\")","v":""}]
[null,null,null,{"$f":"COUNTIF($E$4:E715, VERIFICACIONLICENCIA!$F$3)","v":4},null,{"$f":"IFERROR(VLOOKUP(Tabla4[[#This Row],[NOMBRE]],TablaEMPLEADOS[],2,0),\"\")","v":""}]
[null,null,null,{"$f":"COUNTIF($E$4:E716, VERIFICACIONLICENCIA!$F$3)","v":4},null,{"$f":"IFERROR(VLOOKUP(Tabla4[[#This Row],[NOMBRE]],TablaEMPLEADOS[],2,0),\"\")","v":""}]
[null,null,null,{"$f":"COUNTIF($E$4:E717, VERIFICACIONLICENCIA!$F$3)","v":4},null,{"$f":"IFERROR(VLOOKUP(Tabla4[[#This Row],[NOMBRE]],TablaEMPLEADOS[],2,0),\"\")","v":""}]
[null,null,null,{"$f":"COUNTIF($E$4:E718, VERIFICACIONLICENCIA!$F$3)","v":4},null,{"$f":"IFERROR(VLOOKUP(Tabla4[[#This Row],[NOMBRE]],TablaEMPLEADOS[],2,0),\"\")","v":""}]
[null,null,null,{"$f":"COUNTIF($E$4:E719, VERIFICACIONLICENCIA!$F$3)","v":4},null,{"$f":"IFERROR(VLOOKUP(Tabla4[[#This Row],[NOMBRE]],TablaEMPLEADOS[],2,0),\"\")","v":""}]
[null,null,null,{"$f":"COUNTIF($E$4:E720, VERIFICACIONLICENCIA!$F$3)","v":4},null,{"$f":"IFERROR(VLOOKUP(Tabla4[[#This Row],[NOMBRE]],TablaEMPLEADOS[],2,0),\"\")","v":""}]
[null,null,null,{"$f":"COUNTIF($E$4:E721, VERIFICACIONLICENCIA!$F$3)","v":4},null,{"$f":"IFERROR(VLOOKUP(Tabla4[[#This Row],[NOMBRE]],TablaEMPLEADOS[],2,0),\"\")","v":""}]
[null,null,null,{"$f":"COUNTIF($E$4:E722, VERIFICACIONLICENCIA!$F$3)","v":4},null,{"$f":"IFERROR(VLOOKUP(Tabla4[[#This Row],[NOMBRE]],TablaEMPLEADOS[],2,0),\"\")","v":""}]
[null,null,null,{"$f":"COUNTIF($E$4:E723, VERIFICACIONLICENCIA!$F$3)","v":4},null,{"$f":"IFERROR(VLOOKUP(Tabla4[[#This Row],[NOMBRE]],TablaEMPLEADOS[],2,0),\"\")","v":""}]
[null,null,null,{"$f":"COUNTIF($E$4:E724, VERIFICACIONLICENCIA!$F$3)","v":4},null,{"$f":"IFERROR(VLOOKUP(Tabla4[[#This Row],[NOMBRE]],TablaEMPLEADOS[],2,0),\"\")","v":""}]
[null,null,null,{"$f":"COUNTIF($E$4:E725, VERIFICACIONLICENCIA!$F$3)","v":4},null,{"$f":"IFERROR(VLOOKUP(Tabla4[[#This Row],[NOMBRE]],TablaEMPLEADOS[],2,0),\"\")","v":""}]
[null,null,null,{"$f":"COUNTIF($E$4:E726, VERIFICACIONLICENCIA!$F$3)","v":4},null,{"$f":"IFERROR(VLOOKUP(Tabla4[[#This Row],[NOMBRE]],TablaEMPLEADOS[],2,0),\"\")","v":""}]
[null,null,null,{"$f":"COUNTIF($E$4:E727, VERIFICACIONLICENCIA!$F$3)","v":4},null,{"$f":"IFERROR(VLOOKUP(Tabla4[[#This Row],[NOMBRE]],TablaEMPLEADOS[],2,0),\"\")","v":""}]
[null,null,null,{"$f":"COUNTIF($E$4:E728, VERIFICACIONLICENCIA!$F$3)","v":4},null,{"$f":"IFERROR(VLOOKUP(Tabla4[[#This Row],[NOMBRE]],TablaEMPLEADOS[],2,0),\"\")","v":""}]
[null,null,null,{"$f":"COUNTIF($E$4:E729, VERIFICACIONLICENCIA!$F$3)","v":4},null,{"$f":"IFERROR(VLOOKUP(Tabla4[[#This Row],[NOMBRE]],TablaEMPLEADOS[],2,0),\"\")","v":""}]
[null,null,null,{"$f":"COUNTIF($E$4:E730, VERIFICACIONLICENCIA!$F$3)","v":4},null,{"$f":"IFERROR(VLOOKUP(Tabla4[[#This Row],[NOMBRE]],TablaEMPLEADOS[],2,0),\"\")","v":""}]
[null,null,null,{"$f":"COUNTIF($E$4:E731, VERIFICACIONLICENCIA!$F$3)","v":4},null,{"$f":"IFERROR(VLOOKUP(Tabla4[[#This Row],[NOMBRE]],TablaEMPLEADOS[],2,0),\"\")","v":""}]
[null,null,null,{"$f":"COUNTIF($E$4:E732, VERIFICACIONLICENCIA!$F$3)","v":4},null,{"$f":"IFERROR(VLOOKUP(Tabla4[[#This Row],[NOMBRE]],TablaEMPLEADOS[],2,0),\"\")","v":""}]
[null,null,null,{"$f":"COUNTIF($E$4:E733, VERIFICACIONLICENCIA!$F$3)","v":4},null,{"$f":"IFERROR(VLOOKUP(Tabla4[[#This Row],[NOMBRE]],TablaEMPLEADOS[],2,0),\"\")","v":""}]
[null,null,null,{"$f":"COUNTIF($E$4:E734, VERIFICACIONLICENCIA!$F$3)","v":4},null,{"$f":"IFERROR(VLOOKUP(Tabla4[[#This Row],[NOMBRE]],TablaEMPLEADOS[],2,0),\"\")","v":""}]
[null,null,null,{"$f":"COUNTIF($E$4:E735, VERIFICACIONLICENCIA!$F$3)","v":4},null,{"$f":"IFERROR(VLOOKUP(Tabla4[[#This Row],[NOMBRE]],TablaEMPLEADOS[],2,0),\"\")","v":""}]
[null,null,null,{"$f":"COUNTIF($E$4:E736, VERIFICACIONLICENCIA!$F$3)","v":4},null,{"$f":"IFERROR(VLOOKUP(Tabla4[[#This Row],[NOMBRE]],TablaEMPLEADOS[],2,0),\"\")","v":""}]
[null,null,null,{"$f":"COUNTIF($E$4:E737, VERIFICACIONLICENCIA!$F$3)","v":4},null,{"$f":"IFERROR(VLOOKUP(Tabla4[[#This Row],[NOMBRE]],TablaEMPLEADOS[],2,0),\"\")","v":""}]
[null,null,null,{"$f":"COUNTIF($E$4:E738, VERIFICACIONLICENCIA!$F$3)","v":4},null,{"$f":"IFERROR(VLOOKUP(Tabla4[[#This Row],[NOMBRE]],TablaEMPLEADOS[],2,0),\"\")","v":""}]
[null,null,null,{"$f":"COUNTIF($E$4:E739, VERIFICACIONLICENCIA!$F$3)","v":4},null,{"$f":"IFERROR(VLOOKUP(Tabla4[[#This Row],[NOMBRE]],TablaEMPLEADOS[],2,0),\"\")","v":""}]
[null,null,null,{"$f":"COUNTIF($E$4:E740, VERIFICACIONLICENCIA!$F$3)","v":4},null,{"$f":"IFERROR(VLOOKUP(Tabla4[[#This Row],[NOMBRE]],TablaEMPLEADOS[],2,0),\"\")","v":""}]
[null,null,null,{"$f":"COUNTIF($E$4:E741, VERIFICACIONLICENCIA!$F$3)","v":4},null,{"$f":"IFERROR(VLOOKUP(Tabla4[[#This Row],[NOMBRE]],TablaEMPLEADOS[],2,0),\"\")","v":""}]
[null,null,null,{"$f":"COUNTIF($E$4:E742, VERIFICACIONLICENCIA!$F$3)","v":4},null,{"$f":"IFERROR(VLOOKUP(Tabla4[[#This Row],[NOMBRE]],TablaEMPLEADOS[],2,0),\"\")","v":""}]
[null,null,null,{"$f":"COUNTIF($E$4:E743, VERIFICACIONLICENCIA!$F$3)","v":4},null,{"$f":"IFERROR(VLOOKUP(Tabla4[[#This Row],[NOMBRE]],TablaEMPLEADOS[],2,0),\"\")","v":""}]
[null,null,null,{"$f":"COUNTIF($E$4:E744, VERIFICACIONLICENCIA!$F$3)","v":4},null,{"$f":"IFERROR(VLOOKUP(Tabla4[[#This Row],[NOMBRE]],TablaEMPLEADOS[],2,0),\"\")","v":""}]
[null,null,null,{"$f":"COUNTIF($E$4:E745, VERIFICACIONLICENCIA!$F$3)","v":4},null,{"$f":"IFERROR(VLOOKUP(Tabla4[[#This Row],[NOMBRE]],TablaEMPLEADOS[],2,0),\"\")","v":""}]
[null,null,null,{"$f":"COUNTIF($E$4:E746, VERIFICACIONLICENCIA!$F$3)","v":4},null,{"$f":"IFERROR(VLOOKUP(Tabla4[[#This Row],[NOMBRE]],TablaEMPLEADOS[],2,0),\"\")","v":""}]
[null,null,null,{"$f":"COUNTIF($E$4:E747, VERIFICACIONLICENCIA!$F$3)","v":4},null,{"$f":"IFERROR(VLOOKUP(Tabla4[[#This Row],[NOMBRE]],TablaEMPLEADOS[],2,0),\"\")","v":""}]
[null,null,null,{"$f":"COUNTIF($E$4:E748, VERIFICACIONLICENCIA!$F$3)","v":4},null,{"$f":"IFERROR(VLOOKUP(Tabla4[[#This Row],[NOMBRE]],TablaEMPLEADOS[],2,0),\"\")","v":""}]
[null,null,null,{"$f":"COUNTIF($E$4:E749, VERIFICACIONLICENCIA!$F$3)","v":4},null,{"$f":"IFERROR(VLOOKUP(Tabla4[[#This Row],[NOMBRE]],TablaEMPLEADOS[],2,0),\"\")","v":""}]
[null,null,null,{"$f":"COUNTIF($E$4:E750, VERIFICACIONLICENCIA!$F$3)","v":4},null,{"$f":"IFERROR(VLOOKUP(Tabla4[[#This Row],[NOMBRE]],TablaEMPLEADOS[],2,0),\"\")","v":""}]
[null,null,null,{"$f":"COUNTIF($E$4:E751, VERIFICACIONLICENCIA!$F$3)","v":4},null,{"$f":"IFERROR(VLOOKUP(Tabla4[[#This Row],[NOMBRE]],TablaEMPLEADOS[],2,0),\"\")","v":""}]
[null,null,null,{"$f":"COUNTIF($E$4:E752, VERIFICACIONLICENCIA!$F$3)","v":4},null,{"$f":"IFERROR(VLOOKUP(Tabla4[[#This Row],[NOMBRE]],TablaEMPLEADOS[],2,0),\"\")","v":""}]
[null,null,null,{"$f":"COUNTIF($E$4:E753, VERIFICACIONLICENCIA!$F$3)","v":4},null,{"$f":"IFERROR(VLOOKUP(Tabla4[[#This Row],[NOMBRE]],TablaEMPLEADOS[],2,0),\"\")","v":""}]
[null,null,null,{"$f":"COUNTIF($E$4:E754, VERIFICACIONLICENCIA!$F$3)","v":4},null,{"$f":"IFERROR(VLOOKUP(Tabla4[[#This Row],[NOMBRE]],TablaEMPLEADOS[],2,0),\"\")","v":""}]
[null,null,null,{"$f":"COUNTIF($E$4:E755, VERIFICACIONLICENCIA!$F$3)","v":4},null,{"$f":"IFERROR(VLOOKUP(Tabla4[[#This Row],[NOMBRE]],TablaEMPLEADOS[],2,0),\"\")","v":""}]
[null,null,null,{"$f":"COUNTIF($E$4:E756, VERIFICACIONLICENCIA!$F$3)","v":4},null,{"$f":"IFERROR(VLOOKUP(Tabla4[[#This Row],[NOMBRE]],TablaEMPLEADOS[],2,0),\"\")","v":""}]
[null,null,null,{"$f":"COUNTIF($E$4:E757, VERIFICACIONLICENCIA!$F$3)","v":4},null,{"$f":"IFERROR(VLOOKUP(Tabla4[[#This Row],[NOMBRE]],TablaEMPLEADOS[],2,0),\"\")","v":""}]
[null,null,null,{"$f":"COUNTIF($E$4:E758, VERIFICACIONLICENCIA!$F$3)","v":4},null,{"$f":"IFERROR(VLOOKUP(Tabla4[[#This Row],[NOMBRE]],TablaEMPLEADOS[],2,0),\"\")","v":""}]
[null,null,null,{"$f":"COUNTIF($E$4:E759, VERIFICACIONLICENCIA!$F$3)","v":4},null,{"$f":"IFERROR(VLOOKUP(Tabla4[[#This Row],[NOMBRE]],TablaEMPLEADOS[],2,0),\"\")","v":""}]
[null,null,null,{"$f":"COUNTIF($E$4:E760, VERIFICACIONLICENCIA!$F$3)","v":4},null,{"$f":"IFERROR(VLOOKUP(Tabla4[[#This Row],[NOMBRE]],TablaEMPLEADOS[],2,0),\"\")","v":""}]
[null,null,null,{"$f":"COUNTIF($E$4:E761, VERIFICACIONLICENCIA!$F$3)","v":4},null,{"$f":"IFERROR(VLOOKUP(Tabla4[[#This Row],[NOMBRE]],TablaEMPLEADOS[],2,0),\"\")","v":""}]
[null,null,null,{"$f":"COUNTIF($E$4:E762, VERIFICACIONLICENCIA!$F$3)","v":4},null,{"$f":"IFERROR(VLOOKUP(Tabla4[[#This Row],[NOMBRE]],TablaEMPLEADOS[],2,0),\"\")","v":""}]
[null,null,null,{"$f":"COUNTIF($E$4:E763, VERIFICACIONLICENCIA!$F$3)","v":4},null,{"$f":"IFERROR(VLOOKUP(Tabla4[[#This Row],[NOMBRE]],TablaEMPLEADOS[],2,0),\"\")","v":""}]
[null,null,null,{"$f":"COUNTIF($E$4:E764, VERIFICACIONLICENCIA!$F$3)","v":4},null,{"$f":"IFERROR(VLOOKUP(Tabla4[[#This Row],[NOMBRE]],TablaEMPLEADOS[],2,0),\"\")","v":""}]
[null,null,null,{"$f":"COUNTIF($E$4:E765, VERIFICACIONLICENCIA!$F$3)","v":4},null,{"$f":"IFERROR(VLOOKUP(Tabla4[[#This Row],[NOMBRE]],TablaEMPLEADOS[],2,0),\"\")","v":""}]
[null,null,null,{"$f":"COUNTIF($E$4:E766, VERIFICACIONLICENCIA!$F$3)","v":4},null,{"$f":"IFERROR(VLOOKUP(Tabla4[[#This Row],[NOMBRE]],TablaEMPLEADOS[],2,0),\"\")","v":""}]
[null,null,null,{"$f":"COUNTIF($E$4:E767, VERIFICACIONLICENCIA!$F$3)","v":4},null,{"$f":"IFERROR(VLOOKUP(Tabla4[[#This Row],[NOMBRE]],TablaEMPLEADOS[],2,0),\"\")","v":""}]
[null,null,null,{"$f":"COUNTIF($E$4:E768, VERIFICACIONLICENCIA!$F$3)","v":4},null,{"$f":"IFERROR(VLOOKUP(Tabla4[[#This Row],[NOMBRE]],TablaEMPLEADOS[],2,0),\"\")","v":""}]
[null,null,null,{"$f":"COUNTIF($E$4:E769, VERIFICACIONLICENCIA!$F$3)","v":4},null,{"$f":"IFERROR(VLOOKUP(Tabla4[[#This Row],[NOMBRE]],TablaEMPLEADOS[],2,0),\"\")","v":""}]
[null,null,null,{"$f":"COUNTIF($E$4:E770, VERIFICACIONLICENCIA!$F$3)","v":4},null,{"$f":"IFERROR(VLOOKUP(Tabla4[[#This Row],[NOMBRE]],TablaEMPLEADOS[],2,0),\"\")","v":""}]
[null,null,null,{"$f":"COUNTIF($E$4:E771, VERIFICACIONLICENCIA!$F$3)","v":4},null,{"$f":"IFERROR(VLOOKUP(Tabla4[[#This Row],[NOMBRE]],TablaEMPLEADOS[],2,0),\"\")","v":""}]
[null,null,null,{"$f":"COUNTIF($E$4:E772, VERIFICACIONLICENCIA!$F$3)","v":4},null,{"$f":"IFERROR(VLOOKUP(Tabla4[[#This Row],[NOMBRE]],TablaEMPLEADOS[],2,0),\"\")","v":""}]
[null,null,null,{"$f":"COUNTIF($E$4:E773, VERIFICACIONLICENCIA!$F$3)","v":4},null,{"$f":"IFERROR(VLOOKUP(Tabla4[[#This Row],[NOMBRE]],TablaEMPLEADOS[],2,0),\"\")","v":""}]
[null,null,null,{"$f":"COUNTIF($E$4:E774, VERIFICACIONLICENCIA!$F$3)","v":4},null,{"$f":"IFERROR(VLOOKUP(Tabla4[[#This Row],[NOMBRE]],TablaEMPLEADOS[],2,0),\"\")","v":""}]
[null,null,null,{"$f":"COUNTIF($E$4:E775, VERIFICACIONLICENCIA!$F$3)","v":4},null,{"$f":"IFERROR(VLOOKUP(Tabla4[[#This Row],[NOMBRE]],TablaEMPLEADOS[],2,0),\"\")","v":""}]
[null,null,null,{"$f":"COUNTIF($E$4:E776, VERIFICACIONLICENCIA!$F$3)","v":4},null,{"$f":"IFERROR(VLOOKUP(Tabla4[[#This Row],[NOMBRE]],TablaEMPLEADOS[],2,0),\"\")","v":""}]
[null,null,null,{"$f":"COUNTIF($E$4:E777, VERIFICACIONLICENCIA!$F$3)","v":4},null,{"$f":"IFERROR(VLOOKUP(Tabla4[[#This Row],[NOMBRE]],TablaEMPLEADOS[],2,0),\"\")","v":""}]
[null,null,null,{"$f":"COUNTIF($E$4:E778, VERIFICACIONLICENCIA!$F$3)","v":4},null,{"$f":"IFERROR(VLOOKUP(Tabla4[[#This Row],[NOMBRE]],TablaEMPLEADOS[],2,0),\"\")","v":""}]
[null,null,null,{"$f":"COUNTIF($E$4:E779, VERIFICACIONLICENCIA!$F$3)","v":4},null,{"$f":"IFERROR(VLOOKUP(Tabla4[[#This Row],[NOMBRE]],TablaEMPLEADOS[],2,0),\"\")","v":""}]
[null,null,null,{"$f":"COUNTIF($E$4:E780, VERIFICACIONLICENCIA!$F$3)","v":4},null,{"$f":"IFERROR(VLOOKUP(Tabla4[[#This Row],[NOMBRE]],TablaEMPLEADOS[],2,0),\"\")","v":""}]
[null,null,null,{"$f":"COUNTIF($E$4:E781, VERIFICACIONLICENCIA!$F$3)","v":4},null,{"$f":"IFERROR(VLOOKUP(Tabla4[[#This Row],[NOMBRE]],TablaEMPLEADOS[],2,0),\"\")","v":""}]
[null,null,null,{"$f":"COUNTIF($E$4:E782, VERIFICACIONLICENCIA!$F$3)","v":4},null,{"$f":"IFERROR(VLOOKUP(Tabla4[[#This Row],[NOMBRE]],TablaEMPLEADOS[],2,0),\"\")","v":""}]
[null,null,null,{"$f":"COUNTIF($E$4:E783, VERIFICACIONLICENCIA!$F$3)","v":4},null,{"$f":"IFERROR(VLOOKUP(Tabla4[[#This Row],[NOMBRE]],TablaEMPLEADOS[],2,0),\"\")","v":""}]
[null,null,null,{"$f":"COUNTIF($E$4:E784, VERIFICACIONLICENCIA!$F$3)","v":4},null,{"$f":"IFERROR(VLOOKUP(Tabla4[[#This Row],[NOMBRE]],TablaEMPLEADOS[],2,0),\"\")","v":""}]
[null,null,null,{"$f":"COUNTIF($E$4:E785, VERIFICACIONLICENCIA!$F$3)","v":4},null,{"$f":"IFERROR(VLOOKUP(Tabla4[[#This Row],[NOMBRE]],TablaEMPLEADOS[],2,0),\"\")","v":""}]
[null,null,null,{"$f":"COUNTIF($E$4:E786, VERIFICACIONLICENCIA!$F$3)","v":4},null,{"$f":"IFERROR(VLOOKUP(Tabla4[[#This Row],[NOMBRE]],TablaEMPLEADOS[],2,0),\"\")","v":""}]
[null,null,null,{"$f":"COUNTIF($E$4:E787, VERIFICACIONLICENCIA!$F$3)","v":4},null,{"$f":"IFERROR(VLOOKUP(Tabla4[[#This Row],[NOMBRE]],TablaEMPLEADOS[],2,0),\"\")","v":""}]
[null,null,null,{"$f":"COUNTIF($E$4:E788, VERIFICACIONLICENCIA!$F$3)","v":4},null,{"$f":"IFERROR(VLOOKUP(Tabla4[[#This Row],[NOMBRE]],TablaEMPLEADOS[],2,0),\"\")","v":""}]
[null,null,null,{"$f":"COUNTIF($E$4:E789, VERIFICACIONLICENCIA!$F$3)","v":4},null,{"$f":"IFERROR(VLOOKUP(Tabla4[[#This Row],[NOMBRE]],TablaEMPLEADOS[],2,0),\"\")","v":""}]
[null,null,null,{"$f":"COUNTIF($E$4:E790, VERIFICACIONLICENCIA!$F$3)","v":4},null,{"$f":"IFERROR(VLOOKUP(Tabla4[[#This Row],[NOMBRE]],TablaEMPLEADOS[],2,0),\"\")","v":""}]
[null,null,null,{"$f":"COUNTIF($E$4:E791, VERIFICACIONLICENCIA!$F$3)","v":4},null,{"$f":"IFERROR(VLOOKUP(Tabla4[[#This Row],[NOMBRE]],TablaEMPLEADOS[],2,0),\"\")","v":""}]
[null,null,null,{"$f":"COUNTIF($E$4:E792, VERIFICACIONLICENCIA!$F$3)","v":4},null,{"$f":"IFERROR(VLOOKUP(Tabla4[[#This Row],[NOMBRE]],TablaEMPLEADOS[],2,0),\"\")","v":""}]
[null,null,null,{"$f":"COUNTIF($E$4:E793, VERIFICACIONLICENCIA!$F$3)","v":4},null,{"$f":"IFERROR(VLOOKUP(Tabla4[[#This Row],[NOMBRE]],TablaEMPLEADOS[],2,0),\"\")","v":""}]
[null,null,null,{"$f":"COUNTIF($E$4:E794, VERIFICACIONLICENCIA!$F$3)","v":4},null,{"$f":"IFERROR(VLOOKUP(Tabla4[[#This Row],[NOMBRE]],TablaEMPLEADOS[],2,0),\"\")","v":""}]
[null,null,null,{"$f":"COUNTIF($E$4:E795, VERIFICACIONLICENCIA!$F$3)","v":4},null,{"$f":"IFERROR(VLOOKUP(Tabla4[[#This Row],[NOMBRE]],TablaEMPLEADOS[],2,0),\"\")","v":""}]
[null,null,null,{"$f":"COUNTIF($E$4:E796, VERIFICACIONLICENCIA!$F$3)","v":4},null,{"$f":"IFERROR(VLOOKUP(Tabla4[[#This Row],[NOMBRE]],TablaEMPLEADOS[],2,0),\"\")","v":""}]
[null,null,null,{"$f":"COUNTIF($E$4:E797, VERIFICACIONLICENCIA!$F$3)","v":4},null,{"$f":"IFERROR(VLOOKUP(Tabla4[[#This Row],[NOMBRE]],TablaEMPLEADOS[],2,0),\"\")","v":""}]
[null,null,null,{"$f":"COUNTIF($E$4:E798, VERIFICACIONLICENCIA!$F$3)","v":4},null,{"$f":"IFERROR(VLOOKUP(Tabla4[[#This Row],[NOMBRE]],TablaEMPLEADOS[],2,0),\"\")","v":""}]
[null,null,null,{"$f":"COUNTIF($E$4:E799, VERIFICACIONLICENCIA!$F$3)","v":4},null,{"$f":"IFERROR(VLOOKUP(Tabla4[[#This Row],[NOMBRE]],TablaEMPLEADOS[],2,0),\"\")","v":""}]
[null,null,null,{"$f":"COUNTIF($E$4:E800, VERIFICACIONLICENCIA!$F$3)","v":4},null,{"$f":"IFERROR(VLOOKUP(Tabla4[[#This Row],[NOMBRE]],TablaEMPLEADOS[],2,0),\"\")","v":""}]
[null,null,null,{"$f":"COUNTIF($E$4:E801, VERIFICACIONLICENCIA!$F$3)","v":4},null,{"$f":"IFERROR(VLOOKUP(Tabla4[[#This Row],[NOMBRE]],TablaEMPLEADOS[],2,0),\"\")","v":""}]
[null,null,null,{"$f":"COUNTIF($E$4:E802, VERIFICACIONLICENCIA!$F$3)","v":4},null,{"$f":"IFERROR(VLOOKUP(Tabla4[[#This Row],[NOMBRE]],TablaEMPLEADOS[],2,0),\"\")","v":""}]
[null,null,null,{"$f":"COUNTIF($E$4:E803, VERIFICACIONLICENCIA!$F$3)","v":4},null,{"$f":"IFERROR(VLOOKUP(Tabla4[[#This Row],[NOMBRE]],TablaEMPLEADOS[],2,0),\"\")","v":""}]
[null,null,null,{"$f":"COUNTIF($E$4:E804, VERIFICACIONLICENCIA!$F$3)","v":4},null,{"$f":"IFERROR(VLOOKUP(Tabla4[[#This Row],[NOMBRE]],TablaEMPLEADOS[],2,0),\"\")","v":""}]
[null,null,null,{"$f":"COUNTIF($E$4:E805, VERIFICACIONLICENCIA!$F$3)","v":4},null,{"$f":"IFERROR(VLOOKUP(Tabla4[[#This Row],[NOMBRE]],TablaEMPLEADOS[],2,0),\"\")","v":""}]
[null,null,null,{"$f":"COUNTIF($E$4:E806, VERIFICACIONLICENCIA!$F$3)","v":4},null,{"$f":"IFERROR(VLOOKUP(Tabla4[[#This Row],[NOMBRE]],TablaEMPLEADOS[],2,0),\"\")","v":""}]
[null,null,null,{"$f":"COUNTIF($E$4:E807, VERIFICACIONLICENCIA!$F$3)","v":4},null,{"$f":"IFERROR(VLOOKUP(Tabla4[[#This Row],[NOMBRE]],TablaEMPLEADOS[],2,0),\"\")","v":""}]
[null,null,null,{"$f":"COUNTIF($E$4:E808, VERIFICACIONLICENCIA!$F$3)","v":4},null,{"$f":"IFERROR(VLOOKUP(Tabla4[[#This Row],[NOMBRE]],TablaEMPLEADOS[],2,0),\"\")","v":""}]
[null,null,null,{"$f":"COUNTIF($E$4:E809, VERIFICACIONLICENCIA!$F$3)","v":4},null,{"$f":"IFERROR(VLOOKUP(Tabla4[[#This Row],[NOMBRE]],TablaEMPLEADOS[],2,0),\"\")","v":""}]
[null,null,null,{"$f":"COUNTIF($E$4:E810, VERIFICACIONLICENCIA!$F$3)","v":4},null,{"$f":"IFERROR(VLOOKUP(Tabla4[[#This Row],[NOMBRE]],TablaEMPLEADOS[],2,0),\"\")","v":""}]
[null,null,null,{"$f":"COUNTIF($E$4:E811, VERIFICACIONLICENCIA!$F$3)","v":4},null,{"$f":"IFERROR(VLOOKUP(Tabla4[[#This Row],[NOMBRE]],TablaEMPLEADOS[],2,0),\"\")","v":""}]
[null,null,null,{"$f":"COUNTIF($E$4:E812, VERIFICACIONLICENCIA!$F$3)","v":4},null,{"$f":"IFERROR(VLOOKUP(Tabla4[[#This Row],[NOMBRE]],TablaEMPLEADOS[],2,0),\"\")","v":""}]

{"sheet":"VERIFICACIONLICENCIA","index":7,"n_rows":484,"n_cols":9,"rows_kept":484,"cut":false,"hidden":false,"merged":[[2,5,2,7]]}
[]
[]
[null,null,null,null,"NOIMBRE EMPLEADO","WALDO ARTURO IBAÑEZ LISBOA"]
[]
[]
[null,null,null,"No","NOMBRE","RUT","FECHA INICIO","FECHA FINAL","DURACION"]
[null,null,null,1,{"$f":"IFERROR(VLOOKUP(Tabla48[[#This Row],[No]],TablaLicencias,2,0),\"\")","v":"WALDO ARTURO IBAÑEZ LISBOA"},{"$f":"IFERROR(VLOOKUP(Tabla48[[#This Row],[No]],TablaLicencias,3,0),\"\")","v":""},{"$f":"IFERROR(VLOOKUP(Tabla48[[#This Row],[No]],TablaLicencias,4,0),\"\")","v":"2020-03-12"},{"$f":"IFERROR(VLOOKUP(Tabla48[[#This Row],[No]],TablaLicencias,5,0),\"\")","v":"2020-04-28"},{"$f":"IFERROR(VLOOKUP(Tabla48[[#This Row],[No]],TablaLicencias,6,0),\"\")","v":7}]
[null,null,null,2,{"$f":"IFERROR(VLOOKUP(Tabla48[[#This Row],[No]],TablaLicencias,2,0),\"\")","v":"WALDO ARTURO IBAÑEZ LISBOA"},{"$f":"IFERROR(VLOOKUP(Tabla48[[#This Row],[No]],TablaLicencias,3,0),\"\")","v":""},{"$f":"IFERROR(VLOOKUP(Tabla48[[#This Row],[No]],TablaLicencias,4,0),\"\")","v":"2020-04-29"},{"$f":"IFERROR(VLOOKUP(Tabla48[[#This Row],[No]],TablaLicencias,5,0),\"\")","v":"2020-05-12"},{"$f":"IFERROR(VLOOKUP(Tabla48[[#This Row],[No]],TablaLicencias,6,0),\"\")","v":14}]
[null,null,null,3,{"$f":"IFERROR(VLOOKUP(Tabla48[[#This Row],[No]],TablaLicencias,2,0),\"\")","v":"WALDO ARTURO IBAÑEZ LISBOA"},{"$f":"IFERROR(VLOOKUP(Tabla48[[#This Row],[No]],TablaLicencias,3,0),\"\")","v":""},{"$f":"IFERROR(VLOOKUP(Tabla48[[#This Row],[No]],TablaLicencias,4,0),\"\")","v":"2020-05-13"},{"$f":"IFERROR(VLOOKUP(Tabla48[[#This Row],[No]],TablaLicencias,5,0),\"\")","v":"2020-06-11"},{"$f":"IFERROR(VLOOKUP(Tabla48[[#This Row],[No]],TablaLicencias,6,0),\"\")","v":30}]
[null,null,null,4,{"$f":"IFERROR(VLOOKUP(Tabla48[[#This Row],[No]],TablaLicencias,2,0),\"\")","v":"WALDO ARTURO IBAÑEZ LISBOA"},{"$f":"IFERROR(VLOOKUP(Tabla48[[#This Row],[No]],TablaLicencias,3,0),\"\")","v":""},{"$f":"IFERROR(VLOOKUP(Tabla48[[#This Row],[No]],TablaLicencias,4,0),\"\")","v":"2020-06-12"},{"$f":"IFERROR(VLOOKUP(Tabla48[[#This Row],[No]],TablaLicencias,5,0),\"\")","v":"2020-07-16"},{"$f":"IFERROR(VLOOKUP(Tabla48[[#This Row],[No]],TablaLicencias,6,0),\"\")","v":45}]
[null,null,null,5,{"$f":"IFERROR(VLOOKUP(Tabla48[[#This Row],[No]],TablaLicencias,2,0),\"\")","v":""},{"$f":"IFERROR(VLOOKUP(Tabla48[[#This Row],[No]],TablaLicencias,3,0),\"\")","v":""},{"$f":"IFERROR(VLOOKUP(Tabla48[[#This Row],[No]],TablaLicencias,4,0),\"\")","v":""},{"$f":"IFERROR(VLOOKUP(Tabla48[[#This Row],[No]],TablaLicencias,5,0),\"\")","v":""},{"$f":"IFERROR(VLOOKUP(Tabla48[[#This Row],[No]],TablaLicencias,6,0),\"\")","v":""}]
[null,null,null,6,{"$f":"IFERROR(VLOOKUP(Tabla48[[#This Row],[No]],TablaLicencias,2,0),\"\")","v":""},{"$f":"IFERROR(VLOOKUP(Tabla48[[#This Row],[No]],TablaLicencias,3,0),\"\")","v":""},{"$f":"IFERROR(VLOOKUP(Tabla48[[#This Row],[No]],TablaLicencias,4,0),\"\")","v":""},{"$f":"IFERROR(VLOOKUP(Tabla48[[#This Row],[No]],TablaLicencias,5,0),\"\")","v":""},{"$f":"IFERROR(VLOOKUP(Tabla48[[#This Row],[No]],TablaLicencias,6,0),\"\")","v":""}]
[null,null,null,7,{"$f":"IFERROR(VLOOKUP(Tabla48[[#This Row],[No]],TablaLicencias,2,0),\"\")","v":""},{"$f":"IFERROR(VLOOKUP(Tabla48[[#This Row],[No]],TablaLicencias,3,0),\"\")","v":""},{"$f":"IFERROR(VLOOKUP(Tabla48[[#This Row],[No]],TablaLicencias,4,0),\"\")","v":""},{"$f":"IFERROR(VLOOKUP(Tabla48[[#This Row],[No]],TablaLicencias,5,0),\"\")","v":""},{"$f":"IFERROR(VLOOKUP(Tabla48[[#This Row],[No]],TablaLicencias,6,0),\"\")","v":""}]
[null,null,null,8,{"$f":"IFERROR(VLOOKUP(Tabla48[[#This Row],[No]],TablaLicencias,2,0),\"\")","v":""},{"$f":"IFERROR(VLOOKUP(Tabla48[[#This Row],[No]],TablaLicencias,3,0),\"\")","v":""},{"$f":"IFERROR(VLOOKUP(Tabla48[[#This Row],[No]],TablaLicencias,4,0),\"\")","v":""},{"$f":"IFERROR(VLOOKUP(Tabla48[[#This Row],[No]],TablaLicencias,5,0),\"\")","v":""},{"$f":"IFERROR(VLOOKUP(Tabla48[[#This Row],[No]],TablaLicencias,6,0),\"\")","v":""}]
[null,null,null,9,{"$f":"IFERROR(VLOOKUP(Tabla48[[#This Row],[No]],TablaLicencias,2,0),\"\")","v":""},{"$f":"IFERROR(VLOOKUP(Tabla48[[#This Row],[No]],TablaLicencias,3,0),\"\")","v":""},{"$f":"IFERROR(VLOOKUP(Tabla48[[#This Row],[No]],TablaLicencias,4,0),\"\")","v":""},{"$f":"IFERROR(VLOOKUP(Tabla48[[#This Row],[No]],TablaLicencias,5,0),\"\")","v":""},{"$f":"IFERROR(VLOOKUP(Tabla48[[#This Row],[No]],TablaLicencias,6,0),\"\")","v":""}]
[null,null,null,10,{"$f":"IFERROR(VLOOKUP(Tabla48[[#This Row],[No]],TablaLicencias,2,0),\"\")","v":""},{"$f":"IFERROR(VLOOKUP(Tabla48[[#This Row],[No]],TablaLicencias,3,0),\"\")","v":""},{"$f":"IFERROR(VLOOKUP(Tabla48[[#This Row],[No]],TablaLicencias,4,0),\"\")","v":""},{"$f":"IFERROR(VLOOKUP(Tabla48[[#This Row],[No]],TablaLicencias,5,0),\"\")","v":""},{"$f":"IFERROR(VLOOKUP(Tabla48[[#This Row],[No]],TablaLicencias,6,0),\"\")","v":""}]
[null,null,null,11,{"$f":"IFERROR(VLOOKUP(Tabla48[[#This Row],[No]],TablaLicencias,2,0),\"\")","v":""},{"$f":"IFERROR(VLOOKUP(Tabla48[[#This Row],[No]],TablaLicencias,3,0),\"\")","v":""},{"$f":"IFERROR(VLOOKUP(Tabla48[[#This Row],[No]],TablaLicencias,4,0),\"\")","v":""},{"$f":"IFERROR(VLOOKUP(Tabla48[[#This Row],[No]],TablaLicencias,5,0),\"\")","v":""},{"$f":"IFERROR(VLOOKUP(Tabla48[[#This Row],[No]],TablaLicencias,6,0),\"\")","v":""}]
[null,null,null,12,{"$f":"IFERROR(VLOOKUP(Tabla48[[#This Row],[No]],TablaLicencias,2,0),\"\")","v":""},{"$f":"IFERROR(VLOOKUP(Tabla48[[#This Row],[No]],TablaLicencias,3,0),\"\")","v":""},{"$f":"IFERROR(VLOOKUP(Tabla48[[#This Row],[No]],TablaLicencias,4,0),\"\")","v":""},{"$f":"IFERROR(VLOOKUP(Tabla48[[#This Row],[No]],TablaLicencias,5,0),\"\")","v":""},{"$f":"IFERROR(VLOOKUP(Tabla48[[#This Row],[No]],TablaLicencias,6,0),\"\")","v":""}]
[null,null,null,13,{"$f":"IFERROR(VLOOKUP(Tabla48[[#This Row],[No]],TablaLicencias,2,0),\"\")","v":""},{"$f":"IFERROR(VLOOKUP(Tabla48[[#This Row],[No]],TablaLicencias,3,0),\"\")","v":""},{"$f":"IFERROR(VLOOKUP(Tabla48[[#This Row],[No]],TablaLicencias,4,0),\"\")","v":""},{"$f":"IFERROR(VLOOKUP(Tabla48[[#This Row],[No]],TablaLicencias,5,0),\"\")","v":""},{"$f":"IFERROR(VLOOKUP(Tabla48[[#This Row],[No]],TablaLicencias,6,0),\"\")","v":""}]
[null,null,null,14,{"$f":"IFERROR(VLOOKUP(Tabla48[[#This Row],[No]],TablaLicencias,2,0),\"\")","v":""},{"$f":"IFERROR(VLOOKUP(Tabla48[[#This Row],[No]],TablaLicencias,3,0),\"\")","v":""},{"$f":"IFERROR(VLOOKUP(Tabla48[[#This Row],[No]],TablaLicencias,4,0),\"\")","v":""},{"$f":"IFERROR(VLOOKUP(Tabla48[[#This Row],[No]],TablaLicencias,5,0),\"\")","v":""},{"$f":"IFERROR(VLOOKUP(Tabla48[[#This Row],[No]],TablaLicencias,6,0),\"\")","v":""}]
[null,null,null,15,{"$f":"IFERROR(VLOOKUP(Tabla48[[#This Row],[No]],TablaLicencias,2,0),\"\")","v":""},{"$f":"IFERROR(VLOOKUP(Tabla48[[#This Row],[No]],TablaLicencias,3,0),\"\")","v":""},{"$f":"IFERROR(VLOOKUP(Tabla48[[#This Row],[No]],TablaLicencias,4,0),\"\")","v":""},{"$f":"IFERROR(VLOOKUP(Tabla48[[#This Row],[No]],TablaLicencias,5,0),\"\")","v":""},{"$f":"IFERROR(VLOOKUP(Tabla48[[#This Row],[No]],TablaLicencias,6,0),\"\")","v":""}]
[null,null,null,16,{"$f":"IFERROR(VLOOKUP(Tabla48[[#This Row],[No]],TablaLicencias,2,0),\"\")","v":""},{"$f":"IFERROR(VLOOKUP(Tabla48[[#This Row],[No]],TablaLicencias,3,0),\"\")","v":""},{"$f":"IFERROR(VLOOKUP(Tabla48[[#This Row],[No]],TablaLicencias,4,0),\"\")","v":""},{"$f":"IFERROR(VLOOKUP(Tabla48[[#This Row],[No]],TablaLicencias,5,0),\"\")","v":""},{"$f":"IFERROR(VLOOKUP(Tabla48[[#This Row],[No]],TablaLicencias,6,0),\"\")","v":""}]
[null,null,null,17,{"$f":"IFERROR(VLOOKUP(Tabla48[[#This Row],[No]],TablaLicencias,2,0),\"\")","v":""},{"$f":"IFERROR(VLOOKUP(Tabla48[[#This Row],[No]],TablaLicencias,3,0),\"\")","v":""},{"$f":"IFERROR(VLOOKUP(Tabla48[[#This Row],[No]],TablaLicencias,4,0),\"\")","v":""},{"$f":"IFERROR(VLOOKUP(Tabla48[[#This Row],[No]],TablaLicencias,5,0),\"\")","v":""},{"$f":"IFERROR(VLOOKUP(Tabla48[[#This Row],[No]],TablaLicencias,6,0),\"\")","v":""}]
[null,null,null,18,{"$f":"IFERROR(VLOOKUP(Tabla48[[#This Row],[No]],TablaLicencias,2,0),\"\")","v":""},{"$f":"IFERROR(VLOOKUP(Tabla48[[#This Row],[No]],TablaLicencias,3,0),\"\")","v":""},{"$f":"IFERROR(VLOOKUP(Tabla48[[#This Row],[No]],TablaLicencias,4,0),\"\")","v":""},{"$f":"IFERROR(VLOOKUP(Tabla48[[#This Row],[No]],TablaLicencias,5,0),\"\")","v":""},{"$f":"IFERROR(VLOOKUP(Tabla48[[#This Row],[No]],TablaLicencias,6,0),\"\")","v":""}]
[null,null,null,19,{"$f":"IFERROR(VLOOKUP(Tabla48[[#This Row],[No]],TablaLicencias,2,0),\"\")","v":""},{"$f":"IFERROR(VLOOKUP(Tabla48[[#This Row],[No]],TablaLicencias,3,0),\"\")","v":""},{"$f":"IFERROR(VLOOKUP(Tabla48[[#This Row],[No]],TablaLicencias,4,0),\"\")","v":""},{"$f":"IFERROR(VLOOKUP(Tabla48[[#This Row],[No]],TablaLicencias,5,0),\"\")","v":""},{"$f":"IFERROR(VLOOKUP(Tabla48[[#This Row],[No]],TablaLicencias,6,0),\"\")","v":""}]
[null,null,null,20,{"$f":"IFERROR(VLOOKUP(Tabla48[[#This Row],[No]],TablaLicencias,2,0),\"\")","v":""},{"$f":"IFERROR(VLOOKUP(Tabla48[[#This Row],[No]],TablaLicencias,3,0),\"\")","v":""},{"$f":"IFERROR(VLOOKUP(Tabla48[[#This Row],[No]],TablaLicencias,4,0),\"\")","v":""},{"$f":"IFERROR(VLOOKUP(Tabla48[[#This Row],[No]],TablaLicencias,5,0),\"\")","v":""},{"$f":"IFERROR(VLOOKUP(Tabla48[[#This Row],[No]],TablaLicencias,6,0),\"\")","v":""}]
[null,null,null,21,{"$f":"IFERROR(VLOOKUP(Tabla48[[#This Row],[No]],TablaLicencias,2,0),\"\")","v":""},{"$f":"IFERROR(VLOOKUP(Tabla48[[#This Row],[No]],TablaLicencias,3,0),\"\")","v":""},{"$f":"IFERROR(VLOOKUP(Tabla48[[#This Row],[No]],TablaLicencias,4,0),\"\")","v":""},{"$f":"IFERROR(VLOOKUP(Tabla48[[#This Row],[No]],TablaLicencias,5,0),\"\")","v":""},{"$f":"IFERROR(VLOOKUP(Tabla48[[#This Row],[No]],TablaLicencias,6,0),\"\")","v":""}]
[null,null,null,22,{"$f":"IFERROR(VLOOKUP(Tabla48[[#This Row],[No]],TablaLicencias,2,0),\"\")","v":""},{"$f":"IFERROR(VLOOKUP(Tabla48[[#This Row],[No]],TablaLicencias,3,0),\"\")","v":""},{"$f":"IFERROR(VLOOKUP(Tabla48[[#This Row],[No]],TablaLicencias,4,0),\"\")","v":""},{"$f":"IFERROR(VLOOKUP(Tabla48[[#This Row],[No]],TablaLicencias,5,0),\"\")","v":""},{"$f":"IFERROR(VLOOKUP(Tabla48[[#This Row],[No]],TablaLicencias,6,0),\"\")","v":""}]
[null,null,null,23,{"$f":"IFERROR(VLOOKUP(Tabla48[[#This Row],[No]],TablaLicencias,2,0),\"\")","v":""},{"$f":"IFERROR(VLOOKUP(Tabla48[[#This Row],[No]],TablaLicencias,3,0),\"\")","v":""},{"$f":"IFERROR(VLOOKUP(Tabla48[[#This Row],[No]],TablaLicencias,4,0),\"\")","v":""},{"$f":"IFERROR(VLOOKUP(Tabla48[[#This Row],[No]],TablaLicencias,5,0),\"\")","v":""},{"$f":"IFERROR(VLOOKUP(Tabla48[[#This Row],[No]],TablaLicencias,6,0),\"\")","v":""}]
[null,null,null,24,{"$f":"IFERROR(VLOOKUP(Tabla48[[#This Row],[No]],TablaLicencias,2,0),\"\")","v":""},{"$f":"IFERROR(VLOOKUP(Tabla48[[#This Row],[No]],TablaLicencias,3,0),\"\")","v":""},{"$f":"IFERROR(VLOOKUP(Tabla48[[#This Row],[No]],TablaLicencias,4,0),\"\")","v":""},{"$f":"IFERROR(VLOOKUP(Tabla48[[#This Row],[No]],TablaLicencias,5,0),\"\")","v":""},{"$f":"IFERROR(VLOOKUP(Tabla48[[#This Row],[No]],TablaLicencias,6,0),\"\")","v":""}]
[null,null,null,25,{"$f":"IFERROR(VLOOKUP(Tabla48[[#This Row],[No]],TablaLicencias,2,0),\"\")","v":""},{"$f":"IFERROR(VLOOKUP(Tabla48[[#This Row],[No]],TablaLicencias,3,0),\"\")","v":""},{"$f":"IFERROR(VLOOKUP(Tabla48[[#This Row],[No]],TablaLicencias,4,0),\"\")","v":""},{"$f":"IFERROR(VLOOKUP(Tabla48[[#This Row],[No]],TablaLicencias,5,0),\"\")","v":""},{"$f":"IFERROR(VLOOKUP(Tabla48[[#This Row],[No]],TablaLicencias,6,0),\"\")","v":""}]
[null,null,null,26,{"$f":"IFERROR(VLOOKUP(Tabla48[[#This Row],[No]],TablaLicencias,2,0),\"\")","v":""},{"$f":"IFERROR(VLOOKUP(Tabla48[[#This Row],[No]],TablaLicencias,3,0),\"\")","v":""},{"$f":"IFERROR(VLOOKUP(Tabla48[[#This Row],[No]],TablaLicencias,4,0),\"\")","v":""},{"$f":"IFERROR(VLOOKUP(Tabla48[[#This Row],[No]],TablaLicencias,5,0),\"\")","v":""},{"$f":"IFERROR(VLOOKUP(Tabla48[[#This Row],[No]],TablaLicencias,6,0),\"\")","v":""}]
[null,null,null,27,{"$f":"IFERROR(VLOOKUP(Tabla48[[#This Row],[No]],TablaLicencias,2,0),\"\")","v":""},{"$f":"IFERROR(VLOOKUP(Tabla48[[#This Row],[No]],TablaLicencias,3,0),\"\")","v":""},{"$f":"IFERROR(VLOOKUP(Tabla48[[#This Row],[No]],TablaLicencias,4,0),\"\")","v":""},{"$f":"IFERROR(VLOOKUP(Tabla48[[#This Row],[No]],TablaLicencias,5,0),\"\")","v":""},{"$f":"IFERROR(VLOOKUP(Tabla48[[#This Row],[No]],TablaLicencias,6,0),\"\")","v":""}]
[null,null,null,28,{"$f":"IFERROR(VLOOKUP(Tabla48[[#This Row],[No]],TablaLicencias,2,0),\"\")","v":""},{"$f":"IFERROR(VLOOKUP(Tabla48[[#This Row],[No]],TablaLicencias,3,0),\"\")","v":""},{"$f":"IFERROR(VLOOKUP(Tabla48[[#This Row],[No]],TablaLicencias,4,0),\"\")","v":""},{"$f":"IFERROR(VLOOKUP(Tabla48[[#This Row],[No]],TablaLicencias,5,0),\"\")","v":""},{"$f":"IFERROR(VLOOKUP(Tabla48[[#This Row],[No]],TablaLicencias,6,0),\"\")","v":""}]
[null,null,null,29,{"$f":"IFERROR(VLOOKUP(Tabla48[[#This Row],[No]],TablaLicencias,2,0),\"\")","v":""},{"$f":"IFERROR(VLOOKUP(Tabla48[[#This Row],[No]],TablaLicencias,3,0),\"\")","v":""},{"$f":"IFERROR(VLOOKUP(Tabla48[[#This Row],[No]],TablaLicencias,4,0),\"\")","v":""},{"$f":"IFERROR(VLOOKUP(Tabla48[[#This Row],[No]],TablaLicencias,5,0),\"\")","v":""},{"$f":"IFERROR(VLOOKUP(Tabla48[[#This Row],[No]],TablaLicencias,6,0),\"\")","v":""}]
[null,null,null,30,{"$f":"IFERROR(VLOOKUP(Tabla48[[#This Row],[No]],TablaLicencias,2,0),\"\")","v":""},{"$f":"IFERROR(VLOOKUP(Tabla48[[#This Row],[No]],TablaLicencias,3,0),\"\")","v":""},{"$f":"IFERROR(VLOOKUP(Tabla48[[#This Row],[No]],TablaLicencias,4,0),\"\")","v":""},{"$f":"IFERROR(VLOOKUP(Tabla48[[#This Row],[No]],TablaLicencias,5,0),\"\")","v":""},{"$f":"IFERROR(VLOOKUP(Tabla48[[#This Row],[No]],TablaLicencias,6,0),\"\")","v":""}]
[null,null,null,31,{"$f":"IFERROR(VLOOKUP(Tabla48[[#This Row],[No]],TablaLicencias,2,0),\"\")","v":""},{"$f":"IFERROR(VLOOKUP(Tabla48[[#This Row],[No]],TablaLicencias,3,0),\"\")","v":""},{"$f":"IFERROR(VLOOKUP(Tabla48[[#This Row],[No]],TablaLicencias,4,0),\"\")","v":""},{"$f":"IFERROR(VLOOKUP(Tabla48[[#This Row],[No]],TablaLicencias,5,0),\"\")","v":""},{"$f":"IFERROR(VLOOKUP(Tabla48[[#This Row],[No]],TablaLicencias,6,0),\"\")","v":""}]
[null,null,null,32,{"$f":"IFERROR(VLOOKUP(Tabla48[[#This Row],[No]],TablaLicencias,2,0),\"\")","v":""},{"$f":"IFERROR(VLOOKUP(Tabla48[[#This Row],[No]],TablaLicencias,3,0),\"\")","v":""},{"$f":"IFERROR(VLOOKUP(Tabla48[[#This Row],[No]],TablaLicencias,4,0),\"\")","v":""},{"$f":"IFERROR(VLOOKUP(Tabla48[[#This Row],[No]],TablaLicencias,5,0),\"\")","v":""},{"$f":"IFERROR(VLOOKUP(Tabla48[[#This Row],[No]],TablaLicencias,6,0),\"\")","v":""}]
[null,null,null,33,{"$f":"IFERROR(VLOOKUP(Tabla48[[#This Row],[No]],TablaLicencias,2,0),\"\")","v":""},{"$f":"IFERROR(VLOOKUP(Tabla48[[#This Row],[No]],TablaLicencias,3,0),\"\")","v":""},{"$f":"IFERROR(VLOOKUP(Tabla48[[#This Row],[No]],TablaLicencias,4,0),\"\")","v":""},{"$f":"IFERROR(VLOOKUP(Tabla48[[#This Row],[No]],TablaLicencias,5,0),\"\")","v":""},{"$f":"IFERROR(VLOOKUP(Tabla48[[#This Row],[No]],TablaLicencias,6,0),\"\")","v":""}]
[null,null,null,34,{"$f":"IFERROR(VLOOKUP(Tabla48[[#This Row],[No]],TablaLicencias,2,0),\"\")","v":""},{"$f":"IFERROR(VLOOKUP(Tabla48[[#This Row],[No]],TablaLicencias,3,0),\"\")","v":""},{"$f":"IFERROR(VLOOKUP(Tabla48[[#This Row],[No]],TablaLicencias,4,0),\"\")","v":""},{"$f":"IFERROR(VLOOKUP(Tabla48[[#This Row],[No]],TablaLicencias,5,0),\"\")","v":""},{"$f":"IFERROR(VLOOKUP(Tabla48[[#This Row],[No]],TablaLicencias,6,0),\"\")","v":""}]
[null,null,null,35,{"$f":"IFERROR(VLOOKUP(Tabla48[[#This Row],[No]],TablaLicencias,2,0),\"\")","v":""},{"$f":"IFERROR(VLOOKUP(Tabla48[[#This Row],[No]],TablaLicencias,3,0),\"\")","v":""},{"$f":"IFERROR(VLOOKUP(Tabla48[[#This Row],[No]],TablaLicencias,4,0),\"\")","v":""},{"$f":"IFERROR(VLOOKUP(Tabla48[[#This Row],[No]],TablaLicencias,5,0),\"\")","v":""},{"$f":"IFERROR(VLOOKUP(Tabla48[[#This Row],[No]],TablaLicencias,6,0),\"\")","v":""}]
[null,null,null,36,{"$f":"IFERROR(VLOOKUP(Tabla48[[#This Row],[No]],TablaLicencias,2,0),\"\")","v":""},{"$f":"IFERROR(VLOOKUP(Tabla48[[#This Row],[No]],TablaLicencias,3,0),\"\")","v":""},{"$f":"IFERROR(VLOOKUP(Tabla48[[#This Row],[No]],TablaLicencias,4,0),\"\")","v":""},{"$f":"IFERROR(VLOOKUP(Tabla48[[#This Row],[No]],TablaLicencias,5,0),\"\")","v":""},{"$f":"IFERROR(VLOOKUP(Tabla48[[#This Row],[No]],TablaLicencias,6,0),\"\")","v":""}]
[null,null,null,37,{"$f":"IFERROR(VLOOKUP(Tabla48[[#This Row],[No]],TablaLicencias,2,0),\"\")","v":""},{"$f":"IFERROR(VLOOKUP(Tabla48[[#This Row],[No]],TablaLicencias,3,0),\"\")","v":""},{"$f":"IFERROR(VLOOKUP(Tabla48[[#This Row],[No]],TablaLicencias,4,0),\"\")","v":""},{"$f":"IFERROR(VLOOKUP(Tabla48[[#This Row],[No]],TablaLicencias,5,0),\"\")","v":""},{"$f":"IFERROR(VLOOKUP(Tabla48[[#This Row],[No]],TablaLicencias,6,0),\"\")","v":""}]
[null,null,null,38,{"$f":"IFERROR(VLOOKUP(Tabla48[[#This Row],[No]],TablaLicencias,2,0),\"\")","v":""},{"$f":"IFERROR(VLOOKUP(Tabla48[[#This Row],[No]],TablaLicencias,3,0),\"\")","v":""},{"$f":"IFERROR(VLOOKUP(Tabla48[[#This Row],[No]],TablaLicencias,4,0),\"\")","v":""},{"$f":"IFERROR(VLOOKUP(Tabla48[[#This Row],[No]],TablaLicencias,5,0),\"\")","v":""},{"$f":"IFERROR(VLOOKUP(Tabla48[[#This Row],[No]],TablaLicencias,6,0),\"\")","v":""}]
[null,null,null,39,{"$f":"IFERROR(VLOOKUP(Tabla48[[#This Row],[No]],TablaLicencias,2,0),\"\")","v":""},{"$f":"IFERROR(VLOOKUP(Tabla48[[#This Row],[No]],TablaLicencias,3,0),\"\")","v":""},{"$f":"IFERROR(VLOOKUP(Tabla48[[#This Row],[No]],TablaLicencias,4,0),\"\")","v":""},{"$f":"IFERROR(VLOOKUP(Tabla48[[#This Row],[No]],TablaLicencias,5,0),\"\")","v":""},{"$f":"IFERROR(VLOOKUP(Tabla48[[#This Row],[No]],TablaLicencias,6,0),\"\")","v":""}]
[null,null,null,40,{"$f":"IFERROR(VLOOKUP(Tabla48[[#This Row],[No]],TablaLicencias,2,0),\"\")","v":""},{"$f":"IFERROR(VLOOKUP(Tabla48[[#This Row],[No]],TablaLicencias,3,0),\"\")","v":""},{"$f":"IFERROR(VLOOKUP(Tabla48[[#This Row],[No]],TablaLicencias,4,0),\"\")","v":""},{"$f":"IFERROR(VLOOKUP(Tabla48[[#This Row],[No]],TablaLicencias,5,0),\"\")","v":""},{"$f":"IFERROR(VLOOKUP(Tabla48[[#This Row],[No]],TablaLicencias,6,0),\"\")","v":""}]
[null,null,null,41,{"$f":"IFERROR(VLOOKUP(Tabla48[[#This Row],[No]],TablaLicencias,2,0),\"\")","v":""},{"$f":"IFERROR(VLOOKUP(Tabla48[[#This Row],[No]],TablaLicencias,3,0),\"\")","v":""},{"$f":"IFERROR(VLOOKUP(Tabla48[[#This Row],[No]],TablaLicencias,4,0),\"\")","v":""},{"$f":"IFERROR(VLOOKUP(Tabla48[[#This Row],[No]],TablaLicencias,5,0),\"\")","v":""},{"$f":"IFERROR(VLOOKUP(Tabla48[[#This Row],[No]],TablaLicencias,6,0),\"\")","v":""}]
[null,null,null,42,{"$f":"IFERROR(VLOOKUP(Tabla48[[#This Row],[No]],TablaLicencias,2,0),\"\")","v":""},{"$f":"IFERROR(VLOOKUP(Tabla48[[#This Row],[No]],TablaLicencias,3,0),\"\")","v":""},{"$f":"IFERROR(VLOOKUP(Tabla48[[#This Row],[No]],TablaLicencias,4,0),\"\")","v":""},{"$f":"IFERROR(VLOOKUP(Tabla48[[#This Row],[No]],TablaLicencias,5,0),\"\")","v":""},{"$f":"IFERROR(VLOOKUP(Tabla48[[#This Row],[No]],TablaLicencias,6,0),\"\")","v":""}]
[null,null,null,43,{"$f":"IFERROR(VLOOKUP(Tabla48[[#This Row],[No]],TablaLicencias,2,0),\"\")","v":""},{"$f":"IFERROR(VLOOKUP(Tabla48[[#This Row],[No]],TablaLicencias,3,0),\"\")","v":""},{"$f":"IFERROR(VLOOKUP(Tabla48[[#This Row],[No]],TablaLicencias,4,0),\"\")","v":""},{"$f":"IFERROR(VLOOKUP(Tabla48[[#This Row],[No]],TablaLicencias,5,0),\"\")","v":""},{"$f":"IFERROR(VLOOKUP(Tabla48[[#This Row],[No]],TablaLicencias,6,0),\"\")","v":""}]
[null,null,null,44,{"$f":"IFERROR(VLOOKUP(Tabla48[[#This Row],[No]],TablaLicencias,2,0),\"\")","v":""},{"$f":"IFERROR(VLOOKUP(Tabla48[[#This Row],[No]],TablaLicencias,3,0),\"\")","v":""},{"$f":"IFERROR(VLOOKUP(Tabla48[[#This Row],[No]],TablaLicencias,4,0),\"\")","v":""},{"$f":"IFERROR(VLOOKUP(Tabla48[[#This Row],[No]],TablaLicencias,5,0),\"\")","v":""},{"$f":"IFERROR(VLOOKUP(Tabla48[[#This Row],[No]],TablaLicencias,6,0),\"\")","v":""}]
[null,null,null,45,{"$f":"IFERROR(VLOOKUP(Tabla48[[#This Row],[No]],TablaLicencias,2,0),\"\")","v":""},{"$f":"IFERROR(VLOOKUP(Tabla48[[#This Row],[No]],TablaLicencias,3,0),\"\")","v":""},{"$f":"IFERROR(VLOOKUP(Tabla48[[#This Row],[No]],TablaLicencias,4,0),\"\")","v":""},{"$f":"IFERROR(VLOOKUP(Tabla48[[#This Row],[No]],TablaLicencias,5,0),\"\")","v":""},{"$f":"IFERROR(VLOOKUP(Tabla48[[#This Row],[No]],TablaLicencias,6,0),\"\")","v":""}]
[null,null,null,46,{"$f":"IFERROR(VLOOKUP(Tabla48[[#This Row],[No]],TablaLicencias,2,0),\"\")","v":""},{"$f":"IFERROR(VLOOKUP(Tabla48[[#This Row],[No]],TablaLicencias,3,0),\"\")","v":""},{"$f":"IFERROR(VLOOKUP(Tabla48[[#This Row],[No]],TablaLicencias,4,0),\"\")","v":""},{"$f":"IFERROR(VLOOKUP(Tabla48[[#This Row],[No]],TablaLicencias,5,0),\"\")","v":""},{"$f":"IFERROR(VLOOKUP(Tabla48[[#This Row],[No]],TablaLicencias,6,0),\"\")","v":""}]
[null,null,null,47,{"$f":"IFERROR(VLOOKUP(Tabla48[[#This Row],[No]],TablaLicencias,2,0),\"\")","v":""},{"$f":"IFERROR(VLOOKUP(Tabla48[[#This Row],[No]],TablaLicencias,3,0),\"\")","v":""},{"$f":"IFERROR(VLOOKUP(Tabla48[[#This Row],[No]],TablaLicencias,4,0),\"\")","v":""},{"$f":"IFERROR(VLOOKUP(Tabla48[[#This Row],[No]],TablaLicencias,5,0),\"\")","v":""},{"$f":"IFERROR(VLOOKUP(Tabla48[[#This Row],[No]],TablaLicencias,6,0),\"\")","v":""}]
[null,null,null,48,{"$f":"IFERROR(VLOOKUP(Tabla48[[#This Row],[No]],TablaLicencias,2,0),\"\")","v":""},{"$f":"IFERROR(VLOOKUP(Tabla48[[#This Row],[No]],TablaLicencias,3,0),\"\")","v":""},{"$f":"IFERROR(VLOOKUP(Tabla48[[#This Row],[No]],TablaLicencias,4,0),\"\")","v":""},{"$f":"IFERROR(VLOOKUP(Tabla48[[#This Row],[No]],TablaLicencias,5,0),\"\")","v":""},{"$f":"IFERROR(VLOOKUP(Tabla48[[#This Row],[No]],TablaLicencias,6,0),\"\")","v":""}]
[null,null,null,49,{"$f":"IFERROR(VLOOKUP(Tabla48[[#This Row],[No]],TablaLicencias,2,0),\"\")","v":""},{"$f":"IFERROR(VLOOKUP(Tabla48[[#This Row],[No]],TablaLicencias,3,0),\"\")","v":""},{"$f":"IFERROR(VLOOKUP(Tabla48[[#This Row],[No]],TablaLicencias,4,0),\"\")","v":""},{"$f":"IFERROR(VLOOKUP(Tabla48[[#This Row],[No]],TablaLicencias,5,0),\"\")","v":""},{"$f":"IFERROR(VLOOKUP(Tabla48[[#This Row],[No]],TablaLicencias,6,0),\"\")","v":""}]
[null,null,null,50,{"$f":"IFERROR(VLOOKUP(Tabla48[[#This Row],[No]],TablaLicencias,2,0),\"\")","v":""},{"$f":"IFERROR(VLOOKUP(Tabla48[[#This Row],[No]],TablaLicencias,3,0),\"\")","v":""},{"$f":"IFERROR(VLOOKUP(Tabla48[[#This Row],[No]],TablaLicencias,4,0),\"\")","v":""},{"$f":"IFERROR(VLOOKUP(Tabla48[[#This Row],[No]],TablaLicencias,5,0),\"\")","v":""},{"$f":"IFERROR(VLOOKUP(Tabla48[[#This Row],[No]],TablaLicencias,6,0),\"\")","v":""}]
[null,null,null,51,{"$f":"IFERROR(VLOOKUP(Tabla48[[#This Row],[No]],TablaLicencias,2,0),\"\")","v":""},{"$f":"IFERROR(VLOOKUP(Tabla48[[#This Row],[No]],TablaLicencias,3,0),\"\")","v":""},{"$f":"IFERROR(VLOOKUP(Tabla48[[#This Row],[No]],TablaLicencias,4,0),\"\")","v":""},{"$f":"IFERROR(VLOOKUP(Tabla48[[#This Row],[No]],TablaLicencias,5,0),\"\")","v":""},{"$f":"IFERROR(VLOOKUP(Tabla48[[#This Row],[No]],TablaLicencias,6,0),\"\")","v":""}]
[null,null,null,52,{"$f":"IFERROR(VLOOKUP(Tabla48[[#This Row],[No]],TablaLicencias,2,0),\"\")","v":""},{"$f":"IFERROR(VLOOKUP(Tabla48[[#This Row],[No]],TablaLicencias,3,0),\"\")","v":""},{"$f":"IFERROR(VLOOKUP(Tabla48[[#This Row],[No]],TablaLicencias,4,0),\"\")","v":""},{"$f":"IFERROR(VLOOKUP(Tabla48[[#This Row],[No]],TablaLicencias,5,0),\"\")","v":""},{"$f":"IFERROR(VLOOKUP(Tabla48[[#This Row],[No]],TablaLicencias,6,0),\"\")","v":""}]
[null,null,null,53,{"$f":"IFERROR(VLOOKUP(Tabla48[[#This Row],[No]],TablaLicencias,2,0),\"\")","v":""},{"$f":"IFERROR(VLOOKUP(Tabla48[[#This Row],[No]],TablaLicencias,3,0),\"\")","v":""},{"$f":"IFERROR(VLOOKUP(Tabla48[[#This Row],[No]],TablaLicencias,4,0),\"\")","v":""},{"$f":"IFERROR(VLOOKUP(Tabla48[[#This Row],[No]],TablaLicencias,5,0),\"\")","v":""},{"$f":"IFERROR(VLOOKUP(Tabla48[[#This Row],[No]],TablaLicencias,6,0),\"\")","v":""}]
[null,null,null,54,{"$f":"IFERROR(VLOOKUP(Tabla48[[#This Row],[No]],TablaLicencias,2,0),\"\")","v":""},{"$f":"IFERROR(VLOOKUP(Tabla48[[#This Row],[No]],TablaLicencias,3,0),\"\")","v":""},{"$f":"IFERROR(VLOOKUP(Tabla48[[#This Row],[No]],TablaLicencias,4,0),\"\")","v":""},{"$f":"IFERROR(VLOOKUP(Tabla48[[#This Row],[No]],TablaLicencias,5,0),\"\")","v":""},{"$f":"IFERROR(VLOOKUP(Tabla48[[#This Row],[No]],TablaLicencias,6,0),\"\")","v":""}]
[null,null,null,55,{"$f":"IFERROR(VLOOKUP(Tabla48[[#This Row],[No]],TablaLicencias,2,0),\"\")","v":""},{"$f":"IFERROR(VLOOKUP(Tabla48[[#This Row],[No]],TablaLicencias,3,0),\"\")","v":""},{"$f":"IFERROR(VLOOKUP(Tabla48[[#This Row],[No]],TablaLicencias,4,0),\"\")","v":""},{"$f":"IFERROR(VLOOKUP(Tabla48[[#This Row],[No]],TablaLicencias,5,0),\"\")","v":""},{"$f":"IFERROR(VLOOKUP(Tabla48[[#This Row],[No]],TablaLicencias,6,0),\"\")","v":""}]
[null,null,null,56,{"$f":"IFERROR(VLOOKUP(Tabla48[[#This Row],[No]],TablaLicencias,2,0),\"\")","v":""},{"$f":"IFERROR(VLOOKUP(Tabla48[[#This Row],[No]],TablaLicencias,3,0),\"\")","v":""},{"$f":"IFERROR(VLOOKUP(Tabla48[[#This Row],[No]],TablaLicencias,4,0),\"\")","v":""},{"$f":"IFERROR(VLOOKUP(Tabla48[[#This Row],[No]],TablaLicencias,5,0),\"\")","v":""},{"$f":"IFERROR(VLOOKUP(Tabla48[[#This Row],[No]],TablaLicencias,6,0),\"\")","v":""}]
[null,null,null,57,{"$f":"IFERROR(VLOOKUP(Tabla48[[#This Row],[No]],TablaLicencias,2,0),\"\")","v":""},{"$f":"IFERROR(VLOOKUP(Tabla48[[#This Row],[No]],TablaLicencias,3,0),\"\")","v":""},{"$f":"IFERROR(VLOOKUP(Tabla48[[#This Row],[No]],TablaLicencias,4,0),\"\")","v":""},{"$f":"IFERROR(VLOOKUP(Tabla48[[#This Row],[No]],TablaLicencias,5,0),\"\")","v":""},{"$f":"IFERROR(VLOOKUP(Tabla48[[#This Row],[No]],TablaLicencias,6,0),\"\")","v":""}]
[null,null,null,58,{"$f":"IFERROR(VLOOKUP(Tabla48[[#This Row],[No]],TablaLicencias,2,0),\"\")","v":""},{"$f":"IFERROR(VLOOKUP(Tabla48[[#This Row],[No]],TablaLicencias,3,0),\"\")","v":""},{"$f":"IFERROR(VLOOKUP(Tabla48[[#This Row],[No]],TablaLicencias,4,0),\"\")","v":""},{"$f":"IFERROR(VLOOKUP(Tabla48[[#This Row],[No]],TablaLicencias,5,0),\"\")","v":""},{"$f":"IFERROR(VLOOKUP(Tabla48[[#This Row],[No]],TablaLicencias,6,0),\"\")","v":""}]
[null,null,null,59,{"$f":"IFERROR(VLOOKUP(Tabla48[[#This Row],[No]],TablaLicencias,2,0),\"\")","v":""},{"$f":"IFERROR(VLOOKUP(Tabla48[[#This Row],[No]],TablaLicencias,3,0),\"\")","v":""},{"$f":"IFERROR(VLOOKUP(Tabla48[[#This Row],[No]],TablaLicencias,4,0),\"\")","v":""},{"$f":"IFERROR(VLOOKUP(Tabla48[[#This Row],[No]],TablaLicencias,5,0),\"\")","v":""},{"$f":"IFERROR(VLOOKUP(Tabla48[[#This Row],[No]],TablaLicencias,6,0),\"\")","v":""}]
[null,null,null,60,{"$f":"IFERROR(VLOOKUP(Tabla48[[#This Row],[No]],TablaLicencias,2,0),\"\")","v":""},{"$f":"IFERROR(VLOOKUP(Tabla48[[#This Row],[No]],TablaLicencias,3,0),\"\")","v":""},{"$f":"IFERROR(VLOOKUP(Tabla48[[#This Row],[No]],TablaLicencias,4,0),\"\")","v":""},{"$f":"IFERROR(VLOOKUP(Tabla48[[#This Row],[No]],TablaLicencias,5,0),\"\")","v":""},{"$f":"IFERROR(VLOOKUP(Tabla48[[#This Row],[No]],TablaLicencias,6,0),\"\")","v":""}]
[null,null,null,61,{"$f":"IFERROR(VLOOKUP(Tabla48[[#This Row],[No]],TablaLicencias,2,0),\"\")","v":""},{"$f":"IFERROR(VLOOKUP(Tabla48[[#This Row],[No]],TablaLicencias,3,0),\"\")","v":""},{"$f":"IFERROR(VLOOKUP(Tabla48[[#This Row],[No]],TablaLicencias,4,0),\"\")","v":""},{"$f":"IFERROR(VLOOKUP(Tabla48[[#This Row],[No]],TablaLicencias,5,0),\"\")","v":""},{"$f":"IFERROR(VLOOKUP(Tabla48[[#This Row],[No]],TablaLicencias,6,0),\"\")","v":""}]
[null,null,null,62,{"$f":"IFERROR(VLOOKUP(Tabla48[[#This Row],[No]],TablaLicencias,2,0),\"\")","v":""},{"$f":"IFERROR(VLOOKUP(Tabla48[[#This Row],[No]],TablaLicencias,3,0),\"\")","v":""},{"$f":"IFERROR(VLOOKUP(Tabla48[[#This Row],[No]],TablaLicencias,4,0),\"\")","v":""},{"$f":"IFERROR(VLOOKUP(Tabla48[[#This Row],[No]],TablaLicencias,5,0),\"\")","v":""},{"$f":"IFERROR(VLOOKUP(Tabla48[[#This Row],[No]],TablaLicencias,6,0),\"\")","v":""}]
[null,null,null,63,{"$f":"IFERROR(VLOOKUP(Tabla48[[#This Row],[No]],TablaLicencias,2,0),\"\")","v":""},{"$f":"IFERROR(VLOOKUP(Tabla48[[#This Row],[No]],TablaLicencias,3,0),\"\")","v":""},{"$f":"IFERROR(VLOOKUP(Tabla48[[#This Row],[No]],TablaLicencias,4,0),\"\")","v":""},{"$f":"IFERROR(VLOOKUP(Tabla48[[#This Row],[No]],TablaLicencias,5,0),\"\")","v":""},{"$f":"IFERROR(VLOOKUP(Tabla48[[#This Row],[No]],TablaLicencias,6,0),\"\")","v":""}]
[null,null,null,64,{"$f":"IFERROR(VLOOKUP(Tabla48[[#This Row],[No]],TablaLicencias,2,0),\"\")","v":""},{"$f":"IFERROR(VLOOKUP(Tabla48[[#This Row],[No]],TablaLicencias,3,0),\"\")","v":""},{"$f":"IFERROR(VLOOKUP(Tabla48[[#This Row],[No]],TablaLicencias,4,0),\"\")","v":""},{"$f":"IFERROR(VLOOKUP(Tabla48[[#This Row],[No]],TablaLicencias,5,0),\"\")","v":""},{"$f":"IFERROR(VLOOKUP(Tabla48[[#This Row],[No]],TablaLicencias,6,0),\"\")","v":""}]
[null,null,null,65,{"$f":"IFERROR(VLOOKUP(Tabla48[[#This Row],[No]],TablaLicencias,2,0),\"\")","v":""},{"$f":"IFERROR(VLOOKUP(Tabla48[[#This Row],[No]],TablaLicencias,3,0),\"\")","v":""},{"$f":"IFERROR(VLOOKUP(Tabla48[[#This Row],[No]],TablaLicencias,4,0),\"\")","v":""},{"$f":"IFERROR(VLOOKUP(Tabla48[[#This Row],[No]],TablaLicencias,5,0),\"\")","v":""},{"$f":"IFERROR(VLOOKUP(Tabla48[[#This Row],[No]],TablaLicencias,6,0),\"\")","v":""}]
[null,null,null,66,{"$f":"IFERROR(VLOOKUP(Tabla48[[#This Row],[No]],TablaLicencias,2,0),\"\")","v":""},{"$f":"IFERROR(VLOOKUP(Tabla48[[#This Row],[No]],TablaLicencias,3,0),\"\")","v":""},{"$f":"IFERROR(VLOOKUP(Tabla48[[#This Row],[No]],TablaLicencias,4,0),\"\")","v":""},{"$f":"IFERROR(VLOOKUP(Tabla48[[#This Row],[No]],TablaLicencias,5,0),\"\")","v":""},{"$f":"IFERROR(VLOOKUP(Tabla48[[#This Row],[No]],TablaLicencias,6,0),\"\")","v":""}]
[null,null,null,67,{"$f":"IFERROR(VLOOKUP(Tabla48[[#This Row],[No]],TablaLicencias,2,0),\"\")","v":""},{"$f":"IFERROR(VLOOKUP(Tabla48[[#This Row],[No]],TablaLicencias,3,0),\"\")","v":""},{"$f":"IFERROR(VLOOKUP(Tabla48[[#This Row],[No]],TablaLicencias,4,0),\"\")","v":""},{"$f":"IFERROR(VLOOKUP(Tabla48[[#This Row],[No]],TablaLicencias,5,0),\"\")","v":""},{"$f":"IFERROR(VLOOKUP(Tabla48[[#This Row],[No]],TablaLicencias,6,0),\"\")","v":""}]
[null,null,null,68,{"$f":"IFERROR(VLOOKUP(Tabla48[[#This Row],[No]],TablaLicencias,2,0),\"\")","v":""},{"$f":"IFERROR(VLOOKUP(Tabla48[[#This Row],[No]],TablaLicencias,3,0),\"\")","v":""},{"$f":"IFERROR(VLOOKUP(Tabla48[[#This Row],[No]],TablaLicencias,4,0),\"\")","v":""},{"$f":"IFERROR(VLOOKUP(Tabla48[[#This Row],[No]],TablaLicencias,5,0),\"\")","v":""},{"$f":"IFERROR(VLOOKUP(Tabla48[[#This Row],[No]],TablaLicencias,6,0),\"\")","v":""}]
[null,null,null,69,{"$f":"IFERROR(VLOOKUP(Tabla48[[#This Row],[No]],TablaLicencias,2,0),\"\")","v":""},{"$f":"IFERROR(VLOOKUP(Tabla48[[#This Row],[No]],TablaLicencias,3,0),\"\")","v":""},{"$f":"IFERROR(VLOOKUP(Tabla48[[#This Row],[No]],TablaLicencias,4,0),\"\")","v":""},{"$f":"IFERROR(VLOOKUP(Tabla48[[#This Row],[No]],TablaLicencias,5,0),\"\")","v":""},{"$f":"IFERROR(VLOOKUP(Tabla48[[#This Row],[No]],TablaLicencias,6,0),\"\")","v":""}]
[null,null,null,70,{"$f":"IFERROR(VLOOKUP(Tabla48[[#This Row],[No]],TablaLicencias,2,0),\"\")","v":""},{"$f":"IFERROR(VLOOKUP(Tabla48[[#This Row],[No]],TablaLicencias,3,0),\"\")","v":""},{"$f":"IFERROR(VLOOKUP(Tabla48[[#This Row],[No]],TablaLicencias,4,0),\"\")","v":""},{"$f":"IFERROR(VLOOKUP(Tabla48[[#This Row],[No]],TablaLicencias,5,0),\"\")","v":""},{"$f":"IFERROR(VLOOKUP(Tabla48[[#This Row],[No]],TablaLicencias,6,0),\"\")","v":""}]
[null,null,null,71,{"$f":"IFERROR(VLOOKUP(Tabla48[[#This Row],[No]],TablaLicencias,2,0),\"\")","v":""},{"$f":"IFERROR(VLOOKUP(Tabla48[[#This Row],[No]],TablaLicencias,3,0),\"\")","v":""},{"$f":"IFERROR(VLOOKUP(Tabla48[[#This Row],[No]],TablaLicencias,4,0),\"\")","v":""},{"$f":"IFERROR(VLOOKUP(Tabla48[[#This Row],[No]],TablaLicencias,5,0),\"\")","v":""},{"$f":"IFERROR(VLOOKUP(Tabla48[[#This Row],[No]],TablaLicencias,6,0),\"\")","v":""}]
[null,null,null,72,{"$f":"IFERROR(VLOOKUP(Tabla48[[#This Row],[No]],TablaLicencias,2,0),\"\")","v":""},{"$f":"IFERROR(VLOOKUP(Tabla48[[#This Row],[No]],TablaLicencias,3,0),\"\")","v":""},{"$f":"IFERROR(VLOOKUP(Tabla48[[#This Row],[No]],TablaLicencias,4,0),\"\")","v":""},{"$f":"IFERROR(VLOOKUP(Tabla48[[#This Row],[No]],TablaLicencias,5,0),\"\")","v":""},{"$f":"IFERROR(VLOOKUP(Tabla48[[#This Row],[No]],TablaLicencias,6,0),\"\")","v":""}]
[null,null,null,73,{"$f":"IFERROR(VLOOKUP(Tabla48[[#This Row],[No]],TablaLicencias,2,0),\"\")","v":""},{"$f":"IFERROR(VLOOKUP(Tabla48[[#This Row],[No]],TablaLicencias,3,0),\"\")","v":""},{"$f":"IFERROR(VLOOKUP(Tabla48[[#This Row],[No]],TablaLicencias,4,0),\"\")","v":""},{"$f":"IFERROR(VLOOKUP(Tabla48[[#This Row],[No]],TablaLicencias,5,0),\"\")","v":""},{"$f":"IFERROR(VLOOKUP(Tabla48[[#This Row],[No]],TablaLicencias,6,0),\"\")","v":""}]
[null,null,null,74,{"$f":"IFERROR(VLOOKUP(Tabla48[[#This Row],[No]],TablaLicencias,2,0),\"\")","v":""},{"$f":"IFERROR(VLOOKUP(Tabla48[[#This Row],[No]],TablaLicencias,3,0),\"\")","v":""},{"$f":"IFERROR(VLOOKUP(Tabla48[[#This Row],[No]],TablaLicencias,4,0),\"\")","v":""},{"$f":"IFERROR(VLOOKUP(Tabla48[[#This Row],[No]],TablaLicencias,5,0),\"\")","v":""},{"$f":"IFERROR(VLOOKUP(Tabla48[[#This Row],[No]],TablaLicencias,6,0),\"\")","v":""}]
[null,null,null,75,{"$f":"IFERROR(VLOOKUP(Tabla48[[#This Row],[No]],TablaLicencias,2,0),\"\")","v":""},{"$f":"IFERROR(VLOOKUP(Tabla48[[#This Row],[No]],TablaLicencias,3,0),\"\")","v":""},{"$f":"IFERROR(VLOOKUP(Tabla48[[#This Row],[No]],TablaLicencias,4,0),\"\")","v":""},{"$f":"IFERROR(VLOOKUP(Tabla48[[#This Row],[No]],TablaLicencias,5,0),\"\")","v":""},{"$f":"IFERROR(VLOOKUP(Tabla48[[#This Row],[No]],TablaLicencias,6,0),\"\")","v":""}]
[null,null,null,76,{"$f":"IFERROR(VLOOKUP(Tabla48[[#This Row],[No]],TablaLicencias,2,0),\"\")","v":""},{"$f":"IFERROR(VLOOKUP(Tabla48[[#This Row],[No]],TablaLicencias,3,0),\"\")","v":""},{"$f":"IFERROR(VLOOKUP(Tabla48[[#This Row],[No]],TablaLicencias,4,0),\"\")","v":""},{"$f":"IFERROR(VLOOKUP(Tabla48[[#This Row],[No]],TablaLicencias,5,0),\"\")","v":""},{"$f":"IFERROR(VLOOKUP(Tabla48[[#This Row],[No]],TablaLicencias,6,0),\"\")","v":""}]
[null,null,null,77,{"$f":"IFERROR(VLOOKUP(Tabla48[[#This Row],[No]],TablaLicencias,2,0),\"\")","v":""},{"$f":"IFERROR(VLOOKUP(Tabla48[[#This Row],[No]],TablaLicencias,3,0),\"\")","v":""},{"$f":"IFERROR(VLOOKUP(Tabla48[[#This Row],[No]],TablaLicencias,4,0),\"\")","v":""},{"$f":"IFERROR(VLOOKUP(Tabla48[[#This Row],[No]],TablaLicencias,5,0),\"\")","v":""},{"$f":"IFERROR(VLOOKUP(Tabla48[[#This Row],[No]],TablaLicencias,6,0),\"\")","v":""}]
[null,null,null,78,{"$f":"IFERROR(VLOOKUP(Tabla48[[#This Row],[No]],TablaLicencias,2,0),\"\")","v":""},{"$f":"IFERROR(VLOOKUP(Tabla48[[#This Row],[No]],TablaLicencias,3,0),\"\")","v":""},{"$f":"IFERROR(VLOOKUP(Tabla48[[#This Row],[No]],TablaLicencias,4,0),\"\")","v":""},{"$f":"IFERROR(VLOOKUP(Tabla48[[#This Row],[No]],TablaLicencias,5,0),\"\")","v":""},{"$f":"IFERROR(VLOOKUP(Tabla48[[#This Row],[No]],TablaLicencias,6,0),\"\")","v":""}]
[null,null,null,79,{"$f":"IFERROR(VLOOKUP(Tabla48[[#This Row],[No]],TablaLicencias,2,0),\"\")","v":""},{"$f":"IFERROR(VLOOKUP(Tabla48[[#This Row],[No]],TablaLicencias,3,0),\"\")","v":""},{"$f":"IFERROR(VLOOKUP(Tabla48[[#This Row],[No]],TablaLicencias,4,0),\"\")","v":""},{"$f":"IFERROR(VLOOKUP(Tabla48[[#This Row],[No]],TablaLicencias,5,0),\"\")","v":""},{"$f":"IFERROR(VLOOKUP(Tabla48[[#This Row],[No]],TablaLicencias,6,0),\"\")","v":""}]
[null,null,null,80,{"$f":"IFERROR(VLOOKUP(Tabla48[[#This Row],[No]],TablaLicencias,2,0),\"\")","v":""},{"$f":"IFERROR(VLOOKUP(Tabla48[[#This Row],[No]],TablaLicencias,3,0),\"\")","v":""},{"$f":"IFERROR(VLOOKUP(Tabla48[[#This Row],[No]],TablaLicencias,4,0),\"\")","v":""},{"$f":"IFERROR(VLOOKUP(Tabla48[[#This Row],[No]],TablaLicencias,5,0),\"\")","v":""},{"$f":"IFERROR(VLOOKUP(Tabla48[[#This Row],[No]],TablaLicencias,6,0),\"\")","v":""}]
[null,null,null,81,{"$f":"IFERROR(VLOOKUP(Tabla48[[#This Row],[No]],TablaLicencias,2,0),\"\")","v":""},{"$f":"IFERROR(VLOOKUP(Tabla48[[#This Row],[No]],TablaLicencias,3,0),\"\")","v":""},{"$f":"IFERROR(VLOOKUP(Tabla48[[#This Row],[No]],TablaLicencias,4,0),\"\")","v":""},{"$f":"IFERROR(VLOOKUP(Tabla48[[#This Row],[No]],TablaLicencias,5,0),\"\")","v":""},{"$f":"IFERROR(VLOOKUP(Tabla48[[#This Row],[No]],TablaLicencias,6,0),\"\")","v":""}]
[null,null,null,82,{"$f":"IFERROR(VLOOKUP(Tabla48[[#This Row],[No]],TablaLicencias,2,0),\"\")","v":""},{"$f":"IFERROR(VLOOKUP(Tabla48[[#This Row],[No]],TablaLicencias,3,0),\"\")","v":""},{"$f":"IFERROR(VLOOKUP(Tabla48[[#This Row],[No]],TablaLicencias,4,0),\"\")","v":""},{"$f":"IFERROR(VLOOKUP(Tabla48[[#This Row],[No]],TablaLicencias,5,0),\"\")","v":""},{"$f":"IFERROR(VLOOKUP(Tabla48[[#This Row],[No]],TablaLicencias,6,0),\"\")","v":""}]
[null,null,null,83,{"$f":"IFERROR(VLOOKUP(Tabla48[[#This Row],[No]],TablaLicencias,2,0),\"\")","v":""},{"$f":"IFERROR(VLOOKUP(Tabla48[[#This Row],[No]],TablaLicencias,3,0),\"\")","v":""},{"$f":"IFERROR(VLOOKUP(Tabla48[[#This Row],[No]],TablaLicencias,4,0),\"\")","v":""},{"$f":"IFERROR(VLOOKUP(Tabla48[[#This Row],[No]],TablaLicencias,5,0),\"\")","v":""},{"$f":"IFERROR(VLOOKUP(Tabla48[[#This Row],[No]],TablaLicencias,6,0),\"\")","v":""}]
[null,null,null,84,{"$f":"IFERROR(VLOOKUP(Tabla48[[#This Row],[No]],TablaLicencias,2,0),\"\")","v":""},{"$f":"IFERROR(VLOOKUP(Tabla48[[#This Row],[No]],TablaLicencias,3,0),\"\")","v":""},{"$f":"IFERROR(VLOOKUP(Tabla48[[#This Row],[No]],TablaLicencias,4,0),\"\")","v":""},{"$f":"IFERROR(VLOOKUP(Tabla48[[#This Row],[No]],TablaLicencias,5,0),\"\")","v":""},{"$f":"IFERROR(VLOOKUP(Tabla48[[#This Row],[No]],TablaLicencias,6,0),\"\")","v":""}]
[null,null,null,85,{"$f":"IFERROR(VLOOKUP(Tabla48[[#This Row],[No]],TablaLicencias,2,0),\"\")","v":""},{"$f":"IFERROR(VLOOKUP(Tabla48[[#This Row],[No]],TablaLicencias,3,0),\"\")","v":""},{"$f":"IFERROR(VLOOKUP(Tabla48[[#This Row],[No]],TablaLicencias,4,0),\"\")","v":""},{"$f":"IFERROR(VLOOKUP(Tabla48[[#This Row],[No]],TablaLicencias,5,0),\"\")","v":""},{"$f":"IFERROR(VLOOKUP(Tabla48[[#This Row],[No]],TablaLicencias,6,0),\"\")","v":""}]
[null,null,null,86,{"$f":"IFERROR(VLOOKUP(Tabla48[[#This Row],[No]],TablaLicencias,2,0),\"\")","v":""},{"$f":"IFERROR(VLOOKUP(Tabla48[[#This Row],[No]],TablaLicencias,3,0),\"\")","v":""},{"$f":"IFERROR(VLOOKUP(Tabla48[[#This Row],[No]],TablaLicencias,4,0),\"\")","v":""},{"$f":"IFERROR(VLOOKUP(Tabla48[[#This Row],[No]],TablaLicencias,5,0),\"\")","v":""},{"$f":"IFERROR(VLOOKUP(Tabla48[[#This Row],[No]],TablaLicencias,6,0),\"\")","v":""}]
[null,null,null,87,{"$f":"IFERROR(VLOOKUP(Tabla48[[#This Row],[No]],TablaLicencias,2,0),\"\")","v":""},{"$f":"IFERROR(VLOOKUP(Tabla48[[#This Row],[No]],TablaLicencias,3,0),\"\")","v":""},{"$f":"IFERROR(VLOOKUP(Tabla48[[#This Row],[No]],TablaLicencias,4,0),\"\")","v":""},{"$f":"IFERROR(VLOOKUP(Tabla48[[#This Row],[No]],TablaLicencias,5,0),\"\")","v":""},{"$f":"IFERROR(VLOOKUP(Tabla48[[#This Row],[No]],TablaLicencias,6,0),\"\")","v":""}]
[null,null,null,88,{"$f":"IFERROR(VLOOKUP(Tabla48[[#This Row],[No]],TablaLicencias,2,0),\"\")","v":""},{"$f":"IFERROR(VLOOKUP(Tabla48[[#This Row],[No]],TablaLicencias,3,0),\"\")","v":""},{"$f":"IFERROR(VLOOKUP(Tabla48[[#This Row],[No]],TablaLicencias,4,0),\"\")","v":""},{"$f":"IFERROR(VLOOKUP(Tabla48[[#This Row],[No]],TablaLicencias,5,0),\"\")","v":""},{"$f":"IFERROR(VLOOKUP(Tabla48[[#This Row],[No]],TablaLicencias,6,0),\"\")","v":""}]
[null,null,null,89,{"$f":"IFERROR(VLOOKUP(Tabla48[[#This Row],[No]],TablaLicencias,2,0),\"\")","v":""},{"$f":"IFERROR(VLOOKUP(Tabla48[[#This Row],[No]],TablaLicencias,3,0),\"\")","v":""},{"$f":"IFERROR(VLOOKUP(Tabla48[[#This Row],[No]],TablaLicencias,4,0),\"\")","v":""},{"$f":"IFERROR(VLOOKUP(Tabla48[[#This Row],[No]],TablaLicencias,5,0),\"\")","v":""},{"$f":"IFERROR(VLOOKUP(Tabla48[[#This Row],[No]],TablaLicencias,6,0),\"\")","v":""}]
[null,null,null,90,{"$f":"IFERROR(VLOOKUP(Tabla48[[#This Row],[No]],TablaLicencias,2,0),\"\")","v":""},{"$f":"IFERROR(VLOOKUP(Tabla48[[#This Row],[No]],TablaLicencias,3,0),\"\")","v":""},{"$f":"IFERROR(VLOOKUP(Tabla48[[#This Row],[No]],TablaLicencias,4,0),\"\")","v":""},{"$f":"IFERROR(VLOOKUP(Tabla48[[#This Row],[No]],TablaLicencias,5,0),\"\")","v":""},{"$f":"IFERROR(VLOOKUP(Tabla48[[#This Row],[No]],TablaLicencias,6,0),\"\")","v":""}]
[null,null,null,91,{"$f":"IFERROR(VLOOKUP(Tabla48[[#This Row],[No]],TablaLicencias,2,0),\"\")","v":""},{"$f":"IFERROR(VLOOKUP(Tabla48[[#This Row],[No]],TablaLicencias,3,0),\"\")","v":""},{"$f":"IFERROR(VLOOKUP(Tabla48[[#This Row],[No]],TablaLicencias,4,0),\"\")","v":""},{"$f":"IFERROR(VLOOKUP(Tabla48[[#This Row],[No]],TablaLicencias,5,0),\"\")","v":""},{"$f":"IFERROR(VLOOKUP(Tabla48[[#This Row],[No]],TablaLicencias,6,0),\"\")","v":""}]
[null,null,null,92,{"$f":"IFERROR(VLOOKUP(Tabla48[[#This Row],[No]],TablaLicencias,2,0),\"\")","v":""},{"$f":"IFERROR(VLOOKUP(Tabla48[[#This Row],[No]],TablaLicencias,3,0),\"\")","v":""},{"$f":"IFERROR(VLOOKUP(Tabla48[[#This Row],[No]],TablaLicencias,4,0),\"\")","v":""},{"$f":"IFERROR(VLOOKUP(Tabla48[[#This Row],[No]],TablaLicencias,5,0),\"\")","v":""},{"$f":"IFERROR(VLOOKUP(Tabla48[[#This Row],[No]],TablaLicencias,6,0),\"\")","v":""}]
[null,null,null,93,{"$f":"IFERROR(VLOOKUP(Tabla48[[#This Row],[No]],TablaLicencias,2,0),\"\")","v":""},{"$f":"IFERROR(VLOOKUP(Tabla48[[#This Row],[No]],TablaLicencias,3,0),\"\")","v":""},{"$f":"IFERROR(VLOOKUP(Tabla48[[#This Row],[No]],TablaLicencias,4,0),\"\")","v":""},{"$f":"IFERROR(VLOOKUP(Tabla48[[#This Row],[No]],TablaLicencias,5,0),\"\")","v":""},{"$f":"IFERROR(VLOOKUP(Tabla48[[#This Row],[No]],TablaLicencias,6,0),\"\")","v":""}]
[null,null,null,94,{"$f":"IFERROR(VLOOKUP(Tabla48[[#This Row],[No]],TablaLicencias,2,0),\"\")","v":""},{"$f":"IFERROR(VLOOKUP(Tabla48[[#This Row],[No]],TablaLicencias,3,0),\"\")","v":""},{"$f":"IFERROR(VLOOKUP(Tabla48[[#This Row],[No]],TablaLicencias,4,0),\"\")","v":""},{"$f":"IFERROR(VLOOKUP(Tabla48[[#This Row],[No]],TablaLicencias,5,0),\"\")","v":""},{"$f":"IFERROR(VLOOKUP(Tabla48[[#This Row],[No]],TablaLicencias,6,0),\"\")","v":""}]
[null,null,null,95,{"$f":"IFERROR(VLOOKUP(Tabla48[[#This Row],[No]],TablaLicencias,2,0),\"\")","v":""},{"$f":"IFERROR(VLOOKUP(Tabla48[[#This Row],[No]],TablaLicencias,3,0),\"\")","v":""},{"$f":"IFERROR(VLOOKUP(Tabla48[[#This Row],[No]],TablaLicencias,4,0),\"\")","v":""},{"$f":"IFERROR(VLOOKUP(Tabla48[[#This Row],[No]],TablaLicencias,5,0),\"\")","v":""},{"$f":"IFERROR(VLOOKUP(Tabla48[[#This Row],[No]],TablaLicencias,6,0),\"\")","v":""}]
[null,null,null,96,{"$f":"IFERROR(VLOOKUP(Tabla48[[#This Row],[No]],TablaLicencias,2,0),\"\")","v":""},{"$f":"IFERROR(VLOOKUP(Tabla48[[#This Row],[No]],TablaLicencias,3,0),\"\")","v":""},{"$f":"IFERROR(VLOOKUP(Tabla48[[#This Row],[No]],TablaLicencias,4,0),\"\")","v":""},{"$f":"IFERROR(VLOOKUP(Tabla48[[#This Row],[No]],TablaLicencias,5,0),\"\")","v":""},{"$f":"IFERROR(VLOOKUP(Tabla48[[#This Row],[No]],TablaLicencias,6,0),\"\")","v":""}]
[null,null,null,97,{"$f":"IFERROR(VLOOKUP(Tabla48[[#This Row],[No]],TablaLicencias,2,0),\"\")","v":""},{"$f":"IFERROR(VLOOKUP(Tabla48[[#This Row],[No]],TablaLicencias,3,0),\"\")","v":""},{"$f":"IFERROR(VLOOKUP(Tabla48[[#This Row],[No]],TablaLicencias,4,0),\"\")","v":""},{"$f":"IFERROR(VLOOKUP(Tabla48[[#This Row],[No]],TablaLicencias,5,0),\"\")","v":""},{"$f":"IFERROR(VLOOKUP(Tabla48[[#This Row],[No]],TablaLicencias,6,0),\"\")","v":""}]
[null,null,null,98,{"$f":"IFERROR(VLOOKUP(Tabla48[[#This Row],[No]],TablaLicencias,2,0),\"\")","v":""},{"$f":"IFERROR(VLOOKUP(Tabla48[[#This Row],[No]],TablaLicencias,3,0),\"\")","v":""},{"$f":"IFERROR(VLOOKUP(Tabla48[[#This Row],[No]],TablaLicencias,4,0),\"\")","v":""},{"$f":"IFERROR(VLOOKUP(Tabla48[[#This Row],[No]],TablaLicencias,5,0),\"\")","v":""},{"$f":"IFERROR(VLOOKUP(Tabla48[[#This Row],[No]],TablaLicencias,6,0),\"\")","v":""}]
[null,null,null,99,{"$f":"IFERROR(VLOOKUP(Tabla48[[#This Row],[No]],TablaLicencias,2,0),\"\")","v":""},{"$f":"IFERROR(VLOOKUP(Tabla48[[#This Row],[No]],TablaLicencias,3,0),\"\")","v":""},{"$f":"IFERROR(VLOOKUP(Tabla48[[#This Row],[No]],TablaLicencias,4,0),\"\")","v":""},{"$f":"IFERROR(VLOOKUP(Tabla48[[#This Row],[No]],TablaLicencias,5,0),\"\")","v":""},{"$f":"IFERROR(VLOOKUP(Tabla48[[#This Row],[No]],TablaLicencias,6,0),\"\")","v":""}]
[null,null,null,100,{"$f":"IFERROR(VLOOKUP(Tabla48[[#This Row],[No]],TablaLicencias,2,0),\"\")","v":""},{"$f":"IFERROR(VLOOKUP(Tabla48[[#This Row],[No]],TablaLicencias,3,0),\"\")","v":""},{"$f":"IFERROR(VLOOKUP(Tabla48[[#This Row],[No]],TablaLicencias,4,0),\"\")","v":""},{"$f":"IFERROR(VLOOKUP(Tabla48[[#This Row],[No]],TablaLicencias,5,0),\"\")","v":""},{"$f":"IFERROR(VLOOKUP(Tabla48[[#This Row],[No]],TablaLicencias,6,0),\"\")","v":""}]
[null,null,null,101,{"$f":"IFERROR(VLOOKUP(Tabla48[[#This Row],[No]],TablaLicencias,2,0),\"\")","v":""},{"$f":"IFERROR(VLOOKUP(Tabla48[[#This Row],[No]],TablaLicencias,3,0),\"\")","v":""},{"$f":"IFERROR(VLOOKUP(Tabla48[[#This Row],[No]],TablaLicencias,4,0),\"\")","v":""},{"$f":"IFERROR(VLOOKUP(Tabla48[[#This Row],[No]],TablaLicencias,5,0),\"\")","v":""},{"$f":"IFERROR(VLOOKUP(Tabla48[[#This Row],[No]],TablaLicencias,6,0),\"\")","v":""}]
[null,null,null,102,{"$f":"IFERROR(VLOOKUP(Tabla48[[#This Row],[No]],TablaLicencias,2,0),\"\")","v":""},{"$f":"IFERROR(VLOOKUP(Tabla48[[#This Row],[No]],TablaLicencias,3,0),\"\")","v":""},{"$f":"IFERROR(VLOOKUP(Tabla48[[#This Row],[No]],TablaLicencias,4,0),\"\")","v":""},{"$f":"IFERROR(VLOOKUP(Tabla48[[#This Row],[No]],TablaLicencias,5,0),\"\")","v":""},{"$f":"IFERROR(VLOOKUP(Tabla48[[#This Row],[No]],TablaLicencias,6,0),\"\")","v":""}]
[null,null,null,103,{"$f":"IFERROR(VLOOKUP(Tabla48[[#This Row],[No]],TablaLicencias,2,0),\"\")","v":""},{"$f":"IFERROR(VLOOKUP(Tabla48[[#This Row],[No]],TablaLicencias,3,0),\"\")","v":""},{"$f":"IFERROR(VLOOKUP(Tabla48[[#This Row],[No]],TablaLicencias,4,0),\"\")","v":""},{"$f":"IFERROR(VLOOKUP(Tabla48[[#This Row],[No]],TablaLicencias,5,0),\"\")","v":""},{"$f":"IFERROR(VLOOKUP(Tabla48[[#This Row],[No]],TablaLicencias,6,0),\"\")","v":""}]
[null,null,null,104,{"$f":"IFERROR(VLOOKUP(Tabla48[[#This Row],[No]],TablaLicencias,2,0),\"\")","v":""},{"$f":"IFERROR(VLOOKUP(Tabla48[[#This Row],[No]],TablaLicencias,3,0),\"\")","v":""},{"$f":"IFERROR(VLOOKUP(Tabla48[[#This Row],[No]],TablaLicencias,4,0),\"\")","v":""},{"$f":"IFERROR(VLOOKUP(Tabla48[[#This Row],[No]],TablaLicencias,5,0),\"\")","v":""},{"$f":"IFERROR(VLOOKUP(Tabla48[[#This Row],[No]],TablaLicencias,6,0),\"\")","v":""}]
[null,null,null,105,{"$f":"IFERROR(VLOOKUP(Tabla48[[#This Row],[No]],TablaLicencias,2,0),\"\")","v":""},{"$f":"IFERROR(VLOOKUP(Tabla48[[#This Row],[No]],TablaLicencias,3,0),\"\")","v":""},{"$f":"IFERROR(VLOOKUP(Tabla48[[#This Row],[No]],TablaLicencias,4,0),\"\")","v":""},{"$f":"IFERROR(VLOOKUP(Tabla48[[#This Row],[No]],TablaLicencias,5,0),\"\")","v":""},{"$f":"IFERROR(VLOOKUP(Tabla48[[#This Row],[No]],TablaLicencias,6,0),\"\")","v":""}]
[null,null,null,106,{"$f":"IFERROR(VLOOKUP(Tabla48[[#This Row],[No]],TablaLicencias,2,0),\"\")","v":""},{"$f":"IFERROR(VLOOKUP(Tabla48[[#This Row],[No]],TablaLicencias,3,0),\"\")","v":""},{"$f":"IFERROR(VLOOKUP(Tabla48[[#This Row],[No]],TablaLicencias,4,0),\"\")","v":""},{"$f":"IFERROR(VLOOKUP(Tabla48[[#This Row],[No]],TablaLicencias,5,0),\"\")","v":""},{"$f":"IFERROR(VLOOKUP(Tabla48[[#This Row],[No]],TablaLicencias,6,0),\"\")","v":""}]
[null,null,null,107,{"$f":"IFERROR(VLOOKUP(Tabla48[[#This Row],[No]],TablaLicencias,2,0),\"\")","v":""},{"$f":"IFERROR(VLOOKUP(Tabla48[[#This Row],[No]],TablaLicencias,3,0),\"\")","v":""},{"$f":"IFERROR(VLOOKUP(Tabla48[[#This Row],[No]],TablaLicencias,4,0),\"\")","v":""},{"$f":"IFERROR(VLOOKUP(Tabla48[[#This Row],[No]],TablaLicencias,5,0),\"\")","v":""},{"$f":"IFERROR(VLOOKUP(Tabla48[[#This Row],[No]],TablaLicencias,6,0),\"\")","v":""}]
[null,null,null,108,{"$f":"IFERROR(VLOOKUP(Tabla48[[#This Row],[No]],TablaLicencias,2,0),\"\")","v":""},{"$f":"IFERROR(VLOOKUP(Tabla48[[#This Row],[No]],TablaLicencias,3,0),\"\")","v":""},{"$f":"IFERROR(VLOOKUP(Tabla48[[#This Row],[No]],TablaLicencias,4,0),\"\")","v":""},{"$f":"IFERROR(VLOOKUP(Tabla48[[#This Row],[No]],TablaLicencias,5,0),\"\")","v":""},{"$f":"IFERROR(VLOOKUP(Tabla48[[#This Row],[No]],TablaLicencias,6,0),\"\")","v":""}]
[null,null,null,109,{"$f":"IFERROR(VLOOKUP(Tabla48[[#This Row],[No]],TablaLicencias,2,0),\"\")","v":""},{"$f":"IFERROR(VLOOKUP(Tabla48[[#This Row],[No]],TablaLicencias,3,0),\"\")","v":""},{"$f":"IFERROR(VLOOKUP(Tabla48[[#This Row],[No]],TablaLicencias,4,0),\"\")","v":""},{"$f":"IFERROR(VLOOKUP(Tabla48[[#This Row],[No]],TablaLicencias,5,0),\"\")","v":""},{"$f":"IFERROR(VLOOKUP(Tabla48[[#This Row],[No]],TablaLicencias,6,0),\"\")","v":""}]
[null,null,null,110,{"$f":"IFERROR(VLOOKUP(Tabla48[[#This Row],[No]],TablaLicencias,2,0),\"\")","v":""},{"$f":"IFERROR(VLOOKUP(Tabla48[[#This Row],[No]],TablaLicencias,3,0),\"\")","v":""},{"$f":"IFERROR(VLOOKUP(Tabla48[[#This Row],[No]],TablaLicencias,4,0),\"\")","v":""},{"$f":"IFERROR(VLOOKUP(Tabla48[[#This Row],[No]],TablaLicencias,5,0),\"\")","v":""},{"$f":"IFERROR(VLOOKUP(Tabla48[[#This Row],[No]],TablaLicencias,6,0),\"\")","v":""}]
[null,null,null,111,{"$f":"IFERROR(VLOOKUP(Tabla48[[#This Row],[No]],TablaLicencias,2,0),\"\")","v":""},{"$f":"IFERROR(VLOOKUP(Tabla48[[#This Row],[No]],TablaLicencias,3,0),\"\")","v":""},{"$f":"IFERROR(VLOOKUP(Tabla48[[#This Row],[No]],TablaLicencias,4,0),\"\")","v":""},{"$f":"IFERROR(VLOOKUP(Tabla48[[#This Row],[No]],TablaLicencias,5,0),\"\")","v":""},{"$f":"IFERROR(VLOOKUP(Tabla48[[#This Row],[No]],TablaLicencias,6,0),\"\")","v":""}]
[null,null,null,112,{"$f":"IFERROR(VLOOKUP(Tabla48[[#This Row],[No]],TablaLicencias,2,0),\"\")","v":""},{"$f":"IFERROR(VLOOKUP(Tabla48[[#This Row],[No]],TablaLicencias,3,0),\"\")","v":""},{"$f":"IFERROR(VLOOKUP(Tabla48[[#This Row],[No]],TablaLicencias,4,0),\"\")","v":""},{"$f":"IFERROR(VLOOKUP(Tabla48[[#This Row],[No]],TablaLicencias,5,0),\"\")","v":""},{"$f":"IFERROR(VLOOKUP(Tabla48[[#This Row],[No]],TablaLicencias,6,0),\"\")","v":""}]
[null,null,null,113,{"$f":"IFERROR(VLOOKUP(Tabla48[[#This Row],[No]],TablaLicencias,2,0),\"\")","v":""},{"$f":"IFERROR(VLOOKUP(Tabla48[[#This Row],[No]],TablaLicencias,3,0),\"\")","v":""},{"$f":"IFERROR(VLOOKUP(Tabla48[[#This Row],[No]],TablaLicencias,4,0),\"\")","v":""},{"$f":"IFERROR(VLOOKUP(Tabla48[[#This Row],[No]],TablaLicencias,5,0),\"\")","v":""},{"$f":"IFERROR(VLOOKUP(Tabla48[[#This Row],[No]],TablaLicencias,6,0),\"\")","v":""}]
[null,null,null,114,{"$f":"IFERROR(VLOOKUP(Tabla48[[#This Row],[No]],TablaLicencias,2,0),\"\")","v":""},{"$f":"IFERROR(VLOOKUP(Tabla48[[#This Row],[No]],TablaLicencias,3,0),\"\")","v":""},{"$f":"IFERROR(VLOOKUP(Tabla48[[#This Row],[No]],TablaLicencias,4,0),\"\")","v":""},{"$f":"IFERROR(VLOOKUP(Tabla48[[#This Row],[No]],TablaLicencias,5,0),\"\")","v":""},{"$f":"IFERROR(VLOOKUP(Tabla48[[#This Row],[No]],TablaLicencias,6,0),\"\")","v":""}]
[null,null,null,115,{"$f":"IFERROR(VLOOKUP(Tabla48[[#This Row],[No]],TablaLicencias,2,0),\"\")","v":""},{"$f":"IFERROR(VLOOKUP(Tabla48[[#This Row],[No]],TablaLicencias,3,0),\"\")","v":""},{"$f":"IFERROR(VLOOKUP(Tabla48[[#This Row],[No]],TablaLicencias,4,0),\"\")","v":""},{"$f":"IFERROR(VLOOKUP(Tabla48[[#This Row],[No]],TablaLicencias,5,0),\"\")","v":""},{"$f":"IFERROR(VLOOKUP(Tabla48[[#This Row],[No]],TablaLicencias,6,0),\"\")","v":""}]
[null,null,null,116,{"$f":"IFERROR(VLOOKUP(Tabla48[[#This Row],[No]],TablaLicencias,2,0),\"\")","v":""},{"$f":"IFERROR(VLOOKUP(Tabla48[[#This Row],[No]],TablaLicencias,3,0),\"\")","v":""},{"$f":"IFERROR(VLOOKUP(Tabla48[[#This Row],[No]],TablaLicencias,4,0),\"\")","v":""},{"$f":"IFERROR(VLOOKUP(Tabla48[[#This Row],[No]],TablaLicencias,5,0),\"\")","v":""},{"$f":"IFERROR(VLOOKUP(Tabla48[[#This Row],[No]],TablaLicencias,6,0),\"\")","v":""}]
[null,null,null,117,{"$f":"IFERROR(VLOOKUP(Tabla48[[#This Row],[No]],TablaLicencias,2,0),\"\")","v":""},{"$f":"IFERROR(VLOOKUP(Tabla48[[#This Row],[No]],TablaLicencias,3,0),\"\")","v":""},{"$f":"IFERROR(VLOOKUP(Tabla48[[#This Row],[No]],TablaLicencias,4,0),\"\")","v":""},{"$f":"IFERROR(VLOOKUP(Tabla48[[#This Row],[No]],TablaLicencias,5,0),\"\")","v":""},{"$f":"IFERROR(VLOOKUP(Tabla48[[#This Row],[No]],TablaLicencias,6,0),\"\")","v":""}]
[null,null,null,118,{"$f":"IFERROR(VLOOKUP(Tabla48[[#This Row],[No]],TablaLicencias,2,0),\"\")","v":""},{"$f":"IFERROR(VLOOKUP(Tabla48[[#This Row],[No]],TablaLicencias,3,0),\"\")","v":""},{"$f":"IFERROR(VLOOKUP(Tabla48[[#This Row],[No]],TablaLicencias,4,0),\"\")","v":""},{"$f":"IFERROR(VLOOKUP(Tabla48[[#This Row],[No]],TablaLicencias,5,0),\"\")","v":""},{"$f":"IFERROR(VLOOKUP(Tabla48[[#This Row],[No]],TablaLicencias,6,0),\"\")","v":""}]
[null,null,null,119,{"$f":"IFERROR(VLOOKUP(Tabla48[[#This Row],[No]],TablaLicencias,2,0),\"\")","v":""},{"$f":"IFERROR(VLOOKUP(Tabla48[[#This Row],[No]],TablaLicencias,3,0),\"\")","v":""},{"$f":"IFERROR(VLOOKUP(Tabla48[[#This Row],[No]],TablaLicencias,4,0),\"\")","v":""},{"$f":"IFERROR(VLOOKUP(Tabla48[[#This Row],[No]],TablaLicencias,5,0),\"\")","v":""},{"$f":"IFERROR(VLOOKUP(Tabla48[[#This Row],[No]],TablaLicencias,6,0),\"\")","v":""}]
[null,null,null,120,{"$f":"IFERROR(VLOOKUP(Tabla48[[#This Row],[No]],TablaLicencias,2,0),\"\")","v":""},{"$f":"IFERROR(VLOOKUP(Tabla48[[#This Row],[No]],TablaLicencias,3,0),\"\")","v":""},{"$f":"IFERROR(VLOOKUP(Tabla48[[#This Row],[No]],TablaLicencias,4,0),\"\")","v":""},{"$f":"IFERROR(VLOOKUP(Tabla48[[#This Row],[No]],TablaLicencias,5,0),\"\")","v":""},{"$f":"IFERROR(VLOOKUP(Tabla48[[#This Row],[No]],TablaLicencias,6,0),\"\")","v":""}]
[null,null,null,121,{"$f":"IFERROR(VLOOKUP(Tabla48[[#This Row],[No]],TablaLicencias,2,0),\"\")","v":""},{"$f":"IFERROR(VLOOKUP(Tabla48[[#This Row],[No]],TablaLicencias,3,0),\"\")","v":""},{"$f":"IFERROR(VLOOKUP(Tabla48[[#This Row],[No]],TablaLicencias,4,0),\"\")","v":""},{"$f":"IFERROR(VLOOKUP(Tabla48[[#This Row],[No]],TablaLicencias,5,0),\"\")","v":""},{"$f":"IFERROR(VLOOKUP(Tabla48[[#This Row],[No]],TablaLicencias,6,0),\"\")","v":""}]
[null,null,null,122,{"$f":"IFERROR(VLOOKUP(Tabla48[[#This Row],[No]],TablaLicencias,2,0),\"\")","v":""},{"$f":"IFERROR(VLOOKUP(Tabla48[[#This Row],[No]],TablaLicencias,3,0),\"\")","v":""},{"$f":"IFERROR(VLOOKUP(Tabla48[[#This Row],[No]],TablaLicencias,4,0),\"\")","v":""},{"$f":"IFERROR(VLOOKUP(Tabla48[[#This Row],[No]],TablaLicencias,5,0),\"\")","v":""},{"$f":"IFERROR(VLOOKUP(Tabla48[[#This Row],[No]],TablaLicencias,6,0),\"\")","v":""}]
[null,null,null,123,{"$f":"IFERROR(VLOOKUP(Tabla48[[#This Row],[No]],TablaLicencias,2,0),\"\")","v":""},{"$f":"IFERROR(VLOOKUP(Tabla48[[#This Row],[No]],TablaLicencias,3,0),\"\")","v":""},{"$f":"IFERROR(VLOOKUP(Tabla48[[#This Row],[No]],TablaLicencias,4,0),\"\")","v":""},{"$f":"IFERROR(VLOOKUP(Tabla48[[#This Row],[No]],TablaLicencias,5,0),\"\")","v":""},{"$f":"IFERROR(VLOOKUP(Tabla48[[#This Row],[No]],TablaLicencias,6,0),\"\")","v":""}]
[null,null,null,124,{"$f":"IFERROR(VLOOKUP(Tabla48[[#This Row],[No]],TablaLicencias,2,0),\"\")","v":""},{"$f":"IFERROR(VLOOKUP(Tabla48[[#This Row],[No]],TablaLicencias,3,0),\"\")","v":""},{"$f":"IFERROR(VLOOKUP(Tabla48[[#This Row],[No]],TablaLicencias,4,0),\"\")","v":""},{"$f":"IFERROR(VLOOKUP(Tabla48[[#This Row],[No]],TablaLicencias,5,0),\"\")","v":""},{"$f":"IFERROR(VLOOKUP(Tabla48[[#This Row],[No]],TablaLicencias,6,0),\"\")","v":""}]
[null,null,null,125,{"$f":"IFERROR(VLOOKUP(Tabla48[[#This Row],[No]],TablaLicencias,2,0),\"\")","v":""},{"$f":"IFERROR(VLOOKUP(Tabla48[[#This Row],[No]],TablaLicencias,3,0),\"\")","v":""},{"$f":"IFERROR(VLOOKUP(Tabla48[[#This Row],[No]],TablaLicencias,4,0),\"\")","v":""},{"$f":"IFERROR(VLOOKUP(Tabla48[[#This Row],[No]],TablaLicencias,5,0),\"\")","v":""},{"$f":"IFERROR(VLOOKUP(Tabla48[[#This Row],[No]],TablaLicencias,6,0),\"\")","v":""}]
[null,null,null,126,{"$f":"IFERROR(VLOOKUP(Tabla48[[#This Row],[No]],TablaLicencias,2,0),\"\")","v":""},{"$f":"IFERROR(VLOOKUP(Tabla48[[#This Row],[No]],TablaLicencias,3,0),\"\")","v":""},{"$f":"IFERROR(VLOOKUP(Tabla48[[#This Row],[No]],TablaLicencias,4,0),\"\")","v":""},{"$f":"IFERROR(VLOOKUP(Tabla48[[#This Row],[No]],TablaLicencias,5,0),\"\")","v":""},{"$f":"IFERROR(VLOOKUP(Tabla48[[#This Row],[No]],TablaLicencias,6,0),\"\")","v":""}]
[null,null,null,127,{"$f":"IFERROR(VLOOKUP(Tabla48[[#This Row],[No]],TablaLicencias,2,0),\"\")","v":""},{"$f":"IFERROR(VLOOKUP(Tabla48[[#This Row],[No]],TablaLicencias,3,0),\"\")","v":""},{"$f":"IFERROR(VLOOKUP(Tabla48[[#This Row],[No]],TablaLicencias,4,0),\"\")","v":""},{"$f":"IFERROR(VLOOKUP(Tabla48[[#This Row],[No]],TablaLicencias,5,0),\"\")","v":""},{"$f":"IFERROR(VLOOKUP(Tabla48[[#This Row],[No]],TablaLicencias,6,0),\"\")","v":""}]
[null,null,null,128,{"$f":"IFERROR(VLOOKUP(Tabla48[[#This Row],[No]],TablaLicencias,2,0),\"\")","v":""},{"$f":"IFERROR(VLOOKUP(Tabla48[[#This Row],[No]],TablaLicencias,3,0),\"\")","v":""},{"$f":"IFERROR(VLOOKUP(Tabla48[[#This Row],[No]],TablaLicencias,4,0),\"\")","v":""},{"$f":"IFERROR(VLOOKUP(Tabla48[[#This Row],[No]],TablaLicencias,5,0),\"\")","v":""},{"$f":"IFERROR(VLOOKUP(Tabla48[[#This Row],[No]],TablaLicencias,6,0),\"\")","v":""}]
[null,null,null,129,{"$f":"IFERROR(VLOOKUP(Tabla48[[#This Row],[No]],TablaLicencias,2,0),\"\")","v":""},{"$f":"IFERROR(VLOOKUP(Tabla48[[#This Row],[No]],TablaLicencias,3,0),\"\")","v":""},{"$f":"IFERROR(VLOOKUP(Tabla48[[#This Row],[No]],TablaLicencias,4,0),\"\")","v":""},{"$f":"IFERROR(VLOOKUP(Tabla48[[#This Row],[No]],TablaLicencias,5,0),\"\")","v":""},{"$f":"IFERROR(VLOOKUP(Tabla48[[#This Row],[No]],TablaLicencias,6,0),\"\")","v":""}]
[null,null,null,130,{"$f":"IFERROR(VLOOKUP(Tabla48[[#This Row],[No]],TablaLicencias,2,0),\"\")","v":""},{"$f":"IFERROR(VLOOKUP(Tabla48[[#This Row],[No]],TablaLicencias,3,0),\"\")","v":""},{"$f":"IFERROR(VLOOKUP(Tabla48[[#This Row],[No]],TablaLicencias,4,0),\"\")","v":""},{"$f":"IFERROR(VLOOKUP(Tabla48[[#This Row],[No]],TablaLicencias,5,0),\"\")","v":""},{"$f":"IFERROR(VLOOKUP(Tabla48[[#This Row],[No]],TablaLicencias,6,0),\"\")","v":""}]
[null,null,null,131,{"$f":"IFERROR(VLOOKUP(Tabla48[[#This Row],[No]],TablaLicencias,2,0),\"\")","v":""},{"$f":"IFERROR(VLOOKUP(Tabla48[[#This Row],[No]],TablaLicencias,3,0),\"\")","v":""},{"$f":"IFERROR(VLOOKUP(Tabla48[[#This Row],[No]],TablaLicencias,4,0),\"\")","v":""},{"$f":"IFERROR(VLOOKUP(Tabla48[[#This Row],[No]],TablaLicencias,5,0),\"\")","v":""},{"$f":"IFERROR(VLOOKUP(Tabla48[[#This Row],[No]],TablaLicencias,6,0),\"\")","v":""}]
[null,null,null,132,{"$f":"IFERROR(VLOOKUP(Tabla48[[#This Row],[No]],TablaLicencias,2,0),\"\")","v":""},{"$f":"IFERROR(VLOOKUP(Tabla48[[#This Row],[No]],TablaLicencias,3,0),\"\")","v":""},{"$f":"IFERROR(VLOOKUP(Tabla48[[#This Row],[No]],TablaLicencias,4,0),\"\")","v":""},{"$f":"IFERROR(VLOOKUP(Tabla48[[#This Row],[No]],TablaLicencias,5,0),\"\")","v":""},{"$f":"IFERROR(VLOOKUP(Tabla48[[#This Row],[No]],TablaLicencias,6,0),\"\")","v":""}]
[null,null,null,133,{"$f":"IFERROR(VLOOKUP(Tabla48[[#This Row],[No]],TablaLicencias,2,0),\"\")","v":""},{"$f":"IFERROR(VLOOKUP(Tabla48[[#This Row],[No]],TablaLicencias,3,0),\"\")","v":""},{"$f":"IFERROR(VLOOKUP(Tabla48[[#This Row],[No]],TablaLicencias,4,0),\"\")","v":""},{"$f":"IFERROR(VLOOKUP(Tabla48[[#This Row],[No]],TablaLicencias,5,0),\"\")","v":""},{"$f":"IFERROR(VLOOKUP(Tabla48[[#This Row],[No]],TablaLicencias,6,0),\"\")","v":""}]
[null,null,null,134,{"$f":"IFERROR(VLOOKUP(Tabla48[[#This Row],[No]],TablaLicencias,2,0),\"\")","v":""},{"$f":"IFERROR(VLOOKUP(Tabla48[[#This Row],[No]],TablaLicencias,3,0),\"\")","v":""},{"$f":"IFERROR(VLOOKUP(Tabla48[[#This Row],[No]],TablaLicencias,4,0),\"\")","v":""},{"$f":"IFERROR(VLOOKUP(Tabla48[[#This Row],[No]],TablaLicencias,5,0),\"\")","v":""},{"$f":"IFERROR(VLOOKUP(Tabla48[[#This Row],[No]],TablaLicencias,6,0),\"\")","v":""}]
[null,null,null,135,{"$f":"IFERROR(VLOOKUP(Tabla48[[#This Row],[No]],TablaLicencias,2,0),\"\")","v":""},{"$f":"IFERROR(VLOOKUP(Tabla48[[#This Row],[No]],TablaLicencias,3,0),\"\")","v":""},{"$f":"IFERROR(VLOOKUP(Tabla48[[#This Row],[No]],TablaLicencias,4,0),\"\")","v":""},{"$f":"IFERROR(VLOOKUP(Tabla48[[#This Row],[No]],TablaLicencias,5,0),\"\")","v":""},{"$f":"IFERROR(VLOOKUP(Tabla48[[#This Row],[No]],TablaLicencias,6,0),\"\")","v":""}]
[null,null,null,136,{"$f":"IFERROR(VLOOKUP(Tabla48[[#This Row],[No]],TablaLicencias,2,0),\"\")","v":""},{"$f":"IFERROR(VLOOKUP(Tabla48[[#This Row],[No]],TablaLicencias,3,0),\"\")","v":""},{"$f":"IFERROR(VLOOKUP(Tabla48[[#This Row],[No]],TablaLicencias,4,0),\"\")","v":""},{"$f":"IFERROR(VLOOKUP(Tabla48[[#This Row],[No]],TablaLicencias,5,0),\"\")","v":""},{"$f":"IFERROR(VLOOKUP(Tabla48[[#This Row],[No]],TablaLicencias,6,0),\"\")","v":""}]
[null,null,null,137,{"$f":"IFERROR(VLOOKUP(Tabla48[[#This Row],[No]],TablaLicencias,2,0),\"\")","v":""},{"$f":"IFERROR(VLOOKUP(Tabla48[[#This Row],[No]],TablaLicencias,3,0),\"\")","v":""},{"$f":"IFERROR(VLOOKUP(Tabla48[[#This Row],[No]],TablaLicencias,4,0),\"\")","v":""},{"$f":"IFERROR(VLOOKUP(Tabla48[[#This Row],[No]],TablaLicencias,5,0),\"\")","v":""},{"$f":"IFERROR(VLOOKUP(Tabla48[[#This Row],[No]],TablaLicencias,6,0),\"\")","v":""}]
[null,null,null,138,{"$f":"IFERROR(VLOOKUP(Tabla48[[#This Row],[No]],TablaLicencias,2,0),\"\")","v":""},{"$f":"IFERROR(VLOOKUP(Tabla48[[#This Row],[No]],TablaLicencias,3,0),\"\")","v":""},{"$f":"IFERROR(VLOOKUP(Tabla48[[#This Row],[No]],TablaLicencias,4,0),\"\")","v":""},{"$f":"IFERROR(VLOOKUP(Tabla48[[#This Row],[No]],TablaLicencias,5,0),\"\")","v":""},{"$f":"IFERROR(VLOOKUP(Tabla48[[#This Row],[No]],TablaLicencias,6,0),\"\")","v":""}]
[null,null,null,139,{"$f":"IFERROR(VLOOKUP(Tabla48[[#This Row],[No]],TablaLicencias,2,0),\"\")","v":""},{"$f":"IFERROR(VLOOKUP(Tabla48[[#This Row],[No]],TablaLicencias,3,0),\"\")","v":""},{"$f":"IFERROR(VLOOKUP(Tabla48[[#This Row],[No]],TablaLicencias,4,0),\"\")","v":""},{"$f":"IFERROR(VLOOKUP(Tabla48[[#This Row],[No]],TablaLicencias,5,0),\"\")","v":""},{"$f":"IFERROR(VLOOKUP(Tabla48[[#This Row],[No]],TablaLicencias,6,0),\"\")","v":""}]
[null,null,null,140,{"$f":"IFERROR(VLOOKUP(Tabla48[[#This Row],[No]],TablaLicencias,2,0),\"\")","v":""},{"$f":"IFERROR(VLOOKUP(Tabla48[[#This Row],[No]],TablaLicencias,3,0),\"\")","v":""},{"$f":"IFERROR(VLOOKUP(Tabla48[[#This Row],[No]],TablaLicencias,4,0),\"\")","v":""},{"$f":"IFERROR(VLOOKUP(Tabla48[[#This Row],[No]],TablaLicencias,5,0),\"\")","v":""},{"$f":"IFERROR(VLOOKUP(Tabla48[[#This Row],[No]],TablaLicencias,6,0),\"\")","v":""}]
[null,null,null,141,{"$f":"IFERROR(VLOOKUP(Tabla48[[#This Row],[No]],TablaLicencias,2,0),\"\")","v":""},{"$f":"IFERROR(VLOOKUP(Tabla48[[#This Row],[No]],TablaLicencias,3,0),\"\")","v":""},{"$f":"IFERROR(VLOOKUP(Tabla48[[#This Row],[No]],TablaLicencias,4,0),\"\")","v":""},{"$f":"IFERROR(VLOOKUP(Tabla48[[#This Row],[No]],TablaLicencias,5,0),\"\")","v":""},{"$f":"IFERROR(VLOOKUP(Tabla48[[#This Row],[No]],TablaLicencias,6,0),\"\")","v":""}]
[null,null,null,142,{"$f":"IFERROR(VLOOKUP(Tabla48[[#This Row],[No]],TablaLicencias,2,0),\"\")","v":""},{"$f":"IFERROR(VLOOKUP(Tabla48[[#This Row],[No]],TablaLicencias,3,0),\"\")","v":""},{"$f":"IFERROR(VLOOKUP(Tabla48[[#This Row],[No]],TablaLicencias,4,0),\"\")","v":""},{"$f":"IFERROR(VLOOKUP(Tabla48[[#This Row],[No]],TablaLicencias,5,0),\"\")","v":""},{"$f":"IFERROR(VLOOKUP(Tabla48[[#This Row],[No]],TablaLicencias,6,0),\"\")","v":""}]
[null,null,null,143,{"$f":"IFERROR(VLOOKUP(Tabla48[[#This Row],[No]],TablaLicencias,2,0),\"\")","v":""},{"$f":"IFERROR(VLOOKUP(Tabla48[[#This Row],[No]],TablaLicencias,3,0),\"\")","v":""},{"$f":"IFERROR(VLOOKUP(Tabla48[[#This Row],[No]],TablaLicencias,4,0),\"\")","v":""},{"$f":"IFERROR(VLOOKUP(Tabla48[[#This Row],[No]],TablaLicencias,5,0),\"\")","v":""},{"$f":"IFERROR(VLOOKUP(Tabla48[[#This Row],[No]],TablaLicencias,6,0),\"\")","v":""}]
[null,null,null,144,{"$f":"IFERROR(VLOOKUP(Tabla48[[#This Row],[No]],TablaLicencias,2,0),\"\")","v":""},{"$f":"IFERROR(VLOOKUP(Tabla48[[#This Row],[No]],TablaLicencias,3,0),\"\")","v":""},{"$f":"IFERROR(VLOOKUP(Tabla48[[#This Row],[No]],TablaLicencias,4,0),\"\")","v":""},{"$f":"IFERROR(VLOOKUP(Tabla48[[#This Row],[No]],TablaLicencias,5,0),\"\")","v":""},{"$f":"IFERROR(VLOOKUP(Tabla48[[#This Row],[No]],TablaLicencias,6,0),\"\")","v":""}]
[null,null,null,145,{"$f":"IFERROR(VLOOKUP(Tabla48[[#This Row],[No]],TablaLicencias,2,0),\"\")","v":""},{"$f":"IFERROR(VLOOKUP(Tabla48[[#This Row],[No]],TablaLicencias,3,0),\"\")","v":""},{"$f":"IFERROR(VLOOKUP(Tabla48[[#This Row],[No]],TablaLicencias,4,0),\"\")","v":""},{"$f":"IFERROR(VLOOKUP(Tabla48[[#This Row],[No]],TablaLicencias,5,0),\"\")","v":""},{"$f":"IFERROR(VLOOKUP(Tabla48[[#This Row],[No]],TablaLicencias,6,0),\"\")","v":""}]
[null,null,null,146,{"$f":"IFERROR(VLOOKUP(Tabla48[[#This Row],[No]],TablaLicencias,2,0),\"\")","v":""},{"$f":"IFERROR(VLOOKUP(Tabla48[[#This Row],[No]],TablaLicencias,3,0),\"\")","v":""},{"$f":"IFERROR(VLOOKUP(Tabla48[[#This Row],[No]],TablaLicencias,4,0),\"\")","v":""},{"$f":"IFERROR(VLOOKUP(Tabla48[[#This Row],[No]],TablaLicencias,5,0),\"\")","v":""},{"$f":"IFERROR(VLOOKUP(Tabla48[[#This Row],[No]],TablaLicencias,6,0),\"\")","v":""}]
[null,null,null,147,{"$f":"IFERROR(VLOOKUP(Tabla48[[#This Row],[No]],TablaLicencias,2,0),\"\")","v":""},{"$f":"IFERROR(VLOOKUP(Tabla48[[#This Row],[No]],TablaLicencias,3,0),\"\")","v":""},{"$f":"IFERROR(VLOOKUP(Tabla48[[#This Row],[No]],TablaLicencias,4,0),\"\")","v":""},{"$f":"IFERROR(VLOOKUP(Tabla48[[#This Row],[No]],TablaLicencias,5,0),\"\")","v":""},{"$f":"IFERROR(VLOOKUP(Tabla48[[#This Row],[No]],TablaLicencias,6,0),\"\")","v":""}]
[null,null,null,148,{"$f":"IFERROR(VLOOKUP(Tabla48[[#This Row],[No]],TablaLicencias,2,0),\"\")","v":""},{"$f":"IFERROR(VLOOKUP(Tabla48[[#This Row],[No]],TablaLicencias,3,0),\"\")","v":""},{"$f":"IFERROR(VLOOKUP(Tabla48[[#This Row],[No]],TablaLicencias,4,0),\"\")","v":""},{"$f":"IFERROR(VLOOKUP(Tabla48[[#This Row],[No]],TablaLicencias,5,0),\"\")","v":""},{"$f":"IFERROR(VLOOKUP(Tabla48[[#This Row],[No]],TablaLicencias,6,0),\"\")","v":""}]
[null,null,null,149,{"$f":"IFERROR(VLOOKUP(Tabla48[[#This Row],[No]],TablaLicencias,2,0),\"\")","v":""},{"$f":"IFERROR(VLOOKUP(Tabla48[[#This Row],[No]],TablaLicencias,3,0),\"\")","v":""},{"$f":"IFERROR(VLOOKUP(Tabla48[[#This Row],[No]],TablaLicencias,4,0),\"\")","v":""},{"$f":"IFERROR(VLOOKUP(Tabla48[[#This Row],[No]],TablaLicencias,5,0),\"\")","v":""},{"$f":"IFERROR(VLOOKUP(Tabla48[[#This Row],[No]],TablaLicencias,6,0),\"\")","v":""}]
[null,null,null,150,{"$f":"IFERROR(VLOOKUP(Tabla48[[#This Row],[No]],TablaLicencias,2,0),\"\")","v":""},{"$f":"IFERROR(VLOOKUP(Tabla48[[#This Row],[No]],TablaLicencias,3,0),\"\")","v":""},{"$f":"IFERROR(VLOOKUP(Tabla48[[#This Row],[No]],TablaLicencias,4,0),\"\")","v":""},{"$f":"IFERROR(VLOOKUP(Tabla48[[#This Row],[No]],TablaLicencias,5,0),\"\")","v":""},{"$f":"IFERROR(VLOOKUP(Tabla48[[#This Row],[No]],TablaLicencias,6,0),\"\")","v":""}]
[null,null,null,151,{"$f":"IFERROR(VLOOKUP(Tabla48[[#This Row],[No]],TablaLicencias,2,0),\"\")","v":""},{"$f":"IFERROR(VLOOKUP(Tabla48[[#This Row],[No]],TablaLicencias,3,0),\"\")","v":""},{"$f":"IFERROR(VLOOKUP(Tabla48[[#This Row],[No]],TablaLicencias,4,0),\"\")","v":""},{"$f":"IFERROR(VLOOKUP(Tabla48[[#This Row],[No]],TablaLicencias,5,0),\"\")","v":""},{"$f":"IFERROR(VLOOKUP(Tabla48[[#This Row],[No]],TablaLicencias,6,0),\"\")","v":""}]
[null,null,null,152,{"$f":"IFERROR(VLOOKUP(Tabla48[[#This Row],[No]],TablaLicencias,2,0),\"\")","v":""},{"$f":"IFERROR(VLOOKUP(Tabla48[[#This Row],[No]],TablaLicencias,3,0),\"\")","v":""},{"$f":"IFERROR(VLOOKUP(Tabla48[[#This Row],[No]],TablaLicencias,4,0),\"\")","v":""},{"$f":"IFERROR(VLOOKUP(Tabla48[[#This Row],[No]],TablaLicencias,5,0),\"\")","v":""},{"$f":"IFERROR(VLOOKUP(Tabla48[[#This Row],[No]],TablaLicencias,6,0),\"\")","v":""}]
[null,null,null,153,{"$f":"IFERROR(VLOOKUP(Tabla48[[#This Row],[No]],TablaLicencias,2,0),\"\")","v":""},{"$f":"IFERROR(VLOOKUP(Tabla48[[#This Row],[No]],TablaLicencias,3,0),\"\")","v":""},{"$f":"IFERROR(VLOOKUP(Tabla48[[#This Row],[No]],TablaLicencias,4,0),\"\")","v":""},{"$f":"IFERROR(VLOOKUP(Tabla48[[#This Row],[No]],TablaLicencias,5,0),\"\")","v":""},{"$f":"IFERROR(VLOOKUP(Tabla48[[#This Row],[No]],TablaLicencias,6,0),\"\")","v":""}]
[null,null,null,154,{"$f":"IFERROR(VLOOKUP(Tabla48[[#This Row],[No]],TablaLicencias,2,0),\"\")","v":""},{"$f":"IFERROR(VLOOKUP(Tabla48[[#This Row],[No]],TablaLicencias,3,0),\"\")","v":""},{"$f":"IFERROR(VLOOKUP(Tabla48[[#This Row],[No]],TablaLicencias,4,0),\"\")","v":""},{"$f":"IFERROR(VLOOKUP(Tabla48[[#This Row],[No]],TablaLicencias,5,0),\"\")","v":""},{"$f":"IFERROR(VLOOKUP(Tabla48[[#This Row],[No]],TablaLicencias,6,0),\"\")","v":""}]
[null,null,null,155,{"$f":"IFERROR(VLOOKUP(Tabla48[[#This Row],[No]],TablaLicencias,2,0),\"\")","v":""},{"$f":"IFERROR(VLOOKUP(Tabla48[[#This Row],[No]],TablaLicencias,3,0),\"\")","v":""},{"$f":"IFERROR(VLOOKUP(Tabla48[[#This Row],[No]],TablaLicencias,4,0),\"\")","v":""},{"$f":"IFERROR(VLOOKUP(Tabla48[[#This Row],[No]],TablaLicencias,5,0),\"\")","v":""},{"$f":"IFERROR(VLOOKUP(Tabla48[[#This Row],[No]],TablaLicencias,6,0),\"\")","v":""}]
[null,null,null,156,{"$f":"IFERROR(VLOOKUP(Tabla48[[#This Row],[No]],TablaLicencias,2,0),\"\")","v":""},{"$f":"IFERROR(VLOOKUP(Tabla48[[#This Row],[No]],TablaLicencias,3,0),\"\")","v":""},{"$f":"IFERROR(VLOOKUP(Tabla48[[#This Row],[No]],TablaLicencias,4,0),\"\")","v":""},{"$f":"IFERROR(VLOOKUP(Tabla48[[#This Row],[No]],TablaLicencias,5,0),\"\")","v":""},{"$f":"IFERROR(VLOOKUP(Tabla48[[#This Row],[No]],TablaLicencias,6,0),\"\")","v":""}]
[null,null,null,157,{"$f":"IFERROR(VLOOKUP(Tabla48[[#This Row],[No]],TablaLicencias,2,0),\"\")","v":""},{"$f":"IFERROR(VLOOKUP(Tabla48[[#This Row],[No]],TablaLicencias,3,0),\"\")","v":""},{"$f":"IFERROR(VLOOKUP(Tabla48[[#This Row],[No]],TablaLicencias,4,0),\"\")","v":""},{"$f":"IFERROR(VLOOKUP(Tabla48[[#This Row],[No]],TablaLicencias,5,0),\"\")","v":""},{"$f":"IFERROR(VLOOKUP(Tabla48[[#This Row],[No]],TablaLicencias,6,0),\"\")","v":""}]
[null,null,null,158,{"$f":"IFERROR(VLOOKUP(Tabla48[[#This Row],[No]],TablaLicencias,2,0),\"\")","v":""},{"$f":"IFERROR(VLOOKUP(Tabla48[[#This Row],[No]],TablaLicencias,3,0),\"\")","v":""},{"$f":"IFERROR(VLOOKUP(Tabla48[[#This Row],[No]],TablaLicencias,4,0),\"\")","v":""},{"$f":"IFERROR(VLOOKUP(Tabla48[[#This Row],[No]],TablaLicencias,5,0),\"\")","v":""},{"$f":"IFERROR(VLOOKUP(Tabla48[[#This Row],[No]],TablaLicencias,6,0),\"\")","v":""}]
[null,null,null,159,{"$f":"IFERROR(VLOOKUP(Tabla48[[#This Row],[No]],TablaLicencias,2,0),\"\")","v":""},{"$f":"IFERROR(VLOOKUP(Tabla48[[#This Row],[No]],TablaLicencias,3,0),\"\")","v":""},{"$f":"IFERROR(VLOOKUP(Tabla48[[#This Row],[No]],TablaLicencias,4,0),\"\")","v":""},{"$f":"IFERROR(VLOOKUP(Tabla48[[#This Row],[No]],TablaLicencias,5,0),\"\")","v":""},{"$f":"IFERROR(VLOOKUP(Tabla48[[#This Row],[No]],TablaLicencias,6,0),\"\")","v":""}]
[null,null,null,160,{"$f":"IFERROR(VLOOKUP(Tabla48[[#This Row],[No]],TablaLicencias,2,0),\"\")","v":""},{"$f":"IFERROR(VLOOKUP(Tabla48[[#This Row],[No]],TablaLicencias,3,0),\"\")","v":""},{"$f":"IFERROR(VLOOKUP(Tabla48[[#This Row],[No]],TablaLicencias,4,0),\"\")","v":""},{"$f":"IFERROR(VLOOKUP(Tabla48[[#This Row],[No]],TablaLicencias,5,0),\"\")","v":""},{"$f":"IFERROR(VLOOKUP(Tabla48[[#This Row],[No]],TablaLicencias,6,0),\"\")","v":""}]
[null,null,null,161,{"$f":"IFERROR(VLOOKUP(Tabla48[[#This Row],[No]],TablaLicencias,2,0),\"\")","v":""},{"$f":"IFERROR(VLOOKUP(Tabla48[[#This Row],[No]],TablaLicencias,3,0),\"\")","v":""},{"$f":"IFERROR(VLOOKUP(Tabla48[[#This Row],[No]],TablaLicencias,4,0),\"\")","v":""},{"$f":"IFERROR(VLOOKUP(Tabla48[[#This Row],[No]],TablaLicencias,5,0),\"\")","v":""},{"$f":"IFERROR(VLOOKUP(Tabla48[[#This Row],[No]],TablaLicencias,6,0),\"\")","v":""}]
[null,null,null,162,{"$f":"IFERROR(VLOOKUP(Tabla48[[#This Row],[No]],TablaLicencias,2,0),\"\")","v":""},{"$f":"IFERROR(VLOOKUP(Tabla48[[#This Row],[No]],TablaLicencias,3,0),\"\")","v":""},{"$f":"IFERROR(VLOOKUP(Tabla48[[#This Row],[No]],TablaLicencias,4,0),\"\")","v":""},{"$f":"IFERROR(VLOOKUP(Tabla48[[#This Row],[No]],TablaLicencias,5,0),\"\")","v":""},{"$f":"IFERROR(VLOOKUP(Tabla48[[#This Row],[No]],TablaLicencias,6,0),\"\")","v":""}]
[null,null,null,163,{"$f":"IFERROR(VLOOKUP(Tabla48[[#This Row],[No]],TablaLicencias,2,0),\"\")","v":""},{"$f":"IFERROR(VLOOKUP(Tabla48[[#This Row],[No]],TablaLicencias,3,0),\"\")","v":""},{"$f":"IFERROR(VLOOKUP(Tabla48[[#This Row],[No]],TablaLicencias,4,0),\"\")","v":""},{"$f":"IFERROR(VLOOKUP(Tabla48[[#This Row],[No]],TablaLicencias,5,0),\"\")","v":""},{"$f":"IFERROR(VLOOKUP(Tabla48[[#This Row],[No]],TablaLicencias,6,0),\"\")","v":""}]
[null,null,null,164,{"$f":"IFERROR(VLOOKUP(Tabla48[[#This Row],[No]],TablaLicencias,2,0),\"\")","v":""},{"$f":"IFERROR(VLOOKUP(Tabla48[[#This Row],[No]],TablaLicencias,3,0),\"\")","v":""},{"$f":"IFERROR(VLOOKUP(Tabla48[[#This Row],[No]],TablaLicencias,4,0),\"\")","v":""},{"$f":"IFERROR(VLOOKUP(Tabla48[[#This Row],[No]],TablaLicencias,5,0),\"\")","v":""},{"$f":"IFERROR(VLOOKUP(Tabla48[[#This Row],[No]],TablaLicencias,6,0),\"\")","v":""}]
[null,null,null,165,{"$f":"IFERROR(VLOOKUP(Tabla48[[#This Row],[No]],TablaLicencias,2,0),\"\")","v":""},{"$f":"IFERROR(VLOOKUP(Tabla48[[#This Row],[No]],TablaLicencias,3,0),\"\")","v":""},{"$f":"IFERROR(VLOOKUP(Tabla48[[#This Row],[No]],TablaLicencias,4,0),\"\")","v":""},{"$f":"IFERROR(VLOOKUP(Tabla48[[#This Row],[No]],TablaLicencias,5,0),\"\")","v":""},{"$f":"IFERROR(VLOOKUP(Tabla48[[#This Row],[No]],TablaLicencias,6,0),\"\")","v":""}]
[null,null,null,166,{"$f":"IFERROR(VLOOKUP(Tabla48[[#This Row],[No]],TablaLicencias,2,0),\"\")","v":""},{"$f":"IFERROR(VLOOKUP(Tabla48[[#This Row],[No]],TablaLicencias,3,0),\"\")","v":""},{"$f":"IFERROR(VLOOKUP(Tabla48[[#This Row],[No]],TablaLicencias,4,0),\"\")","v":""},{"$f":"IFERROR(VLOOKUP(Tabla48[[#This Row],[No]],TablaLicencias,5,0),\"\")","v":""},{"$f":"IFERROR(VLOOKUP(Tabla48[[#This Row],[No]],TablaLicencias,6,0),\"\")","v":""}]
[null,null,null,167,{"$f":"IFERROR(VLOOKUP(Tabla48[[#This Row],[No]],TablaLicencias,2,0),\"\")","v":""},{"$f":"IFERROR(VLOOKUP(Tabla48[[#This Row],[No]],TablaLicencias,3,0),\"\")","v":""},{"$f":"IFERROR(VLOOKUP(Tabla48[[#This Row],[No]],TablaLicencias,4,0),\"\")","v":""},{"$f":"IFERROR(VLOOKUP(Tabla48[[#This Row],[No]],TablaLicencias,5,0),\"\")","v":""},{"$f":"IFERROR(VLOOKUP(Tabla48[[#This Row],[No]],TablaLicencias,6,0),\"\")","v":""}]
[null,null,null,168,{"$f":"IFERROR(VLOOKUP(Tabla48[[#This Row],[No]],TablaLicencias,2,0),\"\")","v":""},{"$f":"IFERROR(VLOOKUP(Tabla48[[#This Row],[No]],TablaLicencias,3,0),\"\")","v":""},{"$f":"IFERROR(VLOOKUP(Tabla48[[#This Row],[No]],TablaLicencias,4,0),\"\")","v":""},{"$f":"IFERROR(VLOOKUP(Tabla48[[#This Row],[No]],TablaLicencias,5,0),\"\")","v":""},{"$f":"IFERROR(VLOOKUP(Tabla48[[#This Row],[No]],TablaLicencias,6,0),\"\")","v":""}]
[null,null,null,169,{"$f":"IFERROR(VLOOKUP(Tabla48[[#This Row],[No]],TablaLicencias,2,0),\"\")","v":""},{"$f":"IFERROR(VLOOKUP(Tabla48[[#This Row],[No]],TablaLicencias,3,0),\"\")","v":""},{"$f":"IFERROR(VLOOKUP(Tabla48[[#This Row],[No]],TablaLicencias,4,0),\"\")","v":""},{"$f":"IFERROR(VLOOKUP(Tabla48[[#This Row],[No]],TablaLicencias,5,0),\"\")","v":""},{"$f":"IFERROR(VLOOKUP(Tabla48[[#This Row],[No]],TablaLicencias,6,0),\"\")","v":""}]
[null,null,null,170,{"$f":"IFERROR(VLOOKUP(Tabla48[[#This Row],[No]],TablaLicencias,2,0),\"\")","v":""},{"$f":"IFERROR(VLOOKUP(Tabla48[[#This Row],[No]],TablaLicencias,3,0),\"\")","v":""},{"$f":"IFERROR(VLOOKUP(Tabla48[[#This Row],[No]],TablaLicencias,4,0),\"\")","v":""},{"$f":"IFERROR(VLOOKUP(Tabla48[[#This Row],[No]],TablaLicencias,5,0),\"\")","v":""},{"$f":"IFERROR(VLOOKUP(Tabla48[[#This Row],[No]],TablaLicencias,6,0),\"\")","v":""}]
[null,null,null,171,{"$f":"IFERROR(VLOOKUP(Tabla48[[#This Row],[No]],TablaLicencias,2,0),\"\")","v":""},{"$f":"IFERROR(VLOOKUP(Tabla48[[#This Row],[No]],TablaLicencias,3,0),\"\")","v":""},{"$f":"IFERROR(VLOOKUP(Tabla48[[#This Row],[No]],TablaLicencias,4,0),\"\")","v":""},{"$f":"IFERROR(VLOOKUP(Tabla48[[#This Row],[No]],TablaLicencias,5,0),\"\")","v":""},{"$f":"IFERROR(VLOOKUP(Tabla48[[#This Row],[No]],TablaLicencias,6,0),\"\")","v":""}]
[null,null,null,172,{"$f":"IFERROR(VLOOKUP(Tabla48[[#This Row],[No]],TablaLicencias,2,0),\"\")","v":""},{"$f":"IFERROR(VLOOKUP(Tabla48[[#This Row],[No]],TablaLicencias,3,0),\"\")","v":""},{"$f":"IFERROR(VLOOKUP(Tabla48[[#This Row],[No]],TablaLicencias,4,0),\"\")","v":""},{"$f":"IFERROR(VLOOKUP(Tabla48[[#This Row],[No]],TablaLicencias,5,0),\"\")","v":""},{"$f":"IFERROR(VLOOKUP(Tabla48[[#This Row],[No]],TablaLicencias,6,0),\"\")","v":""}]
[null,null,null,173,{"$f":"IFERROR(VLOOKUP(Tabla48[[#This Row],[No]],TablaLicencias,2,0),\"\")","v":""},{"$f":"IFERROR(VLOOKUP(Tabla48[[#This Row],[No]],TablaLicencias,3,0),\"\")","v":""},{"$f":"IFERROR(VLOOKUP(Tabla48[[#This Row],[No]],TablaLicencias,4,0),\"\")","v":""},{"$f":"IFERROR(VLOOKUP(Tabla48[[#This Row],[No]],TablaLicencias,5,0),\"\")","v":""},{"$f":"IFERROR(VLOOKUP(Tabla48[[#This Row],[No]],TablaLicencias,6,0),\"\")","v":""}]
[null,null,null,174,{"$f":"IFERROR(VLOOKUP(Tabla48[[#This Row],[No]],TablaLicencias,2,0),\"\")","v":""},{"$f":"IFERROR(VLOOKUP(Tabla48[[#This Row],[No]],TablaLicencias,3,0),\"\")","v":""},{"$f":"IFERROR(VLOOKUP(Tabla48[[#This Row],[No]],TablaLicencias,4,0),\"\")","v":""},{"$f":"IFERROR(VLOOKUP(Tabla48[[#This Row],[No]],TablaLicencias,5,0),\"\")","v":""},{"$f":"IFERROR(VLOOKUP(Tabla48[[#This Row],[No]],TablaLicencias,6,0),\"\")","v":""}]
[null,null,null,175,{"$f":"IFERROR(VLOOKUP(Tabla48[[#This Row],[No]],TablaLicencias,2,0),\"\")","v":""},{"$f":"IFERROR(VLOOKUP(Tabla48[[#This Row],[No]],TablaLicencias,3,0),\"\")","v":""},{"$f":"IFERROR(VLOOKUP(Tabla48[[#This Row],[No]],TablaLicencias,4,0),\"\")","v":""},{"$f":"IFERROR(VLOOKUP(Tabla48[[#This Row],[No]],TablaLicencias,5,0),\"\")","v":""},{"$f":"IFERROR(VLOOKUP(Tabla48[[#This Row],[No]],TablaLicencias,6,0),\"\")","v":""}]
[null,null,null,176,{"$f":"IFERROR(VLOOKUP(Tabla48[[#This Row],[No]],TablaLicencias,2,0),\"\")","v":""},{"$f":"IFERROR(VLOOKUP(Tabla48[[#This Row],[No]],TablaLicencias,3,0),\"\")","v":""},{"$f":"IFERROR(VLOOKUP(Tabla48[[#This Row],[No]],TablaLicencias,4,0),\"\")","v":""},{"$f":"IFERROR(VLOOKUP(Tabla48[[#This Row],[No]],TablaLicencias,5,0),\"\")","v":""},{"$f":"IFERROR(VLOOKUP(Tabla48[[#This Row],[No]],TablaLicencias,6,0),\"\")","v":""}]
[null,null,null,177,{"$f":"IFERROR(VLOOKUP(Tabla48[[#This Row],[No]],TablaLicencias,2,0),\"\")","v":""},{"$f":"IFERROR(VLOOKUP(Tabla48[[#This Row],[No]],TablaLicencias,3,0),\"\")","v":""},{"$f":"IFERROR(VLOOKUP(Tabla48[[#This Row],[No]],TablaLicencias,4,0),\"\")","v":""},{"$f":"IFERROR(VLOOKUP(Tabla48[[#This Row],[No]],TablaLicencias,5,0),\"\")","v":""},{"$f":"IFERROR(VLOOKUP(Tabla48[[#This Row],[No]],TablaLicencias,6,0),\"\")","v":""}]
[null,null,null,178,{"$f":"IFERROR(VLOOKUP(Tabla48[[#This Row],[No]],TablaLicencias,2,0),\"\")","v":""},{"$f":"IFERROR(VLOOKUP(Tabla48[[#This Row],[No]],TablaLicencias,3,0),\"\")","v":""},{"$f":"IFERROR(VLOOKUP(Tabla48[[#This Row],[No]],TablaLicencias,4,0),\"\")","v":""},{"$f":"IFERROR(VLOOKUP(Tabla48[[#This Row],[No]],TablaLicencias,5,0),\"\")","v":""},{"$f":"IFERROR(VLOOKUP(Tabla48[[#This Row],[No]],TablaLicencias,6,0),\"\")","v":""}]
[null,null,null,179,{"$f":"IFERROR(VLOOKUP(Tabla48[[#This Row],[No]],TablaLicencias,2,0),\"\")","v":""},{"$f":"IFERROR(VLOOKUP(Tabla48[[#This Row],[No]],TablaLicencias,3,0),\"\")","v":""},{"$f":"IFERROR(VLOOKUP(Tabla48[[#This Row],[No]],TablaLicencias,4,0),\"\")","v":""},{"$f":"IFERROR(VLOOKUP(Tabla48[[#This Row],[No]],TablaLicencias,5,0),\"\")","v":""},{"$f":"IFERROR(VLOOKUP(Tabla48[[#This Row],[No]],TablaLicencias,6,0),\"\")","v":""}]
[null,null,null,180,{"$f":"IFERROR(VLOOKUP(Tabla48[[#This Row],[No]],TablaLicencias,2,0),\"\")","v":""},{"$f":"IFERROR(VLOOKUP(Tabla48[[#This Row],[No]],TablaLicencias,3,0),\"\")","v":""},{"$f":"IFERROR(VLOOKUP(Tabla48[[#This Row],[No]],TablaLicencias,4,0),\"\")","v":""},{"$f":"IFERROR(VLOOKUP(Tabla48[[#This Row],[No]],TablaLicencias,5,0),\"\")","v":""},{"$f":"IFERROR(VLOOKUP(Tabla48[[#This Row],[No]],TablaLicencias,6,0),\"\")","v":""}]
[null,null,null,181,{"$f":"IFERROR(VLOOKUP(Tabla48[[#This Row],[No]],TablaLicencias,2,0),\"\")","v":""},{"$f":"IFERROR(VLOOKUP(Tabla48[[#This Row],[No]],TablaLicencias,3,0),\"\")","v":""},{"$f":"IFERROR(VLOOKUP(Tabla48[[#This Row],[No]],TablaLicencias,4,0),\"\")","v":""},{"$f":"IFERROR(VLOOKUP(Tabla48[[#This Row],[No]],TablaLicencias,5,0),\"\")","v":""},{"$f":"IFERROR(VLOOKUP(Tabla48[[#This Row],[No]],TablaLicencias,6,0),\"\")","v":""}]
[null,null,null,182,{"$f":"IFERROR(VLOOKUP(Tabla48[[#This Row],[No]],TablaLicencias,2,0),\"\")","v":""},{"$f":"IFERROR(VLOOKUP(Tabla48[[#This Row],[No]],TablaLicencias,3,0),\"\")","v":""},{"$f":"IFERROR(VLOOKUP(Tabla48[[#This Row],[No]],TablaLicencias,4,0),\"\")","v":""},{"$f":"IFERROR(VLOOKUP(Tabla48[[#This Row],[No]],TablaLicencias,5,0),\"\")","v":""},{"$f":"IFERROR(VLOOKUP(Tabla48[[#This Row],[No]],TablaLicencias,6,0),\"\")","v":""}]
[null,null,null,183,{"$f":"IFERROR(VLOOKUP(Tabla48[[#This Row],[No]],TablaLicencias,2,0),\"\")","v":""},{"$f":"IFERROR(VLOOKUP(Tabla48[[#This Row],[No]],TablaLicencias,3,0),\"\")","v":""},{"$f":"IFERROR(VLOOKUP(Tabla48[[#This Row],[No]],TablaLicencias,4,0),\"\")","v":""},{"$f":"IFERROR(VLOOKUP(Tabla48[[#This Row],[No]],TablaLicencias,5,0),\"\")","v":""},{"$f":"IFERROR(VLOOKUP(Tabla48[[#This Row],[No]],TablaLicencias,6,0),\"\")","v":""}]
[null,null,null,184,{"$f":"IFERROR(VLOOKUP(Tabla48[[#This Row],[No]],TablaLicencias,2,0),\"\")","v":""},{"$f":"IFERROR(VLOOKUP(Tabla48[[#This Row],[No]],TablaLicencias,3,0),\"\")","v":""},{"$f":"IFERROR(VLOOKUP(Tabla48[[#This Row],[No]],TablaLicencias,4,0),\"\")","v":""},{"$f":"IFERROR(VLOOKUP(Tabla48[[#This Row],[No]],TablaLicencias,5,0),\"\")","v":""},{"$f":"IFERROR(VLOOKUP(Tabla48[[#This Row],[No]],TablaLicencias,6,0),\"\")","v":""}]
[null,null,null,185,{"$f":"IFERROR(VLOOKUP(Tabla48[[#This Row],[No]],TablaLicencias,2,0),\"\")","v":""},{"$f":"IFERROR(VLOOKUP(Tabla48[[#This Row],[No]],TablaLicencias,3,0),\"\")","v":""},{"$f":"IFERROR(VLOOKUP(Tabla48[[#This Row],[No]],TablaLicencias,4,0),\"\")","v":""},{"$f":"IFERROR(VLOOKUP(Tabla48[[#This Row],[No]],TablaLicencias,5,0),\"\")","v":""},{"$f":"IFERROR(VLOOKUP(Tabla48[[#This Row],[No]],TablaLicencias,6,0),\"\")","v":""}]
[null,null,null,186,{"$f":"IFERROR(VLOOKUP(Tabla48[[#This Row],[No]],TablaLicencias,2,0),\"\")","v":""},{"$f":"IFERROR(VLOOKUP(Tabla48[[#This Row],[No]],TablaLicencias,3,0),\"\")","v":""},{"$f":"IFERROR(VLOOKUP(Tabla48[[#This Row],[No]],TablaLicencias,4,0),\"\")","v":""},{"$f":"IFERROR(VLOOKUP(Tabla48[[#This Row],[No]],TablaLicencias,5,0),\"\")","v":""},{"$f":"IFERROR(VLOOKUP(Tabla48[[#This Row],[No]],TablaLicencias,6,0),\"\")","v":""}]
[null,null,null,187,{"$f":"IFERROR(VLOOKUP(Tabla48[[#This Row],[No]],TablaLicencias,2,0),\"\")","v":""},{"$f":"IFERROR(VLOOKUP(Tabla48[[#This Row],[No]],TablaLicencias,3,0),\"\")","v":""},{"$f":"IFERROR(VLOOKUP(Tabla48[[#This Row],[No]],TablaLicencias,4,0),\"\")","v":""},{"$f":"IFERROR(VLOOKUP(Tabla48[[#This Row],[No]],TablaLicencias,5,0),\"\")","v":""},{"$f":"IFERROR(VLOOKUP(Tabla48[[#This Row],[No]],TablaLicencias,6,0),\"\")","v":""}]
[null,null,null,188,{"$f":"IFERROR(VLOOKUP(Tabla48[[#This Row],[No]],TablaLicencias,2,0),\"\")","v":""},{"$f":"IFERROR(VLOOKUP(Tabla48[[#This Row],[No]],TablaLicencias,3,0),\"\")","v":""},{"$f":"IFERROR(VLOOKUP(Tabla48[[#This Row],[No]],TablaLicencias,4,0),\"\")","v":""},{"$f":"IFERROR(VLOOKUP(Tabla48[[#This Row],[No]],TablaLicencias,5,0),\"\")","v":""},{"$f":"IFERROR(VLOOKUP(Tabla48[[#This Row],[No]],TablaLicencias,6,0),\"\")","v":""}]
[null,null,null,189,{"$f":"IFERROR(VLOOKUP(Tabla48[[#This Row],[No]],TablaLicencias,2,0),\"\")","v":""},{"$f":"IFERROR(VLOOKUP(Tabla48[[#This Row],[No]],TablaLicencias,3,0),\"\")","v":""},{"$f":"IFERROR(VLOOKUP(Tabla48[[#This Row],[No]],TablaLicencias,4,0),\"\")","v":""},{"$f":"IFERROR(VLOOKUP(Tabla48[[#This Row],[No]],TablaLicencias,5,0),\"\")","v":""},{"$f":"IFERROR(VLOOKUP(Tabla48[[#This Row],[No]],TablaLicencias,6,0),\"\")","v":""}]
[null,null,null,190,{"$f":"IFERROR(VLOOKUP(Tabla48[[#This Row],[No]],TablaLicencias,2,0),\"\")","v":""},{"$f":"IFERROR(VLOOKUP(Tabla48[[#This Row],[No]],TablaLicencias,3,0),\"\")","v":""},{"$f":"IFERROR(VLOOKUP(Tabla48[[#This Row],[No]],TablaLicencias,4,0),\"\")","v":""},{"$f":"IFERROR(VLOOKUP(Tabla48[[#This Row],[No]],TablaLicencias,5,0),\"\")","v":""},{"$f":"IFERROR(VLOOKUP(Tabla48[[#This Row],[No]],TablaLicencias,6,0),\"\")","v":""}]
[null,null,null,191,{"$f":"IFERROR(VLOOKUP(Tabla48[[#This Row],[No]],TablaLicencias,2,0),\"\")","v":""},{"$f":"IFERROR(VLOOKUP(Tabla48[[#This Row],[No]],TablaLicencias,3,0),\"\")","v":""},{"$f":"IFERROR(VLOOKUP(Tabla48[[#This Row],[No]],TablaLicencias,4,0),\"\")","v":""},{"$f":"IFERROR(VLOOKUP(Tabla48[[#This Row],[No]],TablaLicencias,5,0),\"\")","v":""},{"$f":"IFERROR(VLOOKUP(Tabla48[[#This Row],[No]],TablaLicencias,6,0),\"\")","v":""}]
[null,null,null,192,{"$f":"IFERROR(VLOOKUP(Tabla48[[#This Row],[No]],TablaLicencias,2,0),\"\")","v":""},{"$f":"IFERROR(VLOOKUP(Tabla48[[#This Row],[No]],TablaLicencias,3,0),\"\")","v":""},{"$f":"IFERROR(VLOOKUP(Tabla48[[#This Row],[No]],TablaLicencias,4,0),\"\")","v":""},{"$f":"IFERROR(VLOOKUP(Tabla48[[#This Row],[No]],TablaLicencias,5,0),\"\")","v":""},{"$f":"IFERROR(VLOOKUP(Tabla48[[#This Row],[No]],TablaLicencias,6,0),\"\")","v":""}]
[null,null,null,193,{"$f":"IFERROR(VLOOKUP(Tabla48[[#This Row],[No]],TablaLicencias,2,0),\"\")","v":""},{"$f":"IFERROR(VLOOKUP(Tabla48[[#This Row],[No]],TablaLicencias,3,0),\"\")","v":""},{"$f":"IFERROR(VLOOKUP(Tabla48[[#This Row],[No]],TablaLicencias,4,0),\"\")","v":""},{"$f":"IFERROR(VLOOKUP(Tabla48[[#This Row],[No]],TablaLicencias,5,0),\"\")","v":""},{"$f":"IFERROR(VLOOKUP(Tabla48[[#This Row],[No]],TablaLicencias,6,0),\"\")","v":""}]
[null,null,null,194,{"$f":"IFERROR(VLOOKUP(Tabla48[[#This Row],[No]],TablaLicencias,2,0),\"\")","v":""},{"$f":"IFERROR(VLOOKUP(Tabla48[[#This Row],[No]],TablaLicencias,3,0),\"\")","v":""},{"$f":"IFERROR(VLOOKUP(Tabla48[[#This Row],[No]],TablaLicencias,4,0),\"\")","v":""},{"$f":"IFERROR(VLOOKUP(Tabla48[[#This Row],[No]],TablaLicencias,5,0),\"\")","v":""},{"$f":"IFERROR(VLOOKUP(Tabla48[[#This Row],[No]],TablaLicencias,6,0),\"\")","v":""}]
[null,null,null,195,{"$f":"IFERROR(VLOOKUP(Tabla48[[#This Row],[No]],TablaLicencias,2,0),\"\")","v":""},{"$f":"IFERROR(VLOOKUP(Tabla48[[#This Row],[No]],TablaLicencias,3,0),\"\")","v":""},{"$f":"IFERROR(VLOOKUP(Tabla48[[#This Row],[No]],TablaLicencias,4,0),\"\")","v":""},{"$f":"IFERROR(VLOOKUP(Tabla48[[#This Row],[No]],TablaLicencias,5,0),\"\")","v":""},{"$f":"IFERROR(VLOOKUP(Tabla48[[#This Row],[No]],TablaLicencias,6,0),\"\")","v":""}]
[null,null,null,196,{"$f":"IFERROR(VLOOKUP(Tabla48[[#This Row],[No]],TablaLicencias,2,0),\"\")","v":""},{"$f":"IFERROR(VLOOKUP(Tabla48[[#This Row],[No]],TablaLicencias,3,0),\"\")","v":""},{"$f":"IFERROR(VLOOKUP(Tabla48[[#This Row],[No]],TablaLicencias,4,0),\"\")","v":""},{"$f":"IFERROR(VLOOKUP(Tabla48[[#This Row],[No]],TablaLicencias,5,0),\"\")","v":""},{"$f":"IFERROR(VLOOKUP(Tabla48[[#This Row],[No]],TablaLicencias,6,0),\"\")","v":""}]
[null,null,null,197,{"$f":"IFERROR(VLOOKUP(Tabla48[[#This Row],[No]],TablaLicencias,2,0),\"\")","v":""},{"$f":"IFERROR(VLOOKUP(Tabla48[[#This Row],[No]],TablaLicencias,3,0),\"\")","v":""},{"$f":"IFERROR(VLOOKUP(Tabla48[[#This Row],[No]],TablaLicencias,4,0),\"\")","v":""},{"$f":"IFERROR(VLOOKUP(Tabla48[[#This Row],[No]],TablaLicencias,5,0),\"\")","v":""},{"$f":"IFERROR(VLOOKUP(Tabla48[[#This Row],[No]],TablaLicencias,6,0),\"\")","v":""}]
[null,null,null,198,{"$f":"IFERROR(VLOOKUP(Tabla48[[#This Row],[No]],TablaLicencias,2,0),\"\")","v":""},{"$f":"IFERROR(VLOOKUP(Tabla48[[#This Row],[No]],TablaLicencias,3,0),\"\")","v":""},{"$f":"IFERROR(VLOOKUP(Tabla48[[#This Row],[No]],TablaLicencias,4,0),\"\")","v":""},{"$f":"IFERROR(VLOOKUP(Tabla48[[#This Row],[No]],TablaLicencias,5,0),\"\")","v":""},{"$f":"IFERROR(VLOOKUP(Tabla48[[#This Row],[No]],TablaLicencias,6,0),\"\")","v":""}]
[null,null,null,199,{"$f":"IFERROR(VLOOKUP(Tabla48[[#This Row],[No]],TablaLicencias,2,0),\"\")","v":""},{"$f":"IFERROR(VLOOKUP(Tabla48[[#This Row],[No]],TablaLicencias,3,0),\"\")","v":""},{"$f":"IFERROR(VLOOKUP(Tabla48[[#This Row],[No]],TablaLicencias,4,0),\"\")","v":""},{"$f":"IFERROR(VLOOKUP(Tabla48[[#This Row],[No]],TablaLicencias,5,0),\"\")","v":""},{"$f":"IFERROR(VLOOKUP(Tabla48[[#This Row],[No]],TablaLicencias,6,0),\"\")","v":""}]
[null,null,null,200,{"$f":"IFERROR(VLOOKUP(Tabla48[[#This Row],[No]],TablaLicencias,2,0),\"\")","v":""},{"$f":"IFERROR(VLOOKUP(Tabla48[[#This Row],[No]],TablaLicencias,3,0),\"\")","v":""},{"$f":"IFERROR(VLOOKUP(Tabla48[[#This Row],[No]],TablaLicencias,4,0),\"\")","v":""},{"$f":"IFERROR(VLOOKUP(Tabla48[[#This Row],[No]],TablaLicencias,5,0),\"\")","v":""},{"$f":"IFERROR(VLOOKUP(Tabla48[[#This Row],[No]],TablaLicencias,6,0),\"\")","v":""}]
[null,null,null,201,{"$f":"IFERROR(VLOOKUP(Tabla48[[#This Row],[No]],TablaLicencias,2,0),\"\")","v":""},{"$f":"IFERROR(VLOOKUP(Tabla48[[#This Row],[No]],TablaLicencias,3,0),\"\")","v":""},{"$f":"IFERROR(VLOOKUP(Tabla48[[#This Row],[No]],TablaLicencias,4,0),\"\")","v":""},{"$f":"IFERROR(VLOOKUP(Tabla48[[#This Row],[No]],TablaLicencias,5,0),\"\")","v":""},{"$f":"IFERROR(VLOOKUP(Tabla48[[#This Row],[No]],TablaLicencias,6,0),\"\")","v":""}]
[null,null,null,202,{"$f":"IFERROR(VLOOKUP(Tabla48[[#This Row],[No]],TablaLicencias,2,0),\"\")","v":""},{"$f":"IFERROR(VLOOKUP(Tabla48[[#This Row],[No]],TablaLicencias,3,0),\"\")","v":""},{"$f":"IFERROR(VLOOKUP(Tabla48[[#This Row],[No]],TablaLicencias,4,0),\"\")","v":""},{"$f":"IFERROR(VLOOKUP(Tabla48[[#This Row],[No]],TablaLicencias,5,0),\"\")","v":""},{"$f":"IFERROR(VLOOKUP(Tabla48[[#This Row],[No]],TablaLicencias,6,0),\"\")","v":""}]
[null,null,null,203,{"$f":"IFERROR(VLOOKUP(Tabla48[[#This Row],[No]],TablaLicencias,2,0),\"\")","v":""},{"$f":"IFERROR(VLOOKUP(Tabla48[[#This Row],[No]],TablaLicencias,3,0),\"\")","v":""},{"$f":"IFERROR(VLOOKUP(Tabla48[[#This Row],[No]],TablaLicencias,4,0),\"\")","v":""},{"$f":"IFERROR(VLOOKUP(Tabla48[[#This Row],[No]],TablaLicencias,5,0),\"\")","v":""},{"$f":"IFERROR(VLOOKUP(Tabla48[[#This Row],[No]],TablaLicencias,6,0),\"\")","v":""}]
[null,null,null,204,{"$f":"IFERROR(VLOOKUP(Tabla48[[#This Row],[No]],TablaLicencias,2,0),\"\")","v":""},{"$f":"IFERROR(VLOOKUP(Tabla48[[#This Row],[No]],TablaLicencias,3,0),\"\")","v":""},{"$f":"IFERROR(VLOOKUP(Tabla48[[#This Row],[No]],TablaLicencias,4,0),\"\")","v":""},{"$f":"IFERROR(VLOOKUP(Tabla48[[#This Row],[No]],TablaLicencias,5,0),\"\")","v":""},{"$f":"IFERROR(VLOOKUP(Tabla48[[#This Row],[No]],TablaLicencias,6,0),\"\")","v":""}]
[null,null,null,205,{"$f":"IFERROR(VLOOKUP(Tabla48[[#This Row],[No]],TablaLicencias,2,0),\"\")","v":""},{"$f":"IFERROR(VLOOKUP(Tabla48[[#This Row],[No]],TablaLicencias,3,0),\"\")","v":""},{"$f":"IFERROR(VLOOKUP(Tabla48[[#This Row],[No]],TablaLicencias,4,0),\"\")","v":""},{"$f":"IFERROR(VLOOKUP(Tabla48[[#This Row],[No]],TablaLicencias,5,0),\"\")","v":""},{"$f":"IFERROR(VLOOKUP(Tabla48[[#This Row],[No]],TablaLicencias,6,0),\"\")","v":""}]
[null,null,null,206,{"$f":"IFERROR(VLOOKUP(Tabla48[[#This Row],[No]],TablaLicencias,2,0),\"\")","v":""},{"$f":"IFERROR(VLOOKUP(Tabla48[[#This Row],[No]],TablaLicencias,3,0),\"\")","v":""},{"$f":"IFERROR(VLOOKUP(Tabla48[[#This Row],[No]],TablaLicencias,4,0),\"\")","v":""},{"$f":"IFERROR(VLOOKUP(Tabla48[[#This Row],[No]],TablaLicencias,5,0),\"\")","v":""},{"$f":"IFERROR(VLOOKUP(Tabla48[[#This Row],[No]],TablaLicencias,6,0),\"\")","v":""}]
[null,null,null,207,{"$f":"IFERROR(VLOOKUP(Tabla48[[#This Row],[No]],TablaLicencias,2,0),\"\")","v":""},{"$f":"IFERROR(VLOOKUP(Tabla48[[#This Row],[No]],TablaLicencias,3,0),\"\")","v":""},{"$f":"IFERROR(VLOOKUP(Tabla48[[#This Row],[No]],TablaLicencias,4,0),\"\")","v":""},{"$f":"IFERROR(VLOOKUP(Tabla48[[#This Row],[No]],TablaLicencias,5,0),\"\")","v":""},{"$f":"IFERROR(VLOOKUP(Tabla48[[#This Row],[No]],TablaLicencias,6,0),\"\")","v":""}]
[null,null,null,208,{"$f":"IFERROR(VLOOKUP(Tabla48[[#This Row],[No]],TablaLicencias,2,0),\"\")","v":""},{"$f":"IFERROR(VLOOKUP(Tabla48[[#This Row],[No]],TablaLicencias,3,0),\"\")","v":""},{"$f":"IFERROR(VLOOKUP(Tabla48[[#This Row],[No]],TablaLicencias,4,0),\"\")","v":""},{"$f":"IFERROR(VLOOKUP(Tabla48[[#This Row],[No]],TablaLicencias,5,0),\"\")","v":""},{"$f":"IFERROR(VLOOKUP(Tabla48[[#This Row],[No]],TablaLicencias,6,0),\"\")","v":""}]
[null,null,null,209,{"$f":"IFERROR(VLOOKUP(Tabla48[[#This Row],[No]],TablaLicencias,2,0),\"\")","v":""},{"$f":"IFERROR(VLOOKUP(Tabla48[[#This Row],[No]],TablaLicencias,3,0),\"\")","v":""},{"$f":"IFERROR(VLOOKUP(Tabla48[[#This Row],[No]],TablaLicencias,4,0),\"\")","v":""},{"$f":"IFERROR(VLOOKUP(Tabla48[[#This Row],[No]],TablaLicencias,5,0),\"\")","v":""},{"$f":"IFERROR(VLOOKUP(Tabla48[[#This Row],[No]],TablaLicencias,6,0),\"\")","v":""}]
[null,null,null,210,{"$f":"IFERROR(VLOOKUP(Tabla48[[#This Row],[No]],TablaLicencias,2,0),\"\")","v":""},{"$f":"IFERROR(VLOOKUP(Tabla48[[#This Row],[No]],TablaLicencias,3,0),\"\")","v":""},{"$f":"IFERROR(VLOOKUP(Tabla48[[#This Row],[No]],TablaLicencias,4,0),\"\")","v":""},{"$f":"IFERROR(VLOOKUP(Tabla48[[#This Row],[No]],TablaLicencias,5,0),\"\")","v":""},{"$f":"IFERROR(VLOOKUP(Tabla48[[#This Row],[No]],TablaLicencias,6,0),\"\")","v":""}]
[null,null,null,211,{"$f":"IFERROR(VLOOKUP(Tabla48[[#This Row],[No]],TablaLicencias,2,0),\"\")","v":""},{"$f":"IFERROR(VLOOKUP(Tabla48[[#This Row],[No]],TablaLicencias,3,0),\"\")","v":""},{"$f":"IFERROR(VLOOKUP(Tabla48[[#This Row],[No]],TablaLicencias,4,0),\"\")","v":""},{"$f":"IFERROR(VLOOKUP(Tabla48[[#This Row],[No]],TablaLicencias,5,0),\"\")","v":""},{"$f":"IFERROR(VLOOKUP(Tabla48[[#This Row],[No]],TablaLicencias,6,0),\"\")","v":""}]
[null,null,null,212,{"$f":"IFERROR(VLOOKUP(Tabla48[[#This Row],[No]],TablaLicencias,2,0),\"\")","v":""},{"$f":"IFERROR(VLOOKUP(Tabla48[[#This Row],[No]],TablaLicencias,3,0),\"\")","v":""},{"$f":"IFERROR(VLOOKUP(Tabla48[[#This Row],[No]],TablaLicencias,4,0),\"\")","v":""},{"$f":"IFERROR(VLOOKUP(Tabla48[[#This Row],[No]],TablaLicencias,5,0),\"\")","v":""},{"$f":"IFERROR(VLOOKUP(Tabla48[[#This Row],[No]],TablaLicencias,6,0),\"\")","v":""}]
[null,null,null,213,{"$f":"IFERROR(VLOOKUP(Tabla48[[#This Row],[No]],TablaLicencias,2,0),\"\")","v":""},{"$f":"IFERROR(VLOOKUP(Tabla48[[#This Row],[No]],TablaLicencias,3,0),\"\")","v":""},{"$f":"IFERROR(VLOOKUP(Tabla48[[#This Row],[No]],TablaLicencias,4,0),\"\")","v":""},{"$f":"IFERROR(VLOOKUP(Tabla48[[#This Row],[No]],TablaLicencias,5,0),\"\")","v":""},{"$f":"IFERROR(VLOOKUP(Tabla48[[#This Row],[No]],TablaLicencias,6,0),\"\")","v":""}]
[null,null,null,214,{"$f":"IFERROR(VLOOKUP(Tabla48[[#This Row],[No]],TablaLicencias,2,0),\"\")","v":""},{"$f":"IFERROR(VLOOKUP(Tabla48[[#This Row],[No]],TablaLicencias,3,0),\"\")","v":""},{"$f":"IFERROR(VLOOKUP(Tabla48[[#This Row],[No]],TablaLicencias,4,0),\"\")","v":""},{"$f":"IFERROR(VLOOKUP(Tabla48[[#This Row],[No]],TablaLicencias,5,0),\"\")","v":""},{"$f":"IFERROR(VLOOKUP(Tabla48[[#This Row],[No]],TablaLicencias,6,0),\"\")","v":""}]
[null,null,null,215,{"$f":"IFERROR(VLOOKUP(Tabla48[[#This Row],[No]],TablaLicencias,2,0),\"\")","v":""},{"$f":"IFERROR(VLOOKUP(Tabla48[[#This Row],[No]],TablaLicencias,3,0),\"\")","v":""},{"$f":"IFERROR(VLOOKUP(Tabla48[[#This Row],[No]],TablaLicencias,4,0),\"\")","v":""},{"$f":"IFERROR(VLOOKUP(Tabla48[[#This Row],[No]],TablaLicencias,5,0),\"\")","v":""},{"$f":"IFERROR(VLOOKUP(Tabla48[[#This Row],[No]],TablaLicencias,6,0),\"\")","v":""}]
[null,null,null,216,{"$f":"IFERROR(VLOOKUP(Tabla48[[#This Row],[No]],TablaLicencias,2,0),\"\")","v":""},{"$f":"IFERROR(VLOOKUP(Tabla48[[#This Row],[No]],TablaLicencias,3,0),\"\")","v":""},{"$f":"IFERROR(VLOOKUP(Tabla48[[#This Row],[No]],TablaLicencias,4,0),\"\")","v":""},{"$f":"IFERROR(VLOOKUP(Tabla48[[#This Row],[No]],TablaLicencias,5,0),\"\")","v":""},{"$f":"IFERROR(VLOOKUP(Tabla48[[#This Row],[No]],TablaLicencias,6,0),\"\")","v":""}]
[null,null,null,217,{"$f":"IFERROR(VLOOKUP(Tabla48[[#This Row],[No]],TablaLicencias,2,0),\"\")","v":""},{"$f":"IFERROR(VLOOKUP(Tabla48[[#This Row],[No]],TablaLicencias,3,0),\"\")","v":""},{"$f":"IFERROR(VLOOKUP(Tabla48[[#This Row],[No]],TablaLicencias,4,0),\"\")","v":""},{"$f":"IFERROR(VLOOKUP(Tabla48[[#This Row],[No]],TablaLicencias,5,0),\"\")","v":""},{"$f":"IFERROR(VLOOKUP(Tabla48[[#This Row],[No]],TablaLicencias,6,0),\"\")","v":""}]
[null,null,null,218,{"$f":"IFERROR(VLOOKUP(Tabla48[[#This Row],[No]],TablaLicencias,2,0),\"\")","v":""},{"$f":"IFERROR(VLOOKUP(Tabla48[[#This Row],[No]],TablaLicencias,3,0),\"\")","v":""},{"$f":"IFERROR(VLOOKUP(Tabla48[[#This Row],[No]],TablaLicencias,4,0),\"\")","v":""},{"$f":"IFERROR(VLOOKUP(Tabla48[[#This Row],[No]],TablaLicencias,5,0),\"\")","v":""},{"$f":"IFERROR(VLOOKUP(Tabla48[[#This Row],[No]],TablaLicencias,6,0),\"\")","v":""}]
[null,null,null,219,{"$f":"IFERROR(VLOOKUP(Tabla48[[#This Row],[No]],TablaLicencias,2,0),\"\")","v":""},{"$f":"IFERROR(VLOOKUP(Tabla48[[#This Row],[No]],TablaLicencias,3,0),\"\")","v":""},{"$f":"IFERROR(VLOOKUP(Tabla48[[#This Row],[No]],TablaLicencias,4,0),\"\")","v":""},{"$f":"IFERROR(VLOOKUP(Tabla48[[#This Row],[No]],TablaLicencias,5,0),\"\")","v":""},{"$f":"IFERROR(VLOOKUP(Tabla48[[#This Row],[No]],TablaLicencias,6,0),\"\")","v":""}]
[null,null,null,220,{"$f":"IFERROR(VLOOKUP(Tabla48[[#This Row],[No]],TablaLicencias,2,0),\"\")","v":""},{"$f":"IFERROR(VLOOKUP(Tabla48[[#This Row],[No]],TablaLicencias,3,0),\"\")","v":""},{"$f":"IFERROR(VLOOKUP(Tabla48[[#This Row],[No]],TablaLicencias,4,0),\"\")","v":""},{"$f":"IFERROR(VLOOKUP(Tabla48[[#This Row],[No]],TablaLicencias,5,0),\"\")","v":""},{"$f":"IFERROR(VLOOKUP(Tabla48[[#This Row],[No]],TablaLicencias,6,0),\"\")","v":""}]
[null,null,null,221,{"$f":"IFERROR(VLOOKUP(Tabla48[[#This Row],[No]],TablaLicencias,2,0),\"\")","v":""},{"$f":"IFERROR(VLOOKUP(Tabla48[[#This Row],[No]],TablaLicencias,3,0),\"\")","v":""},{"$f":"IFERROR(VLOOKUP(Tabla48[[#This Row],[No]],TablaLicencias,4,0),\"\")","v":""},{"$f":"IFERROR(VLOOKUP(Tabla48[[#This Row],[No]],TablaLicencias,5,0),\"\")","v":""},{"$f":"IFERROR(VLOOKUP(Tabla48[[#This Row],[No]],TablaLicencias,6,0),\"\")","v":""}]
[null,null,null,222,{"$f":"IFERROR(VLOOKUP(Tabla48[[#This Row],[No]],TablaLicencias,2,0),\"\")","v":""},{"$f":"IFERROR(VLOOKUP(Tabla48[[#This Row],[No]],TablaLicencias,3,0),\"\")","v":""},{"$f":"IFERROR(VLOOKUP(Tabla48[[#This Row],[No]],TablaLicencias,4,0),\"\")","v":""},{"$f":"IFERROR(VLOOKUP(Tabla48[[#This Row],[No]],TablaLicencias,5,0),\"\")","v":""},{"$f":"IFERROR(VLOOKUP(Tabla48[[#This Row],[No]],TablaLicencias,6,0),\"\")","v":""}]
[null,null,null,223,{"$f":"IFERROR(VLOOKUP(Tabla48[[#This Row],[No]],TablaLicencias,2,0),\"\")","v":""},{"$f":"IFERROR(VLOOKUP(Tabla48[[#This Row],[No]],TablaLicencias,3,0),\"\")","v":""},{"$f":"IFERROR(VLOOKUP(Tabla48[[#This Row],[No]],TablaLicencias,4,0),\"\")","v":""},{"$f":"IFERROR(VLOOKUP(Tabla48[[#This Row],[No]],TablaLicencias,5,0),\"\")","v":""},{"$f":"IFERROR(VLOOKUP(Tabla48[[#This Row],[No]],TablaLicencias,6,0),\"\")","v":""}]
[null,null,null,224,{"$f":"IFERROR(VLOOKUP(Tabla48[[#This Row],[No]],TablaLicencias,2,0),\"\")","v":""},{"$f":"IFERROR(VLOOKUP(Tabla48[[#This Row],[No]],TablaLicencias,3,0),\"\")","v":""},{"$f":"IFERROR(VLOOKUP(Tabla48[[#This Row],[No]],TablaLicencias,4,0),\"\")","v":""},{"$f":"IFERROR(VLOOKUP(Tabla48[[#This Row],[No]],TablaLicencias,5,0),\"\")","v":""},{"$f":"IFERROR(VLOOKUP(Tabla48[[#This Row],[No]],TablaLicencias,6,0),\"\")","v":""}]
[null,null,null,225,{"$f":"IFERROR(VLOOKUP(Tabla48[[#This Row],[No]],TablaLicencias,2,0),\"\")","v":""},{"$f":"IFERROR(VLOOKUP(Tabla48[[#This Row],[No]],TablaLicencias,3,0),\"\")","v":""},{"$f":"IFERROR(VLOOKUP(Tabla48[[#This Row],[No]],TablaLicencias,4,0),\"\")","v":""},{"$f":"IFERROR(VLOOKUP(Tabla48[[#This Row],[No]],TablaLicencias,5,0),\"\")","v":""},{"$f":"IFERROR(VLOOKUP(Tabla48[[#This Row],[No]],TablaLicencias,6,0),\"\")","v":""}]
[null,null,null,226,{"$f":"IFERROR(VLOOKUP(Tabla48[[#This Row],[No]],TablaLicencias,2,0),\"\")","v":""},{"$f":"IFERROR(VLOOKUP(Tabla48[[#This Row],[No]],TablaLicencias,3,0),\"\")","v":""},{"$f":"IFERROR(VLOOKUP(Tabla48[[#This Row],[No]],TablaLicencias,4,0),\"\")","v":""},{"$f":"IFERROR(VLOOKUP(Tabla48[[#This Row],[No]],TablaLicencias,5,0),\"\")","v":""},{"$f":"IFERROR(VLOOKUP(Tabla48[[#This Row],[No]],TablaLicencias,6,0),\"\")","v":""}]
[null,null,null,227,{"$f":"IFERROR(VLOOKUP(Tabla48[[#This Row],[No]],TablaLicencias,2,0),\"\")","v":""},{"$f":"IFERROR(VLOOKUP(Tabla48[[#This Row],[No]],TablaLicencias,3,0),\"\")","v":""},{"$f":"IFERROR(VLOOKUP(Tabla48[[#This Row],[No]],TablaLicencias,4,0),\"\")","v":""},{"$f":"IFERROR(VLOOKUP(Tabla48[[#This Row],[No]],TablaLicencias,5,0),\"\")","v":""},{"$f":"IFERROR(VLOOKUP(Tabla48[[#This Row],[No]],TablaLicencias,6,0),\"\")","v":""}]
[null,null,null,228,{"$f":"IFERROR(VLOOKUP(Tabla48[[#This Row],[No]],TablaLicencias,2,0),\"\")","v":""},{"$f":"IFERROR(VLOOKUP(Tabla48[[#This Row],[No]],TablaLicencias,3,0),\"\")","v":""},{"$f":"IFERROR(VLOOKUP(Tabla48[[#This Row],[No]],TablaLicencias,4,0),\"\")","v":""},{"$f":"IFERROR(VLOOKUP(Tabla48[[#This Row],[No]],TablaLicencias,5,0),\"\")","v":""},{"$f":"IFERROR(VLOOKUP(Tabla48[[#This Row],[No]],TablaLicencias,6,0),\"\")","v":""}]
[null,null,null,229,{"$f":"IFERROR(VLOOKUP(Tabla48[[#This Row],[No]],TablaLicencias,2,0),\"\")","v":""},{"$f":"IFERROR(VLOOKUP(Tabla48[[#This Row],[No]],TablaLicencias,3,0),\"\")","v":""},{"$f":"IFERROR(VLOOKUP(Tabla48[[#This Row],[No]],TablaLicencias,4,0),\"\")","v":""},{"$f":"IFERROR(VLOOKUP(Tabla48[[#This Row],[No]],TablaLicencias,5,0),\"\")","v":""},{"$f":"IFERROR(VLOOKUP(Tabla48[[#This Row],[No]],TablaLicencias,6,0),\"\")","v":""}]
[null,null,null,230,{"$f":"IFERROR(VLOOKUP(Tabla48[[#This Row],[No]],TablaLicencias,2,0),\"\")","v":""},{"$f":"IFERROR(VLOOKUP(Tabla48[[#This Row],[No]],TablaLicencias,3,0),\"\")","v":""},{"$f":"IFERROR(VLOOKUP(Tabla48[[#This Row],[No]],TablaLicencias,4,0),\"\")","v":""},{"$f":"IFERROR(VLOOKUP(Tabla48[[#This Row],[No]],TablaLicencias,5,0),\"\")","v":""},{"$f":"IFERROR(VLOOKUP(Tabla48[[#This Row],[No]],TablaLicencias,6,0),\"\")","v":""}]
[null,null,null,231,{"$f":"IFERROR(VLOOKUP(Tabla48[[#This Row],[No]],TablaLicencias,2,0),\"\")","v":""},{"$f":"IFERROR(VLOOKUP(Tabla48[[#This Row],[No]],TablaLicencias,3,0),\"\")","v":""},{"$f":"IFERROR(VLOOKUP(Tabla48[[#This Row],[No]],TablaLicencias,4,0),\"\")","v":""},{"$f":"IFERROR(VLOOKUP(Tabla48[[#This Row],[No]],TablaLicencias,5,0),\"\")","v":""},{"$f":"IFERROR(VLOOKUP(Tabla48[[#This Row],[No]],TablaLicencias,6,0),\"\")","v":""}]
[null,null,null,232,{"$f":"IFERROR(VLOOKUP(Tabla48[[#This Row],[No]],TablaLicencias,2,0),\"\")","v":""},{"$f":"IFERROR(VLOOKUP(Tabla48[[#This Row],[No]],TablaLicencias,3,0),\"\")","v":""},{"$f":"IFERROR(VLOOKUP(Tabla48[[#This Row],[No]],TablaLicencias,4,0),\"\")","v":""},{"$f":"IFERROR(VLOOKUP(Tabla48[[#This Row],[No]],TablaLicencias,5,0),\"\")","v":""},{"$f":"IFERROR(VLOOKUP(Tabla48[[#This Row],[No]],TablaLicencias,6,0),\"\")","v":""}]
[null,null,null,233,{"$f":"IFERROR(VLOOKUP(Tabla48[[#This Row],[No]],TablaLicencias,2,0),\"\")","v":""},{"$f":"IFERROR(VLOOKUP(Tabla48[[#This Row],[No]],TablaLicencias,3,0),\"\")","v":""},{"$f":"IFERROR(VLOOKUP(Tabla48[[#This Row],[No]],TablaLicencias,4,0),\"\")","v":""},{"$f":"IFERROR(VLOOKUP(Tabla48[[#This Row],[No]],TablaLicencias,5,0),\"\")","v":""},{"$f":"IFERROR(VLOOKUP(Tabla48[[#This Row],[No]],TablaLicencias,6,0),\"\")","v":""}]
[null,null,null,234,{"$f":"IFERROR(VLOOKUP(Tabla48[[#This Row],[No]],TablaLicencias,2,0),\"\")","v":""},{"$f":"IFERROR(VLOOKUP(Tabla48[[#This Row],[No]],TablaLicencias,3,0),\"\")","v":""},{"$f":"IFERROR(VLOOKUP(Tabla48[[#This Row],[No]],TablaLicencias,4,0),\"\")","v":""},{"$f":"IFERROR(VLOOKUP(Tabla48[[#This Row],[No]],TablaLicencias,5,0),\"\")","v":""},{"$f":"IFERROR(VLOOKUP(Tabla48[[#This Row],[No]],TablaLicencias,6,0),\"\")","v":""}]
[null,null,null,235,{"$f":"IFERROR(VLOOKUP(Tabla48[[#This Row],[No]],TablaLicencias,2,0),\"\")","v":""},{"$f":"IFERROR(VLOOKUP(Tabla48[[#This Row],[No]],TablaLicencias,3,0),\"\")","v":""},{"$f":"IFERROR(VLOOKUP(Tabla48[[#This Row],[No]],TablaLicencias,4,0),\"\")","v":""},{"$f":"IFERROR(VLOOKUP(Tabla48[[#This Row],[No]],TablaLicencias,5,0),\"\")","v":""},{"$f":"IFERROR(VLOOKUP(Tabla48[[#This Row],[No]],TablaLicencias,6,0),\"\")","v":""}]
[null,null,null,236,{"$f":"IFERROR(VLOOKUP(Tabla48[[#This Row],[No]],TablaLicencias,2,0),\"\")","v":""},{"$f":"IFERROR(VLOOKUP(Tabla48[[#This Row],[No]],TablaLicencias,3,0),\"\")","v":""},{"$f":"IFERROR(VLOOKUP(Tabla48[[#This Row],[No]],TablaLicencias,4,0),\"\")","v":""},{"$f":"IFERROR(VLOOKUP(Tabla48[[#This Row],[No]],TablaLicencias,5,0),\"\")","v":""},{"$f":"IFERROR(VLOOKUP(Tabla48[[#This Row],[No]],TablaLicencias,6,0),\"\")","v":""}]
[null,null,null,237,{"$f":"IFERROR(VLOOKUP(Tabla48[[#This Row],[No]],TablaLicencias,2,0),\"\")","v":""},{"$f":"IFERROR(VLOOKUP(Tabla48[[#This Row],[No]],TablaLicencias,3,0),\"\")","v":""},{"$f":"IFERROR(VLOOKUP(Tabla48[[#This Row],[No]],TablaLicencias,4,0),\"\")","v":""},{"$f":"IFERROR(VLOOKUP(Tabla48[[#This Row],[No]],TablaLicencias,5,0),\"\")","v":""},{"$f":"IFERROR(VLOOKUP(Tabla48[[#This Row],[No]],TablaLicencias,6,0),\"\")","v":""}]
[null,null,null,238,{"$f":"IFERROR(VLOOKUP(Tabla48[[#This Row],[No]],TablaLicencias,2,0),\"\")","v":""},{"$f":"IFERROR(VLOOKUP(Tabla48[[#This Row],[No]],TablaLicencias,3,0),\"\")","v":""},{"$f":"IFERROR(VLOOKUP(Tabla48[[#This Row],[No]],TablaLicencias,4,0),\"\")","v":""},{"$f":"IFERROR(VLOOKUP(Tabla48[[#This Row],[No]],TablaLicencias,5,0),\"\")","v":""},{"$f":"IFERROR(VLOOKUP(Tabla48[[#This Row],[No]],TablaLicencias,6,0),\"\")","v":""}]
[null,null,null,239,{"$f":"IFERROR(VLOOKUP(Tabla48[[#This Row],[No]],TablaLicencias,2,0),\"\")","v":""},{"$f":"IFERROR(VLOOKUP(Tabla48[[#This Row],[No]],TablaLicencias,3,0),\"\")","v":""},{"$f":"IFERROR(VLOOKUP(Tabla48[[#This Row],[No]],TablaLicencias,4,0),\"\")","v":""},{"$f":"IFERROR(VLOOKUP(Tabla48[[#This Row],[No]],TablaLicencias,5,0),\"\")","v":""},{"$f":"IFERROR(VLOOKUP(Tabla48[[#This Row],[No]],TablaLicencias,6,0),\"\")","v":""}]
[null,null,null,240,{"$f":"IFERROR(VLOOKUP(Tabla48[[#This Row],[No]],TablaLicencias,2,0),\"\")","v":""},{"$f":"IFERROR(VLOOKUP(Tabla48[[#This Row],[No]],TablaLicencias,3,0),\"\")","v":""},{"$f":"IFERROR(VLOOKUP(Tabla48[[#This Row],[No]],TablaLicencias,4,0),\"\")","v":""},{"$f":"IFERROR(VLOOKUP(Tabla48[[#This Row],[No]],TablaLicencias,5,0),\"\")","v":""},{"$f":"IFERROR(VLOOKUP(Tabla48[[#This Row],[No]],TablaLicencias,6,0),\"\")","v":""}]
[null,null,null,241,{"$f":"IFERROR(VLOOKUP(Tabla48[[#This Row],[No]],TablaLicencias,2,0),\"\")","v":""},{"$f":"IFERROR(VLOOKUP(Tabla48[[#This Row],[No]],TablaLicencias,3,0),\"\")","v":""},{"$f":"IFERROR(VLOOKUP(Tabla48[[#This Row],[No]],TablaLicencias,4,0),\"\")","v":""},{"$f":"IFERROR(VLOOKUP(Tabla48[[#This Row],[No]],TablaLicencias,5,0),\"\")","v":""},{"$f":"IFERROR(VLOOKUP(Tabla48[[#This Row],[No]],TablaLicencias,6,0),\"\")","v":""}]
[null,null,null,242,{"$f":"IFERROR(VLOOKUP(Tabla48[[#This Row],[No]],TablaLicencias,2,0),\"\")","v":""},{"$f":"IFERROR(VLOOKUP(Tabla48[[#This Row],[No]],TablaLicencias,3,0),\"\")","v":""},{"$f":"IFERROR(VLOOKUP(Tabla48[[#This Row],[No]],TablaLicencias,4,0),\"\")","v":""},{"$f":"IFERROR(VLOOKUP(Tabla48[[#This Row],[No]],TablaLicencias,5,0),\"\")","v":""},{"$f":"IFERROR(VLOOKUP(Tabla48[[#This Row],[No]],TablaLicencias,6,0),\"\")","v":""}]
[null,null,null,243,{"$f":"IFERROR(VLOOKUP(Tabla48[[#This Row],[No]],TablaLicencias,2,0),\"\")","v":""},{"$f":"IFERROR(VLOOKUP(Tabla48[[#This Row],[No]],TablaLicencias,3,0),\"\")","v":""},{"$f":"IFERROR(VLOOKUP(Tabla48[[#This Row],[No]],TablaLicencias,4,0),\"\")","v":""},{"$f":"IFERROR(VLOOKUP(Tabla48[[#This Row],[No]],TablaLicencias,5,0),\"\")","v":""},{"$f":"IFERROR(VLOOKUP(Tabla48[[#This Row],[No]],TablaLicencias,6,0),\"\")","v":""}]
[null,null,null,244,{"$f":"IFERROR(VLOOKUP(Tabla48[[#This Row],[No]],TablaLicencias,2,0),\"\")","v":""},{"$f":"IFERROR(VLOOKUP(Tabla48[[#This Row],[No]],TablaLicencias,3,0),\"\")","v":""},{"$f":"IFERROR(VLOOKUP(Tabla48[[#This Row],[No]],TablaLicencias,4,0),\"\")","v":""},{"$f":"IFERROR(VLOOKUP(Tabla48[[#This Row],[No]],TablaLicencias,5,0),\"\")","v":""},{"$f":"IFERROR(VLOOKUP(Tabla48[[#This Row],[No]],TablaLicencias,6,0),\"\")","v":""}]
[null,null,null,245,{"$f":"IFERROR(VLOOKUP(Tabla48[[#This Row],[No]],TablaLicencias,2,0),\"\")","v":""},{"$f":"IFERROR(VLOOKUP(Tabla48[[#This Row],[No]],TablaLicencias,3,0),\"\")","v":""},{"$f":"IFERROR(VLOOKUP(Tabla48[[#This Row],[No]],TablaLicencias,4,0),\"\")","v":""},{"$f":"IFERROR(VLOOKUP(Tabla48[[#This Row],[No]],TablaLicencias,5,0),\"\")","v":""},{"$f":"IFERROR(VLOOKUP(Tabla48[[#This Row],[No]],TablaLicencias,6,0),\"\")","v":""}]
[null,null,null,246,{"$f":"IFERROR(VLOOKUP(Tabla48[[#This Row],[No]],TablaLicencias,2,0),\"\")","v":""},{"$f":"IFERROR(VLOOKUP(Tabla48[[#This Row],[No]],TablaLicencias,3,0),\"\")","v":""},{"$f":"IFERROR(VLOOKUP(Tabla48[[#This Row],[No]],TablaLicencias,4,0),\"\")","v":""},{"$f":"IFERROR(VLOOKUP(Tabla48[[#This Row],[No]],TablaLicencias,5,0),\"\")","v":""},{"$f":"IFERROR(VLOOKUP(Tabla48[[#This Row],[No]],TablaLicencias,6,0),\"\")","v":""}]
[null,null,null,247,{"$f":"IFERROR(VLOOKUP(Tabla48[[#This Row],[No]],TablaLicencias,2,0),\"\")","v":""},{"$f":"IFERROR(VLOOKUP(Tabla48[[#This Row],[No]],TablaLicencias,3,0),\"\")","v":""},{"$f":"IFERROR(VLOOKUP(Tabla48[[#This Row],[No]],TablaLicencias,4,0),\"\")","v":""},{"$f":"IFERROR(VLOOKUP(Tabla48[[#This Row],[No]],TablaLicencias,5,0),\"\")","v":""},{"$f":"IFERROR(VLOOKUP(Tabla48[[#This Row],[No]],TablaLicencias,6,0),\"\")","v":""}]
[null,null,null,248,{"$f":"IFERROR(VLOOKUP(Tabla48[[#This Row],[No]],TablaLicencias,2,0),\"\")","v":""},{"$f":"IFERROR(VLOOKUP(Tabla48[[#This Row],[No]],TablaLicencias,3,0),\"\")","v":""},{"$f":"IFERROR(VLOOKUP(Tabla48[[#This Row],[No]],TablaLicencias,4,0),\"\")","v":""},{"$f":"IFERROR(VLOOKUP(Tabla48[[#This Row],[No]],TablaLicencias,5,0),\"\")","v":""},{"$f":"IFERROR(VLOOKUP(Tabla48[[#This Row],[No]],TablaLicencias,6,0),\"\")","v":""}]
[null,null,null,249,{"$f":"IFERROR(VLOOKUP(Tabla48[[#This Row],[No]],TablaLicencias,2,0),\"\")","v":""},{"$f":"IFERROR(VLOOKUP(Tabla48[[#This Row],[No]],TablaLicencias,3,0),\"\")","v":""},{"$f":"IFERROR(VLOOKUP(Tabla48[[#This Row],[No]],TablaLicencias,4,0),\"\")","v":""},{"$f":"IFERROR(VLOOKUP(Tabla48[[#This Row],[No]],TablaLicencias,5,0),\"\")","v":""},{"$f":"IFERROR(VLOOKUP(Tabla48[[#This Row],[No]],TablaLicencias,6,0),\"\")","v":""}]
[null,null,null,250,{"$f":"IFERROR(VLOOKUP(Tabla48[[#This Row],[No]],TablaLicencias,2,0),\"\")","v":""},{"$f":"IFERROR(VLOOKUP(Tabla48[[#This Row],[No]],TablaLicencias,3,0),\"\")","v":""},{"$f":"IFERROR(VLOOKUP(Tabla48[[#This Row],[No]],TablaLicencias,4,0),\"\")","v":""},{"$f":"IFERROR(VLOOKUP(Tabla48[[#This Row],[No]],TablaLicencias,5,0),\"\")","v":""},{"$f":"IFERROR(VLOOKUP(Tabla48[[#This Row],[No]],TablaLicencias,6,0),\"\")","v":""}]
[null,null,null,251,{"$f":"IFERROR(VLOOKUP(Tabla48[[#This Row],[No]],TablaLicencias,2,0),\"\")","v":""},{"$f":"IFERROR(VLOOKUP(Tabla48[[#This Row],[No]],TablaLicencias,3,0),\"\")","v":""},{"$f":"IFERROR(VLOOKUP(Tabla48[[#This Row],[No]],TablaLicencias,4,0),\"\")","v":""},{"$f":"IFERROR(VLOOKUP(Tabla48[[#This Row],[No]],TablaLicencias,5,0),\"\")","v":""},{"$f":"IFERROR(VLOOKUP(Tabla48[[#This Row],[No]],TablaLicencias,6,0),\"\")","v":""}]
[null,null,null,252,{"$f":"IFERROR(VLOOKUP(Tabla48[[#This Row],[No]],TablaLicencias,2,0),\"\")","v":""},{"$f":"IFERROR(VLOOKUP(Tabla48[[#This Row],[No]],TablaLicencias,3,0),\"\")","v":""},{"$f":"IFERROR(VLOOKUP(Tabla48[[#This Row],[No]],TablaLicencias,4,0),\"\")","v":""},{"$f":"IFERROR(VLOOKUP(Tabla48[[#This Row],[No]],TablaLicencias,5,0),\"\")","v":""},{"$f":"IFERROR(VLOOKUP(Tabla48[[#This Row],[No]],TablaLicencias,6,0),\"\")","v":""}]
[null,null,null,253,{"$f":"IFERROR(VLOOKUP(Tabla48[[#This Row],[No]],TablaLicencias,2,0),\"\")","v":""},{"$f":"IFERROR(VLOOKUP(Tabla48[[#This Row],[No]],TablaLicencias,3,0),\"\")","v":""},{"$f":"IFERROR(VLOOKUP(Tabla48[[#This Row],[No]],TablaLicencias,4,0),\"\")","v":""},{"$f":"IFERROR(VLOOKUP(Tabla48[[#This Row],[No]],TablaLicencias,5,0),\"\")","v":""},{"$f":"IFERROR(VLOOKUP(Tabla48[[#This Row],[No]],TablaLicencias,6,0),\"\")","v":""}]
[null,null,null,254,{"$f":"IFERROR(VLOOKUP(Tabla48[[#This Row],[No]],TablaLicencias,2,0),\"\")","v":""},{"$f":"IFERROR(VLOOKUP(Tabla48[[#This Row],[No]],TablaLicencias,3,0),\"\")","v":""},{"$f":"IFERROR(VLOOKUP(Tabla48[[#This Row],[No]],TablaLicencias,4,0),\"\")","v":""},{"$f":"IFERROR(VLOOKUP(Tabla48[[#This Row],[No]],TablaLicencias,5,0),\"\")","v":""},{"$f":"IFERROR(VLOOKUP(Tabla48[[#This Row],[No]],TablaLicencias,6,0),\"\")","v":""}]
[null,null,null,255,{"$f":"IFERROR(VLOOKUP(Tabla48[[#This Row],[No]],TablaLicencias,2,0),\"\")","v":""},{"$f":"IFERROR(VLOOKUP(Tabla48[[#This Row],[No]],TablaLicencias,3,0),\"\")","v":""},{"$f":"IFERROR(VLOOKUP(Tabla48[[#This Row],[No]],TablaLicencias,4,0),\"\")","v":""},{"$f":"IFERROR(VLOOKUP(Tabla48[[#This Row],[No]],TablaLicencias,5,0),\"\")","v":""},{"$f":"IFERROR(VLOOKUP(Tabla48[[#This Row],[No]],TablaLicencias,6,0),\"\")","v":""}]
[null,null,null,256,{"$f":"IFERROR(VLOOKUP(Tabla48[[#This Row],[No]],TablaLicencias,2,0),\"\")","v":""},{"$f":"IFERROR(VLOOKUP(Tabla48[[#This Row],[No]],TablaLicencias,3,0),\"\")","v":""},{"$f":"IFERROR(VLOOKUP(Tabla48[[#This Row],[No]],TablaLicencias,4,0),\"\")","v":""},{"$f":"IFERROR(VLOOKUP(Tabla48[[#This Row],[No]],TablaLicencias,5,0),\"\")","v":""},{"$f":"IFERROR(VLOOKUP(Tabla48[[#This Row],[No]],TablaLicencias,6,0),\"\")","v":""}]
[null,null,null,257,{"$f":"IFERROR(VLOOKUP(Tabla48[[#This Row],[No]],TablaLicencias,2,0),\"\")","v":""},{"$f":"IFERROR(VLOOKUP(Tabla48[[#This Row],[No]],TablaLicencias,3,0),\"\")","v":""},{"$f":"IFERROR(VLOOKUP(Tabla48[[#This Row],[No]],TablaLicencias,4,0),\"\")","v":""},{"$f":"IFERROR(VLOOKUP(Tabla48[[#This Row],[No]],TablaLicencias,5,0),\"\")","v":""},{"$f":"IFERROR(VLOOKUP(Tabla48[[#This Row],[No]],TablaLicencias,6,0),\"\")","v":""}]
[null,null,null,258,{"$f":"IFERROR(VLOOKUP(Tabla48[[#This Row],[No]],TablaLicencias,2,0),\"\")","v":""},{"$f":"IFERROR(VLOOKUP(Tabla48[[#This Row],[No]],TablaLicencias,3,0),\"\")","v":""},{"$f":"IFERROR(VLOOKUP(Tabla48[[#This Row],[No]],TablaLicencias,4,0),\"\")","v":""},{"$f":"IFERROR(VLOOKUP(Tabla48[[#This Row],[No]],TablaLicencias,5,0),\"\")","v":""},{"$f":"IFERROR(VLOOKUP(Tabla48[[#This Row],[No]],TablaLicencias,6,0),\"\")","v":""}]
[null,null,null,259,{"$f":"IFERROR(VLOOKUP(Tabla48[[#This Row],[No]],TablaLicencias,2,0),\"\")","v":""},{"$f":"IFERROR(VLOOKUP(Tabla48[[#This Row],[No]],TablaLicencias,3,0),\"\")","v":""},{"$f":"IFERROR(VLOOKUP(Tabla48[[#This Row],[No]],TablaLicencias,4,0),\"\")","v":""},{"$f":"IFERROR(VLOOKUP(Tabla48[[#This Row],[No]],TablaLicencias,5,0),\"\")","v":""},{"$f":"IFERROR(VLOOKUP(Tabla48[[#This Row],[No]],TablaLicencias,6,0),\"\")","v":""}]
[null,null,null,260,{"$f":"IFERROR(VLOOKUP(Tabla48[[#This Row],[No]],TablaLicencias,2,0),\"\")","v":""},{"$f":"IFERROR(VLOOKUP(Tabla48[[#This Row],[No]],TablaLicencias,3,0),\"\")","v":""},{"$f":"IFERROR(VLOOKUP(Tabla48[[#This Row],[No]],TablaLicencias,4,0),\"\")","v":""},{"$f":"IFERROR(VLOOKUP(Tabla48[[#This Row],[No]],TablaLicencias,5,0),\"\")","v":""},{"$f":"IFERROR(VLOOKUP(Tabla48[[#This Row],[No]],TablaLicencias,6,0),\"\")","v":""}]
[null,null,null,261,{"$f":"IFERROR(VLOOKUP(Tabla48[[#This Row],[No]],TablaLicencias,2,0),\"\")","v":""},{"$f":"IFERROR(VLOOKUP(Tabla48[[#This Row],[No]],TablaLicencias,3,0),\"\")","v":""},{"$f":"IFERROR(VLOOKUP(Tabla48[[#This Row],[No]],TablaLicencias,4,0),\"\")","v":""},{"$f":"IFERROR(VLOOKUP(Tabla48[[#This Row],[No]],TablaLicencias,5,0),\"\")","v":""},{"$f":"IFERROR(VLOOKUP(Tabla48[[#This Row],[No]],TablaLicencias,6,0),\"\")","v":""}]
[null,null,null,262,{"$f":"IFERROR(VLOOKUP(Tabla48[[#This Row],[No]],TablaLicencias,2,0),\"\")","v":""},{"$f":"IFERROR(VLOOKUP(Tabla48[[#This Row],[No]],TablaLicencias,3,0),\"\")","v":""},{"$f":"IFERROR(VLOOKUP(Tabla48[[#This Row],[No]],TablaLicencias,4,0),\"\")","v":""},{"$f":"IFERROR(VLOOKUP(Tabla48[[#This Row],[No]],TablaLicencias,5,0),\"\")","v":""},{"$f":"IFERROR(VLOOKUP(Tabla48[[#This Row],[No]],TablaLicencias,6,0),\"\")","v":""}]
[null,null,null,263,{"$f":"IFERROR(VLOOKUP(Tabla48[[#This Row],[No]],TablaLicencias,2,0),\"\")","v":""},{"$f":"IFERROR(VLOOKUP(Tabla48[[#This Row],[No]],TablaLicencias,3,0),\"\")","v":""},{"$f":"IFERROR(VLOOKUP(Tabla48[[#This Row],[No]],TablaLicencias,4,0),\"\")","v":""},{"$f":"IFERROR(VLOOKUP(Tabla48[[#This Row],[No]],TablaLicencias,5,0),\"\")","v":""},{"$f":"IFERROR(VLOOKUP(Tabla48[[#This Row],[No]],TablaLicencias,6,0),\"\")","v":""}]
[null,null,null,264,{"$f":"IFERROR(VLOOKUP(Tabla48[[#This Row],[No]],TablaLicencias,2,0),\"\")","v":""},{"$f":"IFERROR(VLOOKUP(Tabla48[[#This Row],[No]],TablaLicencias,3,0),\"\")","v":""},{"$f":"IFERROR(VLOOKUP(Tabla48[[#This Row],[No]],TablaLicencias,4,0),\"\")","v":""},{"$f":"IFERROR(VLOOKUP(Tabla48[[#This Row],[No]],TablaLicencias,5,0),\"\")","v":""},{"$f":"IFERROR(VLOOKUP(Tabla48[[#This Row],[No]],TablaLicencias,6,0),\"\")","v":""}]
[null,null,null,265,{"$f":"IFERROR(VLOOKUP(Tabla48[[#This Row],[No]],TablaLicencias,2,0),\"\")","v":""},{"$f":"IFERROR(VLOOKUP(Tabla48[[#This Row],[No]],TablaLicencias,3,0),\"\")","v":""},{"$f":"IFERROR(VLOOKUP(Tabla48[[#This Row],[No]],TablaLicencias,4,0),\"\")","v":""},{"$f":"IFERROR(VLOOKUP(Tabla48[[#This Row],[No]],TablaLicencias,5,0),\"\")","v":""},{"$f":"IFERROR(VLOOKUP(Tabla48[[#This Row],[No]],TablaLicencias,6,0),\"\")","v":""}]
[null,null,null,266,{"$f":"IFERROR(VLOOKUP(Tabla48[[#This Row],[No]],TablaLicencias,2,0),\"\")","v":""},{"$f":"IFERROR(VLOOKUP(Tabla48[[#This Row],[No]],TablaLicencias,3,0),\"\")","v":""},{"$f":"IFERROR(VLOOKUP(Tabla48[[#This Row],[No]],TablaLicencias,4,0),\"\")","v":""},{"$f":"IFERROR(VLOOKUP(Tabla48[[#This Row],[No]],TablaLicencias,5,0),\"\")","v":""},{"$f":"IFERROR(VLOOKUP(Tabla48[[#This Row],[No]],TablaLicencias,6,0),\"\")","v":""}]
[null,null,null,267,{"$f":"IFERROR(VLOOKUP(Tabla48[[#This Row],[No]],TablaLicencias,2,0),\"\")","v":""},{"$f":"IFERROR(VLOOKUP(Tabla48[[#This Row],[No]],TablaLicencias,3,0),\"\")","v":""},{"$f":"IFERROR(VLOOKUP(Tabla48[[#This Row],[No]],TablaLicencias,4,0),\"\")","v":""},{"$f":"IFERROR(VLOOKUP(Tabla48[[#This Row],[No]],TablaLicencias,5,0),\"\")","v":""},{"$f":"IFERROR(VLOOKUP(Tabla48[[#This Row],[No]],TablaLicencias,6,0),\"\")","v":""}]
[null,null,null,268,{"$f":"IFERROR(VLOOKUP(Tabla48[[#This Row],[No]],TablaLicencias,2,0),\"\")","v":""},{"$f":"IFERROR(VLOOKUP(Tabla48[[#This Row],[No]],TablaLicencias,3,0),\"\")","v":""},{"$f":"IFERROR(VLOOKUP(Tabla48[[#This Row],[No]],TablaLicencias,4,0),\"\")","v":""},{"$f":"IFERROR(VLOOKUP(Tabla48[[#This Row],[No]],TablaLicencias,5,0),\"\")","v":""},{"$f":"IFERROR(VLOOKUP(Tabla48[[#This Row],[No]],TablaLicencias,6,0),\"\")","v":""}]
[null,null,null,269,{"$f":"IFERROR(VLOOKUP(Tabla48[[#This Row],[No]],TablaLicencias,2,0),\"\")","v":""},{"$f":"IFERROR(VLOOKUP(Tabla48[[#This Row],[No]],TablaLicencias,3,0),\"\")","v":""},{"$f":"IFERROR(VLOOKUP(Tabla48[[#This Row],[No]],TablaLicencias,4,0),\"\")","v":""},{"$f":"IFERROR(VLOOKUP(Tabla48[[#This Row],[No]],TablaLicencias,5,0),\"\")","v":""},{"$f":"IFERROR(VLOOKUP(Tabla48[[#This Row],[No]],TablaLicencias,6,0),\"\")","v":""}]
[null,null,null,270,{"$f":"IFERROR(VLOOKUP(Tabla48[[#This Row],[No]],TablaLicencias,2,0),\"\")","v":""},{"$f":"IFERROR(VLOOKUP(Tabla48[[#This Row],[No]],TablaLicencias,3,0),\"\")","v":""},{"$f":"IFERROR(VLOOKUP(Tabla48[[#This Row],[No]],TablaLicencias,4,0),\"\")","v":""},{"$f":"IFERROR(VLOOKUP(Tabla48[[#This Row],[No]],TablaLicencias,5,0),\"\")","v":""},{"$f":"IFERROR(VLOOKUP(Tabla48[[#This Row],[No]],TablaLicencias,6,0),\"\")","v":""}]
[null,null,null,271,{"$f":"IFERROR(VLOOKUP(Tabla48[[#This Row],[No]],TablaLicencias,2,0),\"\")","v":""},{"$f":"IFERROR(VLOOKUP(Tabla48[[#This Row],[No]],TablaLicencias,3,0),\"\")","v":""},{"$f":"IFERROR(VLOOKUP(Tabla48[[#This Row],[No]],TablaLicencias,4,0),\"\")","v":""},{"$f":"IFERROR(VLOOKUP(Tabla48[[#This Row],[No]],TablaLicencias,5,0),\"\")","v":""},{"$f":"IFERROR(VLOOKUP(Tabla48[[#This Row],[No]],TablaLicencias,6,0),\"\")","v":""}]
[null,null,null,272,{"$f":"IFERROR(VLOOKUP(Tabla48[[#This Row],[No]],TablaLicencias,2,0),\"\")","v":""},{"$f":"IFERROR(VLOOKUP(Tabla48[[#This Row],[No]],TablaLicencias,3,0),\"\")","v":""},{"$f":"IFERROR(VLOOKUP(Tabla48[[#This Row],[No]],TablaLicencias,4,0),\"\")","v":""},{"$f":"IFERROR(VLOOKUP(Tabla48[[#This Row],[No]],TablaLicencias,5,0),\"\")","v":""},{"$f":"IFERROR(VLOOKUP(Tabla48[[#This Row],[No]],TablaLicencias,6,0),\"\")","v":""}]
[null,null,null,273,{"$f":"IFERROR(VLOOKUP(Tabla48[[#This Row],[No]],TablaLicencias,2,0),\"\")","v":""},{"$f":"IFERROR(VLOOKUP(Tabla48[[#This Row],[No]],TablaLicencias,3,0),\"\")","v":""},{"$f":"IFERROR(VLOOKUP(Tabla48[[#This Row],[No]],TablaLicencias,4,0),\"\")","v":""},{"$f":"IFERROR(VLOOKUP(Tabla48[[#This Row],[No]],TablaLicencias,5,0),\"\")","v":""},{"$f":"IFERROR(VLOOKUP(Tabla48[[#This Row],[No]],TablaLicencias,6,0),\"\")","v":""}]
[null,null,null,274,{"$f":"IFERROR(VLOOKUP(Tabla48[[#This Row],[No]],TablaLicencias,2,0),\"\")","v":""},{"$f":"IFERROR(VLOOKUP(Tabla48[[#This Row],[No]],TablaLicencias,3,0),\"\")","v":""},{"$f":"IFERROR(VLOOKUP(Tabla48[[#This Row],[No]],TablaLicencias,4,0),\"\")","v":""},{"$f":"IFERROR(VLOOKUP(Tabla48[[#This Row],[No]],TablaLicencias,5,0),\"\")","v":""},{"$f":"IFERROR(VLOOKUP(Tabla48[[#This Row],[No]],TablaLicencias,6,0),\"\")","v":""}]
[null,null,null,275,{"$f":"IFERROR(VLOOKUP(Tabla48[[#This Row],[No]],TablaLicencias,2,0),\"\")","v":""},{"$f":"IFERROR(VLOOKUP(Tabla48[[#This Row],[No]],TablaLicencias,3,0),\"\")","v":""},{"$f":"IFERROR(VLOOKUP(Tabla48[[#This Row],[No]],TablaLicencias,4,0),\"\")","v":""},{"$f":"IFERROR(VLOOKUP(Tabla48[[#This Row],[No]],TablaLicencias,5,0),\"\")","v":""},{"$f":"IFERROR(VLOOKUP(Tabla48[[#This Row],[No]],TablaLicencias,6,0),\"\")","v":""}]
[null,null,null,276,{"$f":"IFERROR(VLOOKUP(Tabla48[[#This Row],[No]],TablaLicencias,2,0),\"\")","v":""},{"$f":"IFERROR(VLOOKUP(Tabla48[[#This Row],[No]],TablaLicencias,3,0),\"\")","v":""},{"$f":"IFERROR(VLOOKUP(Tabla48[[#This Row],[No]],TablaLicencias,4,0),\"\")","v":""},{"$f":"IFERROR(VLOOKUP(Tabla48[[#This Row],[No]],TablaLicencias,5,0),\"\")","v":""},{"$f":"IFERROR(VLOOKUP(Tabla48[[#This Row],[No]],TablaLicencias,6,0),\"\")","v":""}]
[null,null,null,277,{"$f":"IFERROR(VLOOKUP(Tabla48[[#This Row],[No]],TablaLicencias,2,0),\"\")","v":""},{"$f":"IFERROR(VLOOKUP(Tabla48[[#This Row],[No]],TablaLicencias,3,0),\"\")","v":""},{"$f":"IFERROR(VLOOKUP(Tabla48[[#This Row],[No]],TablaLicencias,4,0),\"\")","v":""},{"$f":"IFERROR(VLOOKUP(Tabla48[[#This Row],[No]],TablaLicencias,5,0),\"\")","v":""},{"$f":"IFERROR(VLOOKUP(Tabla48[[#This Row],[No]],TablaLicencias,6,0),\"\")","v":""}]
[null,null,null,278,{"$f":"IFERROR(VLOOKUP(Tabla48[[#This Row],[No]],TablaLicencias,2,0),\"\")","v":""},{"$f":"IFERROR(VLOOKUP(Tabla48[[#This Row],[No]],TablaLicencias,3,0),\"\")","v":""},{"$f":"IFERROR(VLOOKUP(Tabla48[[#This Row],[No]],TablaLicencias,4,0),\"\")","v":""},{"$f":"IFERROR(VLOOKUP(Tabla48[[#This Row],[No]],TablaLicencias,5,0),\"\")","v":""},{"$f":"IFERROR(VLOOKUP(Tabla48[[#This Row],[No]],TablaLicencias,6,0),\"\")","v":""}]
[null,null,null,279,{"$f":"IFERROR(VLOOKUP(Tabla48[[#This Row],[No]],TablaLicencias,2,0),\"\")","v":""},{"$f":"IFERROR(VLOOKUP(Tabla48[[#This Row],[No]],TablaLicencias,3,0),\"\")","v":""},{"$f":"IFERROR(VLOOKUP(Tabla48[[#This Row],[No]],TablaLicencias,4,0),\"\")","v":""},{"$f":"IFERROR(VLOOKUP(Tabla48[[#This Row],[No]],TablaLicencias,5,0),\"\")","v":""},{"$f":"IFERROR(VLOOKUP(Tabla48[[#This Row],[No]],TablaLicencias,6,0),\"\")","v":""}]
[null,null,null,280,{"$f":"IFERROR(VLOOKUP(Tabla48[[#This Row],[No]],TablaLicencias,2,0),\"\")","v":""},{"$f":"IFERROR(VLOOKUP(Tabla48[[#This Row],[No]],TablaLicencias,3,0),\"\")","v":""},{"$f":"IFERROR(VLOOKUP(Tabla48[[#This Row],[No]],TablaLicencias,4,0),\"\")","v":""},{"$f":"IFERROR(VLOOKUP(Tabla48[[#This Row],[No]],TablaLicencias,5,0),\"\")","v":""},{"$f":"IFERROR(VLOOKUP(Tabla48[[#This Row],[No]],TablaLicencias,6,0),\"\")","v":""}]
[null,null,null,281,{"$f":"IFERROR(VLOOKUP(Tabla48[[#This Row],[No]],TablaLicencias,2,0),\"\")","v":""},{"$f":"IFERROR(VLOOKUP(Tabla48[[#This Row],[No]],TablaLicencias,3,0),\"\")","v":""},{"$f":"IFERROR(VLOOKUP(Tabla48[[#This Row],[No]],TablaLicencias,4,0),\"\")","v":""},{"$f":"IFERROR(VLOOKUP(Tabla48[[#This Row],[No]],TablaLicencias,5,0),\"\")","v":""},{"$f":"IFERROR(VLOOKUP(Tabla48[[#This Row],[No]],TablaLicencias,6,0),\"\")","v":""}]
[null,null,null,282,{"$f":"IFERROR(VLOOKUP(Tabla48[[#This Row],[No]],TablaLicencias,2,0),\"\")","v":""},{"$f":"IFERROR(VLOOKUP(Tabla48[[#This Row],[No]],TablaLicencias,3,0),\"\")","v":""},{"$f":"IFERROR(VLOOKUP(Tabla48[[#This Row],[No]],TablaLicencias,4,0),\"\")","v":""},{"$f":"IFERROR(VLOOKUP(Tabla48[[#This Row],[No]],TablaLicencias,5,0),\"\")","v":""},{"$f":"IFERROR(VLOOKUP(Tabla48[[#This Row],[No]],TablaLicencias,6,0),\"\")","v":""}]
[null,null,null,283,{"$f":"IFERROR(VLOOKUP(Tabla48[[#This Row],[No]],TablaLicencias,2,0),\"\")","v":""},{"$f":"IFERROR(VLOOKUP(Tabla48[[#This Row],[No]],TablaLicencias,3,0),\"\")","v":""},{"$f":"IFERROR(VLOOKUP(Tabla48[[#This Row],[No]],TablaLicencias,4,0),\"\")","v":""},{"$f":"IFERROR(VLOOKUP(Tabla48[[#This Row],[No]],TablaLicencias,5,0),\"\")","v":""},{"$f":"IFERROR(VLOOKUP(Tabla48[[#This Row],[No]],TablaLicencias,6,0),\"\")","v":""}]
[null,null,null,284,{"$f":"IFERROR(VLOOKUP(Tabla48[[#This Row],[No]],TablaLicencias,2,0),\"\")","v":""},{"$f":"IFERROR(VLOOKUP(Tabla48[[#This Row],[No]],TablaLicencias,3,0),\"\")","v":""},{"$f":"IFERROR(VLOOKUP(Tabla48[[#This Row],[No]],TablaLicencias,4,0),\"\")","v":""},{"$f":"IFERROR(VLOOKUP(Tabla48[[#This Row],[No]],TablaLicencias,5,0),\"\")","v":""},{"$f":"IFERROR(VLOOKUP(Tabla48[[#This Row],[No]],TablaLicencias,6,0),\"\")","v":""}]
[null,null,null,285,{"$f":"IFERROR(VLOOKUP(Tabla48[[#This Row],[No]],TablaLicencias,2,0),\"\")","v":""},{"$f":"IFERROR(VLOOKUP(Tabla48[[#This Row],[No]],TablaLicencias,3,0),\"\")","v":""},{"$f":"IFERROR(VLOOKUP(Tabla48[[#This Row],[No]],TablaLicencias,4,0),\"\")","v":""},{"$f":"IFERROR(VLOOKUP(Tabla48[[#This Row],[No]],TablaLicencias,5,0),\"\")","v":""},{"$f":"IFERROR(VLOOKUP(Tabla48[[#This Row],[No]],TablaLicencias,6,0),\"\")","v":""}]
[null,null,null,286,{"$f":"IFERROR(VLOOKUP(Tabla48[[#This Row],[No]],TablaLicencias,2,0),\"\")","v":""},{"$f":"IFERROR(VLOOKUP(Tabla48[[#This Row],[No]],TablaLicencias,3,0),\"\")","v":""},{"$f":"IFERROR(VLOOKUP(Tabla48[[#This Row],[No]],TablaLicencias,4,0),\"\")","v":""},{"$f":"IFERROR(VLOOKUP(Tabla48[[#This Row],[No]],TablaLicencias,5,0),\"\")","v":""},{"$f":"IFERROR(VLOOKUP(Tabla48[[#This Row],[No]],TablaLicencias,6,0),\"\")","v":""}]
[null,null,null,287,{"$f":"IFERROR(VLOOKUP(Tabla48[[#This Row],[No]],TablaLicencias,2,0),\"\")","v":""},{"$f":"IFERROR(VLOOKUP(Tabla48[[#This Row],[No]],TablaLicencias,3,0),\"\")","v":""},{"$f":"IFERROR(VLOOKUP(Tabla48[[#This Row],[No]],TablaLicencias,4,0),\"\")","v":""},{"$f":"IFERROR(VLOOKUP(Tabla48[[#This Row],[No]],TablaLicencias,5,0),\"\")","v":""},{"$f":"IFERROR(VLOOKUP(Tabla48[[#This Row],[No]],TablaLicencias,6,0),\"\")","v":""}]
[null,null,null,288,{"$f":"IFERROR(VLOOKUP(Tabla48[[#This Row],[No]],TablaLicencias,2,0),\"\")","v":""},{"$f":"IFERROR(VLOOKUP(Tabla48[[#This Row],[No]],TablaLicencias,3,0),\"\")","v":""},{"$f":"IFERROR(VLOOKUP(Tabla48[[#This Row],[No]],TablaLicencias,4,0),\"\")","v":""},{"$f":"IFERROR(VLOOKUP(Tabla48[[#This Row],[No]],TablaLicencias,5,0),\"\")","v":""},{"$f":"IFERROR(VLOOKUP(Tabla48[[#This Row],[No]],TablaLicencias,6,0),\"\")","v":""}]
[null,null,null,289,{"$f":"IFERROR(VLOOKUP(Tabla48[[#This Row],[No]],TablaLicencias,2,0),\"\")","v":""},{"$f":"IFERROR(VLOOKUP(Tabla48[[#This Row],[No]],TablaLicencias,3,0),\"\")","v":""},{"$f":"IFERROR(VLOOKUP(Tabla48[[#This Row],[No]],TablaLicencias,4,0),\"\")","v":""},{"$f":"IFERROR(VLOOKUP(Tabla48[[#This Row],[No]],TablaLicencias,5,0),\"\")","v":""},{"$f":"IFERROR(VLOOKUP(Tabla48[[#This Row],[No]],TablaLicencias,6,0),\"\")","v":""}]
[null,null,null,290,{"$f":"IFERROR(VLOOKUP(Tabla48[[#This Row],[No]],TablaLicencias,2,0),\"\")","v":""},{"$f":"IFERROR(VLOOKUP(Tabla48[[#This Row],[No]],TablaLicencias,3,0),\"\")","v":""},{"$f":"IFERROR(VLOOKUP(Tabla48[[#This Row],[No]],TablaLicencias,4,0),\"\")","v":""},{"$f":"IFERROR(VLOOKUP(Tabla48[[#This Row],[No]],TablaLicencias,5,0),\"\")","v":""},{"$f":"IFERROR(VLOOKUP(Tabla48[[#This Row],[No]],TablaLicencias,6,0),\"\")","v":""}]
[null,null,null,291,{"$f":"IFERROR(VLOOKUP(Tabla48[[#This Row],[No]],TablaLicencias,2,0),\"\")","v":""},{"$f":"IFERROR(VLOOKUP(Tabla48[[#This Row],[No]],TablaLicencias,3,0),\"\")","v":""},{"$f":"IFERROR(VLOOKUP(Tabla48[[#This Row],[No]],TablaLicencias,4,0),\"\")","v":""},{"$f":"IFERROR(VLOOKUP(Tabla48[[#This Row],[No]],TablaLicencias,5,0),\"\")","v":""},{"$f":"IFERROR(VLOOKUP(Tabla48[[#This Row],[No]],TablaLicencias,6,0),\"\")","v":""}]
[null,null,null,292,{"$f":"IFERROR(VLOOKUP(Tabla48[[#This Row],[No]],TablaLicencias,2,0),\"\")","v":""},{"$f":"IFERROR(VLOOKUP(Tabla48[[#This Row],[No]],TablaLicencias,3,0),\"\")","v":""},{"$f":"IFERROR(VLOOKUP(Tabla48[[#This Row],[No]],TablaLicencias,4,0),\"\")","v":""},{"$f":"IFERROR(VLOOKUP(Tabla48[[#This Row],[No]],TablaLicencias,5,0),\"\")","v":""},{"$f":"IFERROR(VLOOKUP(Tabla48[[#This Row],[No]],TablaLicencias,6,0),\"\")","v":""}]
[null,null,null,293,{"$f":"IFERROR(VLOOKUP(Tabla48[[#This Row],[No]],TablaLicencias,2,0),\"\")","v":""},{"$f":"IFERROR(VLOOKUP(Tabla48[[#This Row],[No]],TablaLicencias,3,0),\"\")","v":""},{"$f":"IFERROR(VLOOKUP(Tabla48[[#This Row],[No]],TablaLicencias,4,0),\"\")","v":""},{"$f":"IFERROR(VLOOKUP(Tabla48[[#This Row],[No]],TablaLicencias,5,0),\"\")","v":""},{"$f":"IFERROR(VLOOKUP(Tabla48[[#This Row],[No]],TablaLicencias,6,0),\"\")","v":""}]
[null,null,null,294,{"$f":"IFERROR(VLOOKUP(Tabla48[[#This Row],[No]],TablaLicencias,2,0),\"\")","v":""},{"$f":"IFERROR(VLOOKUP(Tabla48[[#This Row],[No]],TablaLicencias,3,0),\"\")","v":""},{"$f":"IFERROR(VLOOKUP(Tabla48[[#This Row],[No]],TablaLicencias,4,0),\"\")","v":""},{"$f":"IFERROR(VLOOKUP(Tabla48[[#This Row],[No]],TablaLicencias,5,0),\"\")","v":""},{"$f":"IFERROR(VLOOKUP(Tabla48[[#This Row],[No]],TablaLicencias,6,0),\"\")","v":""}]
[null,null,null,295,{"$f":"IFERROR(VLOOKUP(Tabla48[[#This Row],[No]],TablaLicencias,2,0),\"\")","v":""},{"$f":"IFERROR(VLOOKUP(Tabla48[[#This Row],[No]],TablaLicencias,3,0),\"\")","v":""},{"$f":"IFERROR(VLOOKUP(Tabla48[[#This Row],[No]],TablaLicencias,4,0),\"\")","v":""},{"$f":"IFERROR(VLOOKUP(Tabla48[[#This Row],[No]],TablaLicencias,5,0),\"\")","v":""},{"$f":"IFERROR(VLOOKUP(Tabla48[[#This Row],[No]],TablaLicencias,6,0),\"\")","v":""}]
[null,null,null,296,{"$f":"IFERROR(VLOOKUP(Tabla48[[#This Row],[No]],TablaLicencias,2,0),\"\")","v":""},{"$f":"IFERROR(VLOOKUP(Tabla48[[#This Row],[No]],TablaLicencias,3,0),\"\")","v":""},{"$f":"IFERROR(VLOOKUP(Tabla48[[#This Row],[No]],TablaLicencias,4,0),\"\")","v":""},{"$f":"IFERROR(VLOOKUP(Tabla48[[#This Row],[No]],TablaLicencias,5,0),\"\")","v":""},{"$f":"IFERROR(VLOOKUP(Tabla48[[#This Row],[No]],TablaLicencias,6,0),\"\")","v":""}]
[null,null,null,297,{"$f":"IFERROR(VLOOKUP(Tabla48[[#This Row],[No]],TablaLicencias,2,0),\"\")","v":""},{"$f":"IFERROR(VLOOKUP(Tabla48[[#This Row],[No]],TablaLicencias,3,0),\"\")","v":""},{"$f":"IFERROR(VLOOKUP(Tabla48[[#This Row],[No]],TablaLicencias,4,0),\"\")","v":""},{"$f":"IFERROR(VLOOKUP(Tabla48[[#This Row],[No]],TablaLicencias,5,0),\"\")","v":""},{"$f":"IFERROR(VLOOKUP(Tabla48[[#This Row],[No]],TablaLicencias,6,0),\"\")","v":""}]
[null,null,null,298,{"$f":"IFERROR(VLOOKUP(Tabla48[[#This Row],[No]],TablaLicencias,2,0),\"\")","v":""},{"$f":"IFERROR(VLOOKUP(Tabla48[[#This Row],[No]],TablaLicencias,3,0),\"\")","v":""},{"$f":"IFERROR(VLOOKUP(Tabla48[[#This Row],[No]],TablaLicencias,4,0),\"\")","v":""},{"$f":"IFERROR(VLOOKUP(Tabla48[[#This Row],[No]],TablaLicencias,5,0),\"\")","v":""},{"$f":"IFERROR(VLOOKUP(Tabla48[[#This Row],[No]],TablaLicencias,6,0),\"\")","v":""}]
[null,null,null,299,{"$f":"IFERROR(VLOOKUP(Tabla48[[#This Row],[No]],TablaLicencias,2,0),\"\")","v":""},{"$f":"IFERROR(VLOOKUP(Tabla48[[#This Row],[No]],TablaLicencias,3,0),\"\")","v":""},{"$f":"IFERROR(VLOOKUP(Tabla48[[#This Row],[No]],TablaLicencias,4,0),\"\")","v":""},{"$f":"IFERROR(VLOOKUP(Tabla48[[#This Row],[No]],TablaLicencias,5,0),\"\")","v":""},{"$f":"IFERROR(VLOOKUP(Tabla48[[#This Row],[No]],TablaLicencias,6,0),\"\")","v":""}]
[null,null,null,300,{"$f":"IFERROR(VLOOKUP(Tabla48[[#This Row],[No]],TablaLicencias,2,0),\"\")","v":""},{"$f":"IFERROR(VLOOKUP(Tabla48[[#This Row],[No]],TablaLicencias,3,0),\"\")","v":""},{"$f":"IFERROR(VLOOKUP(Tabla48[[#This Row],[No]],TablaLicencias,4,0),\"\")","v":""},{"$f":"IFERROR(VLOOKUP(Tabla48[[#This Row],[No]],TablaLicencias,5,0),\"\")","v":""},{"$f":"IFERROR(VLOOKUP(Tabla48[[#This Row],[No]],TablaLicencias,6,0),\"\")","v":""}]
[null,null,null,301,{"$f":"IFERROR(VLOOKUP(Tabla48[[#This Row],[No]],TablaLicencias,2,0),\"\")","v":""},{"$f":"IFERROR(VLOOKUP(Tabla48[[#This Row],[No]],TablaLicencias,3,0),\"\")","v":""},{"$f":"IFERROR(VLOOKUP(Tabla48[[#This Row],[No]],TablaLicencias,4,0),\"\")","v":""},{"$f":"IFERROR(VLOOKUP(Tabla48[[#This Row],[No]],TablaLicencias,5,0),\"\")","v":""},{"$f":"IFERROR(VLOOKUP(Tabla48[[#This Row],[No]],TablaLicencias,6,0),\"\")","v":""}]
[null,null,null,302,{"$f":"IFERROR(VLOOKUP(Tabla48[[#This Row],[No]],TablaLicencias,2,0),\"\")","v":""},{"$f":"IFERROR(VLOOKUP(Tabla48[[#This Row],[No]],TablaLicencias,3,0),\"\")","v":""},{"$f":"IFERROR(VLOOKUP(Tabla48[[#This Row],[No]],TablaLicencias,4,0),\"\")","v":""},{"$f":"IFERROR(VLOOKUP(Tabla48[[#This Row],[No]],TablaLicencias,5,0),\"\")","v":""},{"$f":"IFERROR(VLOOKUP(Tabla48[[#This Row],[No]],TablaLicencias,6,0),\"\")","v":""}]
[null,null,null,303,{"$f":"IFERROR(VLOOKUP(Tabla48[[#This Row],[No]],TablaLicencias,2,0),\"\")","v":""},{"$f":"IFERROR(VLOOKUP(Tabla48[[#This Row],[No]],TablaLicencias,3,0),\"\")","v":""},{"$f":"IFERROR(VLOOKUP(Tabla48[[#This Row],[No]],TablaLicencias,4,0),\"\")","v":""},{"$f":"IFERROR(VLOOKUP(Tabla48[[#This Row],[No]],TablaLicencias,5,0),\"\")","v":""},{"$f":"IFERROR(VLOOKUP(Tabla48[[#This Row],[No]],TablaLicencias,6,0),\"\")","v":""}]
[null,null,null,304,{"$f":"IFERROR(VLOOKUP(Tabla48[[#This Row],[No]],TablaLicencias,2,0),\"\")","v":""},{"$f":"IFERROR(VLOOKUP(Tabla48[[#This Row],[No]],TablaLicencias,3,0),\"\")","v":""},{"$f":"IFERROR(VLOOKUP(Tabla48[[#This Row],[No]],TablaLicencias,4,0),\"\")","v":""},{"$f":"IFERROR(VLOOKUP(Tabla48[[#This Row],[No]],TablaLicencias,5,0),\"\")","v":""},{"$f":"IFERROR(VLOOKUP(Tabla48[[#This Row],[No]],TablaLicencias,6,0),\"\")","v":""}]
[null,null,null,305,{"$f":"IFERROR(VLOOKUP(Tabla48[[#This Row],[No]],TablaLicencias,2,0),\"\")","v":""},{"$f":"IFERROR(VLOOKUP(Tabla48[[#This Row],[No]],TablaLicencias,3,0),\"\")","v":""},{"$f":"IFERROR(VLOOKUP(Tabla48[[#This Row],[No]],TablaLicencias,4,0),\"\")","v":""},{"$f":"IFERROR(VLOOKUP(Tabla48[[#This Row],[No]],TablaLicencias,5,0),\"\")","v":""},{"$f":"IFERROR(VLOOKUP(Tabla48[[#This Row],[No]],TablaLicencias,6,0),\"\")","v":""}]
[null,null,null,306,{"$f":"IFERROR(VLOOKUP(Tabla48[[#This Row],[No]],TablaLicencias,2,0),\"\")","v":""},{"$f":"IFERROR(VLOOKUP(Tabla48[[#This Row],[No]],TablaLicencias,3,0),\"\")","v":""},{"$f":"IFERROR(VLOOKUP(Tabla48[[#This Row],[No]],TablaLicencias,4,0),\"\")","v":""},{"$f":"IFERROR(VLOOKUP(Tabla48[[#This Row],[No]],TablaLicencias,5,0),\"\")","v":""},{"$f":"IFERROR(VLOOKUP(Tabla48[[#This Row],[No]],TablaLicencias,6,0),\"\")","v":""}]
[null,null,null,307,{"$f":"IFERROR(VLOOKUP(Tabla48[[#This Row],[No]],TablaLicencias,2,0),\"\")","v":""},{"$f":"IFERROR(VLOOKUP(Tabla48[[#This Row],[No]],TablaLicencias,3,0),\"\")","v":""},{"$f":"IFERROR(VLOOKUP(Tabla48[[#This Row],[No]],TablaLicencias,4,0),\"\")","v":""},{"$f":"IFERROR(VLOOKUP(Tabla48[[#This Row],[No]],TablaLicencias,5,0),\"\")","v":""},{"$f":"IFERROR(VLOOKUP(Tabla48[[#This Row],[No]],TablaLicencias,6,0),\"\")","v":""}]
[null,null,null,308,{"$f":"IFERROR(VLOOKUP(Tabla48[[#This Row],[No]],TablaLicencias,2,0),\"\")","v":""},{"$f":"IFERROR(VLOOKUP(Tabla48[[#This Row],[No]],TablaLicencias,3,0),\"\")","v":""},{"$f":"IFERROR(VLOOKUP(Tabla48[[#This Row],[No]],TablaLicencias,4,0),\"\")","v":""},{"$f":"IFERROR(VLOOKUP(Tabla48[[#This Row],[No]],TablaLicencias,5,0),\"\")","v":""},{"$f":"IFERROR(VLOOKUP(Tabla48[[#This Row],[No]],TablaLicencias,6,0),\"\")","v":""}]
[null,null,null,309,{"$f":"IFERROR(VLOOKUP(Tabla48[[#This Row],[No]],TablaLicencias,2,0),\"\")","v":""},{"$f":"IFERROR(VLOOKUP(Tabla48[[#This Row],[No]],TablaLicencias,3,0),\"\")","v":""},{"$f":"IFERROR(VLOOKUP(Tabla48[[#This Row],[No]],TablaLicencias,4,0),\"\")","v":""},{"$f":"IFERROR(VLOOKUP(Tabla48[[#This Row],[No]],TablaLicencias,5,0),\"\")","v":""},{"$f":"IFERROR(VLOOKUP(Tabla48[[#This Row],[No]],TablaLicencias,6,0),\"\")","v":""}]
[null,null,null,310,{"$f":"IFERROR(VLOOKUP(Tabla48[[#This Row],[No]],TablaLicencias,2,0),\"\")","v":""},{"$f":"IFERROR(VLOOKUP(Tabla48[[#This Row],[No]],TablaLicencias,3,0),\"\")","v":""},{"$f":"IFERROR(VLOOKUP(Tabla48[[#This Row],[No]],TablaLicencias,4,0),\"\")","v":""},{"$f":"IFERROR(VLOOKUP(Tabla48[[#This Row],[No]],TablaLicencias,5,0),\"\")","v":""},{"$f":"IFERROR(VLOOKUP(Tabla48[[#This Row],[No]],TablaLicencias,6,0),\"\")","v":""}]
[null,null,null,311,{"$f":"IFERROR(VLOOKUP(Tabla48[[#This Row],[No]],TablaLicencias,2,0),\"\")","v":""},{"$f":"IFERROR(VLOOKUP(Tabla48[[#This Row],[No]],TablaLicencias,3,0),\"\")","v":""},{"$f":"IFERROR(VLOOKUP(Tabla48[[#This Row],[No]],TablaLicencias,4,0),\"\")","v":""},{"$f":"IFERROR(VLOOKUP(Tabla48[[#This Row],[No]],TablaLicencias,5,0),\"\")","v":""},{"$f":"IFERROR(VLOOKUP(Tabla48[[#This Row],[No]],TablaLicencias,6,0),\"\")","v":""}]
[null,null,null,312,{"$f":"IFERROR(VLOOKUP(Tabla48[[#This Row],[No]],TablaLicencias,2,0),\"\")","v":""},{"$f":"IFERROR(VLOOKUP(Tabla48[[#This Row],[No]],TablaLicencias,3,0),\"\")","v":""},{"$f":"IFERROR(VLOOKUP(Tabla48[[#This Row],[No]],TablaLicencias,4,0),\"\")","v":""},{"$f":"IFERROR(VLOOKUP(Tabla48[[#This Row],[No]],TablaLicencias,5,0),\"\")","v":""},{"$f":"IFERROR(VLOOKUP(Tabla48[[#This Row],[No]],TablaLicencias,6,0),\"\")","v":""}]
[null,null,null,313,{"$f":"IFERROR(VLOOKUP(Tabla48[[#This Row],[No]],TablaLicencias,2,0),\"\")","v":""},{"$f":"IFERROR(VLOOKUP(Tabla48[[#This Row],[No]],TablaLicencias,3,0),\"\")","v":""},{"$f":"IFERROR(VLOOKUP(Tabla48[[#This Row],[No]],TablaLicencias,4,0),\"\")","v":""},{"$f":"IFERROR(VLOOKUP(Tabla48[[#This Row],[No]],TablaLicencias,5,0),\"\")","v":""},{"$f":"IFERROR(VLOOKUP(Tabla48[[#This Row],[No]],TablaLicencias,6,0),\"\")","v":""}]
[null,null,null,314,{"$f":"IFERROR(VLOOKUP(Tabla48[[#This Row],[No]],TablaLicencias,2,0),\"\")","v":""},{"$f":"IFERROR(VLOOKUP(Tabla48[[#This Row],[No]],TablaLicencias,3,0),\"\")","v":""},{"$f":"IFERROR(VLOOKUP(Tabla48[[#This Row],[No]],TablaLicencias,4,0),\"\")","v":""},{"$f":"IFERROR(VLOOKUP(Tabla48[[#This Row],[No]],TablaLicencias,5,0),\"\")","v":""},{"$f":"IFERROR(VLOOKUP(Tabla48[[#This Row],[No]],TablaLicencias,6,0),\"\")","v":""}]
[null,null,null,315,{"$f":"IFERROR(VLOOKUP(Tabla48[[#This Row],[No]],TablaLicencias,2,0),\"\")","v":""},{"$f":"IFERROR(VLOOKUP(Tabla48[[#This Row],[No]],TablaLicencias,3,0),\"\")","v":""},{"$f":"IFERROR(VLOOKUP(Tabla48[[#This Row],[No]],TablaLicencias,4,0),\"\")","v":""},{"$f":"IFERROR(VLOOKUP(Tabla48[[#This Row],[No]],TablaLicencias,5,0),\"\")","v":""},{"$f":"IFERROR(VLOOKUP(Tabla48[[#This Row],[No]],TablaLicencias,6,0),\"\")","v":""}]
[null,null,null,316,{"$f":"IFERROR(VLOOKUP(Tabla48[[#This Row],[No]],TablaLicencias,2,0),\"\")","v":""},{"$f":"IFERROR(VLOOKUP(Tabla48[[#This Row],[No]],TablaLicencias,3,0),\"\")","v":""},{"$f":"IFERROR(VLOOKUP(Tabla48[[#This Row],[No]],TablaLicencias,4,0),\"\")","v":""},{"$f":"IFERROR(VLOOKUP(Tabla48[[#This Row],[No]],TablaLicencias,5,0),\"\")","v":""},{"$f":"IFERROR(VLOOKUP(Tabla48[[#This Row],[No]],TablaLicencias,6,0),\"\")","v":""}]
[null,null,null,317,{"$f":"IFERROR(VLOOKUP(Tabla48[[#This Row],[No]],TablaLicencias,2,0),\"\")","v":""},{"$f":"IFERROR(VLOOKUP(Tabla48[[#This Row],[No]],TablaLicencias,3,0),\"\")","v":""},{"$f":"IFERROR(VLOOKUP(Tabla48[[#This Row],[No]],TablaLicencias,4,0),\"\")","v":""},{"$f":"IFERROR(VLOOKUP(Tabla48[[#This Row],[No]],TablaLicencias,5,0),\"\")","v":""},{"$f":"IFERROR(VLOOKUP(Tabla48[[#This Row],[No]],TablaLicencias,6,0),\"\")","v":""}]
[null,null,null,318,{"$f":"IFERROR(VLOOKUP(Tabla48[[#This Row],[No]],TablaLicencias,2,0),\"\")","v":""},{"$f":"IFERROR(VLOOKUP(Tabla48[[#This Row],[No]],TablaLicencias,3,0),\"\")","v":""},{"$f":"IFERROR(VLOOKUP(Tabla48[[#This Row],[No]],TablaLicencias,4,0),\"\")","v":""},{"$f":"IFERROR(VLOOKUP(Tabla48[[#This Row],[No]],TablaLicencias,5,0),\"\")","v":""},{"$f":"IFERROR(VLOOKUP(Tabla48[[#This Row],[No]],TablaLicencias,6,0),\"\")","v":""}]
[null,null,null,319,{"$f":"IFERROR(VLOOKUP(Tabla48[[#This Row],[No]],TablaLicencias,2,0),\"\")","v":""},{"$f":"IFERROR(VLOOKUP(Tabla48[[#This Row],[No]],TablaLicencias,3,0),\"\")","v":""},{"$f":"IFERROR(VLOOKUP(Tabla48[[#This Row],[No]],TablaLicencias,4,0),\"\")","v":""},{"$f":"IFERROR(VLOOKUP(Tabla48[[#This Row],[No]],TablaLicencias,5,0),\"\")","v":""},{"$f":"IFERROR(VLOOKUP(Tabla48[[#This Row],[No]],TablaLicencias,6,0),\"\")","v":""}]
[null,null,null,320,{"$f":"IFERROR(VLOOKUP(Tabla48[[#This Row],[No]],TablaLicencias,2,0),\"\")","v":""},{"$f":"IFERROR(VLOOKUP(Tabla48[[#This Row],[No]],TablaLicencias,3,0),\"\")","v":""},{"$f":"IFERROR(VLOOKUP(Tabla48[[#This Row],[No]],TablaLicencias,4,0),\"\")","v":""},{"$f":"IFERROR(VLOOKUP(Tabla48[[#This Row],[No]],TablaLicencias,5,0),\"\")","v":""},{"$f":"IFERROR(VLOOKUP(Tabla48[[#This Row],[No]],TablaLicencias,6,0),\"\")","v":""}]
[null,null,null,321,{"$f":"IFERROR(VLOOKUP(Tabla48[[#This Row],[No]],TablaLicencias,2,0),\"\")","v":""},{"$f":"IFERROR(VLOOKUP(Tabla48[[#This Row],[No]],TablaLicencias,3,0),\"\")","v":""},{"$f":"IFERROR(VLOOKUP(Tabla48[[#This Row],[No]],TablaLicencias,4,0),\"\")","v":""},{"$f":"IFERROR(VLOOKUP(Tabla48[[#This Row],[No]],TablaLicencias,5,0),\"\")","v":""},{"$f":"IFERROR(VLOOKUP(Tabla48[[#This Row],[No]],TablaLicencias,6,0),\"\")","v":""}]
[null,null,null,322,{"$f":"IFERROR(VLOOKUP(Tabla48[[#This Row],[No]],TablaLicencias,2,0),\"\")","v":""},{"$f":"IFERROR(VLOOKUP(Tabla48[[#This Row],[No]],TablaLicencias,3,0),\"\")","v":""},{"$f":"IFERROR(VLOOKUP(Tabla48[[#This Row],[No]],TablaLicencias,4,0),\"\")","v":""},{"$f":"IFERROR(VLOOKUP(Tabla48[[#This Row],[No]],TablaLicencias,5,0),\"\")","v":""},{"$f":"IFERROR(VLOOKUP(Tabla48[[#This Row],[No]],TablaLicencias,6,0),\"\")","v":""}]
[null,null,null,323,{"$f":"IFERROR(VLOOKUP(Tabla48[[#This Row],[No]],TablaLicencias,2,0),\"\")","v":""},{"$f":"IFERROR(VLOOKUP(Tabla48[[#This Row],[No]],TablaLicencias,3,0),\"\")","v":""},{"$f":"IFERROR(VLOOKUP(Tabla48[[#This Row],[No]],TablaLicencias,4,0),\"\")","v":""},{"$f":"IFERROR(VLOOKUP(Tabla48[[#This Row],[No]],TablaLicencias,5,0),\"\")","v":""},{"$f":"IFERROR(VLOOKUP(Tabla48[[#This Row],[No]],TablaLicencias,6,0),\"\")","v":""}]
[null,null,null,324,{"$f":"IFERROR(VLOOKUP(Tabla48[[#This Row],[No]],TablaLicencias,2,0),\"\")","v":""},{"$f":"IFERROR(VLOOKUP(Tabla48[[#This Row],[No]],TablaLicencias,3,0),\"\")","v":""},{"$f":"IFERROR(VLOOKUP(Tabla48[[#This Row],[No]],TablaLicencias,4,0),\"\")","v":""},{"$f":"IFERROR(VLOOKUP(Tabla48[[#This Row],[No]],TablaLicencias,5,0),\"\")","v":""},{"$f":"IFERROR(VLOOKUP(Tabla48[[#This Row],[No]],TablaLicencias,6,0),\"\")","v":""}]
[null,null,null,325,{"$f":"IFERROR(VLOOKUP(Tabla48[[#This Row],[No]],TablaLicencias,2,0),\"\")","v":""},{"$f":"IFERROR(VLOOKUP(Tabla48[[#This Row],[No]],TablaLicencias,3,0),\"\")","v":""},{"$f":"IFERROR(VLOOKUP(Tabla48[[#This Row],[No]],TablaLicencias,4,0),\"\")","v":""},{"$f":"IFERROR(VLOOKUP(Tabla48[[#This Row],[No]],TablaLicencias,5,0),\"\")","v":""},{"$f":"IFERROR(VLOOKUP(Tabla48[[#This Row],[No]],TablaLicencias,6,0),\"\")","v":""}]
[null,null,null,326,{"$f":"IFERROR(VLOOKUP(Tabla48[[#This Row],[No]],TablaLicencias,2,0),\"\")","v":""},{"$f":"IFERROR(VLOOKUP(Tabla48[[#This Row],[No]],TablaLicencias,3,0),\"\")","v":""},{"$f":"IFERROR(VLOOKUP(Tabla48[[#This Row],[No]],TablaLicencias,4,0),\"\")","v":""},{"$f":"IFERROR(VLOOKUP(Tabla48[[#This Row],[No]],TablaLicencias,5,0),\"\")","v":""},{"$f":"IFERROR(VLOOKUP(Tabla48[[#This Row],[No]],TablaLicencias,6,0),\"\")","v":""}]
[null,null,null,327,{"$f":"IFERROR(VLOOKUP(Tabla48[[#This Row],[No]],TablaLicencias,2,0),\"\")","v":""},{"$f":"IFERROR(VLOOKUP(Tabla48[[#This Row],[No]],TablaLicencias,3,0),\"\")","v":""},{"$f":"IFERROR(VLOOKUP(Tabla48[[#This Row],[No]],TablaLicencias,4,0),\"\")","v":""},{"$f":"IFERROR(VLOOKUP(Tabla48[[#This Row],[No]],TablaLicencias,5,0),\"\")","v":""},{"$f":"IFERROR(VLOOKUP(Tabla48[[#This Row],[No]],TablaLicencias,6,0),\"\")","v":""}]
[null,null,null,328,{"$f":"IFERROR(VLOOKUP(Tabla48[[#This Row],[No]],TablaLicencias,2,0),\"\")","v":""},{"$f":"IFERROR(VLOOKUP(Tabla48[[#This Row],[No]],TablaLicencias,3,0),\"\")","v":""},{"$f":"IFERROR(VLOOKUP(Tabla48[[#This Row],[No]],TablaLicencias,4,0),\"\")","v":""},{"$f":"IFERROR(VLOOKUP(Tabla48[[#This Row],[No]],TablaLicencias,5,0),\"\")","v":""},{"$f":"IFERROR(VLOOKUP(Tabla48[[#This Row],[No]],TablaLicencias,6,0),\"\")","v":""}]
[null,null,null,329,{"$f":"IFERROR(VLOOKUP(Tabla48[[#This Row],[No]],TablaLicencias,2,0),\"\")","v":""},{"$f":"IFERROR(VLOOKUP(Tabla48[[#This Row],[No]],TablaLicencias,3,0),\"\")","v":""},{"$f":"IFERROR(VLOOKUP(Tabla48[[#This Row],[No]],TablaLicencias,4,0),\"\")","v":""},{"$f":"IFERROR(VLOOKUP(Tabla48[[#This Row],[No]],TablaLicencias,5,0),\"\")","v":""},{"$f":"IFERROR(VLOOKUP(Tabla48[[#This Row],[No]],TablaLicencias,6,0),\"\")","v":""}]
[null,null,null,330,{"$f":"IFERROR(VLOOKUP(Tabla48[[#This Row],[No]],TablaLicencias,2,0),\"\")","v":""},{"$f":"IFERROR(VLOOKUP(Tabla48[[#This Row],[No]],TablaLicencias,3,0),\"\")","v":""},{"$f":"IFERROR(VLOOKUP(Tabla48[[#This Row],[No]],TablaLicencias,4,0),\"\")","v":""},{"$f":"IFERROR(VLOOKUP(Tabla48[[#This Row],[No]],TablaLicencias,5,0),\"\")","v":""},{"$f":"IFERROR(VLOOKUP(Tabla48[[#This Row],[No]],TablaLicencias,6,0),\"\")","v":""}]
[null,null,null,331,{"$f":"IFERROR(VLOOKUP(Tabla48[[#This Row],[No]],TablaLicencias,2,0),\"\")","v":""},{"$f":"IFERROR(VLOOKUP(Tabla48[[#This Row],[No]],TablaLicencias,3,0),\"\")","v":""},{"$f":"IFERROR(VLOOKUP(Tabla48[[#This Row],[No]],TablaLicencias,4,0),\"\")","v":""},{"$f":"IFERROR(VLOOKUP(Tabla48[[#This Row],[No]],TablaLicencias,5,0),\"\")","v":""},{"$f":"IFERROR(VLOOKUP(Tabla48[[#This Row],[No]],TablaLicencias,6,0),\"\")","v":""}]
[null,null,null,332,{"$f":"IFERROR(VLOOKUP(Tabla48[[#This Row],[No]],TablaLicencias,2,0),\"\")","v":""},{"$f":"IFERROR(VLOOKUP(Tabla48[[#This Row],[No]],TablaLicencias,3,0),\"\")","v":""},{"$f":"IFERROR(VLOOKUP(Tabla48[[#This Row],[No]],TablaLicencias,4,0),\"\")","v":""},{"$f":"IFERROR(VLOOKUP(Tabla48[[#This Row],[No]],TablaLicencias,5,0),\"\")","v":""},{"$f":"IFERROR(VLOOKUP(Tabla48[[#This Row],[No]],TablaLicencias,6,0),\"\")","v":""}]
[null,null,null,333,{"$f":"IFERROR(VLOOKUP(Tabla48[[#This Row],[No]],TablaLicencias,2,0),\"\")","v":""},{"$f":"IFERROR(VLOOKUP(Tabla48[[#This Row],[No]],TablaLicencias,3,0),\"\")","v":""},{"$f":"IFERROR(VLOOKUP(Tabla48[[#This Row],[No]],TablaLicencias,4,0),\"\")","v":""},{"$f":"IFERROR(VLOOKUP(Tabla48[[#This Row],[No]],TablaLicencias,5,0),\"\")","v":""},{"$f":"IFERROR(VLOOKUP(Tabla48[[#This Row],[No]],TablaLicencias,6,0),\"\")","v":""}]
[null,null,null,334,{"$f":"IFERROR(VLOOKUP(Tabla48[[#This Row],[No]],TablaLicencias,2,0),\"\")","v":""},{"$f":"IFERROR(VLOOKUP(Tabla48[[#This Row],[No]],TablaLicencias,3,0),\"\")","v":""},{"$f":"IFERROR(VLOOKUP(Tabla48[[#This Row],[No]],TablaLicencias,4,0),\"\")","v":""},{"$f":"IFERROR(VLOOKUP(Tabla48[[#This Row],[No]],TablaLicencias,5,0),\"\")","v":""},{"$f":"IFERROR(VLOOKUP(Tabla48[[#This Row],[No]],TablaLicencias,6,0),\"\")","v":""}]
[null,null,null,335,{"$f":"IFERROR(VLOOKUP(Tabla48[[#This Row],[No]],TablaLicencias,2,0),\"\")","v":""},{"$f":"IFERROR(VLOOKUP(Tabla48[[#This Row],[No]],TablaLicencias,3,0),\"\")","v":""},{"$f":"IFERROR(VLOOKUP(Tabla48[[#This Row],[No]],TablaLicencias,4,0),\"\")","v":""},{"$f":"IFERROR(VLOOKUP(Tabla48[[#This Row],[No]],TablaLicencias,5,0),\"\")","v":""},{"$f":"IFERROR(VLOOKUP(Tabla48[[#This Row],[No]],TablaLicencias,6,0),\"\")","v":""}]
[null,null,null,336,{"$f":"IFERROR(VLOOKUP(Tabla48[[#This Row],[No]],TablaLicencias,2,0),\"\")","v":""},{"$f":"IFERROR(VLOOKUP(Tabla48[[#This Row],[No]],TablaLicencias,3,0),\"\")","v":""},{"$f":"IFERROR(VLOOKUP(Tabla48[[#This Row],[No]],TablaLicencias,4,0),\"\")","v":""},{"$f":"IFERROR(VLOOKUP(Tabla48[[#This Row],[No]],TablaLicencias,5,0),\"\")","v":""},{"$f":"IFERROR(VLOOKUP(Tabla48[[#This Row],[No]],TablaLicencias,6,0),\"\")","v":""}]
[null,null,null,337,{"$f":"IFERROR(VLOOKUP(Tabla48[[#This Row],[No]],TablaLicencias,2,0),\"\")","v":""},{"$f":"IFERROR(VLOOKUP(Tabla48[[#This Row],[No]],TablaLicencias,3,0),\"\")","v":""},{"$f":"IFERROR(VLOOKUP(Tabla48[[#This Row],[No]],TablaLicencias,4,0),\"\")","v":""},{"$f":"IFERROR(VLOOKUP(Tabla48[[#This Row],[No]],TablaLicencias,5,0),\"\")","v":""},{"$f":"IFERROR(VLOOKUP(Tabla48[[#This Row],[No]],TablaLicencias,6,0),\"\")","v":""}]
[null,null,null,338,{"$f":"IFERROR(VLOOKUP(Tabla48[[#This Row],[No]],TablaLicencias,2,0),\"\")","v":""},{"$f":"IFERROR(VLOOKUP(Tabla48[[#This Row],[No]],TablaLicencias,3,0),\"\")","v":""},{"$f":"IFERROR(VLOOKUP(Tabla48[[#This Row],[No]],TablaLicencias,4,0),\"\")","v":""},{"$f":"IFERROR(VLOOKUP(Tabla48[[#This Row],[No]],TablaLicencias,5,0),\"\")","v":""},{"$f":"IFERROR(VLOOKUP(Tabla48[[#This Row],[No]],TablaLicencias,6,0),\"\")","v":""}]
[null,null,null,339,{"$f":"IFERROR(VLOOKUP(Tabla48[[#This Row],[No]],TablaLicencias,2,0),\"\")","v":""},{"$f":"IFERROR(VLOOKUP(Tabla48[[#This Row],[No]],TablaLicencias,3,0),\"\")","v":""},{"$f":"IFERROR(VLOOKUP(Tabla48[[#This Row],[No]],TablaLicencias,4,0),\"\")","v":""},{"$f":"IFERROR(VLOOKUP(Tabla48[[#This Row],[No]],TablaLicencias,5,0),\"\")","v":""},{"$f":"IFERROR(VLOOKUP(Tabla48[[#This Row],[No]],TablaLicencias,6,0),\"\")","v":""}]
[null,null,null,340,{"$f":"IFERROR(VLOOKUP(Tabla48[[#This Row],[No]],TablaLicencias,2,0),\"\")","v":""},{"$f":"IFERROR(VLOOKUP(Tabla48[[#This Row],[No]],TablaLicencias,3,0),\"\")","v":""},{"$f":"IFERROR(VLOOKUP(Tabla48[[#This Row],[No]],TablaLicencias,4,0),\"\")","v":""},{"$f":"IFERROR(VLOOKUP(Tabla48[[#This Row],[No]],TablaLicencias,5,0),\"\")","v":""},{"$f":"IFERROR(VLOOKUP(Tabla48[[#This Row],[No]],TablaLicencias,6,0),\"\")","v":""}]
[null,null,null,341,{"$f":"IFERROR(VLOOKUP(Tabla48[[#This Row],[No]],TablaLicencias,2,0),\"\")","v":""},{"$f":"IFERROR(VLOOKUP(Tabla48[[#This Row],[No]],TablaLicencias,3,0),\"\")","v":""},{"$f":"IFERROR(VLOOKUP(Tabla48[[#This Row],[No]],TablaLicencias,4,0),\"\")","v":""},{"$f":"IFERROR(VLOOKUP(Tabla48[[#This Row],[No]],TablaLicencias,5,0),\"\")","v":""},{"$f":"IFERROR(VLOOKUP(Tabla48[[#This Row],[No]],TablaLicencias,6,0),\"\")","v":""}]
[null,null,null,342,{"$f":"IFERROR(VLOOKUP(Tabla48[[#This Row],[No]],TablaLicencias,2,0),\"\")","v":""},{"$f":"IFERROR(VLOOKUP(Tabla48[[#This Row],[No]],TablaLicencias,3,0),\"\")","v":""},{"$f":"IFERROR(VLOOKUP(Tabla48[[#This Row],[No]],TablaLicencias,4,0),\"\")","v":""},{"$f":"IFERROR(VLOOKUP(Tabla48[[#This Row],[No]],TablaLicencias,5,0),\"\")","v":""},{"$f":"IFERROR(VLOOKUP(Tabla48[[#This Row],[No]],TablaLicencias,6,0),\"\")","v":""}]
[null,null,null,343,{"$f":"IFERROR(VLOOKUP(Tabla48[[#This Row],[No]],TablaLicencias,2,0),\"\")","v":""},{"$f":"IFERROR(VLOOKUP(Tabla48[[#This Row],[No]],TablaLicencias,3,0),\"\")","v":""},{"$f":"IFERROR(VLOOKUP(Tabla48[[#This Row],[No]],TablaLicencias,4,0),\"\")","v":""},{"$f":"IFERROR(VLOOKUP(Tabla48[[#This Row],[No]],TablaLicencias,5,0),\"\")","v":""},{"$f":"IFERROR(VLOOKUP(Tabla48[[#This Row],[No]],TablaLicencias,6,0),\"\")","v":""}]
[null,null,null,344,{"$f":"IFERROR(VLOOKUP(Tabla48[[#This Row],[No]],TablaLicencias,2,0),\"\")","v":""},{"$f":"IFERROR(VLOOKUP(Tabla48[[#This Row],[No]],TablaLicencias,3,0),\"\")","v":""},{"$f":"IFERROR(VLOOKUP(Tabla48[[#This Row],[No]],TablaLicencias,4,0),\"\")","v":""},{"$f":"IFERROR(VLOOKUP(Tabla48[[#This Row],[No]],TablaLicencias,5,0),\"\")","v":""},{"$f":"IFERROR(VLOOKUP(Tabla48[[#This Row],[No]],TablaLicencias,6,0),\"\")","v":""}]
[null,null,null,345,{"$f":"IFERROR(VLOOKUP(Tabla48[[#This Row],[No]],TablaLicencias,2,0),\"\")","v":""},{"$f":"IFERROR(VLOOKUP(Tabla48[[#This Row],[No]],TablaLicencias,3,0),\"\")","v":""},{"$f":"IFERROR(VLOOKUP(Tabla48[[#This Row],[No]],TablaLicencias,4,0),\"\")","v":""},{"$f":"IFERROR(VLOOKUP(Tabla48[[#This Row],[No]],TablaLicencias,5,0),\"\")","v":""},{"$f":"IFERROR(VLOOKUP(Tabla48[[#This Row],[No]],TablaLicencias,6,0),\"\")","v":""}]
[null,null,null,346,{"$f":"IFERROR(VLOOKUP(Tabla48[[#This Row],[No]],TablaLicencias,2,0),\"\")","v":""},{"$f":"IFERROR(VLOOKUP(Tabla48[[#This Row],[No]],TablaLicencias,3,0),\"\")","v":""},{"$f":"IFERROR(VLOOKUP(Tabla48[[#This Row],[No]],TablaLicencias,4,0),\"\")","v":""},{"$f":"IFERROR(VLOOKUP(Tabla48[[#This Row],[No]],TablaLicencias,5,0),\"\")","v":""},{"$f":"IFERROR(VLOOKUP(Tabla48[[#This Row],[No]],TablaLicencias,6,0),\"\")","v":""}]
[null,null,null,347,{"$f":"IFERROR(VLOOKUP(Tabla48[[#This Row],[No]],TablaLicencias,2,0),\"\")","v":""},{"$f":"IFERROR(VLOOKUP(Tabla48[[#This Row],[No]],TablaLicencias,3,0),\"\")","v":""},{"$f":"IFERROR(VLOOKUP(Tabla48[[#This Row],[No]],TablaLicencias,4,0),\"\")","v":""},{"$f":"IFERROR(VLOOKUP(Tabla48[[#This Row],[No]],TablaLicencias,5,0),\"\")","v":""},{"$f":"IFERROR(VLOOKUP(Tabla48[[#This Row],[No]],TablaLicencias,6,0),\"\")","v":""}]
[null,null,null,348,{"$f":"IFERROR(VLOOKUP(Tabla48[[#This Row],[No]],TablaLicencias,2,0),\"\")","v":""},{"$f":"IFERROR(VLOOKUP(Tabla48[[#This Row],[No]],TablaLicencias,3,0),\"\")","v":""},{"$f":"IFERROR(VLOOKUP(Tabla48[[#This Row],[No]],TablaLicencias,4,0),\"\")","v":""},{"$f":"IFERROR(VLOOKUP(Tabla48[[#This Row],[No]],TablaLicencias,5,0),\"\")","v":""},{"$f":"IFERROR(VLOOKUP(Tabla48[[#This Row],[No]],TablaLicencias,6,0),\"\")","v":""}]
[null,null,null,349,{"$f":"IFERROR(VLOOKUP(Tabla48[[#This Row],[No]],TablaLicencias,2,0),\"\")","v":""},{"$f":"IFERROR(VLOOKUP(Tabla48[[#This Row],[No]],TablaLicencias,3,0),\"\")","v":""},{"$f":"IFERROR(VLOOKUP(Tabla48[[#This Row],[No]],TablaLicencias,4,0),\"\")","v":""},{"$f":"IFERROR(VLOOKUP(Tabla48[[#This Row],[No]],TablaLicencias,5,0),\"\")","v":""},{"$f":"IFERROR(VLOOKUP(Tabla48[[#This Row],[No]],TablaLicencias,6,0),\"\")","v":""}]
[null,null,null,350,{"$f":"IFERROR(VLOOKUP(Tabla48[[#This Row],[No]],TablaLicencias,2,0),\"\")","v":""},{"$f":"IFERROR(VLOOKUP(Tabla48[[#This Row],[No]],TablaLicencias,3,0),\"\")","v":""},{"$f":"IFERROR(VLOOKUP(Tabla48[[#This Row],[No]],TablaLicencias,4,0),\"\")","v":""},{"$f":"IFERROR(VLOOKUP(Tabla48[[#This Row],[No]],TablaLicencias,5,0),\"\")","v":""},{"$f":"IFERROR(VLOOKUP(Tabla48[[#This Row],[No]],TablaLicencias,6,0),\"\")","v":""}]
[null,null,null,351,{"$f":"IFERROR(VLOOKUP(Tabla48[[#This Row],[No]],TablaLicencias,2,0),\"\")","v":""},{"$f":"IFERROR(VLOOKUP(Tabla48[[#This Row],[No]],TablaLicencias,3,0),\"\")","v":""},{"$f":"IFERROR(VLOOKUP(Tabla48[[#This Row],[No]],TablaLicencias,4,0),\"\")","v":""},{"$f":"IFERROR(VLOOKUP(Tabla48[[#This Row],[No]],TablaLicencias,5,0),\"\")","v":""},{"$f":"IFERROR(VLOOKUP(Tabla48[[#This Row],[No]],TablaLicencias,6,0),\"\")","v":""}]
[null,null,null,352,{"$f":"IFERROR(VLOOKUP(Tabla48[[#This Row],[No]],TablaLicencias,2,0),\"\")","v":""},{"$f":"IFERROR(VLOOKUP(Tabla48[[#This Row],[No]],TablaLicencias,3,0),\"\")","v":""},{"$f":"IFERROR(VLOOKUP(Tabla48[[#This Row],[No]],TablaLicencias,4,0),\"\")","v":""},{"$f":"IFERROR(VLOOKUP(Tabla48[[#This Row],[No]],TablaLicencias,5,0),\"\")","v":""},{"$f":"IFERROR(VLOOKUP(Tabla48[[#This Row],[No]],TablaLicencias,6,0),\"\")","v":""}]
[null,null,null,353,{"$f":"IFERROR(VLOOKUP(Tabla48[[#This Row],[No]],TablaLicencias,2,0),\"\")","v":""},{"$f":"IFERROR(VLOOKUP(Tabla48[[#This Row],[No]],TablaLicencias,3,0),\"\")","v":""},{"$f":"IFERROR(VLOOKUP(Tabla48[[#This Row],[No]],TablaLicencias,4,0),\"\")","v":""},{"$f":"IFERROR(VLOOKUP(Tabla48[[#This Row],[No]],TablaLicencias,5,0),\"\")","v":""},{"$f":"IFERROR(VLOOKUP(Tabla48[[#This Row],[No]],TablaLicencias,6,0),\"\")","v":""}]
[null,null,null,354,{"$f":"IFERROR(VLOOKUP(Tabla48[[#This Row],[No]],TablaLicencias,2,0),\"\")","v":""},{"$f":"IFERROR(VLOOKUP(Tabla48[[#This Row],[No]],TablaLicencias,3,0),\"\")","v":""},{"$f":"IFERROR(VLOOKUP(Tabla48[[#This Row],[No]],TablaLicencias,4,0),\"\")","v":""},{"$f":"IFERROR(VLOOKUP(Tabla48[[#This Row],[No]],TablaLicencias,5,0),\"\")","v":""},{"$f":"IFERROR(VLOOKUP(Tabla48[[#This Row],[No]],TablaLicencias,6,0),\"\")","v":""}]
[null,null,null,355,{"$f":"IFERROR(VLOOKUP(Tabla48[[#This Row],[No]],TablaLicencias,2,0),\"\")","v":""},{"$f":"IFERROR(VLOOKUP(Tabla48[[#This Row],[No]],TablaLicencias,3,0),\"\")","v":""},{"$f":"IFERROR(VLOOKUP(Tabla48[[#This Row],[No]],TablaLicencias,4,0),\"\")","v":""},{"$f":"IFERROR(VLOOKUP(Tabla48[[#This Row],[No]],TablaLicencias,5,0),\"\")","v":""},{"$f":"IFERROR(VLOOKUP(Tabla48[[#This Row],[No]],TablaLicencias,6,0),\"\")","v":""}]
[null,null,null,356,{"$f":"IFERROR(VLOOKUP(Tabla48[[#This Row],[No]],TablaLicencias,2,0),\"\")","v":""},{"$f":"IFERROR(VLOOKUP(Tabla48[[#This Row],[No]],TablaLicencias,3,0),\"\")","v":""},{"$f":"IFERROR(VLOOKUP(Tabla48[[#This Row],[No]],TablaLicencias,4,0),\"\")","v":""},{"$f":"IFERROR(VLOOKUP(Tabla48[[#This Row],[No]],TablaLicencias,5,0),\"\")","v":""},{"$f":"IFERROR(VLOOKUP(Tabla48[[#This Row],[No]],TablaLicencias,6,0),\"\")","v":""}]
[null,null,null,357,{"$f":"IFERROR(VLOOKUP(Tabla48[[#This Row],[No]],TablaLicencias,2,0),\"\")","v":""},{"$f":"IFERROR(VLOOKUP(Tabla48[[#This Row],[No]],TablaLicencias,3,0),\"\")","v":""},{"$f":"IFERROR(VLOOKUP(Tabla48[[#This Row],[No]],TablaLicencias,4,0),\"\")","v":""},{"$f":"IFERROR(VLOOKUP(Tabla48[[#This Row],[No]],TablaLicencias,5,0),\"\")","v":""},{"$f":"IFERROR(VLOOKUP(Tabla48[[#This Row],[No]],TablaLicencias,6,0),\"\")","v":""}]
[null,null,null,358,{"$f":"IFERROR(VLOOKUP(Tabla48[[#This Row],[No]],TablaLicencias,2,0),\"\")","v":""},{"$f":"IFERROR(VLOOKUP(Tabla48[[#This Row],[No]],TablaLicencias,3,0),\"\")","v":""},{"$f":"IFERROR(VLOOKUP(Tabla48[[#This Row],[No]],TablaLicencias,4,0),\"\")","v":""},{"$f":"IFERROR(VLOOKUP(Tabla48[[#This Row],[No]],TablaLicencias,5,0),\"\")","v":""},{"$f":"IFERROR(VLOOKUP(Tabla48[[#This Row],[No]],TablaLicencias,6,0),\"\")","v":""}]
[null,null,null,359,{"$f":"IFERROR(VLOOKUP(Tabla48[[#This Row],[No]],TablaLicencias,2,0),\"\")","v":""},{"$f":"IFERROR(VLOOKUP(Tabla48[[#This Row],[No]],TablaLicencias,3,0),\"\")","v":""},{"$f":"IFERROR(VLOOKUP(Tabla48[[#This Row],[No]],TablaLicencias,4,0),\"\")","v":""},{"$f":"IFERROR(VLOOKUP(Tabla48[[#This Row],[No]],TablaLicencias,5,0),\"\")","v":""},{"$f":"IFERROR(VLOOKUP(Tabla48[[#This Row],[No]],TablaLicencias,6,0),\"\")","v":""}]
[null,null,null,360,{"$f":"IFERROR(VLOOKUP(Tabla48[[#This Row],[No]],TablaLicencias,2,0),\"\")","v":""},{"$f":"IFERROR(VLOOKUP(Tabla48[[#This Row],[No]],TablaLicencias,3,0),\"\")","v":""},{"$f":"IFERROR(VLOOKUP(Tabla48[[#This Row],[No]],TablaLicencias,4,0),\"\")","v":""},{"$f":"IFERROR(VLOOKUP(Tabla48[[#This Row],[No]],TablaLicencias,5,0),\"\")","v":""},{"$f":"IFERROR(VLOOKUP(Tabla48[[#This Row],[No]],TablaLicencias,6,0),\"\")","v":""}]
[null,null,null,361,{"$f":"IFERROR(VLOOKUP(Tabla48[[#This Row],[No]],TablaLicencias,2,0),\"\")","v":""},{"$f":"IFERROR(VLOOKUP(Tabla48[[#This Row],[No]],TablaLicencias,3,0),\"\")","v":""},{"$f":"IFERROR(VLOOKUP(Tabla48[[#This Row],[No]],TablaLicencias,4,0),\"\")","v":""},{"$f":"IFERROR(VLOOKUP(Tabla48[[#This Row],[No]],TablaLicencias,5,0),\"\")","v":""},{"$f":"IFERROR(VLOOKUP(Tabla48[[#This Row],[No]],TablaLicencias,6,0),\"\")","v":""}]
[null,null,null,362,{"$f":"IFERROR(VLOOKUP(Tabla48[[#This Row],[No]],TablaLicencias,2,0),\"\")","v":""},{"$f":"IFERROR(VLOOKUP(Tabla48[[#This Row],[No]],TablaLicencias,3,0),\"\")","v":""},{"$f":"IFERROR(VLOOKUP(Tabla48[[#This Row],[No]],TablaLicencias,4,0),\"\")","v":""},{"$f":"IFERROR(VLOOKUP(Tabla48[[#This Row],[No]],TablaLicencias,5,0),\"\")","v":""},{"$f":"IFERROR(VLOOKUP(Tabla48[[#This Row],[No]],TablaLicencias,6,0),\"\")","v":""}]
[null,null,null,363,{"$f":"IFERROR(VLOOKUP(Tabla48[[#This Row],[No]],TablaLicencias,2,0),\"\")","v":""},{"$f":"IFERROR(VLOOKUP(Tabla48[[#This Row],[No]],TablaLicencias,3,0),\"\")","v":""},{"$f":"IFERROR(VLOOKUP(Tabla48[[#This Row],[No]],TablaLicencias,4,0),\"\")","v":""},{"$f":"IFERROR(VLOOKUP(Tabla48[[#This Row],[No]],TablaLicencias,5,0),\"\")","v":""},{"$f":"IFERROR(VLOOKUP(Tabla48[[#This Row],[No]],TablaLicencias,6,0),\"\")","v":""}]
[null,null,null,364,{"$f":"IFERROR(VLOOKUP(Tabla48[[#This Row],[No]],TablaLicencias,2,0),\"\")","v":""},{"$f":"IFERROR(VLOOKUP(Tabla48[[#This Row],[No]],TablaLicencias,3,0),\"\")","v":""},{"$f":"IFERROR(VLOOKUP(Tabla48[[#This Row],[No]],TablaLicencias,4,0),\"\")","v":""},{"$f":"IFERROR(VLOOKUP(Tabla48[[#This Row],[No]],TablaLicencias,5,0),\"\")","v":""},{"$f":"IFERROR(VLOOKUP(Tabla48[[#This Row],[No]],TablaLicencias,6,0),\"\")","v":""}]
[null,null,null,365,{"$f":"IFERROR(VLOOKUP(Tabla48[[#This Row],[No]],TablaLicencias,2,0),\"\")","v":""},{"$f":"IFERROR(VLOOKUP(Tabla48[[#This Row],[No]],TablaLicencias,3,0),\"\")","v":""},{"$f":"IFERROR(VLOOKUP(Tabla48[[#This Row],[No]],TablaLicencias,4,0),\"\")","v":""},{"$f":"IFERROR(VLOOKUP(Tabla48[[#This Row],[No]],TablaLicencias,5,0),\"\")","v":""},{"$f":"IFERROR(VLOOKUP(Tabla48[[#This Row],[No]],TablaLicencias,6,0),\"\")","v":""}]
[null,null,null,366,{"$f":"IFERROR(VLOOKUP(Tabla48[[#This Row],[No]],TablaLicencias,2,0),\"\")","v":""},{"$f":"IFERROR(VLOOKUP(Tabla48[[#This Row],[No]],TablaLicencias,3,0),\"\")","v":""},{"$f":"IFERROR(VLOOKUP(Tabla48[[#This Row],[No]],TablaLicencias,4,0),\"\")","v":""},{"$f":"IFERROR(VLOOKUP(Tabla48[[#This Row],[No]],TablaLicencias,5,0),\"\")","v":""},{"$f":"IFERROR(VLOOKUP(Tabla48[[#This Row],[No]],TablaLicencias,6,0),\"\")","v":""}]
[null,null,null,367,{"$f":"IFERROR(VLOOKUP(Tabla48[[#This Row],[No]],TablaLicencias,2,0),\"\")","v":""},{"$f":"IFERROR(VLOOKUP(Tabla48[[#This Row],[No]],TablaLicencias,3,0),\"\")","v":""},{"$f":"IFERROR(VLOOKUP(Tabla48[[#This Row],[No]],TablaLicencias,4,0),\"\")","v":""},{"$f":"IFERROR(VLOOKUP(Tabla48[[#This Row],[No]],TablaLicencias,5,0),\"\")","v":""},{"$f":"IFERROR(VLOOKUP(Tabla48[[#This Row],[No]],TablaLicencias,6,0),\"\")","v":""}]
[null,null,null,368,{"$f":"IFERROR(VLOOKUP(Tabla48[[#This Row],[No]],TablaLicencias,2,0),\"\")","v":""},{"$f":"IFERROR(VLOOKUP(Tabla48[[#This Row],[No]],TablaLicencias,3,0),\"\")","v":""},{"$f":"IFERROR(VLOOKUP(Tabla48[[#This Row],[No]],TablaLicencias,4,0),\"\")","v":""},{"$f":"IFERROR(VLOOKUP(Tabla48[[#This Row],[No]],TablaLicencias,5,0),\"\")","v":""},{"$f":"IFERROR(VLOOKUP(Tabla48[[#This Row],[No]],TablaLicencias,6,0),\"\")","v":""}]
[null,null,null,369,{"$f":"IFERROR(VLOOKUP(Tabla48[[#This Row],[No]],TablaLicencias,2,0),\"\")","v":""},{"$f":"IFERROR(VLOOKUP(Tabla48[[#This Row],[No]],TablaLicencias,3,0),\"\")","v":""},{"$f":"IFERROR(VLOOKUP(Tabla48[[#This Row],[No]],TablaLicencias,4,0),\"\")","v":""},{"$f":"IFERROR(VLOOKUP(Tabla48[[#This Row],[No]],TablaLicencias,5,0),\"\")","v":""},{"$f":"IFERROR(VLOOKUP(Tabla48[[#This Row],[No]],TablaLicencias,6,0),\"\")","v":""}]
[null,null,null,370,{"$f":"IFERROR(VLOOKUP(Tabla48[[#This Row],[No]],TablaLicencias,2,0),\"\")","v":""},{"$f":"IFERROR(VLOOKUP(Tabla48[[#This Row],[No]],TablaLicencias,3,0),\"\")","v":""},{"$f":"IFERROR(VLOOKUP(Tabla48[[#This Row],[No]],TablaLicencias,4,0),\"\")","v":""},{"$f":"IFERROR(VLOOKUP(Tabla48[[#This Row],[No]],TablaLicencias,5,0),\"\")","v":""},{"$f":"IFERROR(VLOOKUP(Tabla48[[#This Row],[No]],TablaLicencias,6,0),\"\")","v":""}]
[null,null,null,371,{"$f":"IFERROR(VLOOKUP(Tabla48[[#This Row],[No]],TablaLicencias,2,0),\"\")","v":""},{"$f":"IFERROR(VLOOKUP(Tabla48[[#This Row],[No]],TablaLicencias,3,0),\"\")","v":""},{"$f":"IFERROR(VLOOKUP(Tabla48[[#This Row],[No]],TablaLicencias,4,0),\"\")","v":""},{"$f":"IFERROR(VLOOKUP(Tabla48[[#This Row],[No]],TablaLicencias,5,0),\"\")","v":""},{"$f":"IFERROR(VLOOKUP(Tabla48[[#This Row],[No]],TablaLicencias,6,0),\"\")","v":""}]
[null,null,null,372,{"$f":"IFERROR(VLOOKUP(Tabla48[[#This Row],[No]],TablaLicencias,2,0),\"\")","v":""},{"$f":"IFERROR(VLOOKUP(Tabla48[[#This Row],[No]],TablaLicencias,3,0),\"\")","v":""},{"$f":"IFERROR(VLOOKUP(Tabla48[[#This Row],[No]],TablaLicencias,4,0),\"\")","v":""},{"$f":"IFERROR(VLOOKUP(Tabla48[[#This Row],[No]],TablaLicencias,5,0),\"\")","v":""},{"$f":"IFERROR(VLOOKUP(Tabla48[[#This Row],[No]],TablaLicencias,6,0),\"\")","v":""}]
[null,null,null,373,{"$f":"IFERROR(VLOOKUP(Tabla48[[#This Row],[No]],TablaLicencias,2,0),\"\")","v":""},{"$f":"IFERROR(VLOOKUP(Tabla48[[#This Row],[No]],TablaLicencias,3,0),\"\")","v":""},{"$f":"IFERROR(VLOOKUP(Tabla48[[#This Row],[No]],TablaLicencias,4,0),\"\")","v":""},{"$f":"IFERROR(VLOOKUP(Tabla48[[#This Row],[No]],TablaLicencias,5,0),\"\")","v":""},{"$f":"IFERROR(VLOOKUP(Tabla48[[#This Row],[No]],TablaLicencias,6,0),\"\")","v":""}]
[null,null,null,374,{"$f":"IFERROR(VLOOKUP(Tabla48[[#This Row],[No]],TablaLicencias,2,0),\"\")","v":""},{"$f":"IFERROR(VLOOKUP(Tabla48[[#This Row],[No]],TablaLicencias,3,0),\"\")","v":""},{"$f":"IFERROR(VLOOKUP(Tabla48[[#This Row],[No]],TablaLicencias,4,0),\"\")","v":""},{"$f":"IFERROR(VLOOKUP(Tabla48[[#This Row],[No]],TablaLicencias,5,0),\"\")","v":""},{"$f":"IFERROR(VLOOKUP(Tabla48[[#This Row],[No]],TablaLicencias,6,0),\"\")","v":""}]
[null,null,null,375,{"$f":"IFERROR(VLOOKUP(Tabla48[[#This Row],[No]],TablaLicencias,2,0),\"\")","v":""},{"$f":"IFERROR(VLOOKUP(Tabla48[[#This Row],[No]],TablaLicencias,3,0),\"\")","v":""},{"$f":"IFERROR(VLOOKUP(Tabla48[[#This Row],[No]],TablaLicencias,4,0),\"\")","v":""},{"$f":"IFERROR(VLOOKUP(Tabla48[[#This Row],[No]],TablaLicencias,5,0),\"\")","v":""},{"$f":"IFERROR(VLOOKUP(Tabla48[[#This Row],[No]],TablaLicencias,6,0),\"\")","v":""}]
[null,null,null,376,{"$f":"IFERROR(VLOOKUP(Tabla48[[#This Row],[No]],TablaLicencias,2,0),\"\")","v":""},{"$f":"IFERROR(VLOOKUP(Tabla48[[#This Row],[No]],TablaLicencias,3,0),\"\")","v":""},{"$f":"IFERROR(VLOOKUP(Tabla48[[#This Row],[No]],TablaLicencias,4,0),\"\")","v":""},{"$f":"IFERROR(VLOOKUP(Tabla48[[#This Row],[No]],TablaLicencias,5,0),\"\")","v":""},{"$f":"IFERROR(VLOOKUP(Tabla48[[#This Row],[No]],TablaLicencias,6,0),\"\")","v":""}]
[null,null,null,377,{"$f":"IFERROR(VLOOKUP(Tabla48[[#This Row],[No]],TablaLicencias,2,0),\"\")","v":""},{"$f":"IFERROR(VLOOKUP(Tabla48[[#This Row],[No]],TablaLicencias,3,0),\"\")","v":""},{"$f":"IFERROR(VLOOKUP(Tabla48[[#This Row],[No]],TablaLicencias,4,0),\"\")","v":""},{"$f":"IFERROR(VLOOKUP(Tabla48[[#This Row],[No]],TablaLicencias,5,0),\"\")","v":""},{"$f":"IFERROR(VLOOKUP(Tabla48[[#This Row],[No]],TablaLicencias,6,0),\"\")","v":""}]
[null,null,null,378,{"$f":"IFERROR(VLOOKUP(Tabla48[[#This Row],[No]],TablaLicencias,2,0),\"\")","v":""},{"$f":"IFERROR(VLOOKUP(Tabla48[[#This Row],[No]],TablaLicencias,3,0),\"\")","v":""},{"$f":"IFERROR(VLOOKUP(Tabla48[[#This Row],[No]],TablaLicencias,4,0),\"\")","v":""},{"$f":"IFERROR(VLOOKUP(Tabla48[[#This Row],[No]],TablaLicencias,5,0),\"\")","v":""},{"$f":"IFERROR(VLOOKUP(Tabla48[[#This Row],[No]],TablaLicencias,6,0),\"\")","v":""}]
[null,null,null,379,{"$f":"IFERROR(VLOOKUP(Tabla48[[#This Row],[No]],TablaLicencias,2,0),\"\")","v":""},{"$f":"IFERROR(VLOOKUP(Tabla48[[#This Row],[No]],TablaLicencias,3,0),\"\")","v":""},{"$f":"IFERROR(VLOOKUP(Tabla48[[#This Row],[No]],TablaLicencias,4,0),\"\")","v":""},{"$f":"IFERROR(VLOOKUP(Tabla48[[#This Row],[No]],TablaLicencias,5,0),\"\")","v":""},{"$f":"IFERROR(VLOOKUP(Tabla48[[#This Row],[No]],TablaLicencias,6,0),\"\")","v":""}]
[null,null,null,380,{"$f":"IFERROR(VLOOKUP(Tabla48[[#This Row],[No]],TablaLicencias,2,0),\"\")","v":""},{"$f":"IFERROR(VLOOKUP(Tabla48[[#This Row],[No]],TablaLicencias,3,0),\"\")","v":""},{"$f":"IFERROR(VLOOKUP(Tabla48[[#This Row],[No]],TablaLicencias,4,0),\"\")","v":""},{"$f":"IFERROR(VLOOKUP(Tabla48[[#This Row],[No]],TablaLicencias,5,0),\"\")","v":""},{"$f":"IFERROR(VLOOKUP(Tabla48[[#This Row],[No]],TablaLicencias,6,0),\"\")","v":""}]
[null,null,null,381,{"$f":"IFERROR(VLOOKUP(Tabla48[[#This Row],[No]],TablaLicencias,2,0),\"\")","v":""},{"$f":"IFERROR(VLOOKUP(Tabla48[[#This Row],[No]],TablaLicencias,3,0),\"\")","v":""},{"$f":"IFERROR(VLOOKUP(Tabla48[[#This Row],[No]],TablaLicencias,4,0),\"\")","v":""},{"$f":"IFERROR(VLOOKUP(Tabla48[[#This Row],[No]],TablaLicencias,5,0),\"\")","v":""},{"$f":"IFERROR(VLOOKUP(Tabla48[[#This Row],[No]],TablaLicencias,6,0),\"\")","v":""}]
[null,null,null,382,{"$f":"IFERROR(VLOOKUP(Tabla48[[#This Row],[No]],TablaLicencias,2,0),\"\")","v":""},{"$f":"IFERROR(VLOOKUP(Tabla48[[#This Row],[No]],TablaLicencias,3,0),\"\")","v":""},{"$f":"IFERROR(VLOOKUP(Tabla48[[#This Row],[No]],TablaLicencias,4,0),\"\")","v":""},{"$f":"IFERROR(VLOOKUP(Tabla48[[#This Row],[No]],TablaLicencias,5,0),\"\")","v":""},{"$f":"IFERROR(VLOOKUP(Tabla48[[#This Row],[No]],TablaLicencias,6,0),\"\")","v":""}]
[null,null,null,383,{"$f":"IFERROR(VLOOKUP(Tabla48[[#This Row],[No]],TablaLicencias,2,0),\"\")","v":""},{"$f":"IFERROR(VLOOKUP(Tabla48[[#This Row],[No]],TablaLicencias,3,0),\"\")","v":""},{"$f":"IFERROR(VLOOKUP(Tabla48[[#This Row],[No]],TablaLicencias,4,0),\"\")","v":""},{"$f":"IFERROR(VLOOKUP(Tabla48[[#This Row],[No]],TablaLicencias,5,0),\"\")","v":""},{"$f":"IFERROR(VLOOKUP(Tabla48[[#This Row],[No]],TablaLicencias,6,0),\"\")","v":""}]
[null,null,null,384,{"$f":"IFERROR(VLOOKUP(Tabla48[[#This Row],[No]],TablaLicencias,2,0),\"\")","v":""},{"$f":"IFERROR(VLOOKUP(Tabla48[[#This Row],[No]],TablaLicencias,3,0),\"\")","v":""},{"$f":"IFERROR(VLOOKUP(Tabla48[[#This Row],[No]],TablaLicencias,4,0),\"\")","v":""},{"$f":"IFERROR(VLOOKUP(Tabla48[[#This Row],[No]],TablaLicencias,5,0),\"\")","v":""},{"$f":"IFERROR(VLOOKUP(Tabla48[[#This Row],[No]],TablaLicencias,6,0),\"\")","v":""}]
[null,null,null,385,{"$f":"IFERROR(VLOOKUP(Tabla48[[#This Row],[No]],TablaLicencias,2,0),\"\")","v":""},{"$f":"IFERROR(VLOOKUP(Tabla48[[#This Row],[No]],TablaLicencias,3,0),\"\")","v":""},{"$f":"IFERROR(VLOOKUP(Tabla48[[#This Row],[No]],TablaLicencias,4,0),\"\")","v":""},{"$f":"IFERROR(VLOOKUP(Tabla48[[#This Row],[No]],TablaLicencias,5,0),\"\")","v":""},{"$f":"IFERROR(VLOOKUP(Tabla48[[#This Row],[No]],TablaLicencias,6,0),\"\")","v":""}]
[null,null,null,386,{"$f":"IFERROR(VLOOKUP(Tabla48[[#This Row],[No]],TablaLicencias,2,0),\"\")","v":""},{"$f":"IFERROR(VLOOKUP(Tabla48[[#This Row],[No]],TablaLicencias,3,0),\"\")","v":""},{"$f":"IFERROR(VLOOKUP(Tabla48[[#This Row],[No]],TablaLicencias,4,0),\"\")","v":""},{"$f":"IFERROR(VLOOKUP(Tabla48[[#This Row],[No]],TablaLicencias,5,0),\"\")","v":""},{"$f":"IFERROR(VLOOKUP(Tabla48[[#This Row],[No]],TablaLicencias,6,0),\"\")","v":""}]
[null,null,null,387,{"$f":"IFERROR(VLOOKUP(Tabla48[[#This Row],[No]],TablaLicencias,2,0),\"\")","v":""},{"$f":"IFERROR(VLOOKUP(Tabla48[[#This Row],[No]],TablaLicencias,3,0),\"\")","v":""},{"$f":"IFERROR(VLOOKUP(Tabla48[[#This Row],[No]],TablaLicencias,4,0),\"\")","v":""},{"$f":"IFERROR(VLOOKUP(Tabla48[[#This Row],[No]],TablaLicencias,5,0),\"\")","v":""},{"$f":"IFERROR(VLOOKUP(Tabla48[[#This Row],[No]],TablaLicencias,6,0),\"\")","v":""}]
[null,null,null,388,{"$f":"IFERROR(VLOOKUP(Tabla48[[#This Row],[No]],TablaLicencias,2,0),\"\")","v":""},{"$f":"IFERROR(VLOOKUP(Tabla48[[#This Row],[No]],TablaLicencias,3,0),\"\")","v":""},{"$f":"IFERROR(VLOOKUP(Tabla48[[#This Row],[No]],TablaLicencias,4,0),\"\")","v":""},{"$f":"IFERROR(VLOOKUP(Tabla48[[#This Row],[No]],TablaLicencias,5,0),\"\")","v":""},{"$f":"IFERROR(VLOOKUP(Tabla48[[#This Row],[No]],TablaLicencias,6,0),\"\")","v":""}]
[null,null,null,389,{"$f":"IFERROR(VLOOKUP(Tabla48[[#This Row],[No]],TablaLicencias,2,0),\"\")","v":""},{"$f":"IFERROR(VLOOKUP(Tabla48[[#This Row],[No]],TablaLicencias,3,0),\"\")","v":""},{"$f":"IFERROR(VLOOKUP(Tabla48[[#This Row],[No]],TablaLicencias,4,0),\"\")","v":""},{"$f":"IFERROR(VLOOKUP(Tabla48[[#This Row],[No]],TablaLicencias,5,0),\"\")","v":""},{"$f":"IFERROR(VLOOKUP(Tabla48[[#This Row],[No]],TablaLicencias,6,0),\"\")","v":""}]
[null,null,null,390,{"$f":"IFERROR(VLOOKUP(Tabla48[[#This Row],[No]],TablaLicencias,2,0),\"\")","v":""},{"$f":"IFERROR(VLOOKUP(Tabla48[[#This Row],[No]],TablaLicencias,3,0),\"\")","v":""},{"$f":"IFERROR(VLOOKUP(Tabla48[[#This Row],[No]],TablaLicencias,4,0),\"\")","v":""},{"$f":"IFERROR(VLOOKUP(Tabla48[[#This Row],[No]],TablaLicencias,5,0),\"\")","v":""},{"$f":"IFERROR(VLOOKUP(Tabla48[[#This Row],[No]],TablaLicencias,6,0),\"\")","v":""}]
[null,null,null,391,{"$f":"IFERROR(VLOOKUP(Tabla48[[#This Row],[No]],TablaLicencias,2,0),\"\")","v":""},{"$f":"IFERROR(VLOOKUP(Tabla48[[#This Row],[No]],TablaLicencias,3,0),\"\")","v":""},{"$f":"IFERROR(VLOOKUP(Tabla48[[#This Row],[No]],TablaLicencias,4,0),\"\")","v":""},{"$f":"IFERROR(VLOOKUP(Tabla48[[#This Row],[No]],TablaLicencias,5,0),\"\")","v":""},{"$f":"IFERROR(VLOOKUP(Tabla48[[#This Row],[No]],TablaLicencias,6,0),\"\")","v":""}]
[null,null,null,392,{"$f":"IFERROR(VLOOKUP(Tabla48[[#This Row],[No]],TablaLicencias,2,0),\"\")","v":""},{"$f":"IFERROR(VLOOKUP(Tabla48[[#This Row],[No]],TablaLicencias,3,0),\"\")","v":""},{"$f":"IFERROR(VLOOKUP(Tabla48[[#This Row],[No]],TablaLicencias,4,0),\"\")","v":""},{"$f":"IFERROR(VLOOKUP(Tabla48[[#This Row],[No]],TablaLicencias,5,0),\"\")","v":""},{"$f":"IFERROR(VLOOKUP(Tabla48[[#This Row],[No]],TablaLicencias,6,0),\"\")","v":""}]
[null,null,null,393,{"$f":"IFERROR(VLOOKUP(Tabla48[[#This Row],[No]],TablaLicencias,2,0),\"\")","v":""},{"$f":"IFERROR(VLOOKUP(Tabla48[[#This Row],[No]],TablaLicencias,3,0),\"\")","v":""},{"$f":"IFERROR(VLOOKUP(Tabla48[[#This Row],[No]],TablaLicencias,4,0),\"\")","v":""},{"$f":"IFERROR(VLOOKUP(Tabla48[[#This Row],[No]],TablaLicencias,5,0),\"\")","v":""},{"$f":"IFERROR(VLOOKUP(Tabla48[[#This Row],[No]],TablaLicencias,6,0),\"\")","v":""}]
[null,null,null,394,{"$f":"IFERROR(VLOOKUP(Tabla48[[#This Row],[No]],TablaLicencias,2,0),\"\")","v":""},{"$f":"IFERROR(VLOOKUP(Tabla48[[#This Row],[No]],TablaLicencias,3,0),\"\")","v":""},{"$f":"IFERROR(VLOOKUP(Tabla48[[#This Row],[No]],TablaLicencias,4,0),\"\")","v":""},{"$f":"IFERROR(VLOOKUP(Tabla48[[#This Row],[No]],TablaLicencias,5,0),\"\")","v":""},{"$f":"IFERROR(VLOOKUP(Tabla48[[#This Row],[No]],TablaLicencias,6,0),\"\")","v":""}]
[null,null,null,395,{"$f":"IFERROR(VLOOKUP(Tabla48[[#This Row],[No]],TablaLicencias,2,0),\"\")","v":""},{"$f":"IFERROR(VLOOKUP(Tabla48[[#This Row],[No]],TablaLicencias,3,0),\"\")","v":""},{"$f":"IFERROR(VLOOKUP(Tabla48[[#This Row],[No]],TablaLicencias,4,0),\"\")","v":""},{"$f":"IFERROR(VLOOKUP(Tabla48[[#This Row],[No]],TablaLicencias,5,0),\"\")","v":""},{"$f":"IFERROR(VLOOKUP(Tabla48[[#This Row],[No]],TablaLicencias,6,0),\"\")","v":""}]
[null,null,null,396,{"$f":"IFERROR(VLOOKUP(Tabla48[[#This Row],[No]],TablaLicencias,2,0),\"\")","v":""},{"$f":"IFERROR(VLOOKUP(Tabla48[[#This Row],[No]],TablaLicencias,3,0),\"\")","v":""},{"$f":"IFERROR(VLOOKUP(Tabla48[[#This Row],[No]],TablaLicencias,4,0),\"\")","v":""},{"$f":"IFERROR(VLOOKUP(Tabla48[[#This Row],[No]],TablaLicencias,5,0),\"\")","v":""},{"$f":"IFERROR(VLOOKUP(Tabla48[[#This Row],[No]],TablaLicencias,6,0),\"\")","v":""}]
[null,null,null,397,{"$f":"IFERROR(VLOOKUP(Tabla48[[#This Row],[No]],TablaLicencias,2,0),\"\")","v":""},{"$f":"IFERROR(VLOOKUP(Tabla48[[#This Row],[No]],TablaLicencias,3,0),\"\")","v":""},{"$f":"IFERROR(VLOOKUP(Tabla48[[#This Row],[No]],TablaLicencias,4,0),\"\")","v":""},{"$f":"IFERROR(VLOOKUP(Tabla48[[#This Row],[No]],TablaLicencias,5,0),\"\")","v":""},{"$f":"IFERROR(VLOOKUP(Tabla48[[#This Row],[No]],TablaLicencias,6,0),\"\")","v":""}]
[null,null,null,398,{"$f":"IFERROR(VLOOKUP(Tabla48[[#This Row],[No]],TablaLicencias,2,0),\"\")","v":""},{"$f":"IFERROR(VLOOKUP(Tabla48[[#This Row],[No]],TablaLicencias,3,0),\"\")","v":""},{"$f":"IFERROR(VLOOKUP(Tabla48[[#This Row],[No]],TablaLicencias,4,0),\"\")","v":""},{"$f":"IFERROR(VLOOKUP(Tabla48[[#This Row],[No]],TablaLicencias,5,0),\"\")","v":""},{"$f":"IFERROR(VLOOKUP(Tabla48[[#This Row],[No]],TablaLicencias,6,0),\"\")","v":""}]
[null,null,null,399,{"$f":"IFERROR(VLOOKUP(Tabla48[[#This Row],[No]],TablaLicencias,2,0),\"\")","v":""},{"$f":"IFERROR(VLOOKUP(Tabla48[[#This Row],[No]],TablaLicencias,3,0),\"\")","v":""},{"$f":"IFERROR(VLOOKUP(Tabla48[[#This Row],[No]],TablaLicencias,4,0),\"\")","v":""},{"$f":"IFERROR(VLOOKUP(Tabla48[[#This Row],[No]],TablaLicencias,5,0),\"\")","v":""},{"$f":"IFERROR(VLOOKUP(Tabla48[[#This Row],[No]],TablaLicencias,6,0),\"\")","v":""}]
[null,null,null,400,{"$f":"IFERROR(VLOOKUP(Tabla48[[#This Row],[No]],TablaLicencias,2,0),\"\")","v":""},{"$f":"IFERROR(VLOOKUP(Tabla48[[#This Row],[No]],TablaLicencias,3,0),\"\")","v":""},{"$f":"IFERROR(VLOOKUP(Tabla48[[#This Row],[No]],TablaLicencias,4,0),\"\")","v":""},{"$f":"IFERROR(VLOOKUP(Tabla48[[#This Row],[No]],TablaLicencias,5,0),\"\")","v":""},{"$f":"IFERROR(VLOOKUP(Tabla48[[#This Row],[No]],TablaLicencias,6,0),\"\")","v":""}]
[null,null,null,401,{"$f":"IFERROR(VLOOKUP(Tabla48[[#This Row],[No]],TablaLicencias,2,0),\"\")","v":""},{"$f":"IFERROR(VLOOKUP(Tabla48[[#This Row],[No]],TablaLicencias,3,0),\"\")","v":""},{"$f":"IFERROR(VLOOKUP(Tabla48[[#This Row],[No]],TablaLicencias,4,0),\"\")","v":""},{"$f":"IFERROR(VLOOKUP(Tabla48[[#This Row],[No]],TablaLicencias,5,0),\"\")","v":""},{"$f":"IFERROR(VLOOKUP(Tabla48[[#This Row],[No]],TablaLicencias,6,0),\"\")","v":""}]
[null,null,null,402,{"$f":"IFERROR(VLOOKUP(Tabla48[[#This Row],[No]],TablaLicencias,2,0),\"\")","v":""},{"$f":"IFERROR(VLOOKUP(Tabla48[[#This Row],[No]],TablaLicencias,3,0),\"\")","v":""},{"$f":"IFERROR(VLOOKUP(Tabla48[[#This Row],[No]],TablaLicencias,4,0),\"\")","v":""},{"$f":"IFERROR(VLOOKUP(Tabla48[[#This Row],[No]],TablaLicencias,5,0),\"\")","v":""},{"$f":"IFERROR(VLOOKUP(Tabla48[[#This Row],[No]],TablaLicencias,6,0),\"\")","v":""}]
[null,null,null,403,{"$f":"IFERROR(VLOOKUP(Tabla48[[#This Row],[No]],TablaLicencias,2,0),\"\")","v":""},{"$f":"IFERROR(VLOOKUP(Tabla48[[#This Row],[No]],TablaLicencias,3,0),\"\")","v":""},{"$f":"IFERROR(VLOOKUP(Tabla48[[#This Row],[No]],TablaLicencias,4,0),\"\")","v":""},{"$f":"IFERROR(VLOOKUP(Tabla48[[#This Row],[No]],TablaLicencias,5,0),\"\")","v":""},{"$f":"IFERROR(VLOOKUP(Tabla48[[#This Row],[No]],TablaLicencias,6,0),\"\")","v":""}]
[null,null,null,404,{"$f":"IFERROR(VLOOKUP(Tabla48[[#This Row],[No]],TablaLicencias,2,0),\"\")","v":""},{"$f":"IFERROR(VLOOKUP(Tabla48[[#This Row],[No]],TablaLicencias,3,0),\"\")","v":""},{"$f":"IFERROR(VLOOKUP(Tabla48[[#This Row],[No]],TablaLicencias,4,0),\"\")","v":""},{"$f":"IFERROR(VLOOKUP(Tabla48[[#This Row],[No]],TablaLicencias,5,0),\"\")","v":""},{"$f":"IFERROR(VLOOKUP(Tabla48[[#This Row],[No]],TablaLicencias,6,0),\"\")","v":""}]
[null,null,null,405,{"$f":"IFERROR(VLOOKUP(Tabla48[[#This Row],[No]],TablaLicencias,2,0),\"\")","v":""},{"$f":"IFERROR(VLOOKUP(Tabla48[[#This Row],[No]],TablaLicencias,3,0),\"\")","v":""},{"$f":"IFERROR(VLOOKUP(Tabla48[[#This Row],[No]],TablaLicencias,4,0),\"\")","v":""},{"$f":"IFERROR(VLOOKUP(Tabla48[[#This Row],[No]],TablaLicencias,5,0),\"\")","v":""},{"$f":"IFERROR(VLOOKUP(Tabla48[[#This Row],[No]],TablaLicencias,6,0),\"\")","v":""}]
[null,null,null,406,{"$f":"IFERROR(VLOOKUP(Tabla48[[#This Row],[No]],TablaLicencias,2,0),\"\")","v":""},{"$f":"IFERROR(VLOOKUP(Tabla48[[#This Row],[No]],TablaLicencias,3,0),\"\")","v":""},{"$f":"IFERROR(VLOOKUP(Tabla48[[#This Row],[No]],TablaLicencias,4,0),\"\")","v":""},{"$f":"IFERROR(VLOOKUP(Tabla48[[#This Row],[No]],TablaLicencias,5,0),\"\")","v":""},{"$f":"IFERROR(VLOOKUP(Tabla48[[#This Row],[No]],TablaLicencias,6,0),\"\")","v":""}]
[null,null,null,407,{"$f":"IFERROR(VLOOKUP(Tabla48[[#This Row],[No]],TablaLicencias,2,0),\"\")","v":""},{"$f":"IFERROR(VLOOKUP(Tabla48[[#This Row],[No]],TablaLicencias,3,0),\"\")","v":""},{"$f":"IFERROR(VLOOKUP(Tabla48[[#This Row],[No]],TablaLicencias,4,0),\"\")","v":""},{"$f":"IFERROR(VLOOKUP(Tabla48[[#This Row],[No]],TablaLicencias,5,0),\"\")","v":""},{"$f":"IFERROR(VLOOKUP(Tabla48[[#This Row],[No]],TablaLicencias,6,0),\"\")","v":""}]
[null,null,null,408,{"$f":"IFERROR(VLOOKUP(Tabla48[[#This Row],[No]],TablaLicencias,2,0),\"\")","v":""},{"$f":"IFERROR(VLOOKUP(Tabla48[[#This Row],[No]],TablaLicencias,3,0),\"\")","v":""},{"$f":"IFERROR(VLOOKUP(Tabla48[[#This Row],[No]],TablaLicencias,4,0),\"\")","v":""},{"$f":"IFERROR(VLOOKUP(Tabla48[[#This Row],[No]],TablaLicencias,5,0),\"\")","v":""},{"$f":"IFERROR(VLOOKUP(Tabla48[[#This Row],[No]],TablaLicencias,6,0),\"\")","v":""}]
[null,null,null,409,{"$f":"IFERROR(VLOOKUP(Tabla48[[#This Row],[No]],TablaLicencias,2,0),\"\")","v":""},{"$f":"IFERROR(VLOOKUP(Tabla48[[#This Row],[No]],TablaLicencias,3,0),\"\")","v":""},{"$f":"IFERROR(VLOOKUP(Tabla48[[#This Row],[No]],TablaLicencias,4,0),\"\")","v":""},{"$f":"IFERROR(VLOOKUP(Tabla48[[#This Row],[No]],TablaLicencias,5,0),\"\")","v":""},{"$f":"IFERROR(VLOOKUP(Tabla48[[#This Row],[No]],TablaLicencias,6,0),\"\")","v":""}]
[null,null,null,410,{"$f":"IFERROR(VLOOKUP(Tabla48[[#This Row],[No]],TablaLicencias,2,0),\"\")","v":""},{"$f":"IFERROR(VLOOKUP(Tabla48[[#This Row],[No]],TablaLicencias,3,0),\"\")","v":""},{"$f":"IFERROR(VLOOKUP(Tabla48[[#This Row],[No]],TablaLicencias,4,0),\"\")","v":""},{"$f":"IFERROR(VLOOKUP(Tabla48[[#This Row],[No]],TablaLicencias,5,0),\"\")","v":""},{"$f":"IFERROR(VLOOKUP(Tabla48[[#This Row],[No]],TablaLicencias,6,0),\"\")","v":""}]
[null,null,null,411,{"$f":"IFERROR(VLOOKUP(Tabla48[[#This Row],[No]],TablaLicencias,2,0),\"\")","v":""},{"$f":"IFERROR(VLOOKUP(Tabla48[[#This Row],[No]],TablaLicencias,3,0),\"\")","v":""},{"$f":"IFERROR(VLOOKUP(Tabla48[[#This Row],[No]],TablaLicencias,4,0),\"\")","v":""},{"$f":"IFERROR(VLOOKUP(Tabla48[[#This Row],[No]],TablaLicencias,5,0),\"\")","v":""},{"$f":"IFERROR(VLOOKUP(Tabla48[[#This Row],[No]],TablaLicencias,6,0),\"\")","v":""}]
[null,null,null,412,{"$f":"IFERROR(VLOOKUP(Tabla48[[#This Row],[No]],TablaLicencias,2,0),\"\")","v":""},{"$f":"IFERROR(VLOOKUP(Tabla48[[#This Row],[No]],TablaLicencias,3,0),\"\")","v":""},{"$f":"IFERROR(VLOOKUP(Tabla48[[#This Row],[No]],TablaLicencias,4,0),\"\")","v":""},{"$f":"IFERROR(VLOOKUP(Tabla48[[#This Row],[No]],TablaLicencias,5,0),\"\")","v":""},{"$f":"IFERROR(VLOOKUP(Tabla48[[#This Row],[No]],TablaLicencias,6,0),\"\")","v":""}]
[null,null,null,413,{"$f":"IFERROR(VLOOKUP(Tabla48[[#This Row],[No]],TablaLicencias,2,0),\"\")","v":""},{"$f":"IFERROR(VLOOKUP(Tabla48[[#This Row],[No]],TablaLicencias,3,0),\"\")","v":""},{"$f":"IFERROR(VLOOKUP(Tabla48[[#This Row],[No]],TablaLicencias,4,0),\"\")","v":""},{"$f":"IFERROR(VLOOKUP(Tabla48[[#This Row],[No]],TablaLicencias,5,0),\"\")","v":""},{"$f":"IFERROR(VLOOKUP(Tabla48[[#This Row],[No]],TablaLicencias,6,0),\"\")","v":""}]
[null,null,null,414,{"$f":"IFERROR(VLOOKUP(Tabla48[[#This Row],[No]],TablaLicencias,2,0),\"\")","v":""},{"$f":"IFERROR(VLOOKUP(Tabla48[[#This Row],[No]],TablaLicencias,3,0),\"\")","v":""},{"$f":"IFERROR(VLOOKUP(Tabla48[[#This Row],[No]],TablaLicencias,4,0),\"\")","v":""},{"$f":"IFERROR(VLOOKUP(Tabla48[[#This Row],[No]],TablaLicencias,5,0),\"\")","v":""},{"$f":"IFERROR(VLOOKUP(Tabla48[[#This Row],[No]],TablaLicencias,6,0),\"\")","v":""}]
[null,null,null,415,{"$f":"IFERROR(VLOOKUP(Tabla48[[#This Row],[No]],TablaLicencias,2,0),\"\")","v":""},{"$f":"IFERROR(VLOOKUP(Tabla48[[#This Row],[No]],TablaLicencias,3,0),\"\")","v":""},{"$f":"IFERROR(VLOOKUP(Tabla48[[#This Row],[No]],TablaLicencias,4,0),\"\")","v":""},{"$f":"IFERROR(VLOOKUP(Tabla48[[#This Row],[No]],TablaLicencias,5,0),\"\")","v":""},{"$f":"IFERROR(VLOOKUP(Tabla48[[#This Row],[No]],TablaLicencias,6,0),\"\")","v":""}]
[null,null,null,416,{"$f":"IFERROR(VLOOKUP(Tabla48[[#This Row],[No]],TablaLicencias,2,0),\"\")","v":""},{"$f":"IFERROR(VLOOKUP(Tabla48[[#This Row],[No]],TablaLicencias,3,0),\"\")","v":""},{"$f":"IFERROR(VLOOKUP(Tabla48[[#This Row],[No]],TablaLicencias,4,0),\"\")","v":""},{"$f":"IFERROR(VLOOKUP(Tabla48[[#This Row],[No]],TablaLicencias,5,0),\"\")","v":""},{"$f":"IFERROR(VLOOKUP(Tabla48[[#This Row],[No]],TablaLicencias,6,0),\"\")","v":""}]
[null,null,null,417,{"$f":"IFERROR(VLOOKUP(Tabla48[[#This Row],[No]],TablaLicencias,2,0),\"\")","v":""},{"$f":"IFERROR(VLOOKUP(Tabla48[[#This Row],[No]],TablaLicencias,3,0),\"\")","v":""},{"$f":"IFERROR(VLOOKUP(Tabla48[[#This Row],[No]],TablaLicencias,4,0),\"\")","v":""},{"$f":"IFERROR(VLOOKUP(Tabla48[[#This Row],[No]],TablaLicencias,5,0),\"\")","v":""},{"$f":"IFERROR(VLOOKUP(Tabla48[[#This Row],[No]],TablaLicencias,6,0),\"\")","v":""}]
[null,null,null,418,{"$f":"IFERROR(VLOOKUP(Tabla48[[#This Row],[No]],TablaLicencias,2,0),\"\")","v":""},{"$f":"IFERROR(VLOOKUP(Tabla48[[#This Row],[No]],TablaLicencias,3,0),\"\")","v":""},{"$f":"IFERROR(VLOOKUP(Tabla48[[#This Row],[No]],TablaLicencias,4,0),\"\")","v":""},{"$f":"IFERROR(VLOOKUP(Tabla48[[#This Row],[No]],TablaLicencias,5,0),\"\")","v":""},{"$f":"IFERROR(VLOOKUP(Tabla48[[#This Row],[No]],TablaLicencias,6,0),\"\")","v":""}]
[null,null,null,419,{"$f":"IFERROR(VLOOKUP(Tabla48[[#This Row],[No]],TablaLicencias,2,0),\"\")","v":""},{"$f":"IFERROR(VLOOKUP(Tabla48[[#This Row],[No]],TablaLicencias,3,0),\"\")","v":""},{"$f":"IFERROR(VLOOKUP(Tabla48[[#This Row],[No]],TablaLicencias,4,0),\"\")","v":""},{"$f":"IFERROR(VLOOKUP(Tabla48[[#This Row],[No]],TablaLicencias,5,0),\"\")","v":""},{"$f":"IFERROR(VLOOKUP(Tabla48[[#This Row],[No]],TablaLicencias,6,0),\"\")","v":""}]
[null,null,null,420,{"$f":"IFERROR(VLOOKUP(Tabla48[[#This Row],[No]],TablaLicencias,2,0),\"\")","v":""},{"$f":"IFERROR(VLOOKUP(Tabla48[[#This Row],[No]],TablaLicencias,3,0),\"\")","v":""},{"$f":"IFERROR(VLOOKUP(Tabla48[[#This Row],[No]],TablaLicencias,4,0),\"\")","v":""},{"$f":"IFERROR(VLOOKUP(Tabla48[[#This Row],[No]],TablaLicencias,5,0),\"\")","v":""},{"$f":"IFERROR(VLOOKUP(Tabla48[[#This Row],[No]],TablaLicencias,6,0),\"\")","v":""}]
[null,null,null,421,{"$f":"IFERROR(VLOOKUP(Tabla48[[#This Row],[No]],TablaLicencias,2,0),\"\")","v":""},{"$f":"IFERROR(VLOOKUP(Tabla48[[#This Row],[No]],TablaLicencias,3,0),\"\")","v":""},{"$f":"IFERROR(VLOOKUP(Tabla48[[#This Row],[No]],TablaLicencias,4,0),\"\")","v":""},{"$f":"IFERROR(VLOOKUP(Tabla48[[#This Row],[No]],TablaLicencias,5,0),\"\")","v":""},{"$f":"IFERROR(VLOOKUP(Tabla48[[#This Row],[No]],TablaLicencias,6,0),\"\")","v":""}]
[null,null,null,422,{"$f":"IFERROR(VLOOKUP(Tabla48[[#This Row],[No]],TablaLicencias,2,0),\"\")","v":""},{"$f":"IFERROR(VLOOKUP(Tabla48[[#This Row],[No]],TablaLicencias,3,0),\"\")","v":""},{"$f":"IFERROR(VLOOKUP(Tabla48[[#This Row],[No]],TablaLicencias,4,0),\"\")","v":""},{"$f":"IFERROR(VLOOKUP(Tabla48[[#This Row],[No]],TablaLicencias,5,0),\"\")","v":""},{"$f":"IFERROR(VLOOKUP(Tabla48[[#This Row],[No]],TablaLicencias,6,0),\"\")","v":""}]
[null,null,null,423,{"$f":"IFERROR(VLOOKUP(Tabla48[[#This Row],[No]],TablaLicencias,2,0),\"\")","v":""},{"$f":"IFERROR(VLOOKUP(Tabla48[[#This Row],[No]],TablaLicencias,3,0),\"\")","v":""},{"$f":"IFERROR(VLOOKUP(Tabla48[[#This Row],[No]],TablaLicencias,4,0),\"\")","v":""},{"$f":"IFERROR(VLOOKUP(Tabla48[[#This Row],[No]],TablaLicencias,5,0),\"\")","v":""},{"$f":"IFERROR(VLOOKUP(Tabla48[[#This Row],[No]],TablaLicencias,6,0),\"\")","v":""}]
[null,null,null,424,{"$f":"IFERROR(VLOOKUP(Tabla48[[#This Row],[No]],TablaLicencias,2,0),\"\")","v":""},{"$f":"IFERROR(VLOOKUP(Tabla48[[#This Row],[No]],TablaLicencias,3,0),\"\")","v":""},{"$f":"IFERROR(VLOOKUP(Tabla48[[#This Row],[No]],TablaLicencias,4,0),\"\")","v":""},{"$f":"IFERROR(VLOOKUP(Tabla48[[#This Row],[No]],TablaLicencias,5,0),\"\")","v":""},{"$f":"IFERROR(VLOOKUP(Tabla48[[#This Row],[No]],TablaLicencias,6,0),\"\")","v":""}]
[null,null,null,425,{"$f":"IFERROR(VLOOKUP(Tabla48[[#This Row],[No]],TablaLicencias,2,0),\"\")","v":""},{"$f":"IFERROR(VLOOKUP(Tabla48[[#This Row],[No]],TablaLicencias,3,0),\"\")","v":""},{"$f":"IFERROR(VLOOKUP(Tabla48[[#This Row],[No]],TablaLicencias,4,0),\"\")","v":""},{"$f":"IFERROR(VLOOKUP(Tabla48[[#This Row],[No]],TablaLicencias,5,0),\"\")","v":""},{"$f":"IFERROR(VLOOKUP(Tabla48[[#This Row],[No]],TablaLicencias,6,0),\"\")","v":""}]
[null,null,null,426,{"$f":"IFERROR(VLOOKUP(Tabla48[[#This Row],[No]],TablaLicencias,2,0),\"\")","v":""},{"$f":"IFERROR(VLOOKUP(Tabla48[[#This Row],[No]],TablaLicencias,3,0),\"\")","v":""},{"$f":"IFERROR(VLOOKUP(Tabla48[[#This Row],[No]],TablaLicencias,4,0),\"\")","v":""},{"$f":"IFERROR(VLOOKUP(Tabla48[[#This Row],[No]],TablaLicencias,5,0),\"\")","v":""},{"$f":"IFERROR(VLOOKUP(Tabla48[[#This Row],[No]],TablaLicencias,6,0),\"\")","v":""}]
[null,null,null,427,{"$f":"IFERROR(VLOOKUP(Tabla48[[#This Row],[No]],TablaLicencias,2,0),\"\")","v":""},{"$f":"IFERROR(VLOOKUP(Tabla48[[#This Row],[No]],TablaLicencias,3,0),\"\")","v":""},{"$f":"IFERROR(VLOOKUP(Tabla48[[#This Row],[No]],TablaLicencias,4,0),\"\")","v":""},{"$f":"IFERROR(VLOOKUP(Tabla48[[#This Row],[No]],TablaLicencias,5,0),\"\")","v":""},{"$f":"IFERROR(VLOOKUP(Tabla48[[#This Row],[No]],TablaLicencias,6,0),\"\")","v":""}]
[null,null,null,428,{"$f":"IFERROR(VLOOKUP(Tabla48[[#This Row],[No]],TablaLicencias,2,0),\"\")","v":""},{"$f":"IFERROR(VLOOKUP(Tabla48[[#This Row],[No]],TablaLicencias,3,0),\"\")","v":""},{"$f":"IFERROR(VLOOKUP(Tabla48[[#This Row],[No]],TablaLicencias,4,0),\"\")","v":""},{"$f":"IFERROR(VLOOKUP(Tabla48[[#This Row],[No]],TablaLicencias,5,0),\"\")","v":""},{"$f":"IFERROR(VLOOKUP(Tabla48[[#This Row],[No]],TablaLicencias,6,0),\"\")","v":""}]
[null,null,null,429,{"$f":"IFERROR(VLOOKUP(Tabla48[[#This Row],[No]],TablaLicencias,2,0),\"\")","v":""},{"$f":"IFERROR(VLOOKUP(Tabla48[[#This Row],[No]],TablaLicencias,3,0),\"\")","v":""},{"$f":"IFERROR(VLOOKUP(Tabla48[[#This Row],[No]],TablaLicencias,4,0),\"\")","v":""},{"$f":"IFERROR(VLOOKUP(Tabla48[[#This Row],[No]],TablaLicencias,5,0),\"\")","v":""},{"$f":"IFERROR(VLOOKUP(Tabla48[[#This Row],[No]],TablaLicencias,6,0),\"\")","v":""}]
[null,null,null,430,{"$f":"IFERROR(VLOOKUP(Tabla48[[#This Row],[No]],TablaLicencias,2,0),\"\")","v":""},{"$f":"IFERROR(VLOOKUP(Tabla48[[#This Row],[No]],TablaLicencias,3,0),\"\")","v":""},{"$f":"IFERROR(VLOOKUP(Tabla48[[#This Row],[No]],TablaLicencias,4,0),\"\")","v":""},{"$f":"IFERROR(VLOOKUP(Tabla48[[#This Row],[No]],TablaLicencias,5,0),\"\")","v":""},{"$f":"IFERROR(VLOOKUP(Tabla48[[#This Row],[No]],TablaLicencias,6,0),\"\")","v":""}]
[null,null,null,431,{"$f":"IFERROR(VLOOKUP(Tabla48[[#This Row],[No]],TablaLicencias,2,0),\"\")","v":""},{"$f":"IFERROR(VLOOKUP(Tabla48[[#This Row],[No]],TablaLicencias,3,0),\"\")","v":""},{"$f":"IFERROR(VLOOKUP(Tabla48[[#This Row],[No]],TablaLicencias,4,0),\"\")","v":""},{"$f":"IFERROR(VLOOKUP(Tabla48[[#This Row],[No]],TablaLicencias,5,0),\"\")","v":""},{"$f":"IFERROR(VLOOKUP(Tabla48[[#This Row],[No]],TablaLicencias,6,0),\"\")","v":""}]
[null,null,null,432,{"$f":"IFERROR(VLOOKUP(Tabla48[[#This Row],[No]],TablaLicencias,2,0),\"\")","v":""},{"$f":"IFERROR(VLOOKUP(Tabla48[[#This Row],[No]],TablaLicencias,3,0),\"\")","v":""},{"$f":"IFERROR(VLOOKUP(Tabla48[[#This Row],[No]],TablaLicencias,4,0),\"\")","v":""},{"$f":"IFERROR(VLOOKUP(Tabla48[[#This Row],[No]],TablaLicencias,5,0),\"\")","v":""},{"$f":"IFERROR(VLOOKUP(Tabla48[[#This Row],[No]],TablaLicencias,6,0),\"\")","v":""}]
[null,null,null,433,{"$f":"IFERROR(VLOOKUP(Tabla48[[#This Row],[No]],TablaLicencias,2,0),\"\")","v":""},{"$f":"IFERROR(VLOOKUP(Tabla48[[#This Row],[No]],TablaLicencias,3,0),\"\")","v":""},{"$f":"IFERROR(VLOOKUP(Tabla48[[#This Row],[No]],TablaLicencias,4,0),\"\")","v":""},{"$f":"IFERROR(VLOOKUP(Tabla48[[#This Row],[No]],TablaLicencias,5,0),\"\")","v":""},{"$f":"IFERROR(VLOOKUP(Tabla48[[#This Row],[No]],TablaLicencias,6,0),\"\")","v":""}]
[null,null,null,434,{"$f":"IFERROR(VLOOKUP(Tabla48[[#This Row],[No]],TablaLicencias,2,0),\"\")","v":""},{"$f":"IFERROR(VLOOKUP(Tabla48[[#This Row],[No]],TablaLicencias,3,0),\"\")","v":""},{"$f":"IFERROR(VLOOKUP(Tabla48[[#This Row],[No]],TablaLicencias,4,0),\"\")","v":""},{"$f":"IFERROR(VLOOKUP(Tabla48[[#This Row],[No]],TablaLicencias,5,0),\"\")","v":""},{"$f":"IFERROR(VLOOKUP(Tabla48[[#This Row],[No]],TablaLicencias,6,0),\"\")","v":""}]
[null,null,null,435,{"$f":"IFERROR(VLOOKUP(Tabla48[[#This Row],[No]],TablaLicencias,2,0),\"\")","v":""},{"$f":"IFERROR(VLOOKUP(Tabla48[[#This Row],[No]],TablaLicencias,3,0),\"\")","v":""},{"$f":"IFERROR(VLOOKUP(Tabla48[[#This Row],[No]],TablaLicencias,4,0),\"\")","v":""},{"$f":"IFERROR(VLOOKUP(Tabla48[[#This Row],[No]],TablaLicencias,5,0),\"\")","v":""},{"$f":"IFERROR(VLOOKUP(Tabla48[[#This Row],[No]],TablaLicencias,6,0),\"\")","v":""}]
[null,null,null,436,{"$f":"IFERROR(VLOOKUP(Tabla48[[#This Row],[No]],TablaLicencias,2,0),\"\")","v":""},{"$f":"IFERROR(VLOOKUP(Tabla48[[#This Row],[No]],TablaLicencias,3,0),\"\")","v":""},{"$f":"IFERROR(VLOOKUP(Tabla48[[#This Row],[No]],TablaLicencias,4,0),\"\")","v":""},{"$f":"IFERROR(VLOOKUP(Tabla48[[#This Row],[No]],TablaLicencias,5,0),\"\")","v":""},{"$f":"IFERROR(VLOOKUP(Tabla48[[#This Row],[No]],TablaLicencias,6,0),\"\")","v":""}]
[null,null,null,437,{"$f":"IFERROR(VLOOKUP(Tabla48[[#This Row],[No]],TablaLicencias,2,0),\"\")","v":""},{"$f":"IFERROR(VLOOKUP(Tabla48[[#This Row],[No]],TablaLicencias,3,0),\"\")","v":""},{"$f":"IFERROR(VLOOKUP(Tabla48[[#This Row],[No]],TablaLicencias,4,0),\"\")","v":""},{"$f":"IFERROR(VLOOKUP(Tabla48[[#This Row],[No]],TablaLicencias,5,0),\"\")","v":""},{"$f":"IFERROR(VLOOKUP(Tabla48[[#This Row],[No]],TablaLicencias,6,0),\"\")","v":""}]
[null,null,null,438,{"$f":"IFERROR(VLOOKUP(Tabla48[[#This Row],[No]],TablaLicencias,2,0),\"\")","v":""},{"$f":"IFERROR(VLOOKUP(Tabla48[[#This Row],[No]],TablaLicencias,3,0),\"\")","v":""},{"$f":"IFERROR(VLOOKUP(Tabla48[[#This Row],[No]],TablaLicencias,4,0),\"\")","v":""},{"$f":"IFERROR(VLOOKUP(Tabla48[[#This Row],[No]],TablaLicencias,5,0),\"\")","v":""},{"$f":"IFERROR(VLOOKUP(Tabla48[[#This Row],[No]],TablaLicencias,6,0),\"\")","v":""}]
[null,null,null,439,{"$f":"IFERROR(VLOOKUP(Tabla48[[#This Row],[No]],TablaLicencias,2,0),\"\")","v":""},{"$f":"IFERROR(VLOOKUP(Tabla48[[#This Row],[No]],TablaLicencias,3,0),\"\")","v":""},{"$f":"IFERROR(VLOOKUP(Tabla48[[#This Row],[No]],TablaLicencias,4,0),\"\")","v":""},{"$f":"IFERROR(VLOOKUP(Tabla48[[#This Row],[No]],TablaLicencias,5,0),\"\")","v":""},{"$f":"IFERROR(VLOOKUP(Tabla48[[#This Row],[No]],TablaLicencias,6,0),\"\")","v":""}]
[null,null,null,440,{"$f":"IFERROR(VLOOKUP(Tabla48[[#This Row],[No]],TablaLicencias,2,0),\"\")","v":""},{"$f":"IFERROR(VLOOKUP(Tabla48[[#This Row],[No]],TablaLicencias,3,0),\"\")","v":""},{"$f":"IFERROR(VLOOKUP(Tabla48[[#This Row],[No]],TablaLicencias,4,0),\"\")","v":""},{"$f":"IFERROR(VLOOKUP(Tabla48[[#This Row],[No]],TablaLicencias,5,0),\"\")","v":""},{"$f":"IFERROR(VLOOKUP(Tabla48[[#This Row],[No]],TablaLicencias,6,0),\"\")","v":""}]
[null,null,null,441,{"$f":"IFERROR(VLOOKUP(Tabla48[[#This Row],[No]],TablaLicencias,2,0),\"\")","v":""},{"$f":"IFERROR(VLOOKUP(Tabla48[[#This Row],[No]],TablaLicencias,3,0),\"\")","v":""},{"$f":"IFERROR(VLOOKUP(Tabla48[[#This Row],[No]],TablaLicencias,4,0),\"\")","v":""},{"$f":"IFERROR(VLOOKUP(Tabla48[[#This Row],[No]],TablaLicencias,5,0),\"\")","v":""},{"$f":"IFERROR(VLOOKUP(Tabla48[[#This Row],[No]],TablaLicencias,6,0),\"\")","v":""}]
[null,null,null,442,{"$f":"IFERROR(VLOOKUP(Tabla48[[#This Row],[No]],TablaLicencias,2,0),\"\")","v":""},{"$f":"IFERROR(VLOOKUP(Tabla48[[#This Row],[No]],TablaLicencias,3,0),\"\")","v":""},{"$f":"IFERROR(VLOOKUP(Tabla48[[#This Row],[No]],TablaLicencias,4,0),\"\")","v":""},{"$f":"IFERROR(VLOOKUP(Tabla48[[#This Row],[No]],TablaLicencias,5,0),\"\")","v":""},{"$f":"IFERROR(VLOOKUP(Tabla48[[#This Row],[No]],TablaLicencias,6,0),\"\")","v":""}]
[null,null,null,443,{"$f":"IFERROR(VLOOKUP(Tabla48[[#This Row],[No]],TablaLicencias,2,0),\"\")","v":""},{"$f":"IFERROR(VLOOKUP(Tabla48[[#This Row],[No]],TablaLicencias,3,0),\"\")","v":""},{"$f":"IFERROR(VLOOKUP(Tabla48[[#This Row],[No]],TablaLicencias,4,0),\"\")","v":""},{"$f":"IFERROR(VLOOKUP(Tabla48[[#This Row],[No]],TablaLicencias,5,0),\"\")","v":""},{"$f":"IFERROR(VLOOKUP(Tabla48[[#This Row],[No]],TablaLicencias,6,0),\"\")","v":""}]
[null,null,null,444,{"$f":"IFERROR(VLOOKUP(Tabla48[[#This Row],[No]],TablaLicencias,2,0),\"\")","v":""},{"$f":"IFERROR(VLOOKUP(Tabla48[[#This Row],[No]],TablaLicencias,3,0),\"\")","v":""},{"$f":"IFERROR(VLOOKUP(Tabla48[[#This Row],[No]],TablaLicencias,4,0),\"\")","v":""},{"$f":"IFERROR(VLOOKUP(Tabla48[[#This Row],[No]],TablaLicencias,5,0),\"\")","v":""},{"$f":"IFERROR(VLOOKUP(Tabla48[[#This Row],[No]],TablaLicencias,6,0),\"\")","v":""}]
[null,null,null,445,{"$f":"IFERROR(VLOOKUP(Tabla48[[#This Row],[No]],TablaLicencias,2,0),\"\")","v":""},{"$f":"IFERROR(VLOOKUP(Tabla48[[#This Row],[No]],TablaLicencias,3,0),\"\")","v":""},{"$f":"IFERROR(VLOOKUP(Tabla48[[#This Row],[No]],TablaLicencias,4,0),\"\")","v":""},{"$f":"IFERROR(VLOOKUP(Tabla48[[#This Row],[No]],TablaLicencias,5,0),\"\")","v":""},{"$f":"IFERROR(VLOOKUP(Tabla48[[#This Row],[No]],TablaLicencias,6,0),\"\")","v":""}]
[null,null,null,446,{"$f":"IFERROR(VLOOKUP(Tabla48[[#This Row],[No]],TablaLicencias,2,0),\"\")","v":""},{"$f":"IFERROR(VLOOKUP(Tabla48[[#This Row],[No]],TablaLicencias,3,0),\"\")","v":""},{"$f":"IFERROR(VLOOKUP(Tabla48[[#This Row],[No]],TablaLicencias,4,0),\"\")","v":""},{"$f":"IFERROR(VLOOKUP(Tabla48[[#This Row],[No]],TablaLicencias,5,0),\"\")","v":""},{"$f":"IFERROR(VLOOKUP(Tabla48[[#This Row],[No]],TablaLicencias,6,0),\"\")","v":""}]
[null,null,null,447,{"$f":"IFERROR(VLOOKUP(Tabla48[[#This Row],[No]],TablaLicencias,2,0),\"\")","v":""},{"$f":"IFERROR(VLOOKUP(Tabla48[[#This Row],[No]],TablaLicencias,3,0),\"\")","v":""},{"$f":"IFERROR(VLOOKUP(Tabla48[[#This Row],[No]],TablaLicencias,4,0),\"\")","v":""},{"$f":"IFERROR(VLOOKUP(Tabla48[[#This Row],[No]],TablaLicencias,5,0),\"\")","v":""},{"$f":"IFERROR(VLOOKUP(Tabla48[[#This Row],[No]],TablaLicencias,6,0),\"\")","v":""}]
[null,null,null,448,{"$f":"IFERROR(VLOOKUP(Tabla48[[#This Row],[No]],TablaLicencias,2,0),\"\")","v":""},{"$f":"IFERROR(VLOOKUP(Tabla48[[#This Row],[No]],TablaLicencias,3,0),\"\")","v":""},{"$f":"IFERROR(VLOOKUP(Tabla48[[#This Row],[No]],TablaLicencias,4,0),\"\")","v":""},{"$f":"IFERROR(VLOOKUP(Tabla48[[#This Row],[No]],TablaLicencias,5,0),\"\")","v":""},{"$f":"IFERROR(VLOOKUP(Tabla48[[#This Row],[No]],TablaLicencias,6,0),\"\")","v":""}]
[null,null,null,449,{"$f":"IFERROR(VLOOKUP(Tabla48[[#This Row],[No]],TablaLicencias,2,0),\"\")","v":""},{"$f":"IFERROR(VLOOKUP(Tabla48[[#This Row],[No]],TablaLicencias,3,0),\"\")","v":""},{"$f":"IFERROR(VLOOKUP(Tabla48[[#This Row],[No]],TablaLicencias,4,0),\"\")","v":""},{"$f":"IFERROR(VLOOKUP(Tabla48[[#This Row],[No]],TablaLicencias,5,0),\"\")","v":""},{"$f":"IFERROR(VLOOKUP(Tabla48[[#This Row],[No]],TablaLicencias,6,0),\"\")","v":""}]
[null,null,null,450,{"$f":"IFERROR(VLOOKUP(Tabla48[[#This Row],[No]],TablaLicencias,2,0),\"\")","v":""},{"$f":"IFERROR(VLOOKUP(Tabla48[[#This Row],[No]],TablaLicencias,3,0),\"\")","v":""},{"$f":"IFERROR(VLOOKUP(Tabla48[[#This Row],[No]],TablaLicencias,4,0),\"\")","v":""},{"$f":"IFERROR(VLOOKUP(Tabla48[[#This Row],[No]],TablaLicencias,5,0),\"\")","v":""},{"$f":"IFERROR(VLOOKUP(Tabla48[[#This Row],[No]],TablaLicencias,6,0),\"\")","v":""}]
[null,null,null,451,{"$f":"IFERROR(VLOOKUP(Tabla48[[#This Row],[No]],TablaLicencias,2,0),\"\")","v":""},{"$f":"IFERROR(VLOOKUP(Tabla48[[#This Row],[No]],TablaLicencias,3,0),\"\")","v":""},{"$f":"IFERROR(VLOOKUP(Tabla48[[#This Row],[No]],TablaLicencias,4,0),\"\")","v":""},{"$f":"IFERROR(VLOOKUP(Tabla48[[#This Row],[No]],TablaLicencias,5,0),\"\")","v":""},{"$f":"IFERROR(VLOOKUP(Tabla48[[#This Row],[No]],TablaLicencias,6,0),\"\")","v":""}]
[null,null,null,452,{"$f":"IFERROR(VLOOKUP(Tabla48[[#This Row],[No]],TablaLicencias,2,0),\"\")","v":""},{"$f":"IFERROR(VLOOKUP(Tabla48[[#This Row],[No]],TablaLicencias,3,0),\"\")","v":""},{"$f":"IFERROR(VLOOKUP(Tabla48[[#This Row],[No]],TablaLicencias,4,0),\"\")","v":""},{"$f":"IFERROR(VLOOKUP(Tabla48[[#This Row],[No]],TablaLicencias,5,0),\"\")","v":""},{"$f":"IFERROR(VLOOKUP(Tabla48[[#This Row],[No]],TablaLicencias,6,0),\"\")","v":""}]
[null,null,null,453,{"$f":"IFERROR(VLOOKUP(Tabla48[[#This Row],[No]],TablaLicencias,2,0),\"\")","v":""},{"$f":"IFERROR(VLOOKUP(Tabla48[[#This Row],[No]],TablaLicencias,3,0),\"\")","v":""},{"$f":"IFERROR(VLOOKUP(Tabla48[[#This Row],[No]],TablaLicencias,4,0),\"\")","v":""},{"$f":"IFERROR(VLOOKUP(Tabla48[[#This Row],[No]],TablaLicencias,5,0),\"\")","v":""},{"$f":"IFERROR(VLOOKUP(Tabla48[[#This Row],[No]],TablaLicencias,6,0),\"\")","v":""}]
[null,null,null,454,{"$f":"IFERROR(VLOOKUP(Tabla48[[#This Row],[No]],TablaLicencias,2,0),\"\")","v":""},{"$f":"IFERROR(VLOOKUP(Tabla48[[#This Row],[No]],TablaLicencias,3,0),\"\")","v":""},{"$f":"IFERROR(VLOOKUP(Tabla48[[#This Row],[No]],TablaLicencias,4,0),\"\")","v":""},{"$f":"IFERROR(VLOOKUP(Tabla48[[#This Row],[No]],TablaLicencias,5,0),\"\")","v":""},{"$f":"IFERROR(VLOOKUP(Tabla48[[#This Row],[No]],TablaLicencias,6,0),\"\")","v":""}]
[null,null,null,455,{"$f":"IFERROR(VLOOKUP(Tabla48[[#This Row],[No]],TablaLicencias,2,0),\"\")","v":""},{"$f":"IFERROR(VLOOKUP(Tabla48[[#This Row],[No]],TablaLicencias,3,0),\"\")","v":""},{"$f":"IFERROR(VLOOKUP(Tabla48[[#This Row],[No]],TablaLicencias,4,0),\"\")","v":""},{"$f":"IFERROR(VLOOKUP(Tabla48[[#This Row],[No]],TablaLicencias,5,0),\"\")","v":""},{"$f":"IFERROR(VLOOKUP(Tabla48[[#This Row],[No]],TablaLicencias,6,0),\"\")","v":""}]
[null,null,null,456,{"$f":"IFERROR(VLOOKUP(Tabla48[[#This Row],[No]],TablaLicencias,2,0),\"\")","v":""},{"$f":"IFERROR(VLOOKUP(Tabla48[[#This Row],[No]],TablaLicencias,3,0),\"\")","v":""},{"$f":"IFERROR(VLOOKUP(Tabla48[[#This Row],[No]],TablaLicencias,4,0),\"\")","v":""},{"$f":"IFERROR(VLOOKUP(Tabla48[[#This Row],[No]],TablaLicencias,5,0),\"\")","v":""},{"$f":"IFERROR(VLOOKUP(Tabla48[[#This Row],[No]],TablaLicencias,6,0),\"\")","v":""}]
[null,null,null,457,{"$f":"IFERROR(VLOOKUP(Tabla48[[#This Row],[No]],TablaLicencias,2,0),\"\")","v":""},{"$f":"IFERROR(VLOOKUP(Tabla48[[#This Row],[No]],TablaLicencias,3,0),\"\")","v":""},{"$f":"IFERROR(VLOOKUP(Tabla48[[#This Row],[No]],TablaLicencias,4,0),\"\")","v":""},{"$f":"IFERROR(VLOOKUP(Tabla48[[#This Row],[No]],TablaLicencias,5,0),\"\")","v":""},{"$f":"IFERROR(VLOOKUP(Tabla48[[#This Row],[No]],TablaLicencias,6,0),\"\")","v":""}]
[null,null,null,458,{"$f":"IFERROR(VLOOKUP(Tabla48[[#This Row],[No]],TablaLicencias,2,0),\"\")","v":""},{"$f":"IFERROR(VLOOKUP(Tabla48[[#This Row],[No]],TablaLicencias,3,0),\"\")","v":""},{"$f":"IFERROR(VLOOKUP(Tabla48[[#This Row],[No]],TablaLicencias,4,0),\"\")","v":""},{"$f":"IFERROR(VLOOKUP(Tabla48[[#This Row],[No]],TablaLicencias,5,0),\"\")","v":""},{"$f":"IFERROR(VLOOKUP(Tabla48[[#This Row],[No]],TablaLicencias,6,0),\"\")","v":""}]
[null,null,null,459,{"$f":"IFERROR(VLOOKUP(Tabla48[[#This Row],[No]],TablaLicencias,2,0),\"\")","v":""},{"$f":"IFERROR(VLOOKUP(Tabla48[[#This Row],[No]],TablaLicencias,3,0),\"\")","v":""},{"$f":"IFERROR(VLOOKUP(Tabla48[[#This Row],[No]],TablaLicencias,4,0),\"\")","v":""},{"$f":"IFERROR(VLOOKUP(Tabla48[[#This Row],[No]],TablaLicencias,5,0),\"\")","v":""},{"$f":"IFERROR(VLOOKUP(Tabla48[[#This Row],[No]],TablaLicencias,6,0),\"\")","v":""}]
[null,null,null,460,{"$f":"IFERROR(VLOOKUP(Tabla48[[#This Row],[No]],TablaLicencias,2,0),\"\")","v":""},{"$f":"IFERROR(VLOOKUP(Tabla48[[#This Row],[No]],TablaLicencias,3,0),\"\")","v":""},{"$f":"IFERROR(VLOOKUP(Tabla48[[#This Row],[No]],TablaLicencias,4,0),\"\")","v":""},{"$f":"IFERROR(VLOOKUP(Tabla48[[#This Row],[No]],TablaLicencias,5,0),\"\")","v":""},{"$f":"IFERROR(VLOOKUP(Tabla48[[#This Row],[No]],TablaLicencias,6,0),\"\")","v":""}]
[null,null,null,461,{"$f":"IFERROR(VLOOKUP(Tabla48[[#This Row],[No]],TablaLicencias,2,0),\"\")","v":""},{"$f":"IFERROR(VLOOKUP(Tabla48[[#This Row],[No]],TablaLicencias,3,0),\"\")","v":""},{"$f":"IFERROR(VLOOKUP(Tabla48[[#This Row],[No]],TablaLicencias,4,0),\"\")","v":""},{"$f":"IFERROR(VLOOKUP(Tabla48[[#This Row],[No]],TablaLicencias,5,0),\"\")","v":""},{"$f":"IFERROR(VLOOKUP(Tabla48[[#This Row],[No]],TablaLicencias,6,0),\"\")","v":""}]
[null,null,null,462,{"$f":"IFERROR(VLOOKUP(Tabla48[[#This Row],[No]],TablaLicencias,2,0),\"\")","v":""},{"$f":"IFERROR(VLOOKUP(Tabla48[[#This Row],[No]],TablaLicencias,3,0),\"\")","v":""},{"$f":"IFERROR(VLOOKUP(Tabla48[[#This Row],[No]],TablaLicencias,4,0),\"\")","v":""},{"$f":"IFERROR(VLOOKUP(Tabla48[[#This Row],[No]],TablaLicencias,5,0),\"\")","v":""},{"$f":"IFERROR(VLOOKUP(Tabla48[[#This Row],[No]],TablaLicencias,6,0),\"\")","v":""}]
[null,null,null,463,{"$f":"IFERROR(VLOOKUP(Tabla48[[#This Row],[No]],TablaLicencias,2,0),\"\")","v":""},{"$f":"IFERROR(VLOOKUP(Tabla48[[#This Row],[No]],TablaLicencias,3,0),\"\")","v":""},{"$f":"IFERROR(VLOOKUP(Tabla48[[#This Row],[No]],TablaLicencias,4,0),\"\")","v":""},{"$f":"IFERROR(VLOOKUP(Tabla48[[#This Row],[No]],TablaLicencias,5,0),\"\")","v":""},{"$f":"IFERROR(VLOOKUP(Tabla48[[#This Row],[No]],TablaLicencias,6,0),\"\")","v":""}]
[null,null,null,464,{"$f":"IFERROR(VLOOKUP(Tabla48[[#This Row],[No]],TablaLicencias,2,0),\"\")","v":""},{"$f":"IFERROR(VLOOKUP(Tabla48[[#This Row],[No]],TablaLicencias,3,0),\"\")","v":""},{"$f":"IFERROR(VLOOKUP(Tabla48[[#This Row],[No]],TablaLicencias,4,0),\"\")","v":""},{"$f":"IFERROR(VLOOKUP(Tabla48[[#This Row],[No]],TablaLicencias,5,0),\"\")","v":""},{"$f":"IFERROR(VLOOKUP(Tabla48[[#This Row],[No]],TablaLicencias,6,0),\"\")","v":""}]
[null,null,null,465,{"$f":"IFERROR(VLOOKUP(Tabla48[[#This Row],[No]],TablaLicencias,2,0),\"\")","v":""},{"$f":"IFERROR(VLOOKUP(Tabla48[[#This Row],[No]],TablaLicencias,3,0),\"\")","v":""},{"$f":"IFERROR(VLOOKUP(Tabla48[[#This Row],[No]],TablaLicencias,4,0),\"\")","v":""},{"$f":"IFERROR(VLOOKUP(Tabla48[[#This Row],[No]],TablaLicencias,5,0),\"\")","v":""},{"$f":"IFERROR(VLOOKUP(Tabla48[[#This Row],[No]],TablaLicencias,6,0),\"\")","v":""}]
[null,null,null,466,{"$f":"IFERROR(VLOOKUP(Tabla48[[#This Row],[No]],TablaLicencias,2,0),\"\")","v":""},{"$f":"IFERROR(VLOOKUP(Tabla48[[#This Row],[No]],TablaLicencias,3,0),\"\")","v":""},{"$f":"IFERROR(VLOOKUP(Tabla48[[#This Row],[No]],TablaLicencias,4,0),\"\")","v":""},{"$f":"IFERROR(VLOOKUP(Tabla48[[#This Row],[No]],TablaLicencias,5,0),\"\")","v":""},{"$f":"IFERROR(VLOOKUP(Tabla48[[#This Row],[No]],TablaLicencias,6,0),\"\")","v":""}]
[null,null,null,467,{"$f":"IFERROR(VLOOKUP(Tabla48[[#This Row],[No]],TablaLicencias,2,0),\"\")","v":""},{"$f":"IFERROR(VLOOKUP(Tabla48[[#This Row],[No]],TablaLicencias,3,0),\"\")","v":""},{"$f":"IFERROR(VLOOKUP(Tabla48[[#This Row],[No]],TablaLicencias,4,0),\"\")","v":""},{"$f":"IFERROR(VLOOKUP(Tabla48[[#This Row],[No]],TablaLicencias,5,0),\"\")","v":""},{"$f":"IFERROR(VLOOKUP(Tabla48[[#This Row],[No]],TablaLicencias,6,0),\"\")","v":""}]
[null,null,null,468,{"$f":"IFERROR(VLOOKUP(Tabla48[[#This Row],[No]],TablaLicencias,2,0),\"\")","v":""},{"$f":"IFERROR(VLOOKUP(Tabla48[[#This Row],[No]],TablaLicencias,3,0),\"\")","v":""},{"$f":"IFERROR(VLOOKUP(Tabla48[[#This Row],[No]],TablaLicencias,4,0),\"\")","v":""},{"$f":"IFERROR(VLOOKUP(Tabla48[[#This Row],[No]],TablaLicencias,5,0),\"\")","v":""},{"$f":"IFERROR(VLOOKUP(Tabla48[[#This Row],[No]],TablaLicencias,6,0),\"\")","v":""}]
[null,null,null,469,{"$f":"IFERROR(VLOOKUP(Tabla48[[#This Row],[No]],TablaLicencias,2,0),\"\")","v":""},{"$f":"IFERROR(VLOOKUP(Tabla48[[#This Row],[No]],TablaLicencias,3,0),\"\")","v":""},{"$f":"IFERROR(VLOOKUP(Tabla48[[#This Row],[No]],TablaLicencias,4,0),\"\")","v":""},{"$f":"IFERROR(VLOOKUP(Tabla48[[#This Row],[No]],TablaLicencias,5,0),\"\")","v":""},{"$f":"IFERROR(VLOOKUP(Tabla48[[#This Row],[No]],TablaLicencias,6,0),\"\")","v":""}]
[null,null,null,470,{"$f":"IFERROR(VLOOKUP(Tabla48[[#This Row],[No]],TablaLicencias,2,0),\"\")","v":""},{"$f":"IFERROR(VLOOKUP(Tabla48[[#This Row],[No]],TablaLicencias,3,0),\"\")","v":""},{"$f":"IFERROR(VLOOKUP(Tabla48[[#This Row],[No]],TablaLicencias,4,0),\"\")","v":""},{"$f":"IFERROR(VLOOKUP(Tabla48[[#This Row],[No]],TablaLicencias,5,0),\"\")","v":""},{"$f":"IFERROR(VLOOKUP(Tabla48[[#This Row],[No]],TablaLicencias,6,0),\"\")","v":""}]
[null,null,null,471,{"$f":"IFERROR(VLOOKUP(Tabla48[[#This Row],[No]],TablaLicencias,2,0),\"\")","v":""},{"$f":"IFERROR(VLOOKUP(Tabla48[[#This Row],[No]],TablaLicencias,3,0),\"\")","v":""},{"$f":"IFERROR(VLOOKUP(Tabla48[[#This Row],[No]],TablaLicencias,4,0),\"\")","v":""},{"$f":"IFERROR(VLOOKUP(Tabla48[[#This Row],[No]],TablaLicencias,5,0),\"\")","v":""},{"$f":"IFERROR(VLOOKUP(Tabla48[[#This Row],[No]],TablaLicencias,6,0),\"\")","v":""}]
[null,null,null,472,{"$f":"IFERROR(VLOOKUP(Tabla48[[#This Row],[No]],TablaLicencias,2,0),\"\")","v":""},{"$f":"IFERROR(VLOOKUP(Tabla48[[#This Row],[No]],TablaLicencias,3,0),\"\")","v":""},{"$f":"IFERROR(VLOOKUP(Tabla48[[#This Row],[No]],TablaLicencias,4,0),\"\")","v":""},{"$f":"IFERROR(VLOOKUP(Tabla48[[#This Row],[No]],TablaLicencias,5,0),\"\")","v":""},{"$f":"IFERROR(VLOOKUP(Tabla48[[#This Row],[No]],TablaLicencias,6,0),\"\")","v":""}]
[null,null,null,473,{"$f":"IFERROR(VLOOKUP(Tabla48[[#This Row],[No]],TablaLicencias,2,0),\"\")","v":""},{"$f":"IFERROR(VLOOKUP(Tabla48[[#This Row],[No]],TablaLicencias,3,0),\"\")","v":""},{"$f":"IFERROR(VLOOKUP(Tabla48[[#This Row],[No]],TablaLicencias,4,0),\"\")","v":""},{"$f":"IFERROR(VLOOKUP(Tabla48[[#This Row],[No]],TablaLicencias,5,0),\"\")","v":""},{"$f":"IFERROR(VLOOKUP(Tabla48[[#This Row],[No]],TablaLicencias,6,0),\"\")","v":""}]
[null,null,null,474,{"$f":"IFERROR(VLOOKUP(Tabla48[[#This Row],[No]],TablaLicencias,2,0),\"\")","v":""},{"$f":"IFERROR(VLOOKUP(Tabla48[[#This Row],[No]],TablaLicencias,3,0),\"\")","v":""},{"$f":"IFERROR(VLOOKUP(Tabla48[[#This Row],[No]],TablaLicencias,4,0),\"\")","v":""},{"$f":"IFERROR(VLOOKUP(Tabla48[[#This Row],[No]],TablaLicencias,5,0),\"\")","v":""},{"$f":"IFERROR(VLOOKUP(Tabla48[[#This Row],[No]],TablaLicencias,6,0),\"\")","v":""}]
[null,null,null,475,{"$f":"IFERROR(VLOOKUP(Tabla48[[#This Row],[No]],TablaLicencias,2,0),\"\")","v":""},{"$f":"IFERROR(VLOOKUP(Tabla48[[#This Row],[No]],TablaLicencias,3,0),\"\")","v":""},{"$f":"IFERROR(VLOOKUP(Tabla48[[#This Row],[No]],TablaLicencias,4,0),\"\")","v":""},{"$f":"IFERROR(VLOOKUP(Tabla48[[#This Row],[No]],TablaLicencias,5,0),\"\")","v":""},{"$f":"IFERROR(VLOOKUP(Tabla48[[#This Row],[No]],TablaLicencias,6,0),\"\")","v":""}]
[null,null,null,476,{"$f":"IFERROR(VLOOKUP(Tabla48[[#This Row],[No]],TablaLicencias,2,0),\"\")","v":""},{"$f":"IFERROR(VLOOKUP(Tabla48[[#This Row],[No]],TablaLicencias,3,0),\"\")","v":""},{"$f":"IFERROR(VLOOKUP(Tabla48[[#This Row],[No]],TablaLicencias,4,0),\"\")","v":""},{"$f":"IFERROR(VLOOKUP(Tabla48[[#This Row],[No]],TablaLicencias,5,0),\"\")","v":""},{"$f":"IFERROR(VLOOKUP(Tabla48[[#This Row],[No]],TablaLicencias,6,0),\"\")","v":""}]
[null,null,null,477,{"$f":"IFERROR(VLOOKUP(Tabla48[[#This Row],[No]],TablaLicencias,2,0),\"\")","v":""},{"$f":"IFERROR(VLOOKUP(Tabla48[[#This Row],[No]],TablaLicencias,3,0),\"\")","v":""},{"$f":"IFERROR(VLOOKUP(Tabla48[[#This Row],[No]],TablaLicencias,4,0),\"\")","v":""},{"$f":"IFERROR(VLOOKUP(Tabla48[[#This Row],[No]],TablaLicencias,5,0),\"\")","v":""},{"$f":"IFERROR(VLOOKUP(Tabla48[[#This Row],[No]],TablaLicencias,6,0),\"\")","v":""}]
[null,null,null,478,{"$f":"IFERROR(VLOOKUP(Tabla48[[#This Row],[No]],TablaLicencias,2,0),\"\")","v":""},{"$f":"IFERROR(VLOOKUP(Tabla48[[#This Row],[No]],TablaLicencias,3,0),\"\")","v":""},{"$f":"IFERROR(VLOOKUP(Tabla48[[#This Row],[No]],TablaLicencias,4,0),\"\")","v":""},{"$f":"IFERROR(VLOOKUP(Tabla48[[#This Row],[No]],TablaLicencias,5,0),\"\")","v":""},{"$f":"IFERROR(VLOOKUP(Tabla48[[#This Row],[No]],TablaLicencias,6,0),\"\")","v":""}]

{"sheet":"COMPROBANTELICENCIAS","index":8,"n_rows":37,"n_cols":12,"rows_kept":37,"cut":false,"hidden":false,"merged":[[26,5,26,6],[27,5,27,6],[28,5,28,6],[30,2,30,5],[31,4,31,5],[35,3,35,4],[35,9,35,10],[15,10,15,11],[15,3,15,5],[25,2,25,6],[26,2,26,4],[27,2,27,4],[28,2,28,4],[21,2,21,11],[22,3,22,4],[22,6,22,11],[25,8,25,11],[26,8,29,11],[29,2,29,5],[16,2,16,9],[17,2,17,11],[18,2,18,9],[19,3,19,4],[19,6,19,7],[20,2,20,11],[9,2,10,6],[12,2,13,11],[14,3,14,7],[14,9,14,10]]}
[]
[]
[]
[]
[]
[]
[]
[]
[]
[null,null,"COMPROBANTE DE LICENCIAS",null,null,null,null,null,"LUGAR","DÍA","MES","AÑO"]
[null,null,null,null,null,null,null,null,"Stgo",{"$f":"TODAY()","v":"2020-07-21"},{"$f":"TODAY()","v":"2020-07-21"},{"$f":"TODAY()","v":"2020-07-21"}]
[]
[null,null,"En cumplimiento a las disposiciones legales vigentes se deja constancia que a contar de las fechas que se indican el trabajador :"]
[]
[null,null,"DON(A)   :",null,null,null,null,null,"RUT :"]
[null,null,"Hará uso de:","Licencia Médica"]
[null,null,"De acuerdo al siguiente detalle :"]
[]
[null,null,"DESCANSO EFECTIVO ENTRE LAS FECHAS:"]
[null,null,"DESDE EL:","00:00:00",null,"HASTA EL:","00:00:00"]
[]
[]
[null,null,null,"2019-01-01",null,"2019-01-01"]
[null,null,null,"2019-01-01","2019-01-01","2019-01-01"]
[]
[null,null,"DETALLE DEL LICENCIA",null,null,null,null,{"$f":"IFERROR(NETWORKDAYS(D20,G20,DiasFeriados),\"\")","v":0},"NOTA"]
[null,null,"FECHA INICIAL",null,null,"00:00:00"]
[null,null,"FECHA FINAL",null,null,"00:00:00"]
[null,null,"DURACION",null,null,0]
[]
[]
[]
[]
[]
[]
[null,null,null,"FIRMA DEL EMPLEADOR",null,null,null,null,null,"FIRMA DEL TRABAJADOR"]
[null,null,null,null,null,null,null,null,null,"RUT: ",{"$f":"J15","v":0}]