{"text_format":"1","workbook":"xlsx","n_sheets":10,"sheets":["Instrucciones","MENU","BDD","DESC.","1","Hoja1","Planilla De Pago","Libro de Remun.","VeryHidden","CostoMensual"],"not_rendered":{"charts":0,"images":0,"macros":1,"external_links":0,"defined_names":10,"comments":0,"pivot_tables":0},"unopened":[],"bounds":{"document_bytes":16777216,"sheet_cells":100000,"rows_first":2000,"rows_last":500,"rows_between":2000,"halvings":0,"cell_chars":16384,"cell_head_chars":4096},"cells_cut":0,"cells_raw":0,"read":"whole","date_system":"1900"}

{"sheet":"Instrucciones","index":0,"n_rows":19,"n_cols":51,"rows_kept":19,"cut":false,"hidden":false,"merged":[[13,8,13,17],[14,8,14,17],[8,8,8,17]]}
[null,null,null,null,null,null,null,"Instrucciones",null,null,null,null,null,null,null,null,null,null,null,null,null,null,null,null,null,null,null,null,null,null,null,null,null,null,null,null,null,null,null,null,null,null,null,null,null,null,null,null,null,null,"Showtabs"]
[null,null,null,null,null,null,null,null,null,null,null,null,null,null,null,null,null,null,null,null,null,null,null,null,null,null,null,null,null,null,null,null,null,null,null,null,null,null,null,null,null,null,null,null,null,null,null,null,null,null,"Hidetabs"]
[null,null,null,null,null,null,null,null,null,null,null,null,null,null,null,null,null,null,null,null,null,null,null,null,null,null,null,null,null,null,null,null,null,null,null,null,null,null,null,null,null,null,null,null,null,null,null,null,null,null,"Protect"]
[null,null,null,null,null,null,null,null,null,null,null,null,null,null,null,null,null,null,null,null,null,null,null,null,null,null,null,null,null,null,null,null,null,null,null,null,null,null,null,null,null,null,null,null,null,null,null,null,null,null,"privatesubs"]
[]
[]
[null,null,null,null,null,null,null,null,"PARA CONFIGRAR LA PLANILLA DE REMUNERACION, SIGUE ESTAS INSTRUCCIONES"]
[]
[null,null,null,null,null,null,null,null,"1- Ingrese en la Hoja INICIO y Ingrese los datos de la Empresa. Una vez hecho, pinche el boton BASE DE DATOS"]
[null,null,null,null,null,null,null,null,"2-Ingresa los nombres de los Empleados, RUT, Fecha Ingreso, Sueldo Base y todos los datos como corresponde."]
[null,null,null,null,null,null,null,null,"3-Una vez hecho, Pincha el Boton DESCUENTOS"]
[null,null,null,null,null,null,null,null,"4-Ingresa los datos de descuentos de cada empleado como corresponde"]
[null,null,null,null,null,null,null,null,"5-Al pinchar el numero frente del nombre del trabajador puedes visualizar su liquidación de sueldo."]
[null,null,null,null,null,null,null,null,"6- Ahora lo que tienes que hacer cada mes es Solo Pinchar el Boton BASE DE DATOS, ingresar el mes a pagar, el Valor UF del Dia (Por si hay Trabajador con pacto UF) y luego ingresar los dias trabajados de cada Empleado. (Para saber el valor UF del día Solo hacer click sobre el texto \"Valor UF del Mes\" te abrira una ventana de tu navegador para visualizar el valor UF actual)"]
[null,null,null,null,null,null,null,null,"TIPS"]
[null,null,null,null,null,null,null,null,"--Al pinchar el numero frente al nombre del trabajador puede visualizar su liquidación de sueldo."]
[null,null,null,null,null,null,null,null,"--Cada hoja se puede imprimir individualmente al pincar el boton IMPRIMIR ESTA HOJA Arriba de la hoja"]
[null,null,null,null,null,null,null,null,"--Para Imprimir Varias liquidaciones, Pinche el boton IMPRESIÓN VARIAS y ingresa el total de liquidacion a imprimir de 1 a 25"]
[null,null,null,null,null,null,null,null,"--Puede configurar los parametros proporcionales on dias trabajados en el MENU en BASE DE DATOS y parametros"]

{"sheet":"MENU","index":1,"n_rows":15,"n_cols":12,"rows_kept":15,"cut":false,"hidden":false,"merged":[[14,10,14,15],[15,10,15,15],[6,11,7,14],[12,10,12,15],[13,10,13,15],[8,11,8,14]]}
[null,null,null,null,null,null,null,null,"Inicio"]
[]
[]
[]
[]
[]
[null,null,null,null,null,null,null,null,null,null,null,"SISTEMA DE REMUNERACIÓN"]
[]
[null,null,null,null,null,null,null,null,null,null,null,"DATOS DE LA EMPRESA"]
[]
[]
[]
[null,null,null,null,null,null,null,null,null,null,"NOMBRE DE TU EMPRESA"]
[null,null,null,null,null,null,null,null,null,null,"RUT DE TU EMPRESA"]
[null,null,null,null,null,null,null,null,null,null,"DIRECCION DE TU EMPRESA"]

{"sheet":"BDD","index":2,"n_rows":1048575,"n_cols":16384,"rows_kept":33,"cut":true,"hidden":false,"merged":[[11,177,11,178],[21,2,21,5],[4,37,4,38],[1,21,1,26],[2,11,2,12],[3,11,3,12],[3,13,3,17],[2,21,2,26],[3,21,3,26]],"bounds":{"rows_first":15,"rows_last":3,"rows_between":15,"halvings":7}}
["E",null,null,null,null,null,null,null,null,"Base De Datos",null,null,"Comprar la version FULL"]
[]
[null,null,null,null,null,null,null,null,null,null,null,"MES A PAGAR",null,"2024-04-01",null,null,null,null,null,"Tope Gratificación",null,"Tope Imponible",null,null,null,null,null,null,null,null,null,null,null,null,null,null,null,null,null,"SI",null,null,null,null,null,null,null,null,null,null,null,null,null,null,null,null,null,null,null,null,null,null,null,null,null,null,null,null,null,null,null,null,null,null,null,null,null,null,null,null,null,null,null,null,null,null,null,null,null,null,null,null,null,null,null,null,null,null,null,null,null,null,null,null,null,null,null,null,null,null,null,null,null,null,null,null,null,null,null,null,null,null,null,null,null,null,null,null,null,null,null,null,null,null,null,null,null,null,null,null,null,null,null,null,null,null,null,null,null,null,null,null,null,null,null,null,null,null,null,null,null,null,null,null,null,null,null,null,null,null,null,null,"SI",null,null,"PARAMETROS","¿ES PROPORCIONAL CON LOS DIAS TRABAJADOS?"]
[null,null,null,null,null,null,null,null,null,null,null,"VALOR UF DEL MES",null,37838.550000000003,null,null,null,null,null,182083,null,3100000,null,null,null,null,null,null,null,null,null,null,null,null,null,null,null,null,null,"NO",null,null,null,null,null,null,null,null,null,null,null,null,null,null,null,null,null,null,null,null,null,null,null,null,null,null,null,null,null,null,null,null,null,null,null,null,null,null,null,null,null,null,null,null,null,null,null,null,null,null,null,null,null,null,null,null,null,null,null,null,null,null,null,null,null,null,null,null,null,null,null,null,null,null,null,null,null,null,null,null,null,null,null,null,null,null,null,null,null,null,null,null,null,null,null,null,null,null,null,null,null,null,null,null,null,null,null,null,null,null,null,null,null,null,null,null,null,null,null,null,null,null,null,null,null,null,null,null,null,null,null,null,"NO",null,null,"GRATIFICACION","NO"]
[null,null,null,null,null,null,null,null,null,null,null,null,null,null,null,null,null,null,null,null,null,null,null,null,null,null,null,null,null,null,null,null,null,null,null,null,null,"BONOS IMPONIBLES",null,null,null,null,null,null,null,null,null,null,null,null,null,null,null,null,null,null,null,null,null,null,null,null,null,null,null,null,null,null,null,null,null,null,null,null,null,null,null,null,null,null,null,null,null,null,null,null,null,null,null,null,null,null,null,null,null,null,null,null,null,null,null,null,null,null,null,null,null,null,null,null,null,null,null,null,null,null,null,null,null,null,null,null,null,null,null,null,null,null,null,null,null,null,null,null,null,null,null,null,null,null,null,null,null,null,null,null,null,null,null,null,null,null,null,null,null,null,null,null,null,null,null,null,null,null,null,null,null,null,null,null,null,null,null,null,null,{"$f":"T6","v":"BONO COLACIÓN"},"NO"]
[null,null,null,null,null,null,null,null,"NUMERO","NOMBRE","RUT","FECHA ING.","CARGO","SUELDO BASE","valor diario","GRATICACION 30 DIAS","Gratificacion diario","GRATIFICACION","total imponible","BONO COLACIÓN","bono colacion2","BONO MOVILIZACIÓN","bono movilizacion2","VIATICO","bono produccion2","total no imponible","Dias Trabajados","TOTAL HABERES","ANTICIPOS","Dias ausentes","valor dias ausentes","Total a pagar2","ASIGNACIÓN OBRA","Dias Normales","Valor Hora Extra","Factor Hora Extra","Horas Extras","BONO IMPONIBLE 1","BONO IMPONIBLE 2","BONO IMPONIBLE 12","BONO IMPONIBLE 22","NO_IMPONIBLE1","NO_IMPONIBLE2","13","14","15","16","17","NO IMPONIBLE 1","NO IMPONIBLE 2","1",null,null,null,null,null,null,null,null,null,null,null,null,null,null,null,null,null,null,null,null,null,null,null,null,null,null,null,null,null,null,null,null,null,null,null,null,null,null,null,null,null,null,null,null,null,null,null,null,null,null,null,null,null,null,null,null,null,null,null,null,null,null,null,null,null,null,null,null,null,null,null,null,null,null,null,null,null,null,null,null,null,null,null,null,null,null,null,null,null,null,null,null,null,null,null,null,null,null,null,null,null,null,null,null,null,null,null,null,null,null,null,null,null,null,null,null,null,null,null,null,null,null,null,null,{"$f":"V6","v":"BONO MOVILIZACIÓN"},"NO"]
[null,null,null,null,null,null,null,1,1,"Trabajador 1","16.346.113-7",44986,"Lider Especialista de Control Centralizado ",1200000,{"$f":"Tabla3[[#This Row],[SUELDO BASE]]/Tabla3[[#This Row],[Dias Normales]]","v":40000},{"$f":"IF(Tabla3[[#This Row],[GRATIFICACION]]=\"NO\",0,IF(Tabla3[[#This Row],[SUELDO BASE]]/4<=$T$4,Tabla3[[#This Row],[SUELDO BASE]]/4,$T$4))","v":182083},{"$f":"IF($FU$4=\"NO\",Tabla3[[#This Row],[GRATICACION 30 DIAS]],IF(R7=\"SI\",Tabla3[[#This Row],[GRATICACION 30 DIAS]]/Tabla3[[#This Row],[Dias Normales]]*Tabla3[[#This Row],[Dias Trabajados]],0))","v":182083},"SI",{"$f":"Tabla3[[#This Row],[Dias Trabajados]]*Tabla3[[#This Row],[valor diario]]+Tabla3[[#This Row],[Gratificacion diario]]+Tabla3[[#This Row],[Valor Hora Extra]]+Tabla3[[#This Row],[BONO IMPONIBLE 12]]+Tabla3[[#This Row],[BONO IMPONIBLE 22]]","v":1382083},null,{"$f":"IF($FU$5=\"NO\",Tabla3[[#This Row],[BONO COLACIÓN]],Tabla3[[#This Row],[BONO COLACIÓN]]/Tabla3[[#This Row],[Dias Normales]]*Tabla3[[#This Row],[Dias Trabajados]])","v":0},null,{"$f":"IF($FU$6=\"NO\",Tabla3[[#This Row],[BONO MOVILIZACIÓN]],Tabla3[[#This Row],[BONO MOVILIZACIÓN]]/Tabla3[[#This Row],[Dias Normales]]*Tabla3[[#This Row],[Dias Trabajados]])","v":0},null,{"$f":"IF($FU$7=\"NO\",Tabla3[[#This Row],[VIATICO]],Tabla3[[#This Row],[VIATICO]]/Tabla3[[#This Row],[Dias Normales]]*Tabla3[[#This Row],[Dias Trabajados]])","v":0},{"$f":"Tabla3[[#This Row],[bono colacion2]]+Tabla3[[#This Row],[bono movilizacion2]]+Tabla3[[#This Row],[bono produccion2]]+Tabla3[[#This Row],[NO_IMPONIBLE1]]+Tabla3[[#This Row],[NO_IMPONIBLE2]]","v":0},30,{"$f":"Tabla3[[#This Row],[total imponible]]+Tabla3[[#This Row],[total no imponible]]","v":1382083},null,{"$f":"Tabla3[[#This Row],[Dias Normales]]-Tabla3[[#This Row],[Dias Trabajados]]","v":0},{"$f":"Tabla3[[#This Row],[Dias ausentes]]*Tabla3[[#This Row],[valor diario]]","v":0},{"$f":"(Tabla3[[#This Row],[TOTAL HABERES]]-DESC.!AD5)-Tabla3[[#This Row],[ANTICIPOS]]","v":1092978.185904},null,30,{"$f":"IF(FV12=\"SI\",(((((Tabla3[[#This Row],[SUELDO BASE]]+Tabla3[[#This Row],[GRATICACION 30 DIAS]])/Tabla3[[#This Row],[Dias Normales]])*7)/45)*Tabla3[[#This Row],[Factor Hora Extra]])*Tabla3[[#This Row],[Horas Extras]],(((((Tabla3[[#This Row],[SUELDO BASE]])/Tabla3[[#This Row],[Dias Normales]])*7)/45)*Tabla3[[#This Row],[Factor Hora Extra]])*Tabla3[[#This Row],[Horas Extras]])","v":0},2,null,null,null,{"$f":"IF($FU$8=\"NO\",Tabla3[[#This Row],[BONO IMPONIBLE 1]],Tabla3[[#This Row],[BONO IMPONIBLE 1]]/Tabla3[[#This Row],[Dias Normales]]*Tabla3[[#This Row],[Dias Trabajados]])","v":0},{"$f":"IF($FU$9=\"NO\",Tabla3[[#This Row],[BONO IMPONIBLE 2]],Tabla3[[#This Row],[BONO IMPONIBLE 2]]/Tabla3[[#This Row],[Dias Normales]]*Tabla3[[#This Row],[Dias Trabajados]])","v":0},{"$f":"IF($FU$10=\"NO\",Tabla3[[#This Row],[NO IMPONIBLE 1]],Tabla3[[#This Row],[NO IMPONIBLE 1]]/Tabla3[[#This Row],[Dias Normales]]*Tabla3[[#This Row],[Dias Trabajados]])","v":0},{"$f":"IF($FU$11=\"NO\",Tabla3[[#This Row],[NO IMPONIBLE 2]],Tabla3[[#This Row],[NO IMPONIBLE 2]]/Tabla3[[#This Row],[Dias Normales]]*Tabla3[[#This Row],[Dias Trabajados]])","v":0},null,null,null,null,null,null,null,null,null,null,null,null,null,null,null,null,null,null,null,null,null,null,null,null,null,null,null,null,null,null,null,null,null,null,null,null,null,null,null,null,null,null,null,null,null,null,null,null,null,null,null,null,null,null,null,null,null,null,null,null,null,null,null,null,null,null,null,null,null,null,null,null,null,null,null,null,null,null,null,null,null,null,null,null,null,null,null,null,null,null,null,null,null,null,null,null,null,null,null,null,null,null,null,null,null,null,null,null,null,null,null,null,null,null,null,null,null,null,null,null,null,null,null,null,null,null,null,null,null,null,null,null,{"$f":"X6","v":"VIATICO"},"NO"]
[null,null,null,null,null,null,null,2,2,"Trabajador 2","25.607.046-4",44986,"Dibujante",900000,{"$f":"Tabla3[[#This Row],[SUELDO BASE]]/Tabla3[[#This Row],[Dias Normales]]","v":30000},{"$f":"IF(Tabla3[[#This Row],[GRATIFICACION]]=\"NO\",0,IF(Tabla3[[#This Row],[SUELDO BASE]]/4<=$T$4,Tabla3[[#This Row],[SUELDO BASE]]/4,$T$4))","v":0},{"$f":"IF($FU$4=\"NO\",Tabla3[[#This Row],[GRATICACION 30 DIAS]],IF(R8=\"SI\",Tabla3[[#This Row],[GRATICACION 30 DIAS]]/Tabla3[[#This Row],[Dias Normales]]*Tabla3[[#This Row],[Dias Trabajados]],0))","v":0},"NO",{"$f":"Tabla3[[#This Row],[Dias Trabajados]]*Tabla3[[#This Row],[valor diario]]+Tabla3[[#This Row],[Gratificacion diario]]+Tabla3[[#This Row],[Valor Hora Extra]]+Tabla3[[#This Row],[BONO IMPONIBLE 12]]+Tabla3[[#This Row],[BONO IMPONIBLE 22]]","v":900000},87500,{"$f":"IF($FU$5=\"NO\",Tabla3[[#This Row],[BONO COLACIÓN]],Tabla3[[#This Row],[BONO COLACIÓN]]/Tabla3[[#This Row],[Dias Normales]]*Tabla3[[#This Row],[Dias Trabajados]])","v":87500},87500,{"$f":"IF($FU$6=\"NO\",Tabla3[[#This Row],[BONO MOVILIZACIÓN]],Tabla3[[#This Row],[BONO MOVILIZACIÓN]]/Tabla3[[#This Row],[Dias Normales]]*Tabla3[[#This Row],[Dias Trabajados]])","v":87500},207438,{"$f":"IF($FU$7=\"NO\",Tabla3[[#This Row],[VIATICO]],Tabla3[[#This Row],[VIATICO]]/Tabla3[[#This Row],[Dias Normales]]*Tabla3[[#This Row],[Dias Trabajados]])","v":207438},{"$f":"Tabla3[[#This Row],[bono colacion2]]+Tabla3[[#This Row],[bono movilizacion2]]+Tabla3[[#This Row],[bono produccion2]]+Tabla3[[#This Row],[NO_IMPONIBLE1]]+Tabla3[[#This Row],[NO_IMPONIBLE2]]","v":382438},30,{"$f":"Tabla3[[#This Row],[total imponible]]+Tabla3[[#This Row],[total no imponible]]","v":1282438},null,{"$f":"Tabla3[[#This Row],[Dias Normales]]-Tabla3[[#This Row],[Dias Trabajados]]","v":0},{"$f":"Tabla3[[#This Row],[Dias ausentes]]*Tabla3[[#This Row],[valor diario]]","v":0},{"$f":"(Tabla3[[#This Row],[TOTAL HABERES]]-DESC.!AD6)-Tabla3[[#This Row],[ANTICIPOS]]","v":1118998},null,30,{"$f":"IF(FV13=\"SI\",(((((Tabla3[[#This Row],[SUELDO BASE]]+Tabla3[[#This Row],[GRATICACION 30 DIAS]])/Tabla3[[#This Row],[Dias Normales]])*7)/45)*Tabla3[[#This Row],[Factor Hora Extra]])*Tabla3[[#This Row],[Horas Extras]],(((((Tabla3[[#This Row],[SUELDO BASE]])/Tabla3[[#This Row],[Dias Normales]])*7)/45)*Tabla3[[#This Row],[Factor Hora Extra]])*Tabla3[[#This Row],[Horas Extras]])","v":0},1.5,null,null,null,{"$f":"IF($FU$8=\"NO\",Tabla3[[#This Row],[BONO IMPONIBLE 1]],Tabla3[[#This Row],[BONO IMPONIBLE 1]]/Tabla3[[#This Row],[Dias Normales]]*Tabla3[[#This Row],[Dias Trabajados]])","v":0},{"$f":"IF($FU$9=\"NO\",Tabla3[[#This Row],[BONO IMPONIBLE 2]],Tabla3[[#This Row],[BONO IMPONIBLE 2]]/Tabla3[[#This Row],[Dias Normales]]*Tabla3[[#This Row],[Dias Trabajados]])","v":0},{"$f":"IF($FU$10=\"NO\",Tabla3[[#This Row],[NO IMPONIBLE 1]],Tabla3[[#This Row],[NO IMPONIBLE 1]]/Tabla3[[#This Row],[Dias Normales]]*Tabla3[[#This Row],[Dias Trabajados]])","v":0},{"$f":"IF($FU$11=\"NO\",Tabla3[[#This Row],[NO IMPONIBLE 2]],Tabla3[[#This Row],[NO IMPONIBLE 2]]/Tabla3[[#This Row],[Dias Normales]]*Tabla3[[#This Row],[Dias Trabajados]])","v":0},null,null,null,null,null,null,null,null,null,null,null,null,null,null,null,null,null,null,null,null,null,null,null,null,null,null,null,null,null,null,null,null,null,null,null,null,null,null,null,null,null,null,null,null,null,null,null,null,null,null,null,null,null,null,null,null,null,null,null,null,null,null,null,null,null,null,null,null,null,null,null,null,null,null,null,null,null,null,null,null,null,null,null,null,null,null,null,null,null,null,null,null,null,null,null,null,null,null,null,null,null,null,null,null,null,null,null,null,null,null,null,null,null,null,null,null,null,null,null,null,null,null,null,null,null,null,null,null,null,null,null,null,{"$f":"Tabla3[[#Headers],[BONO IMPONIBLE 1]]","v":"BONO IMPONIBLE 1"},"NO"]
[null,null,null,null,null,null,null,3,3,"Trabajador 3","16.322.537-9",44986,"Especialista de Control Centralizado",1850000,{"$f":"Tabla3[[#This Row],[SUELDO BASE]]/Tabla3[[#This Row],[Dias Normales]]","v":61666.666666666664},{"$f":"IF(Tabla3[[#This Row],[GRATIFICACION]]=\"NO\",0,IF(Tabla3[[#This Row],[SUELDO BASE]]/4<=$T$4,Tabla3[[#This Row],[SUELDO BASE]]/4,$T$4))","v":0},{"$f":"IF($FU$4=\"NO\",Tabla3[[#This Row],[GRATICACION 30 DIAS]],IF(R9=\"SI\",Tabla3[[#This Row],[GRATICACION 30 DIAS]]/Tabla3[[#This Row],[Dias Normales]]*Tabla3[[#This Row],[Dias Trabajados]],0))","v":0},"NO",{"$f":"Tabla3[[#This Row],[Dias Trabajados]]*Tabla3[[#This Row],[valor diario]]+Tabla3[[#This Row],[Gratificacion diario]]+Tabla3[[#This Row],[Valor Hora Extra]]+Tabla3[[#This Row],[BONO IMPONIBLE 12]]+Tabla3[[#This Row],[BONO IMPONIBLE 22]]","v":1850000},93750,{"$f":"IF($FU$5=\"NO\",Tabla3[[#This Row],[BONO COLACIÓN]],Tabla3[[#This Row],[BONO COLACIÓN]]/Tabla3[[#This Row],[Dias Normales]]*Tabla3[[#This Row],[Dias Trabajados]])","v":93750},93750,{"$f":"IF($FU$6=\"NO\",Tabla3[[#This Row],[BONO MOVILIZACIÓN]],Tabla3[[#This Row],[BONO MOVILIZACIÓN]]/Tabla3[[#This Row],[Dias Normales]]*Tabla3[[#This Row],[Dias Trabajados]])","v":93750},430980,{"$f":"IF($FU$7=\"NO\",Tabla3[[#This Row],[VIATICO]],Tabla3[[#This Row],[VIATICO]]/Tabla3[[#This Row],[Dias Normales]]*Tabla3[[#This Row],[Dias Trabajados]])","v":430980},{"$f":"Tabla3[[#This Row],[bono colacion2]]+Tabla3[[#This Row],[bono movilizacion2]]+Tabla3[[#This Row],[bono produccion2]]+Tabla3[[#This Row],[NO_IMPONIBLE1]]+Tabla3[[#This Row],[NO_IMPONIBLE2]]","v":618480},30,{"$f":"Tabla3[[#This Row],[total imponible]]+Tabla3[[#This Row],[total no imponible]]","v":2468480},null,{"$f":"Tabla3[[#This Row],[Dias Normales]]-Tabla3[[#This Row],[Dias Trabajados]]","v":0},{"$f":"Tabla3[[#This Row],[Dias ausentes]]*Tabla3[[#This Row],[valor diario]]","v":0},{"$f":"(Tabla3[[#This Row],[TOTAL HABERES]]-DESC.!AD7)-Tabla3[[#This Row],[ANTICIPOS]]","v":2098643.8585919999},null,30,{"$f":"IF(FV14=\"SI\",(((((Tabla3[[#This Row],[SUELDO BASE]]+Tabla3[[#This Row],[GRATICACION 30 DIAS]])/Tabla3[[#This Row],[Dias Normales]])*7)/45)*Tabla3[[#This Row],[Factor Hora Extra]])*Tabla3[[#This Row],[Horas Extras]],(((((Tabla3[[#This Row],[SUELDO BASE]])/Tabla3[[#This Row],[Dias Normales]])*7)/45)*Tabla3[[#This Row],[Factor Hora Extra]])*Tabla3[[#This Row],[Horas Extras]])","v":0},1.5,null,null,null,{"$f":"IF($FU$8=\"NO\",Tabla3[[#This Row],[BONO IMPONIBLE 1]],Tabla3[[#This Row],[BONO IMPONIBLE 1]]/Tabla3[[#This Row],[Dias Normales]]*Tabla3[[#This Row],[Dias Trabajados]])","v":0},{"$f":"IF($FU$9=\"NO\",Tabla3[[#This Row],[BONO IMPONIBLE 2]],Tabla3[[#This Row],[BONO IMPONIBLE 2]]/Tabla3[[#This Row],[Dias Normales]]*Tabla3[[#This Row],[Dias Trabajados]])","v":0},{"$f":"IF($FU$10=\"NO\",Tabla3[[#This Row],[NO IMPONIBLE 1]],Tabla3[[#This Row],[NO IMPONIBLE 1]]/Tabla3[[#This Row],[Dias Normales]]*Tabla3[[#This Row],[Dias Trabajados]])","v":0},{"$f":"IF($FU$11=\"NO\",Tabla3[[#This Row],[NO IMPONIBLE 2]],Tabla3[[#This Row],[NO IMPONIBLE 2]]/Tabla3[[#This Row],[Dias Normales]]*Tabla3[[#This Row],[Dias Trabajados]])","v":0},null,null,null,null,null,null,null,null,null,null,null,null,null,null,null,null,null,null,null,null,null,null,null,null,null,null,null,null,null,null,null,null,null,null,null,null,null,null,null,null,null,null,null,null,null,null,null,null,null,null,null,null,null,null,null,null,null,null,null,null,null,null,null,null,null,null,null,null,null,null,null,null,null,null,null,null,null,null,null,null,null,null,null,null,null,null,null,null,null,null,null,null,null,null,null,null,null,null,null,null,null,null,null,null,null,null,null,null,null,null,null,null,null,null,null,null,null,null,null,null,null,null,null,null,null,null,null,null,null,null,null,null,{"$f":"Tabla3[[#Headers],[BONO IMPONIBLE 2]]","v":"BONO IMPONIBLE 2"},"NO"]
[null,null,null,null,null,null,null,4,4,"Trabajador 4","17.486.100-5",44986,"Técnico Control Centralizado",1100000,{"$f":"Tabla3[[#This Row],[SUELDO BASE]]/Tabla3[[#This Row],[Dias Normales]]","v":36666.666666666664},{"$f":"IF(Tabla3[[#This Row],[GRATIFICACION]]=\"NO\",0,IF(Tabla3[[#This Row],[SUELDO BASE]]/4<=$T$4,Tabla3[[#This Row],[SUELDO BASE]]/4,$T$4))","v":0},{"$f":"IF($FU$4=\"NO\",Tabla3[[#This Row],[GRATICACION 30 DIAS]],IF(R10=\"SI\",Tabla3[[#This Row],[GRATICACION 30 DIAS]]/Tabla3[[#This Row],[Dias Normales]]*Tabla3[[#This Row],[Dias Trabajados]],0))","v":0},"NO",{"$f":"Tabla3[[#This Row],[Dias Trabajados]]*Tabla3[[#This Row],[valor diario]]+Tabla3[[#This Row],[Gratificacion diario]]+Tabla3[[#This Row],[Valor Hora Extra]]+Tabla3[[#This Row],[BONO IMPONIBLE 12]]+Tabla3[[#This Row],[BONO IMPONIBLE 22]]","v":1100000},62500,{"$f":"IF($FU$5=\"NO\",Tabla3[[#This Row],[BONO COLACIÓN]],Tabla3[[#This Row],[BONO COLACIÓN]]/Tabla3[[#This Row],[Dias Normales]]*Tabla3[[#This Row],[Dias Trabajados]])","v":62500},62500,{"$f":"IF($FU$6=\"NO\",Tabla3[[#This Row],[BONO MOVILIZACIÓN]],Tabla3[[#This Row],[BONO MOVILIZACIÓN]]/Tabla3[[#This Row],[Dias Normales]]*Tabla3[[#This Row],[Dias Trabajados]])","v":62500},253366,{"$f":"IF($FU$7=\"NO\",Tabla3[[#This Row],[VIATICO]],Tabla3[[#This Row],[VIATICO]]/Tabla3[[#This Row],[Dias Normales]]*Tabla3[[#This Row],[Dias Trabajados]])","v":253366},{"$f":"Tabla3[[#This Row],[bono colacion2]]+Tabla3[[#This Row],[bono movilizacion2]]+Tabla3[[#This Row],[bono produccion2]]+Tabla3[[#This Row],[NO_IMPONIBLE1]]+Tabla3[[#This Row],[NO_IMPONIBLE2]]","v":378366},30,{"$f":"Tabla3[[#This Row],[total imponible]]+Tabla3[[#This Row],[total no imponible]]","v":1478366},null,{"$f":"Tabla3[[#This Row],[Dias Normales]]-Tabla3[[#This Row],[Dias Trabajados]]","v":0},{"$f":"Tabla3[[#This Row],[Dias ausentes]]*Tabla3[[#This Row],[valor diario]]","v":0},{"$f":"(Tabla3[[#This Row],[TOTAL HABERES]]-DESC.!AD8)-Tabla3[[#This Row],[ANTICIPOS]]","v":1283397.8400000001},null,30,{"$f":"IF(FV15=\"SI\",(((((Tabla3[[#This Row],[SUELDO BASE]]+Tabla3[[#This Row],[GRATICACION 30 DIAS]])/Tabla3[[#This Row],[Dias Normales]])*7)/45)*Tabla3[[#This Row],[Factor Hora Extra]])*Tabla3[[#This Row],[Horas Extras]],(((((Tabla3[[#This Row],[SUELDO BASE]])/Tabla3[[#This Row],[Dias Normales]])*7)/45)*Tabla3[[#This Row],[Factor Hora Extra]])*Tabla3[[#This Row],[Horas Extras]])","v":0},1.5,null,null,null,{"$f":"IF($FU$8=\"NO\",Tabla3[[#This Row],[BONO IMPONIBLE 1]],Tabla3[[#This Row],[BONO IMPONIBLE 1]]/Tabla3[[#This Row],[Dias Normales]]*Tabla3[[#This Row],[Dias Trabajados]])","v":0},{"$f":"IF($FU$9=\"NO\",Tabla3[[#This Row],[BONO IMPONIBLE 2]],Tabla3[[#This Row],[BONO IMPONIBLE 2]]/Tabla3[[#This Row],[Dias Normales]]*Tabla3[[#This Row],[Dias Trabajados]])","v":0},{"$f":"IF($FU$10=\"NO\",Tabla3[[#This Row],[NO IMPONIBLE 1]],Tabla3[[#This Row],[NO IMPONIBLE 1]]/Tabla3[[#This Row],[Dias Normales]]*Tabla3[[#This Row],[Dias Trabajados]])","v":0},{"$f":"IF($FU$11=\"NO\",Tabla3[[#This Row],[NO IMPONIBLE 2]],Tabla3[[#This Row],[NO IMPONIBLE 2]]/Tabla3[[#This Row],[Dias Normales]]*Tabla3[[#This Row],[Dias Trabajados]])","v":0},null,null,null,null,null,null,null,null,null,null,null,null,null,null,null,null,null,null,null,null,null,null,null,null,null,null,null,null,null,null,null,null,null,null,null,null,null,null,null,null,null,null,null,null,null,null,null,null,null,null,null,null,null,null,null,null,null,null,null,null,null,null,null,null,null,null,null,null,null,null,null,null,null,null,null,null,null,null,null,null,null,null,null,null,null,null,null,null,null,null,null,null,null,null,null,null,null,null,null,null,null,null,null,null,null,null,null,null,null,null,null,null,null,null,null,null,null,null,null,null,null,null,null,null,null,null,null,null,null,null,null,null,{"$f":"$AW$6","v":"NO IMPONIBLE 1"},"SI"]
[null,null,null,null,null,null,null,5,5,"Trabajador 5","16.932.429-8",44986,"Asistente Documental",460000,{"$f":"Tabla3[[#This Row],[SUELDO BASE]]/Tabla3[[#This Row],[Dias Normales]]","v":15333.333333333334},{"$f":"IF(Tabla3[[#This Row],[GRATIFICACION]]=\"NO\",0,IF(Tabla3[[#This Row],[SUELDO BASE]]/4<=$T$4,Tabla3[[#This Row],[SUELDO BASE]]/4,$T$4))","v":115000},{"$f":"IF($FU$4=\"NO\",Tabla3[[#This Row],[GRATICACION 30 DIAS]],IF(R11=\"SI\",Tabla3[[#This Row],[GRATICACION 30 DIAS]]/Tabla3[[#This Row],[Dias Normales]]*Tabla3[[#This Row],[Dias Trabajados]],0))","v":115000},"SI",{"$f":"Tabla3[[#This Row],[Dias Trabajados]]*Tabla3[[#This Row],[valor diario]]+Tabla3[[#This Row],[Gratificacion diario]]+Tabla3[[#This Row],[Valor Hora Extra]]+Tabla3[[#This Row],[BONO IMPONIBLE 12]]+Tabla3[[#This Row],[BONO IMPONIBLE 22]]","v":575000},25000,{"$f":"IF($FU$5=\"NO\",Tabla3[[#This Row],[BONO COLACIÓN]],Tabla3[[#This Row],[BONO COLACIÓN]]/Tabla3[[#This Row],[Dias Normales]]*Tabla3[[#This Row],[Dias Trabajados]])","v":25000},25000,{"$f":"IF($FU$6=\"NO\",Tabla3[[#This Row],[BONO MOVILIZACIÓN]],Tabla3[[#This Row],[BONO MOVILIZACIÓN]]/Tabla3[[#This Row],[Dias Normales]]*Tabla3[[#This Row],[Dias Trabajados]])","v":25000},131850,{"$f":"IF($FU$7=\"NO\",Tabla3[[#This Row],[VIATICO]],Tabla3[[#This Row],[VIATICO]]/Tabla3[[#This Row],[Dias Normales]]*Tabla3[[#This Row],[Dias Trabajados]])","v":131850},{"$f":"Tabla3[[#This Row],[bono colacion2]]+Tabla3[[#This Row],[bono movilizacion2]]+Tabla3[[#This Row],[bono produccion2]]+Tabla3[[#This Row],[NO_IMPONIBLE1]]+Tabla3[[#This Row],[NO_IMPONIBLE2]]","v":181850},30,{"$f":"Tabla3[[#This Row],[total imponible]]+Tabla3[[#This Row],[total no imponible]]","v":756850},null,{"$f":"Tabla3[[#This Row],[Dias Normales]]-Tabla3[[#This Row],[Dias Trabajados]]","v":0},{"$f":"Tabla3[[#This Row],[Dias ausentes]]*Tabla3[[#This Row],[valor diario]]","v":0},{"$f":"(Tabla3[[#This Row],[TOTAL HABERES]]-DESC.!AD9)-Tabla3[[#This Row],[ANTICIPOS]]","v":655765},null,30,{"$f":"IF(FV16=\"SI\",(((((Tabla3[[#This Row],[SUELDO BASE]]+Tabla3[[#This Row],[GRATICACION 30 DIAS]])/Tabla3[[#This Row],[Dias Normales]])*7)/45)*Tabla3[[#This Row],[Factor Hora Extra]])*Tabla3[[#This Row],[Horas Extras]],(((((Tabla3[[#This Row],[SUELDO BASE]])/Tabla3[[#This Row],[Dias Normales]])*7)/45)*Tabla3[[#This Row],[Factor Hora Extra]])*Tabla3[[#This Row],[Horas Extras]])","v":0},1.5,null,null,null,{"$f":"IF($FU$8=\"NO\",Tabla3[[#This Row],[BONO IMPONIBLE 1]],Tabla3[[#This Row],[BONO IMPONIBLE 1]]/Tabla3[[#This Row],[Dias Normales]]*Tabla3[[#This Row],[Dias Trabajados]])","v":0},{"$f":"IF($FU$9=\"NO\",Tabla3[[#This Row],[BONO IMPONIBLE 2]],Tabla3[[#This Row],[BONO IMPONIBLE 2]]/Tabla3[[#This Row],[Dias Normales]]*Tabla3[[#This Row],[Dias Trabajados]])","v":0},{"$f":"IF($FU$10=\"NO\",Tabla3[[#This Row],[NO IMPONIBLE 1]],Tabla3[[#This Row],[NO IMPONIBLE 1]]/Tabla3[[#This Row],[Dias Normales]]*Tabla3[[#This Row],[Dias Trabajados]])","v":0},{"$f":"IF($FU$11=\"NO\",Tabla3[[#This Row],[NO IMPONIBLE 2]],Tabla3[[#This Row],[NO IMPONIBLE 2]]/Tabla3[[#This Row],[Dias Normales]]*Tabla3[[#This Row],[Dias Trabajados]])","v":0},null,null,null,null,null,null,null,null,null,null,null,null,null,null,null,null,null,null,null,null,null,null,null,null,null,null,null,null,null,null,null,null,null,null,null,null,null,null,null,null,null,null,null,null,null,null,null,null,null,null,null,null,null,null,null,null,null,null,null,null,null,null,null,null,null,null,null,null,null,null,null,null,null,null,null,null,null,null,null,null,null,null,null,null,null,null,null,null,null,null,null,null,null,null,null,null,null,null,null,null,null,null,null,null,null,null,null,null,null,null,null,null,null,null,null,null,null,null,null,null,null,null,null,null,null,null,null,null,null,null,null,null,{"$f":"$AX$6","v":"NO IMPONIBLE 2"},"SI"]
[null,null,null,null,null,null,null,6,6,null,null,null,null,null,{"$f":"Tabla3[[#This Row],[SUELDO BASE]]/Tabla3[[#This Row],[Dias Normales]]","v":0},{"$f":"IF(Tabla3[[#This Row],[GRATIFICACION]]=\"NO\",0,IF(Tabla3[[#This Row],[SUELDO BASE]]/4<=$T$4,Tabla3[[#This Row],[SUELDO BASE]]/4,$T$4))","v":0},{"$f":"IF($FU$4=\"NO\",Tabla3[[#This Row],[GRATICACION 30 DIAS]],IF(R12=\"SI\",Tabla3[[#This Row],[GRATICACION 30 DIAS]]/Tabla3[[#This Row],[Dias Normales]]*Tabla3[[#This Row],[Dias Trabajados]],0))","v":0},"SI",{"$f":"Tabla3[[#This Row],[Dias Trabajados]]*Tabla3[[#This Row],[valor diario]]+Tabla3[[#This Row],[Gratificacion diario]]+Tabla3[[#This Row],[Valor Hora Extra]]+Tabla3[[#This Row],[BONO IMPONIBLE 12]]+Tabla3[[#This Row],[BONO IMPONIBLE 22]]","v":0},null,{"$f":"IF($FU$5=\"NO\",Tabla3[[#This Row],[BONO COLACIÓN]],Tabla3[[#This Row],[BONO COLACIÓN]]/Tabla3[[#This Row],[Dias Normales]]*Tabla3[[#This Row],[Dias Trabajados]])","v":0},null,{"$f":"IF($FU$6=\"NO\",Tabla3[[#This Row],[BONO MOVILIZACIÓN]],Tabla3[[#This Row],[BONO MOVILIZACIÓN]]/Tabla3[[#This Row],[Dias Normales]]*Tabla3[[#This Row],[Dias Trabajados]])","v":0},null,{"$f":"IF($FU$7=\"NO\",Tabla3[[#This Row],[VIATICO]],Tabla3[[#This Row],[VIATICO]]/Tabla3[[#This Row],[Dias Normales]]*Tabla3[[#This Row],[Dias Trabajados]])","v":0},{"$f":"Tabla3[[#This Row],[bono colacion2]]+Tabla3[[#This Row],[bono movilizacion2]]+Tabla3[[#This Row],[bono produccion2]]+Tabla3[[#This Row],[NO_IMPONIBLE1]]+Tabla3[[#This Row],[NO_IMPONIBLE2]]","v":0},30,{"$f":"Tabla3[[#This Row],[total imponible]]+Tabla3[[#This Row],[total no imponible]]","v":0},null,{"$f":"Tabla3[[#This Row],[Dias Normales]]-Tabla3[[#This Row],[Dias Trabajados]]","v":0},{"$f":"Tabla3[[#This Row],[Dias ausentes]]*Tabla3[[#This Row],[valor diario]]","v":0},{"$f":"(Tabla3[[#This Row],[TOTAL HABERES]]-DESC.!AD10)-Tabla3[[#This Row],[ANTICIPOS]]","v":0},null,30,{"$f":"IF(FV17=\"SI\",(((((Tabla3[[#This Row],[SUELDO BASE]]+Tabla3[[#This Row],[GRATICACION 30 DIAS]])/Tabla3[[#This Row],[Dias Normales]])*7)/45)*Tabla3[[#This Row],[Factor Hora Extra]])*Tabla3[[#This Row],[Horas Extras]],(((((Tabla3[[#This Row],[SUELDO BASE]])/Tabla3[[#This Row],[Dias Normales]])*7)/45)*Tabla3[[#This Row],[Factor Hora Extra]])*Tabla3[[#This Row],[Horas Extras]])","v":0},1.5,null,null,null,{"$f":"IF($FU$8=\"NO\",Tabla3[[#This Row],[BONO IMPONIBLE 1]],Tabla3[[#This Row],[BONO IMPONIBLE 1]]/Tabla3[[#This Row],[Dias Normales]]*Tabla3[[#This Row],[Dias Trabajados]])","v":0},{"$f":"IF($FU$9=\"NO\",Tabla3[[#This Row],[BONO IMPONIBLE 2]],Tabla3[[#This Row],[BONO IMPONIBLE 2]]/Tabla3[[#This Row],[Dias Normales]]*Tabla3[[#This Row],[Dias Trabajados]])","v":0},{"$f":"IF($FU$10=\"NO\",Tabla3[[#This Row],[NO IMPONIBLE 1]],Tabla3[[#This Row],[NO IMPONIBLE 1]]/Tabla3[[#This Row],[Dias Normales]]*Tabla3[[#This Row],[Dias Trabajados]])","v":0},{"$f":"IF($FU$11=\"NO\",Tabla3[[#This Row],[NO IMPONIBLE 2]],Tabla3[[#This Row],[NO IMPONIBLE 2]]/Tabla3[[#This Row],[Dias Normales]]*Tabla3[[#This Row],[Dias Trabajados]])","v":0},null,null,null,null,null,null,null,null,null,null,null,null,null,null,null,null,null,null,null,null,null,null,null,null,null,null,null,null,null,null,null,null,null,null,null,null,null,null,null,null,null,null,null,null,null,null,null,null,null,null,null,null,null,null,null,null,null,null,null,null,null,null,null,null,null,null,null,null,null,null,null,null,null,null,null,null,null,null,null,null,null,null,null,null,null,null,null,null,null,null,null,null,null,null,null,null,null,null,null,null,null,null,null,null,null,null,null,null,null,null,null,null,null,null,null,null,null,null,null,null,null,null,null,null,null,null,null,null,null,null,null,null,"INCLUIR GRATIFICACION EN EL CALCULO DE HORA EXTRA",null,"NO"]
[null,null,null,null,null,null,null,7,7,null,null,null,null,null,{"$f":"Tabla3[[#This Row],[SUELDO BASE]]/Tabla3[[#This Row],[Dias Normales]]","v":0},{"$f":"IF(Tabla3[[#This Row],[GRATIFICACION]]=\"NO\",0,IF(Tabla3[[#This Row],[SUELDO BASE]]/4<=$T$4,Tabla3[[#This Row],[SUELDO BASE]]/4,$T$4))","v":0},{"$f":"IF($FU$4=\"NO\",Tabla3[[#This Row],[GRATICACION 30 DIAS]],IF(R13=\"SI\",Tabla3[[#This Row],[GRATICACION 30 DIAS]]/Tabla3[[#This Row],[Dias Normales]]*Tabla3[[#This Row],[Dias Trabajados]],0))","v":0},"SI",{"$f":"Tabla3[[#This Row],[Dias Trabajados]]*Tabla3[[#This Row],[valor diario]]+Tabla3[[#This Row],[Gratificacion diario]]+Tabla3[[#This Row],[Valor Hora Extra]]+Tabla3[[#This Row],[BONO IMPONIBLE 12]]+Tabla3[[#This Row],[BONO IMPONIBLE 22]]","v":0},null,{"$f":"IF($FU$5=\"NO\",Tabla3[[#This Row],[BONO COLACIÓN]],Tabla3[[#This Row],[BONO COLACIÓN]]/Tabla3[[#This Row],[Dias Normales]]*Tabla3[[#This Row],[Dias Trabajados]])","v":0},null,{"$f":"IF($FU$6=\"NO\",Tabla3[[#This Row],[BONO MOVILIZACIÓN]],Tabla3[[#This Row],[BONO MOVILIZACIÓN]]/Tabla3[[#This Row],[Dias Normales]]*Tabla3[[#This Row],[Dias Trabajados]])","v":0},null,{"$f":"IF($FU$7=\"NO\",Tabla3[[#This Row],[VIATICO]],Tabla3[[#This Row],[VIATICO]]/Tabla3[[#This Row],[Dias Normales]]*Tabla3[[#This Row],[Dias Trabajados]])","v":0},{"$f":"Tabla3[[#This Row],[bono colacion2]]+Tabla3[[#This Row],[bono movilizacion2]]+Tabla3[[#This Row],[bono produccion2]]+Tabla3[[#This Row],[NO_IMPONIBLE1]]+Tabla3[[#This Row],[NO_IMPONIBLE2]]","v":0},null,{"$f":"Tabla3[[#This Row],[total imponible]]+Tabla3[[#This Row],[total no imponible]]","v":0},null,{"$f":"Tabla3[[#This Row],[Dias Normales]]-Tabla3[[#This Row],[Dias Trabajados]]","v":30},{"$f":"Tabla3[[#This Row],[Dias ausentes]]*Tabla3[[#This Row],[valor diario]]","v":0},{"$f":"(Tabla3[[#This Row],[TOTAL HABERES]]-DESC.!AD11)-Tabla3[[#This Row],[ANTICIPOS]]","v":0},null,30,{"$f":"IF(FV18=\"SI\",(((((Tabla3[[#This Row],[SUELDO BASE]]+Tabla3[[#This Row],[GRATICACION 30 DIAS]])/Tabla3[[#This Row],[Dias Normales]])*7)/45)*Tabla3[[#This Row],[Factor Hora Extra]])*Tabla3[[#This Row],[Horas Extras]],(((((Tabla3[[#This Row],[SUELDO BASE]])/Tabla3[[#This Row],[Dias Normales]])*7)/45)*Tabla3[[#This Row],[Factor Hora Extra]])*Tabla3[[#This Row],[Horas Extras]])","v":0},1.5,null,null,null,{"$f":"IF($FU$8=\"NO\",Tabla3[[#This Row],[BONO IMPONIBLE 1]],Tabla3[[#This Row],[BONO IMPONIBLE 1]]/Tabla3[[#This Row],[Dias Normales]]*Tabla3[[#This Row],[Dias Trabajados]])","v":0},{"$f":"IF($FU$9=\"NO\",Tabla3[[#This Row],[BONO IMPONIBLE 2]],Tabla3[[#This Row],[BONO IMPONIBLE 2]]/Tabla3[[#This Row],[Dias Normales]]*Tabla3[[#This Row],[Dias Trabajados]])","v":0},{"$f":"IF($FU$10=\"NO\",Tabla3[[#This Row],[NO IMPONIBLE 1]],Tabla3[[#This Row],[NO IMPONIBLE 1]]/Tabla3[[#This Row],[Dias Normales]]*Tabla3[[#This Row],[Dias Trabajados]])","v":0},{"$f":"IF($FU$11=\"NO\",Tabla3[[#This Row],[NO IMPONIBLE 2]],Tabla3[[#This Row],[NO IMPONIBLE 2]]/Tabla3[[#This Row],[Dias Normales]]*Tabla3[[#This Row],[Dias Trabajados]])","v":0}]
[null,null,null,null,null,null,null,8,8,null,null,null,null,null,{"$f":"Tabla3[[#This Row],[SUELDO BASE]]/Tabla3[[#This Row],[Dias Normales]]","v":0},{"$f":"IF(Tabla3[[#This Row],[GRATIFICACION]]=\"NO\",0,IF(Tabla3[[#This Row],[SUELDO BASE]]/4<=$T$4,Tabla3[[#This Row],[SUELDO BASE]]/4,$T$4))","v":0},{"$f":"IF($FU$4=\"NO\",Tabla3[[#This Row],[GRATICACION 30 DIAS]],IF(R14=\"SI\",Tabla3[[#This Row],[GRATICACION 30 DIAS]]/Tabla3[[#This Row],[Dias Normales]]*Tabla3[[#This Row],[Dias Trabajados]],0))","v":0},"SI",{"$f":"Tabla3[[#This Row],[Dias Trabajados]]*Tabla3[[#This Row],[valor diario]]+Tabla3[[#This Row],[Gratificacion diario]]+Tabla3[[#This Row],[Valor Hora Extra]]+Tabla3[[#This Row],[BONO IMPONIBLE 12]]+Tabla3[[#This Row],[BONO IMPONIBLE 22]]","v":0},null,{"$f":"IF($FU$5=\"NO\",Tabla3[[#This Row],[BONO COLACIÓN]],Tabla3[[#This Row],[BONO COLACIÓN]]/Tabla3[[#This Row],[Dias Normales]]*Tabla3[[#This Row],[Dias Trabajados]])","v":0},null,{"$f":"IF($FU$6=\"NO\",Tabla3[[#This Row],[BONO MOVILIZACIÓN]],Tabla3[[#This Row],[BONO MOVILIZACIÓN]]/Tabla3[[#This Row],[Dias Normales]]*Tabla3[[#This Row],[Dias Trabajados]])","v":0},null,{"$f":"IF($FU$7=\"NO\",Tabla3[[#This Row],[VIATICO]],Tabla3[[#This Row],[VIATICO]]/Tabla3[[#This Row],[Dias Normales]]*Tabla3[[#This Row],[Dias Trabajados]])","v":0},{"$f":"Tabla3[[#This Row],[bono colacion2]]+Tabla3[[#This Row],[bono movilizacion2]]+Tabla3[[#This Row],[bono produccion2]]+Tabla3[[#This Row],[NO_IMPONIBLE1]]+Tabla3[[#This Row],[NO_IMPONIBLE2]]","v":0},null,{"$f":"Tabla3[[#This Row],[total imponible]]+Tabla3[[#This Row],[total no imponible]]","v":0},null,{"$f":"Tabla3[[#This Row],[Dias Normales]]-Tabla3[[#This Row],[Dias Trabajados]]","v":30},{"$f":"Tabla3[[#This Row],[Dias ausentes]]*Tabla3[[#This Row],[valor diario]]","v":0},{"$f":"(Tabla3[[#This Row],[TOTAL HABERES]]-DESC.!AD12)-Tabla3[[#This Row],[ANTICIPOS]]","v":0},null,30,{"$f":"IF(FV19=\"SI\",(((((Tabla3[[#This Row],[SUELDO BASE]]+Tabla3[[#This Row],[GRATICACION 30 DIAS]])/Tabla3[[#This Row],[Dias Normales]])*7)/45)*Tabla3[[#This Row],[Factor Hora Extra]])*Tabla3[[#This Row],[Horas Extras]],(((((Tabla3[[#This Row],[SUELDO BASE]])/Tabla3[[#This Row],[Dias Normales]])*7)/45)*Tabla3[[#This Row],[Factor Hora Extra]])*Tabla3[[#This Row],[Horas Extras]])","v":0},1.5,null,null,null,{"$f":"IF($FU$8=\"NO\",Tabla3[[#This Row],[BONO IMPONIBLE 1]],Tabla3[[#This Row],[BONO IMPONIBLE 1]]/Tabla3[[#This Row],[Dias Normales]]*Tabla3[[#This Row],[Dias Trabajados]])","v":0},{"$f":"IF($FU$9=\"NO\",Tabla3[[#This Row],[BONO IMPONIBLE 2]],Tabla3[[#This Row],[BONO IMPONIBLE 2]]/Tabla3[[#This Row],[Dias Normales]]*Tabla3[[#This Row],[Dias Trabajados]])","v":0},{"$f":"IF($FU$10=\"NO\",Tabla3[[#This Row],[NO IMPONIBLE 1]],Tabla3[[#This Row],[NO IMPONIBLE 1]]/Tabla3[[#This Row],[Dias Normales]]*Tabla3[[#This Row],[Dias Trabajados]])","v":0},{"$f":"IF($FU$11=\"NO\",Tabla3[[#This Row],[NO IMPONIBLE 2]],Tabla3[[#This Row],[NO IMPONIBLE 2]]/Tabla3[[#This Row],[Dias Normales]]*Tabla3[[#This Row],[Dias Trabajados]])","v":0}]
[null,null,null,null,null,null,null,9,9,null,null,null,null,null,{"$f":"Tabla3[[#This Row],[SUELDO BASE]]/Tabla3[[#This Row],[Dias Normales]]","v":0},{"$f":"IF(Tabla3[[#This Row],[GRATIFICACION]]=\"NO\",0,IF(Tabla3[[#This Row],[SUELDO BASE]]/4<=$T$4,Tabla3[[#This Row],[SUELDO BASE]]/4,$T$4))","v":0},{"$f":"IF($FU$4=\"NO\",Tabla3[[#This Row],[GRATICACION 30 DIAS]],IF(R15=\"SI\",Tabla3[[#This Row],[GRATICACION 30 DIAS]]/Tabla3[[#This Row],[Dias Normales]]*Tabla3[[#This Row],[Dias Trabajados]],0))","v":0},"SI",{"$f":"Tabla3[[#This Row],[Dias Trabajados]]*Tabla3[[#This Row],[valor diario]]+Tabla3[[#This Row],[Gratificacion diario]]+Tabla3[[#This Row],[Valor Hora Extra]]+Tabla3[[#This Row],[BONO IMPONIBLE 12]]+Tabla3[[#This Row],[BONO IMPONIBLE 22]]","v":0},null,{"$f":"IF($FU$5=\"NO\",Tabla3[[#This Row],[BONO COLACIÓN]],Tabla3[[#This Row],[BONO COLACIÓN]]/Tabla3[[#This Row],[Dias Normales]]*Tabla3[[#This Row],[Dias Trabajados]])","v":0},null,{"$f":"IF($FU$6=\"NO\",Tabla3[[#This Row],[BONO MOVILIZACIÓN]],Tabla3[[#This Row],[BONO MOVILIZACIÓN]]/Tabla3[[#This Row],[Dias Normales]]*Tabla3[[#This Row],[Dias Trabajados]])","v":0},null,{"$f":"IF($FU$7=\"NO\",Tabla3[[#This Row],[VIATICO]],Tabla3[[#This Row],[VIATICO]]/Tabla3[[#This Row],[Dias Normales]]*Tabla3[[#This Row],[Dias Trabajados]])","v":0},{"$f":"Tabla3[[#This Row],[bono colacion2]]+Tabla3[[#This Row],[bono movilizacion2]]+Tabla3[[#This Row],[bono produccion2]]+Tabla3[[#This Row],[NO_IMPONIBLE1]]+Tabla3[[#This Row],[NO_IMPONIBLE2]]","v":0},null,{"$f":"Tabla3[[#This Row],[total imponible]]+Tabla3[[#This Row],[total no imponible]]","v":0},null,{"$f":"Tabla3[[#This Row],[Dias Normales]]-Tabla3[[#This Row],[Dias Trabajados]]","v":30},{"$f":"Tabla3[[#This Row],[Dias ausentes]]*Tabla3[[#This Row],[valor diario]]","v":0},{"$f":"(Tabla3[[#This Row],[TOTAL HABERES]]-DESC.!AD13)-Tabla3[[#This Row],[ANTICIPOS]]","v":0},null,30,{"$f":"IF(FV20=\"SI\",(((((Tabla3[[#This Row],[SUELDO BASE]]+Tabla3[[#This Row],[GRATICACION 30 DIAS]])/Tabla3[[#This Row],[Dias Normales]])*7)/45)*Tabla3[[#This Row],[Factor Hora Extra]])*Tabla3[[#This Row],[Horas Extras]],(((((Tabla3[[#This Row],[SUELDO BASE]])/Tabla3[[#This Row],[Dias Normales]])*7)/45)*Tabla3[[#This Row],[Factor Hora Extra]])*Tabla3[[#This Row],[Horas Extras]])","v":0},1.5,null,null,null,{"$f":"IF($FU$8=\"NO\",Tabla3[[#This Row],[BONO IMPONIBLE 1]],Tabla3[[#This Row],[BONO IMPONIBLE 1]]/Tabla3[[#This Row],[Dias Normales]]*Tabla3[[#This Row],[Dias Trabajados]])","v":0},{"$f":"IF($FU$9=\"NO\",Tabla3[[#This Row],[BONO IMPONIBLE 2]],Tabla3[[#This Row],[BONO IMPONIBLE 2]]/Tabla3[[#This Row],[Dias Normales]]*Tabla3[[#This Row],[Dias Trabajados]])","v":0},{"$f":"IF($FU$10=\"NO\",Tabla3[[#This Row],[NO IMPONIBLE 1]],Tabla3[[#This Row],[NO IMPONIBLE 1]]/Tabla3[[#This Row],[Dias Normales]]*Tabla3[[#This Row],[Dias Trabajados]])","v":0},{"$f":"IF($FU$11=\"NO\",Tabla3[[#This Row],[NO IMPONIBLE 2]],Tabla3[[#This Row],[NO IMPONIBLE 2]]/Tabla3[[#This Row],[Dias Normales]]*Tabla3[[#This Row],[Dias Trabajados]])","v":0}]
[]
[]
[]
[]
[]
[]
[]
[]
[]
[]
[]
[]
[]
[]
[]
[null,null,null,null,null,null,null,null,null,null,null,null,null,null,null,null,null,null,null,null,null,null,null,null,null,null,null,null,null,null,null,null,null,null,null,null,null,null,null,null,null,null,null,null,null,null,null,null,null,null,null,null,null,null,null,null,null,null,null,null,null,null,null,null,null,null,null,null,null,null,null,null,null,null,null,null,null,null,null,null,null,null,null,null,null,null,null,null,null,null,null,null,null,null,null,null,null,null,null,null,null,null,null,null,null,null,null,null,null,null,null,null,null,null,null,null,null,null,null,null,null,null,null,null,null,null,null,null,null,null,null,null,null,null,null,null,null,null,null,null,null,null,null,null,null,null,null,null,null,null,null,null,null,null,null,null,null,null,null,null,null,null,null,null,null,null,null,null,null,null,null,null,null,null,null,null,null,null,null,null,null,null,null,null,null,null,null,null,null,null,null,null,null,null,null,null,null,null,null,null,null,null,null,null,null,null,null,null,null,null,null,null,null,null,null,null,null,null,null,null,null,null,null,null,null,null,null,null,null,null,null,null,null,null,null,null,null,null,null,null,null,null,null,null,null,null,null,null,null,null,null,null,null,null,null,null,null,null,null,null,null,null,null,null,null,null,null,null,null,null,null,null,null,null,null,null,null,null,null,null,null,null,null,null,null,null,null,null,null,null,null,null,null,null,null,null,null,null,null,null,null,null,null,null,null,null,null,null,null,null,null,null,null,null,null,null,null,null,null,null,null,null,null,null,null,null,null,null,null,null,null,null,null,null,null,null,null,null,null,null,null,null,null,null,null,null,null,null,null,null,null,null,null,null,null,null,null,null,null,null,null,null,null,null,null,null,null,null,null,null,null,null,null,null,null,null,null,null,null,null,null,null,null,null,null,null,null,null,null,null,null,null,null,null,null,null,null,null,null,null,null,null,null,null,null,null,null,null,null,null,null,null,null,null,null,null,null,null,null,null,null,null,null,null,null,null,null,null,null,null,null,null,null,null,null,null,null,null,null,null,null,null,null,null,null,null,null,null,null,null,null,null,null,null,null,null,null,null,null,null,null,null,null,null,null,null,null,null,null,null,null,null,null,null,null,null,null,null,null,null,null,null,null,null,null,null,null,null,null,null,null,null,null,null,null,null,null,null,null,null,null,null,null,null,null,null,null,null,null,null,null,null,null,null,null,null,null,null,null,null,null,null,null,null,null,null,null,null,null,null,null,null,null,null,null,null,null,null,null,null,null,null,null,null,null,null,null,null,null,null,null,null,null,null,null,null,null,null,null,null,null,null,null,null,null,null,null,null,null,null,null,null,null,null,null,null,null,null,null,null,null,null,null,null,null,null,null,null,null,null,null,null,null,null,null,null,null,null,null,null,null,null,null,null,null,null,null,null,null,null,null,null,null,null,null,null,null,null,null,null,null,null,null,null,null,null,null,null,null,null,null,null,null,null,null,null,null,null,null,null,null,null,null,null,null,null,null,null,null,null,null,null,null,null,null,null,null,null,null,null,null,null,null,null,null,null,null,null,null,null,null,null,null,null,null,null,null,null,null,null,null,null,null,null,null,null,null,null,null,null,null,null,null,null,null,null,null,null,null,null,null,null,null,null,null,null,null,null,null,null,null,null,null,null,null,null,null,null,null,null,null,null,null,null,null,null,null,null,null,null,null,null,null,null,null,null,null,null,null,null,null,null,null,null,null,null,null,null,null,null,null,null,null,null,null,null,null,null,null,null,null,null,null,null,null,null,null,null,null,null,null,null,null,null,null,null,null,null,null,null,null,null,null,null,null,null,null,null,null,null,null,null,null,null,null,null,null,null,null,null,null,null,null,null,null,null,null,null,null,null,null,null,null,null,null,null,null,null,null,null,null,null,null,null,null,null,null,null,null,null,null,null,null,null,null,null,null,null,null,null,null,null,null,null,null,null,null,null,null,null,null,null,null,null,null,null,null,null,null,null,null,null,null,null,null,null,null,null,null,null,null,null,null,null,null,null,null,null,null,null,null,null,null,null,null,null,null,null,null,null,null,null,null,null,null,null,null,null,null,null,null,null,null,null,null,null,null,null,null,null,null,null,null,null,null,null,null,null,null,null,null,null,null,null,null,null,null,null,null,null,null,null,null,null,null,null,null,null,null,null,null,null,null,null,null,null,null,null,null,null,null,null,null,null,null,null,null,null,null,null,null,null,null,null,null,null,null,null,null,null,null,null,null,null,null,null,null,null,null,null,null,null,null,null,null,null,null,null,null,null,null,null,null,null,null,null,null,null,null,null,null,null,null,null,null,null,null,null,null,null,null,null,null,null,null,null,null,null,null,null,null,null,null,null,null,null,null,null,null,null,null,null,null,null,null,null,null,null,null,null,null,null,null,null,null,null,null,null,null,null,null,null,null,null,null,null,null,null,null,null,null,null,null,null,null,null,null,null,null,null,null,null,null,null,null,null,null,null,null,null,null,null,null,null,null,null,null,null,null,null,null,null,null,null,null,null,null,null,null,null,null,null,null,null,null,null,null,null,null,null,null,null,null,null,null,null,null,null,null,null,null,null,null,null,null,null,null,null,null,null,null,null,null,null,null,null,null,null,null,null,null,null,null,null,null,null,null,null,null,null,null,null,null,null,null,null,null,null,null,null,null,null,null,null,null,null,null,null,null,null,null,null,null,null,null,null,null,null,null,null,null,null,null,null,null,null,null,null,null,null,null,null,null,null,null,null,null,null,null,null,null,null,null,null,null,null,null,null,null,null,null,null,null,null,null,null,null,null,null,null,null,null,null,null,null,null,null,null,null,null,null,null,null,null,null,null,null,null,null,null,null,null,null,null,null,null,null,null,null,null,null,null,null,null,null,null,null,null,null,null,null,null,null,null,null,null,null,null,null,null,null,null,null,null,null,null,null,null,null,null,null,null,null,null,null,null,null,null,null,null,null,null,null,null,null,null,null,null,null,null,null,null,null,null,null,null,null,null,null,null,null,null,null,null,null,null,null,null,null,null,null,null,null,null,null,null,null,null,null,null,null,null,null,null,null,null,null,null,null,null,null,null,null,null,null,null,null,null,null,null,null,null,null,null,null,null,null,null,null,null,null,null,null,null,null,null,null,null,null,null,null,null,null,null,null,null,null,null,null,null,null,null,null,null,null,null,null,null,null,null,null,null,null,null,null,null,null,null,null,null,null,null,null,null,null,null,null,null,null,null,null,null,null,null,null,null,null,null,null,null,null,null,null,null,null,null,null,null,null,null,null,null,null,null,null,null,null,null,null,null,null,null,null,null,null,null,null,null,null,null,null,null,null,null,null,null,null,null,null,null,null,null,null,null,null,null,null,null,null,null,null,null,null,null,null,null,null,null,null,null,null,null,null,null,null,null,null,null,null,null,null,null,null,null,null,null,null,null,null,null,null,null,null,null,null,null,null,null,null,null,null,null,null,null,null,null,null,null,null,null,null,null,null,null,null,null,null,null,null,null,null,null,null,null,null,null,null,null,null,null,null,null,null,null,null,null,null,null,null,null,null,null,null,null,null,null,null,null,null,null,null,null,null,null,null,null,null,null,null,null,null,null,null,null,null,null,null,null,null,null,null,null,null,null,null,null,null,null,null,null,null,null,null,null,null,null,null,null,null,null,null,null,null,null,null,null,null,null,null,null,null,null,null,null,null,null,null,null,null,null,null,null,null,null,null,null,null,null,null,null,null,null,null,null,null,null,null,null,null,null,null,null,null,null,null,null,null,null,null,null,null,null,null,null,null,null,null,null,null,null,null,null,null,null,null,null,null,null,null,null,null,null,null,null,null,null,null,null,null,null,null,null,null,null,null,null,null,null,null,null,null,null,null,null,null,null,null,null,null,null,null,null,null,null,null,null,null,null,null,null,null,null,null,null,null,null,null,null,null,null,null,null,null,null,null,null,null,null,null,null,null,null,null,null,null,null,null,null,null,null,null,null,null,null,null,null,null,null,null,null,null,null,null,null,null,null,null,null,null,null,null,null,null,null,null,null,null,null,null,null,null,null,null,null,null,null,null,null,null,null,null,null,null,null,null,null,null,null,null,null,null,null,null,null,null,null,null,null,null,null,null,null,null,null,null,null,null,null,null,null,null,null,null,null,null,null,null,null,null,null,null,null,null,null,null,null,null,null,null,null,null,null,null,null,null,null,null,null,null,null,null,null,null,null,null,null,null,null,null,null,null,null,null,null,null,null,null,null,null,null,null,null,null,null,null,null,null,null,null,null,null,null,null,null,null,null,null,null,null,null,null,null,null,null,null,null,null,null,null,null,null,null,null,null,null,null,null,null,null,null,null,null,null,null,null,null,null,null,null,null,null,null,null,null,null,null,null,null,null,null,null,null,null,null,null,null,null,null,null,null,null,null,null,null,null,null,null,null,null,null,null,null,null,null,null,null,null,null,null,null,null,null,null,null,null,null,null,null,null,null,null,null,null,null,null,null,null,null,null,null,null,null,null,null,null,null,null,null,null,null,null,null,null,null,null,null,null,null,null,null,null,null,null,null,null,null,null,null,null,null,null,null,null,null,null,null,null,null,null,null,null,null,null,null,null,null,null,null,null,null,null,null,null,null,null,null,null,null,null,null,null,null,null,null,null,null,null,null,null,null,null,null,null,null,null,null,null,null,null,null,null,null,null,null,null,null,null,null,null,null,null,null,null,null,null,null,null,null,null,null,null,null,null,null,null,null,null,null,null,null,null,null,null,null,null,null,null,null,null,null,null,null,null,null,null,null,null,null,null,null,null,null,null,null,null,null,null,null,null,null,null,null,null,null,null,null,null,null,null,null,null,null,null,null,null,null,null,null,null,null,null,null,null,null,null,null,null,null,null,null,null,null,null,null,null,null,null,null,null,null,null,null,null,null,null,null,null,null,null,null,null,null,null,null,null,null,null,null,null,null,null,null,null,null,null,null,null,null,null,null,null,null,null,null,null,null,null,null,null,null,null,null,null,null,null,null,null,null,null,null,null,null,null,null,null,null,null,null,null,null,null,null,null,null,null,null,null,null,null,null,null,null,null,null,null,null,null,null,null,null,null,null,null,null,null,null,null,null,null,null,null,null,null,null,null,null,null,null,null,null,null,null,null,null,null,null,null,null,null,null,null,null,null,null,null,null,null,null,null,null,null,null,null,null,null,null,null,null,null,null,null,null,null,null,null,null,null,null,null,null,null,null,null,null,null,null,null,null,null,null,null,null,null,null,null,null,null,null,null,null,null,null,null,null,null,null,null,null,null,null,null,null,null,null,null,null,null,null,null,null,null,null,null,null,null,null,null,null,null,null,null,null,null,null,null,null,null,null,null,null,null,null,null,null,null,null,null,null,null,null,null,null,null,null,null,null,null,null,null,null,null,null,null,null,null,null,null,null,null,null,null,null,null,null,null,null,null,null,null,null,null,null,null,null,null,null,null,null,null,null,null,null,null,null,null,null,null,null,null,null,null,null,null,null,null,null,null,null,null,null,null,null,null,null,null,null,null,null,null,null,null,null,null,null,null,null,null,null,null,null,null,null,null,null,null,null,null,null,null,null,null,null,null,null,null,null,null,null,null,null,null,null,null,null,null,null,null,null,null,null,null,null,null,null,null,null,null,null,null,null,null,null,null,null,null,null,null,null,null,null,null,null,null,null,null,null,null,null,null,null,null,null,null,null,null,null,null,null,null,null,null,null,null,null,null,null,null,null,null,null,null,null,null,null,null,null,null,null,null,null,null,null,null,null,null,null,null,null,null,null,null,null,null,null,null,null,null,null,null,null,null,null,null,null,null,null,null,null,null,null,null,null,null,null,null,null,null,null,null,null,null,null,null,null,null,null,null,null,null,null,null,null,null,null,null,null,null,null,null,null,null,null,null,null,null,null,null,null,null,null,null,null,null,null,null,null,null,null,null,null,null,null,null,null,null,null,null,null,null,null,null,null,null,null,null,null,null,null,null,null,null,null,null,null,null,null,null,null,null,null,null,null,null,null,null,null,null,null,null,null,null,null,null,null,null,null,null,null,null,null,null,null,null,null,null,null,null,null,null,null,null,null,null,null,null,null,null,null,null,null,null,null,null,null,null,null,null,null,null,null,null,null,null,null,null,null,null,null,null,null,null,null,null,null,null,null,null,null,null,null,null,null,null,null,null,null,null,null,null,null,null,null,null,null,null,null,null,null,null,null,null,null,null,null,null,null,null,null,null,null,null,null,null,null,null,null,null,null,null,null,null,null,null,null,null,null,null,null,null,null,null,null,null,null,null,null,null,null,null,null,null,null,null,null,null,null,null,null,null,null,null,null,null,null,null,null,null,null,null,null,null,null,null,null,null,null,null,null,null,null,null,null,null,null,null,null,null,null,null,null,null,null,null,null,null,null,null,null,null,null,null,null,null,null,null,null,null,null,null,null,null,null,null,null,null,null,null,null,null,null,null,null,null,null,null,null,null,null,null,null,null,null,null,null,null,null,null,null,null,null,null,null,null,null,null,null,null,null,null,null,null,null,null,null,null,null,null,null,null,null,null,null,null,null,null,null,null,null,null,null,null,null,null,null,null,null,null,null,null,null,null,null,null,null,null,null,null,null,null,null,null,null,null,null,null,null,null,null,null,null,null,null,null,null,null,null,null,null,null,null,null,null,null,null,null,null,null,null,null,null,null,null,null,null,null,null,null,null,null,null,null,null,null,null,null,null,null,null,null,null,null,null,null,null,null,null,null,null,null,null,null,null,null,null,null,null,null,null,null,null,null,null,null,null,null,null,null,null,null,null,null,null,null,null,null,null,null,null,null,null,null,null,null,null,null,null,null,null,null,null,null,null,null,null,null,null,null,null,null,null,null,null,null,null,null,null,null,null,null,null,null,null,null,null,null,null,null,null,null,null,null,null,null,null,null,null,null,null,null,null,null,null,null,null,null,null,null,null,null,null,null,null,null,null,null,null,null,null,null,null,null,null,null,null,null,null,null,null,null,null,null,null,null,null,null,null,null,null,null,null,null,null,null,null,null,null,null,null,null,null,null,null,null,null,null,null,null,null,null,null,null,null,null,null,null,null,null,null,null,null,null,null,null,null,null,null,null,null,null,null,null,null,null,null,null,null,null,null,null,null,null,null,null,null,null,null,null,null,null,null,null,null,null,null,null,null,null,null,null,null,null,null,null,null,null,null,null,null,null,null,null,null,null,null,null,null,null,null,null,null,null,null,null,null,null,null,null,null,null,null,null,null,null,null,null,null,null,null,null,null,null,null,null,null,null,null,null,null,null,null,null,null,null,null,null,null,null,null,null,null,null,null,null,null,null,null,null,null,null,null,null,null,null,null,null,null,null,null,null,null,null,null,null,null,null,null,null,null,null,null,null,null,null,null,null,null,null,null,null,null,null,null,null,null,null,null,null,null,null,null,null,null,null,null,null,null,null,null,null,null,null,null,null,null,null,null,null,null,null,null,null,null,null,null,null,null,null,null,null,null,null,null,null,null,null,null,null,null,null,null,null,null,null,null,null,null,null,null,null,null,null,null,null,null,null,null,null,null,null,null,null,null,null,null,null,null,null,null,null,null,null,null,null,null,null,null,null,null,null,null,null,null,null,null,null,null,null,null,null,null,null,null,null,null,null,null,null,null,null,null,null,null,null,null,null,null,null,null,null,null,null,null,null,null,null,null,null,null,null,null,null,null,null,null,null,null,null,null,null,null,null,null,null,null,null,null,null,null,null,null,null,null,null,null,null,null,null,null,null,null,null,null,null,null,null,null,null,null,null,null,null,null,null,null,null,null,null,null,null,null,null,null,null,null,null,null,null,null,null,null,null,null,null,null,null,null,null,null,null,null,null,null,null,null,null,null,null,null,null,null,null,null,null,null,null,null,null,null,null,null,null,null,null,null,null,null,null,null,null,null,null,null,null,null,null,null,null,null,null,null,null,null,null,null,null,null,null,null,null,null,null,null,null,null,null,null,null,null,null,null,null,null,null,null,null,null,null,null,null,null,null,null,null,null,null,null,null,null,null,null,null,null,null,null,null,null,null,null,null,null,null,null,null,null,null,null,null,null,null,null,null,null,null,null,null,null,null,null,null,null,null,null,null,null,null,null,null,null,null,null,null,null,null,null,null,null,null,null,null,null,null,null,null,null,null,null,null,null,null,null,null,null,null,null,null,null,null,null,null,null,null,null,null,null,null,null,null,null,null,null,null,null,null,null,null,null,null,null,null,null,null,null,null,null,null,null,null,null,null,null,null,null,null,null,null,null,null,null,null,null,null,null,null,null,null,null,null,null,null,null,null,null,null,null,null,null,null,null,null,null,null,null,null,null,null,null,null,null,null,null,null,null,null,null,null,null,null,null,null,null,null,null,null,null,null,null,null,null,null,null,null,null,null,null,null,null,null,null,null,null,null,null,null,null,null,null,null,null,null,null,null,null,null,null,null,null,null,null,null,null,null,null,null,null,null,null,null,null,null,null,null,null,null,null,null,null,null,null,null,null,null,null,null,null,null,null,null,null,null,null,null,null,null,null,null,null,null,null,null,null,null,null,null,null,null,null,null,null,null,null,null,null,null,null,null,null,null,null,null,null,null,null,null,null,null,null,null,null,null,null,null,null,null,null,null,null,null,null,null,null,null,null,null,null,null,null,null,null,null,null,null,null,null,null,null,null,null,null,null,null,null,null,null,null,null,null,null,null,null,null,null,null,null,null,null,null,null,null,null,null,null,null,null,null,null,null,null,null,null,null,null,null,null,null,null,null,null,null,null,null,null,null,null,null,null,null,null,null,null,null,null,null,null,null,null,null,null,null,null,null,null,null,null,null,null,null,null,null,null,null,null,null,null,null,null,null,null,null,null,null,null,null,null,null,null,null,null,null,null,null,null,null,null,null,null,null,null,null,null,null,null,null,null,null,null,null,null,null,null,null,null,null,null,null,null,null,null,null,null,null,null,null,null,null,null,null,null,null,null,null,null,null,null,null,null,null,null,null,null,null,null,null,null,null,null,null,null,null,null,null,null,null,null,null,null,null,null,null,null,null,null,null,null,null,null,null,null,null,null,null,null,null,null,null,null,null,null,null,null,null,null,null,null,null,null,null,null,null,null,null,null,null,null,null,null,null,null,null,null,null,null,null,null,null,null,null,null,null,null,null,null,null,null,null,null,null,null,null,null,null,null,null,null,null,null,null,null,null,null,null,null,null,null,null,null,null,null,null,null,null,null,null,null,null,null,null,null,null,null,null,null,null,null,null,null,null,null,null,null,null,null,null,null,null,null,null,null,null,null,null,null,null,null,null,null,null,null,null,null,null,null,null,null,null,null,null,null,null,null,null,null,null,null,null,null,null,null,null,null,null,null,null,null,null,null,null,null,null,null,null,null,null,null,null,null,null,null,null,null,null,null,null,null,null,null,null,null,null,null,null,null,null,null,null,null,null,null,null,null,null,null,null,null,null,null,null,null,null,null,null,null,null,null,null,null,null,null,null,null,null,null,null,null,null,null,null,null,null,null,null,null,null,null,null,null,null,null,null,null,null,null,null,null,null,null,null,null,null,null,null,null,null,null,null,null,null,null,null,null,null,null,null,null,null,null,null,null,null,null,null,null,null,null,null,null,null,null,null,null,null,null,null,null,null,null,null,null,null,null,null,null,null,null,null,null,null,null,null,null,null,null,null,null,null,null,null,null,null,null,null,null,null,null,null,null,null,null,null,null,null,null,null,null,null,null,null,null,null,null,null,null,null,null,null,null,null,null,null,null,null,null,null,null,null,null,null,null,null,null,null,null,null,null,null,null,null,null,null,null,null,null,null,null,null,null,null,null,null,null,null,null,null,null,null,null,null,null,null,null,null,null,null,null,null,null,null,null,null,null,null,null,null,null,null,null,null,null,null,null,null,null,null,null,null,null,null,null,null,null,null,null,null,null,null,null,null,null,null,null,null,null,null,null,null,null,null,null,null,null,null,null,null,null,null,null,null,null,null,null,null,null,null,null,null,null,null,null,null,null,null,null,null,null,null,null,null,null,null,null,null,null,null,null,null,null,null,null,null,null,null,null,null,null,null,null,null,null,null,null,null,null,null,null,null,null,null,null,null,null,null,null,null,null,null,null,null,null,null,null,null,null,null,null,null,null,null,null,null,null,null,null,null,null,null,null,null,null,null,null,null,null,null,null,null,null,null,null,null,null,null,null,null,null,null,null,null,null,null,null,null,null,null,null,null,null,null,null,null,null,null,null,null,null,null,null,null,null,null,null,null,null,null,null,null,null,null,null,null,null,null,null,null,null,null,null,null,null,null,null,null,null,null,null,null,null,null,null,null,null,null,null,null,null,null,null,null,null,null,null,null,null,null,null,null,null,null,null,null,null,null,null,null,null,null,null,null,null,null,null,null,null,null,null,null,null,null,null,null,null,null,null,null,null,null,null,null,null,null,null,null,null,null,null,null,null,null,null,null,null,null,null,null,null,null,null,null,null,null,null,null,null,null,null,null,null,null,null,null,null,null,null,null,null,null,null,null,null,null,null,null,null,null,null,null,null,null,null,null,null,null,null,null,null,null,null,null,null,null,null,null,null,null,null,null,null,null,null,null,null,null,null,null,null,null,null,null,null,null,null,null,null,null,null,null,null,null,null,null,null,null,null,null,null,null,null,null,null,null,null,null,null,null,null,null,null,null,null,null,null,null,null,null,null,null,null,null,null,null,null,null,null,null,null,null,null,null,null,null,null,null,null,null,null,null,null,null,null,null,null,null,null,null,null,null,null,null,null,null,null,null,null,null,null,null,null,null,null,null,null,null,null,null,null,null,null,null,null,null,null,null,null,null,null,null,null,null,null,null,null,null,null,null,null,null,null,null,null,null,null,null,null,null,null,null,null,null,null,null,null,null,null,null,null,null,null,null,null,null,null,null,null,null,null,null,null,null,null,null,null,null,null,null,null,null,null,null,null,null,null,null,null,null,null,null,null,null,null,null,null,null,null,null,null,null,null,null,null,null,null,null,null,null,null,null,null,null,null,null,null,null,null,null,null,null,null,null,null,null,null,null,null,null,null,null,null,null,null,null,null,null,null,null,null,null,null,null,null,null,null,null,null,null,null,null,null,null,null,null,null,null,null,null,null,null,null,null,null,null,null,null,null,null,null,null,null,null,null,null,null,null,null,null,null,null,null,null,null,null,null,null,null,null,null,null,null,null,null,null,null,null,null,null,null,null,null,null,null,null,null,null,null,null,null,null,null,null,null,null,null,null,null,null,null,null,null,null,null,null,null,null,null,null,null,null,null,null,null,null,null,null,null,null,null,null,null,null,null,null,null,null,null,null,null,null,null,null,null,null,null,null,null,null,null,null,null,null,null,null,null,null,null,null,null,null,null,null,null,null,null,null,null,null,null,null,null,null,null,null,null,null,null,null,null,null,null,null,null,null,null,null,null,null,null,null,null,null,null,null,null,null,null,null,null,null,null,null,null,null,null,null,null,null,null,null,null,null,null,null,null,null,null,null,null,null,null,null,null,null,null,null,null,null,null,null,null,null,null,null,null,null,null,null,null,null,null,null,null,null,null,null,null,null,null,null,null,null,null,null,null,null,null,null,null,null,null,null,null,null,null,null,null,null,null,null,null,null,null,null,null,null,null,null,null,null,null,null,null,null,null,null,null,null,null,null,null,null,null,null,null,null,null,null,null,null,null,null,null,null,null,null,null,null,null,null,null,null,null,null,null,null,null,null,null,null,null,null,null,null,null,null,null,null,null,null,null,null,null,null,null,null,null,null,null,null,null,null,null,null,null,null,null,null,null,null,null,null,null,null,null,null,null,null,null,null,null,null,null,null,null,null,null,null,null,null,null,null,null,null,null,null,null,null,null,null,null,null,null,null,null,null,null,null,null,null,null,null,null,null,null,null,null,null,null,null,null,null,null,null,null,null,null,null,null,null,null,null,null,null,null,null,null,null,null,null,null,null,null,null,null,null,null,null,null,null,null,null,null,null,null,null,null,null,null,null,null,null,null,null,null,null,null,null,null,null,null,null,null,null,null,null,null,null,null,null,null,null,null,null,null,null,null,null,null,null,null,null,null,null,null,null,null,null,null,null,null,null,null,null,null,null,null,null,null,null,null,null,null,null,null,null,null,null,null,null,null,null,null,null,null,null,null,null,null,null,null,null,null,null,null,null,null,null,null,null,null,null,null,null,null,null,null,null,null,null,null,null,null,null,null,null,null,null,null,null,null,null,null,null,null,null,null,null,null,null,null,null,null,null,null,null,null,null,null,null,null,null,null,null,null,null,null,null,null,null,null,null,null,null,null,null,null,null,null,null,null,null,null,null,null,null,null,null,null,null,null,null,null,null,null,null,null,null,null,null,null,null,null,null,null,null,null,null,null,null,null,null,null,null,null,null,null,null,null,null,null,null,null,null,null,null,null,null,null,null,null,null,null,null,null,null,null,null,null,null,null,null,null,null,null,null,null,null,null,null,null,null,null,null,null,null,null,null,null,null,null,null,null,null,null,null,null,null,null,null,null,null,null,null,null,null,null,null,null,null,null,null,null,null,null,null,null,null,null,null,null,null,null,null,null,null,null,null,null,null,null,null,null,null,null,null,null,null,null,null,null,null,null,null,null,null,null,null,null,null,null,null,null,null,null,null,null,null,null,null,null,null,null,null,null,null,null,null,null,null,null,null,null,null,null,null,null,null,null,null,null,null,null,null,null,null,null,null,null,null,null,null,null,null,null,null,null,null,null,null,null,null,null,null,null,null,null,null,null,null,null,null,null,null,null,null,null,null,null,null,null,null,null,null,null,null,null,null,null,null,null,null,null,null,null,null,null,null,null,null,null,null,null,null,null,null,null,null,null,null,null,null,null,null,null,null,null,null,null,null,null,null,null,null,null,null,null,null,null,null,null,null,null,null,null,null,null,null,null,null,null,null,null,null,null,null,null,null,null,null,null,null,null,null,null,null,null,null,null,null,null,null,null,null,null,null,null,null,null,null,null,null,null,null,null,null,null,null,null,null,null,null,null,null,null,null,null,null,null,null,null,null,null,null,null,null,null,null,null,null,null,null,null,null,null,null,null,null,null,null,null,null,null,null,null,null,null,null,null,null,null,null,null,null,null,null,null,null,null,null,null,null,null,null,null,null,null,null,null,null,null,null,null,null,null,null,null,null,null,null,null,null,null,null,null,null,null,null,null,null,null,null,null,null,null,null,null,null,null,null,null,null,null,null,null,null,null,null,null,null,null,null,null,null,null,null,null,null,null,null,null,null,null,null,null,null,null,null,null,null,null,null,null,null,null,null,null,null,null,null,null,null,null,null,null,null,null,null,null,null,null,null,null,null,null,null,null,null,null,null,null,null,null,null,null,null,null,null,null,null,null,null,null,null,null,null,null,null,null,null,null,null,null,null,null,null,null,null,null,null,null,null,null,null,null,null,null,null,null,null,null,null,null,null,null,null,null,null,null,null,null,null,null,null,null,null,null,null,null,null,null,null,null,null,null,null,null,null,null,null,null,null,null,null,null,null,null,null,null,null,null,null,null,null,null,null,null,null,null,null,null,null,null,null,null,null,null,null,null,null,null,null,null,null,null,null,null,null,null,null,null,null,null,null,null,null,null,null,null,null,null,null,null,null,null,null,null,null,null,null,null,null,null,null,null,null,null,null,null,null,null,null,null,null,null,null,null,null,null,null,null,null,null,null,null,null,null,null,null,null,null,null,null,null,null,null,null,null,null,null,null,null,null,null,null,null,null,null,null,null,null,null,null,null,null,null,null,null,null,null,null,null,null,null,null,null,null,null,null,null,null,null,null,null,null,null,null,null,null,null,null,null,null,null,null,null,null,null,null,null,null,null,null,null,null,null,null,null,null,null,null,null,null,null,null,null,null,null,null,null,null,null,null,null,null,null,null,null,null,null,null,null,null,null,null,null,null,null,null,null,null,null,null,null,null,null,null,null,null,null,null,null,null,null,null,null,null,null,null,null,null,null,null,null,null,null,null,null,null,null,null,null,null,null,null,null,null,null,null,null,null,null,null,null,null,null,null,null,null,null,null,null,null,null,null,null,null,null,null,null,null,null,null,null,null,null,null,null,null,null,null,null,null,null,null,null,null,null,null,null,null,null,null,null,null,null,null,null,null,null,null,null,null,null,null,null,null,null,null,null,null,null,null,null,null,null,null,null,null,null,null,null,null,null,null,null,null,null,null,null,null,null,null,null,null,null,null,null,null,null,null,null,null,null,null,null,null,null,null,null,null,null,null,null,null,null,null,null,null,null,null,null,null,null,null,null,null,null,null,null,null,null,null,null,null,null,null,null,null,null,null,null,null,null,null,null,null,null,null,null,null,null,null,null,null,null,null,null,null,null,null,null,null,null,null,null,null,null,null,null,null,null,null,null,null,null,null,null,null,null,null,null,null,null,null,null,null,null,null,null,null,null,null,null,null,null,null,null,null,null,null,null,null,null,null,null,null,null,null,null,null,null,null,null,null,null,null,null,null,null,null,null,null,null,null,null,null,null,null,null,null,null,null,null,null,null,null,null,null,null,null,null,null,null,null,null,null,null,null,null,null,null,null,null,null,null,null,null,null,null,null,null,null,null,null,null,null,null,null,null,null,null,null,null,null,null,null,null,null,null,null,null,null,null,null,null,null,null,null,null,null,null,null,null,null,null,null,null,null,null,null,null,null,null,null,null,null,null,null,null,null,null,null,null,null,null,null,null,null,null,null,null,null,null,null,null,null,null,null,null,null,null,null,null,null,null,null,null,null,null,null,null,null,null,null,null,null,null,null,null,null,null,null,null,null,null,null,null,null,null,null,null,null,null,null,null,null,null,null,null,null,null,null,null,null,null,null,null,null,null,null,null,null,null,null,null,null,null,null,null,null,null,null,null,null,null,null,null,null,null,null,null,null,null,null,null,null,null,null,null,null,null,null,null,null,null,null,null,null,null,null,null,null,null,null,null,null,null,null,null,null,null,null,null,null,null,null,null,null,null,null,null,null,null,null,null,null,null,null,null,null,null,null,null,null,null,null,null,null,null,null,null,null,null,null,null,null,null,null,null,null,null,null,null,null,null,null,null,null,null,null,null,null,null,null,null,null,null,null,null,null,null,null,null,null,null,null,null,null,null,null,null,null,null,null,null,null,null,null,null,null,null,null,null,null,null,null,null,null,null,null,null,null,null,null,null,null,null,null,null,null,null,null,null,null,null,null,null,null,null,null,null,null,null,null,null,null,null,null,null,null,null,null,null,null,null,null,null,null,null,null,null,null,null,null,null,null,null,null,null,null,null,null,null,null,null,null,null,null,null,null,null,null,null,null,null,null,null,null,null,null,null,null,null,null,null,null,null,null,null,null,null,null,null,null,null,null,null,null,null,null,null,null,null,null,null,null,null,null,null,null,null,null,null,null,null,null,null,null,null,null,null,null,null,null,null,null,null,null,null,null,null,null,null,null,null,null,null,null,null,null,null,null,null,null,null,null,null,null,null,null,null,null,null,null,null,null,null,null,null,null,null,null,null,null,null,null,null,null,null,null,null,null,null,null,null,null,null,null,null,null,null,null,null,null,null,null,null,null,null,null,null,null,null,null,null,null,null,null,null,null,null,null,null,null,null,null,null,null,null,null,null,null,null,null,null,null,null,null,null,null,null,null,null,null,null,null,null,null,null,null,null,null,null,null,null,null,null,null,null,null,null,null,null,null,null,null,null,null,null,null,null,null,null,null,null,null,null,null,null,null,null,null,null,null,null,null,null,null,null,null,null,null,null,null,null,null,null,null,null,null,null,null,null,null,null,null,null,null,null,null,null,null,null,null,null,null,null,null,null,null,null,null,null,null,null,null,null,null,null,null,null,null,null,null,null,null,null,null,null,null,null,null,null,null,null,null,null,null,null,null,null,null,null,null,null,null,null,null,null,null,null,null,null,null,null,null,null,null,null,null,null,null,null,null,null,null,null,null,null,null,null,null,null,null,null,null,null,null,null,null,null,null,null,null,null,null,null,null,null,null,null,null,null,null,null,null,null,null,null,null,null,null,null,null,null,null,null,null,null,null,null,null,null,null,null,null,null,null,null,null,null,null,null,null,null,null,null,null,null,null,null,null,null,null,null,null,null,null,null,null,null,null,null,null,null,null,null,null,null,null,null,null,null,null,null,null,null,null,null,null,null,null,null,null,null,null,null,null,null,null,null,null,null,null,null,null,null,null,null,null,null,null,null,null,null,null,null,null,null,null,null,null,null,null,null,null,null,null,null,null,null,null,null,null,null,null,null,null,null,null,null,null,null,null,null,null,null,null,null,null,null,null,null,null,null,null,null,null,null,null,null,null,null,null,null,null,null,null,null,null,null,null,null,null,null,null,null,null,null,null,null,null,null,null,null,null,null,null,null,null,null,null,null,null,null,null,null,null,null,null,null,null,null,null,null,null,null,null,null,null,null,null,null,null,null,null,null,null,null,null,null,null,null,null,null,null,null,null,null,null,null,null,null,null,null,null,null,null,null,null,null,null,null,null,null,null,null,null,null,null,null,null,null,null,null,null,null,null,null,null,null,null,null,null,null,null,null,null,null,null,null,null,null,null,null,null,null,null,null,null,null,null,null,null,null,null,null,null,null,null,null,null,null,null,null,null,null,null,null,null,null,null,null,null,null,null,null,null,null,null,null,null,null,null,null,null,null,null,null,null,null,null,null,null,null,null,null,null,null,null,null,null,null,null,null,null,null,null,null,null,null,null,null,null,null,null,null,null,null,null,null,null,null,null,null,null,null,null,null,null,null,null,null,null,null,null,null,null,null,null,null,null,null,null,null,null,null,null,null,null,null,null,null,null,null,null,null,null,null,null,null,null,null,null,null,null,null,null,null,null,null,null,null,null,null,null,null,null,null,null,null,null,null,null,null,null,null,null,null,null,null,null,null,null,null,null,null,null,null,null,null,null,null,null,null,null,null,null,null,null,null,null,null,null,null,null,null,null,null,null,null,null,null,null,null,null,null,null,null,null,null,null,null,null,null,null,null,null,null,null,null,null,null,null,null,null,null,null,null,null,null,null,null,null,null,null,null,null,null,null,null,null,null,null,null,null,null,null,null,null,null,null,null,null,null,null,null,null,null,null,null,null,null,null,null,null,null,null,null,null,null,null,null,null,null,null,null,null,null,null,null,null,null,null,null,null,null,null,null,null,null,null,null,null,null,null,null,null,null,null,null,null,null,null,null,null,null,null,null,null,null,null,null,null,null,null,null,null,null,null,null,null,null,null,null,null,null,null,null,null,null,null,null,null,null,null,null,null,null,null,null,null,null,null,null,null,null,null,null,null,null,null,null,null,null,null,null,null,null,null,null,null,null,null,null,null,null,null,null,null,null,null,null,null,null,null,null,null,null,null,null,null,null,null,null,null,null,null,null,null,null,null,null,null,null,null,null,null,null,null,null,null,null,null,null,null,null,null,null,null,null,null,null,null,null,null,null,null,null,null,null,null,null,null,null,null,null,null,null,null,null,null,null,null,null,null,null,null,null,null,null,null,null,null,null,null,null,null,null,null,null,null,null,null,null,null,null,null,null,null,null,null,null,null,null,null,null,null,null,null,null,null,null,null,null,null,null,null,null,null,null,null,null,null,null,null,null,null,null,null,null,null,null,null,null,null,null,null,null,null,null,null,null,null,null,null,null,null,null,null,null,null,null,null,null,null,null,null,null,null,null,null,null,null,null,null,null,null,null,null,null,null,null,null,null,null,null,null,null,null,null,null,null,null,null,null,null,null,null,null,null,null,null,null,null,null,null,null,null,null,null,null,null,null,null,null,null,null,null,null,null,null,null,null,null,null,null,null,null,null,null,null,null,null,null,null,null,null,null,null,null,null,null,null,null,null,null,null,null,null,null,null,null,null,null,null,null,null,null,null,null,null,null,null,null,null,null,null,null,null,null,null,null,null,null,null,null,null,null,null,null,null,null,null,null,null,null,null,null,null,null,null,null,null,null,null,null,null,null,null,null,null,null,null,null,null,null,null,null,null,null,null,null,null,null,null,null,null,null,null,null,null,null,null,null,null,null,null,null,null,null,null,null,null,null,null,null,null,null,null,null,null,null,null,null,null,null,null,null,null,null,null,null,null,null,null,null,null,null,null,null,null,null,null,null,null,null,null,null,null,null,null,null,null,null,null,null,null,null,null,null,null,null,null,null,null,null,null,null,null,null,null,null,null,null,null,null,null,null,null,null,null,null,null,null,null,null,null,null,null,null,null,null,null,null,null,null,null,null,null,null,null,null,null,null,null,null,null,null,null,null,null,null,null,null,null,null,null,null,null,null,null,null,null,null,null,null,null,null,null,null,null,null,null,null,null,null,null,null,null,null,null,null,null,null,null,null,null,null,null,null,null,null,null,null,null,null,null,null,null,null,null,null,null,null,null,null,null,null,null,null,null,null,null,null,null,null,null,null,null,null,null,null,null,null,null,null,null,null,null,null,null,null,null,null,null,null,null,null,null,null,null,null,null,null,null,null,null,null,null,null,null,null,null,null,null,null,null,null,null,null,null,null,null,null,null,null,null,null,null,null,null,null,null,null,null,null,null,null,null,null,null,null,null,null,null,null,null,null,null,null,null,null,null,null,null,null,null,null,null,null,null,null,null,null,null,null,null,null,null,null,null,null,null,null,null,null,null,null,null,null,null,null,null,null,null,null,null,null,null,null,null,null,null,null,null,null,null,null,null,null,null,null,null,null,null,null,null,null,null,null,null,null,null,null,null,null,null,null,null,null,null,null,null,null,null,null,null,null,null,null,null,null,null,null,null,null,null,null,null,null,null,null,null,null,null,null,null,null,null,null,null,null,null,null,null,null,null,null,null,null,null,null,null,null,null,null,null,null,null,null,null,null,null,null,null,null,null,null,null,null,null,null,null,null,null,null,null,null,null,null,null,null,null,null,null,null,null,null,null,null,null,null,null,null,null,null,null,null,null,null,null,null,null,null,null,null,null,null,null,null,null,null,null,null,null,null,null,null,null,null,null,null,null,null,null,null,null,null,null,null,null,null,null,null,null,null,null,null,null,null,null,null,null,null,null,null,null,null,null,null,null,null,null,null,null,null,null,null,null,null,null,null,null,null,null,null,null,null,null,null,null,null,null,null,null,null,null,null,null,null,null,null,null,null,null,null,null,null,null,null,null,null,null,null,null,null,null,null,null,null,null,null,null,null,null,null,null,null,null,null,null,null,null,null,null,null,null,null,null,null,null,null,null,null,null,null,null,null,null,null,null,null,null,null,null,null,null,null,null,null,null,null,null,null,null,null,null,null,null,null,null,null,null,null,null,null,null,null,null,null,null,null,null,null,null,null,null,null,null,null,null,null,null,null,null,null,null,null,null,null,null,null,null,null,null,null,null,null,null,null,null,null,null,null,null,null,null,null,null,null,null,null,null,null,null,null,null,null,null,null,null,null,null,null,null,null,null,null,null,null,null,null,null,null,null,null,null,null,null,null,null,null,null,null,null,null,null,null,null,null,null,null,null,null,null,null,null,null,null,null,null,null,null,null,null,null,null,null,null,null,null,null,null,null,null,null,null,null,null,null,null,null,null,null,null,null,null,null,null,null,null,null,null,null,null,null,null,null,null,null,null,null,null,null,null,null,null,null,null,null,null,null,null,null,null,null,null,null,null,null,null,null,null,null,null,null,null,null,null,null,null,null,null,null,null,null,null,null,null,null,null,null,null,null,null,null,null,null,null,null,null,null,null,null,null,null,null,null,null,null,null,null,null,null,null,null,null,null,null,null,null,null,null,null,null,null,null,null,null,null,null,null,null,null,null,null,null,null,null,null,null,null,null,null,null,null,null,null,null,null,null,null,null,null,null,null,null,null,null,null,null,null,null,null,null,null,null,null,null,null,null,null,null,null,null,null,null,null,null,null,null,null,null,null,null,null,null,null,null,null,null,null,null,null,null,null,null,null,null,null,null,null,null,null,null,null,null,null,null,null,null,null,null,null,null,null,null,null,null,null,null,null,null,null,null,null,null,null,null,null,null,null,null,null,null,null,null,null,null,null,null,null,null,null,null,null,null,null,null,null,null,null,null,null,null,null,null,null,null,null,null,null,null,null,null,null,null,null,null,null,null,null,null,null,null,null,null,null,null,null,null,null,null,null,null,null,null,null,null,null,null,null,null,null,null,null,null,null,null,null,null,null,null,null,null,null,null,null,null,null,null,null,null,null,null,null,null,null,null,null,null,null,null,null,null,null,null,null,null,null,null,null,null,null,null,null,null,null,null,null,null,null,null,null,null,null,null,null,null,null,null,null,null,null,null,null,null,null,null,null,null,null,null,null,null,null,null,null,null,null,null,null,null,null,null,null,null,null,null,null,null,null,null,null,null,null,null,null,null,null,null,null,null,null,null,null,null,null,null,null,null,null,null,null,null,null,null,null,null,null,null,null,null,null,null,null,null,null,null,null,null,null,null,null,null,null,null,null,null,null,null,null,null,null,null,null,null,null,null,null,null,null,null,null,null,null,null,null,null,null,null,null,null,null,null,null,null,null,null,null,null,null,null,null,null,null,null,null,null,null,null,null,null,null,null,null,null,null,null,null,null,null,null,null,null,null,null,null,null,null,null,null,null,null,null,null,null,null,null,null,null,null,null,null,null,null,null,null,null,null,null,null,null,null,null,null,null,null,null,null,null,null,null,null,null,null,null,null,null,null,null,null,null,null,null,null,null,null,null,null,null,null,null,null,null,null,null,null,null,null,null,null,null,null,null,null,null,null,null,null,null,null,null,null,null,null,null,null,null,null,null,null,null,null,null,null,null,null,null,null,null,null,null,null,null,null,null,null,null,null,null,null,null,null,null,null,null,null,null,null,null,null,null,null,null,null,null,null,null,null,null,null,null,null,null,null,null,null,null,null,null,null,null,null,null,null,null,null,null,null,null,null,null,null,null,null,null,null,null,null,null,null,null,null,null,null,null,null,null,null,null,null,null,null,null,null,null,null,null,null,null,null,null,null,null,null,null,null,null,null,null,null,null,null,null,null,null,null,null,null,null,null,null,null,null,null,null,null,null,null,null,null,null,null,null,null,null,null,null,null,null,null,null,null,null,null,null,null,null,null,null,null,null,null,null,null,null,null,null,null,null,null,null,null,null,null,null,null,null,null,null,null,null,null,null,null,null,null,null,null,null,null,null,null,null,null,null,null,null,null,null,null,null,null,null,null,null,null,null,null,null,null,null,null,null,null,null,null,null,null,null,null,null,null,null,null,null,null,null,null,null,null,null,null,null,null,null,null,null,null,null,null,null,null,null,null,null,null,null,null,null,null,null,null,null,null,null,null,null,null,null,null,null,null,null,null,null,null,null,null,null,null,null,null,null,null,null,null,null,null,null,null,null,null,null,null,null,null,null,null,null,null,null,null,null,null,null,null,null,null,null,null,null,null,null,null,null,null,null,null,null,null,null,null,null,null,null,null,null,null,null,null,null,null,null,null,null,null,null,null,null,null,null,null,null,null,null,null,null,null,null,null,null,null,null,null,null,null,null,null,null,null,null,null,null,null,null,null,null,null,null,null,null,null,null,null,null,null,null,null,null,null,null,null,null,null,null,null,null,null,null,null,null,null,null,null,null,null,null,null,null,null,null,null,null,null,null,null,null,null,null,null,null,null,null,null,null,null,null,null,null,null,null,null,null,null,null,null,null,null,null,null,null,null,null,null,null,null,null,null,null,null,null,null,null,null,null,null,null,null,null,null,null,null,null,null,null,null,null,null,null,null,null,null,null,null,null,null,null,null,null,null,null,null,null,null,null,null,null,null,null,null,null,null,null,null,null,null,null,null,null,null,null,null,null,null,null,null,null,null,null,null,null,null,null,null,null,null,null,null,null,null,null,null,null,null,null,null,null,null,null,null,null,null,null,null,null,null,null,null,null,null,null,null,null,null,null,null,null,null,null,null,null,null,null,null,null,null,null,null,null,null,null,null,null,null,null,null,null,null,null,null,null,null,null,null,null,null,null,null,null,null,null,null,null,null,null,null,null,null,null,null,null,null,null,null,null,null,null,null,null,null,null,null,null,null,null,null,null,null,null,null,null,null,null,null,null,null,null,null,null,null,null,null,null,null,null,null,null,null,null,null,null,null,null,null,null,null,null,null,null,null,null,null,null,null,null,null,null,null,null,null,null,null,null,null,null,null,null,null,null,null,null,null,null,null,null,null,null,null,null,null,null,null,null,null,null,null,null,null,null,null,null,null,null,null,null,null,null,null,null,null,null,null,null,null,null,null,null,null,null,null,null,null,null,null,null,null,null,null,null,null,null,null,null,null,null,null,null,null,null,null,null,null,null,null,null,null,null,null,null,null,null,null,null,null,null,null,null,null,null,null,null,null,null,null,null,null,null,null,null,null,null,null,null,null,null,null,null,null,null,null,null,null,null,null,null,null,null,null,null,null,null,null,null,null,null,null,null,null,null,null,null,null,null,null,null,null,null,null,null,null,null,null,null,null,null,null,null,null,null,null,null,null,null,null,null,null,null,null,null,null,null,null,null,null,null,null,null,null,null,null,null,null,null,null,null,null,null,null,null,null,null,null,null,null,null,null,null,null,null,null,null,null,null,null,null,null,null,null,null,null,null,null,null,null,null,null,null,null,null,null,null,null,null,null,null,null,null,null,null,null,null,null,null,null,null,null,null,null,null,null,null,null,null,null,null,null,null,null,null,null,null,null,null,null,null,null,null,null,null,null,null,null,null,null,null,null,null,null,null,null,null,null,null,null,null,null,null,null,null,null,null,null,null,null,null,null,null,null,null,null,null,null,null,null,null,null,null,null,null,null,null,null,null,null,null,null,null,null,null,null,null,null,null,null,null,null,null,null,null,null,null,null,null,null,null,null,null,null,null,null,null,null,null,null,null,null,null,null,null,null,null,null,null,null,null,null,null,null,null,null,null,null,null,null,null,null,null,null,null,null,null,null,null,null,null,null,null,null,null,null,null,null,null,null,null,null,null,null,null,null,null,null,null,null,null,null,null,null,null,null,null,null,null,null,null,null,null,null,null,null,null,null,null,null,null,null,null,null,null,null,null,null,null,null,null,null,null,null,null,null,null,null,null,null,null,null,null,null,null,null,null,null,null,null,null,null,null,null,null,null,null,null,null,null,null,null,null,null,null,null,null,null,null,null,null,null,null,null,null,null,null,null,null,null,null,null,null,null,null,null,null,null,null,null,null,null,null,null,null,null,null,null,null,null,null,null,null,null,null,null,null,null,null,null,null,null,null,null,null,null,null,null,null,null,null,null,null,null,null,null,null,null,null,null,null,null,null,null,null,null,null,null,null,null,null,null,null,null,null,null,null,null,null,null,null,null,null,null,null,null,null,null,null,null,null,null,null,null,null,null,null,null,null,null,null,null,null,null,null,null,null,null,null,null,null,null,null,null,null,null,null,null,null,null,null,null,null,null,null,null,null,null,null,null,null,null,null,null,null,null,null,null,null,null,null,null,null,null,null,null,null,null,null,null,null,null,null,null,null,null,null,null,null,null,null,null,null,null,null,null,null,null,null,null,null,null,null,null,null,null,null,null,null,null,null,null,null,null,null,null,null,null,null,null,null,null,null,null,null,null,null,null,null,null,null,null,null,null,null,null,null,null,null,null,null,null,null,null,null,null,null,null,null,null,null,null,null,null,null,null,null,null,null,null,null,null,null,null,null,null,null,null,null,null,null,null,null,null,null,null,null,null,null,null,null,null,null,null,null,null,null,null,null,null,null,null,null,null,null,null,null,null,null,null,null,null,null,null,null,null,null,null,null,null,null,null,null,null,null,null,null,null,null,null,null,null,null,null,null,null,null,null,null,null,null,null,null,null,null,null,null,null,null,null,null,null,null,null,null,null,null,null,null,null,null,null,null,null,null,null,null,null,null,null,null,null,null,null,null,null,null,null,null,null,null,null,null,null,null,null,null,null,null,null,null,null,null,null,null,null,null,null,null,null,null,null,null,null,null,null,null,null,null,null,null,null,null,null,null,null,null,null,null,null,null,null,null,null,null,null,null,null,null,null,null,null,null,null,null,null,null,null,null,null,null,null,null,null,null,null,null,null,null,null,null,null,null,null,null,null,null,null,null,null,null,null,null,null,null,null,null,null,null,null,null,null,null,null,null,null,null,null,null,null,null,null,null,null,null,null,null,null,null,null,null,null,null,null,null,null,null,null,null,null,null,null,null,null,null,null,null,null,null,null,null,null,null,null,null,null,null,null,null,null,null,null,null,null,null,null,null,null,null,null,null,null,null,null,null,null,null,null,null,null,null,null,null,null,null,null,null,null,null,null,null,null,null,null,null,null,null,null,null,null,null,null,null,null,null,null,null,null,null,null,null,null,null,null,null,null,null,null,null,null,null,null,null,null,null,null,null,null,null,null,null,null,null,null,null,null,null,null,null,null,null,null,null,null,null,null,null,null,null,null,null,null,null,null,null,null,null,null,null,null,null,null,null,null,null,null,null,null,null,null,null,null,null,null,null,null,null,null,null,null,null,null,null,null,null,null,null,null,null,null,null,null,null,null,null,null,null,null,null,null,null,null,null,null,null,null,null,null,null,null,null,null,null,null,null,null,null,null,null,null,null,null,null,null,null,null,null,null,null,null,null,null,null,null,null,null,null,null,null,null,null,null,null,null,null,null,null,null,null,null,null,null,null,null,null,null,null,null,null,null,null,null,null,null,null,null,null,null,null,null,null,null,null,null,null,null,null,null,null,null,null,null,null,null,null,null,null,null,null,null,null,null,null,null,null,null,null,null,null,null,null,null,null,null,null,null,null,null,null,null,null,null,null,null,null,null,null,null,null,null,null,null,null,null,null,null,null,null,null,null,null,null,null,null,null,null,null,null,null,null,null,null,null,null,null,null,null,null,null,null,null,null,null,null,null,null,null,null,null,null,null,null,null,null,null,null,null,null,null,null,null,null,null,null,null,null,null,null,null,null,null,null,null,null,null,null,null,null,null,null,null,null,null,null,null,null,null,null,null,null,null,null,null,null,null,null,null,null,null,null,null,null,null,null,null,null,null,null,null,null,null,null,null,null,null,null,null,null,null,null,null,null,null,null,null,null,null,null,null,null,null,null,null,null,null,null,null,null,null,null,null,null,null,null,null,null,null,null,null,null,null,null,null,null,null,null,null,null,null,null,null,null,null,null,null,null,null,null,null,null,null,null,null,null,null,null,null,null,null,null,null,null,null,null,null,null,null,null,null,null,null,null,null,null,null,null,null,null,null,null,null,null,null,null,null,null,null,null,null,null,null,null,null,null,null,null,null,null,null,null,null,null,null,null,null,null,null,null,null,null,null,null,null,null,null,null,null,null,null,null,null,null,null,null,null,null,null,null,null,null,null,null,null,null,null,null,null,null,null,null,null,null,null,null,null,null,null,null,null,null,null,null,null,null,null,null,null,null,null,null,null,null,null,null,null,null,null,null,null,null,null,null,null,null,null,null,null,null,null,null,null,null,null,null,null,null,null,null,null,null,null,null,null,null,null,null,null,null,null,null,null,null,null,null,null,null,null,null,null,null,null,null,null,null,null,null,null,null,null,null,null,null,null,null,null,null,null,null,null,null,null,null,null,null,null,null,null,null,null,null,null,null,null,null,null,null,null,null,null,null,null,null,null,null,null,null,null,null,null,null,null,null,null,null,null,null,null,null,null,null,null,null,null,null,null,null,null,null,null,null,null,null,null,null,null,null,null,null,null,null,null,null,null,null,null,null,null,null,null,null,null,null,null,null,null,null,null,null,null,null,null,null,null,null,null,null,null,null,null,null,null,null,null,null,null,null,null,null,null,null,null,null,null,null,null,null,null,null,null,null,null,null,null,null,null,null,null,null,null,null,null,null,null,null,null,null,null,null,null,null,null,null,null,null,null,null,null,null,null,null,null,null,null,null,null,null,null,null,null,null,null,null,null,null,null,null,null,null,null,null,null,null,null,null,null,null,null,null,null,null,null,null,null,null,null,null,null,null,null,null,null,null,null,null,null,null,null,null,null,null,null,null,null,null,null,null,null,null,null,null,null,null,null,null,null,null,null,null,null,null,null,null,null,null,null,null,null,null,null,null,null,null,null,null,null,null,null,null,null,null,null,null,null,null,null,null,null,null,null,null,null,null,null,null,null,null,null,null,null,null,null,null,null,null,null,null,null,null,null,null,null,null,null,null,null,null,null,null,null,null,null,null,null,null,null,null,null,null,null,null,null,null,null,null,null,null,null,null,null,null,null,null,null,null,null,null,null,null,null,null,null,null,null,null,null,null,null,null,null,null,null,null,null,null,null,null,null,null,null,null,null,null,null,null,null,null,null,null,null,null,null,null,null,null,null,null,null,null,null,null,null,null,null,null,null,null,null,null,null,null,null,null,null,null,null,null,null,null,null,null,null,null,null,null,null,null,null,null,null,null,null,null,null,null,null,null,null,null,null,null,null,null,null,null,null,null,null,null,null,null,null,null,null,null,null,null,null,null,null,null,null,null,null,null,null,null,null,null,null,null,null,null,null,null,null,null,null,null,null,null,null,null,null,null,null,null,null,null,null,null,null,null,null,null,null,null,null,null,null,null,null,null,null,null,null,null,null,null,null,null,null,null,null,null,null,null,null,null,null,null,null,null,null,null,null,null,null,null,null,null,null,null,null,null,null,null,null,null,null,null,null,null,null,null,null,null,null,null,null,null,null,null,null,null,null,null,null,null,null,null,null,null,null,null,null,null,null,null,null,null,null,null,null,null,null,null,null,null,null,null,null,null,null,null,null,null,null,null,null,null,null,null,null,null,null,null,null,null,null,null,null,null,null,null,null,null,null,null,null,null,null,null,null,null,null,null,null,null,null,null,null,null,null,null,null,null,null,null,null,null,null,null,null,null,null,null,null,null,null,null,null,null,null,null,null,null,null,null,null,null,null,null,null,null,null,null,null,null,null,null,null,null,null,null,null,null,null,null,null,null,null,null,null,null,null,null,null,null,null,null,null,null,null,null,null,null,null,null,null,null,null,null,null,null,null,null,null,null,null,null,null,null,null,null,null,null,null,null,null,null,null,null,null,null,null,null,null,null,null,null,null,null,null,null,null,null,null,null,null,null,null,null,null,null,null,null,null,null,null,null,null,null,null,null,null,null,null,null,null,null,null,null,null,null,null,null,null,null,null,null,null,null,null,null,null,null,null,null,null,null,null,null,null,null,null,null,null,null,null,null,null,null,null,null,null,null,null,null,null,null,null,null,null,null,null,null,null,null,null,null,null,null,null,null,null,null,null,null,null,null,null,null,null,null,null,null,null,null,null,null,null,null,null,null,null,null,null,null,null,null,null,null,null,null,null,null,null,null,null,null,null,null,null,null,null,null,null,null,null,null,null,null,null,null,null,null,null,null,null,null,null,null,null,null,null,null,null,null,null,null,null,null,null,null,null,null,null,null,null,null,null,null,null,null,null,null,null,null,null,null,null,null,null,null,null,null,null,null,null,null,null,null,null,null,null,null,null,null,null,null,null,null,null,null,null,null,null,null,null,null,null,null,null,null,null,null,null,null,null,null,null,null,null,null,null,null,null,null,null,null,null,null,null,null,null,null,null,null,null,null,null,null,null,null,null,null,null,null,null,null,null,null,null,null,null,null,null,null,null,null,null,null,null,null,null,null,null,null,null,null,null,null,null,null,null,null,null,null,null,null,null,null,null,null,null,null,null,null,null,null,null,null,null,null,null,null,null,null,null,null,null,null,null,null,null,null,null,null,null,null,null,null,null,null,null,null,null,null,null,null,null,null,null,null,null,null,null,null,null,null,null,null,null,null,null,null,null,null,null,null,null,null,null,null,null,null,null,null,null,null,null,null,null,null,null,null,null,null,null,null,null,null,null,null,null,null,null,null,null,null,null,null,null,null,null,null,null,null,null,null,null,null,null,null,null,null,null,null,null,null,null,null,null,null,null,null,null,null,null,null,null,null,null,null,null,null,null,null,null,null,null,null,null,null,null,null,null,null,null,null,null,null,null,null,null,null,null,null,null,null,null,null,null,null,null,null,null,null,null,null,null,null,null,null,null,null,null,null,null,null,null,null,null,null,null,null,null,null,null,null,null,null,null,null,null,null,null,null,null,null,null,null,null,null,null,null,null,null,null,null,null,null,null,null,null,null,null,null,null,null,null,null,null,null,null,null,null,null,null,null,null,null,null,null,null,null,null,null,null,null,null,null,null,null,null,null,null,null,null,null,null,null,null,null,null,null,null,null,null,null,null,null,null,null,null,null,null,null,null,null,null,null,null,null,null,null,null,null,null,null,null,null,null,null,null,null,null,null,null,null,null,null,null,null,null,null,null,null,null,null,null,null,null,null,null,null,null,null,null,null,null,null,null,null,null,null,null,null,null,null,null,null,null,null,null,null,null,null,null,null,null,null,null,null,null,null,null,null,null,null,null,null,null,null,null,null,null,null,null,null,null,null,null,null,null,null,null,null,null,null,null,null,null,null,null,null,null,null,null,null,null,null,null,null,null,null,null,null,null,null,null,null,null,null,null,null,null,null,null,null,null,null,null,null,null,null,null,null,null,null,null,null,null,null,null,null,null,null,null,null,null,null,null,null,null,null,null,null,null,null,null,null,null,null,null,null,null,null,null,null,null,null,null,null,null,null,null,null,null,null,null,null,null,null,null,null,null,null,null,null,null,null,null,null,null,null,null,null,null,null,null,null,null,null,null,null,null,null,null,null,null,null,null,null,null,null,null,null,null,null,null,null,null,null,null,null,null,null,null,null,null,null,null,null,null,null,null,null,null,null,null,null,null,null,null,null,null,null,null,null,null,null,null,null,null,null,null,null,null,null,null,null,null,null,null,null,null,null,null,null,null,null,null,null,null,null,null,null,null,null,null,null,null,null,null,null,null,null,null,null,null,null,null,null,null,null,null,null,null,null,null,null,null,null,null,null,null,null,null,null,null,null,null,null,null,null,null,null,null,null,null,null,null,null,null,null,null,null,null,null,null,null,null,null,null,null,null,null,null,null,null,null,null,null,null,null,null,null,null,null,null,null,null,null,null,null,null,null,null,null,null,null,null,null,null,null,null,null,null,null,null,null,null,null,null,null,null,null,null,null,null,null,null,null,null,null,null,null,null,null,null,null,null,null,null,null,null,null,null,null,null,null,null,null,null,null,null,null,null,null,null,null,null,null,null,null,null,null,null,null,null,null,null,null,null,null,null,null,null,null,null,null,null,null,null,null,null,null,null,null,null,null,null,null,null,null,null,null,null,null,null,null,null,null,null,null,null,null,null,null,null,null,null,null,null,null,null,null,null,null,null,null,null,null,null,null,null,null,null,null,null,null,null,null,null,null,null,null,null,null,null,null,null,null,null,null,null,null,null,null,null,null,null,null,null,null,null,null,null,null,null,null,null,null,null,null,null,null,null,null,null,null,null,null,null,null,null,null,null,null,null,null,null,null,null,null,null,null,null,null,null,null,null,null,null,null,null,null,null,null,null,null,null,null,null,null,null,null,null,null,null,null,null,null,null,null,null,null,null,null,null,null,null,null,null,null,null,null,null,null,null,null,null,null,null,null,null,null,null,null,null,null,null,null,null,null,null,null,null,null,null,null,null,null,null,null,null,null,null,null,null,null,null,null,null,null,null,null,null,null,null,null,null,null,null,null,null,null,null,null,null,null,null,null,null,null,null,null,null,null,null,null,null,null,null,null,null,null,null,null,null,null,null,null,null,null,null,null,null,null,null,null,null,null,null,null,null,null,null,null,null,null,null,null,null,null,null,null,null,null,null,null,null,null,null,null,null,null,null,null,null,null,null,null,null,null,null,null,null,null,null,null,null,null,null,null,null,null,null,null,null,null,null,null,null,null,null,null,null,null,null,null,null,null,null,null,null,null,null,null,null,null,null,null,null,null,null,null,null,null,null,null,null,null,null,null,null,null,null,null,null,null,null,null,null,null,null,null,null,null,null,null,null,null,null,null,null,null,null,null,null,null,null,null,null,null,null,null,null,null,null,null,null,null,null,null,null,null,null,null,null,null,null,null,null,null,null,null,null,null,null,null,null,null,null,null,null,null,null,null,null,null,null,null,null,null,null,null,null,null,null,null,null,null,null,null,null,null,null,null,null,null,null,null,null,null,null,null,null,null,null,null,null,null,null,null,null,null,null,null,null,null,null,null,null,null,null,null,null,null,null,null,null,null,null,null,null,null,null,null,null,null,null,null,null,null,null,null,null,null,null,null,null,null,null,null,null,null,null,null,null,null,null,null,null,null,null,null,null,null,null,null,null,null,null,null,null,null,null,null,null,null,null,null,null,null,null,null,null,null,null,null,null,null,null,null,null,null,null,null,null,null,null,null,null,null,null,null,null,null,null,null,null,null,null,null,null,null,null,null,null,null,null,null,null,null,null,null,null,null,null,null,null,null,null,null,null,null,null,null,null,null,null,null,null,null,null,null,null,null,null,null,null,null,null,null,null,null,null,null,null,null,null,null,null,null,null,null,null,null,null,null,null,null,null,null,null,null,null,null,null,null,null,null,null,null,null,null,null,null,null,null,null,null,null,null,null,null,null,null,null,null,null,null,null,null,null,null,null,null,null,null,null,null,null,null,null,null,null,null,null,null,null,null,null,null,null,null,null,null,null,null,null,null,null,null,null,null,null,null,null,null,null,null,null,null,null,null,null,null,null,null,null,null,null,null,null,null,null,null,null,null,null,null,null,null,null,null,null,null,null,null,null,null,null,null,null,null,null,null,null,null,null,null,null,null,null,null,null,null,null,null,null,null,null,null,null,null,null,null,null,null,null,null,null,null,null,null,null,null,null,null,null,null,null,null,null,null,null,null,null,null,null,null,null,null,null,null,null,null,null,null,null,null,null,null,null,null,null,null,null,null,null,null,null,null,null,null,null,null,null,null,null,null,null,null,null,null,null,null,null,null,null,null,null,null,null,null,null,null,null,null,null,null,null,null,null,null,null,null,null,null,null,null,null,null,null,null,null,null,null,null,null,null,null,null,null,null,null,null,null,null,null,null,null,null,null,null,null,null,null,null,null,null,null,null,null,null,null,null,null,null,null,null,null,null,null,null,null,null,null,null,null,null,null,null,null,null,null,null,null,null,null,null,null,null,null,null,null,null,null,null,null,null,null,null,null,null,null,null,null,null,null,null,null,null,null,null,null,null,null,null,null,null,null,null,null,null,null,null,null,null,null,null,null,null,null,null,null,null,null,null,null,null,null,null,null,null,null,null,null,null,null,null,null,null,null,null,null,null,null,null,null,null,null,null,null,null,null,null,null,null,null,null,null,null,null,null,null,null,null,null,null,null,null,null,null,null,null,null,null,null,null,null,null,null,null,null,null,null,null,null,null,null,null,null,null,null,null,null,null,null,null,null,null,null,null,null,null,null,null,null,null,null,null,null,null,null,null,null,null,null,null,null,null,null,null,null,null,null,null,null,null,null,null,null,null,null,null,null,null,null,null,null,null,null,null,null,null,null,null,null,null,null,null,null,null,null,null,null,null,null,null,null,null,null,null,null,null,null,null,null,null,null,null,null,null,null,null,null,null,null,null,null,null,null,null,null,null,null,null,null,null,null,null,null,null,null,null,null,null,null,null,null,null,null,null,null,null,null,null,null,null,null,null,null,null,null,null,null,null,null,null,null,null,null,null,null,null,null,null,null,null,null,null,null,null,null,null,null,null,null,null,null,null,null,null,null,null,null,null,null,null,null,null,null,null,null,null,null,null,null,null,null,null,null,null,null,null,null,null,null,null,null,null,null,null,null,null,null,null,null,null,null,null,null,null,null,null,null,null,null,null,null,null,null,null,null,null,null,null,null,null,null,null,null,null,null,null,null,null,null,null,null,null,null,null,null,null,null,null,null,null,null,null,null,null,null,null,null,null,null,null,null,null,null,null,null,null,null,null,null,null,null,null,null,null,null,null,null,null,null,null,null,null,null,null,null,null,null,null,null,null,null,null,null,null,null,null,null,null,null,null,null,null,null,null,null,null,null,null,null,null,null,null,null,null,null,null,null,null,null,null,null,null,null,null,null,null,null,null,null,null,null,null,null,null,null,null,null,null,null,null,null,null,null,null,null,null,null,null,null,null,null,null,null,null,null,null,null,null,null,null,null,null,null,null,null,null,null,null,null,null,null,null,null,null,null,null,null,null,null,null,null,null,null,null,null,null,null,null,null,null,null,null,null,null,null,null,null,null,null,null,null,null,null,null,null,null,null,null,null,null,null,null,null,null,null,null,null,null,null,null,null,null,null,null,null,null,null,null,null,null,null,null,null,null,null,null,null,null,null,null,null,null,null,null,null,null,null,null,null,null,null,null,null,null,null,null,null,null,null,null,null,null,null,null,null,null,null,null,null,null,null,null,null,null,null,null,null,null,null,null,null,null,null,null,null,null,null,null,null,null,null,null,null,null,null,null,null,null,null,null,null,null,null,null,null,null,null,null,null,null,null,null,null,null,null,null,null,null,null,null,null,null,null,null,null,null,null,null,null,null,null,null,null,null,null,null,null,null,null,null,null,null,null,null,null,null,null,null,null,null,null,null,null,null,null,null,null,null,null,null,null,null,null,null,null,null,null,null,null,null,null,null,null,null,null,null,null,null,null,null,null,null,null,null,null,null,null,null,null,null,null,null,null,null,null,null,null,null,null,null,null,null,null,null,null,null,null,null,null,null,null,null,null,null,null,null,null,null,null,null,null,null,null,null,null,null,null,null,null,null,null,null,null,null,null,null,null,null,null,null,null,null,null,null,null,null,null,null,null,null,null,null,null,null,null,null,null,null,null,null,null,null,null,null,null,null,null,null,null,null,null,null,null,null,null,null,null,null,null,null,null,null,null,null,null,null,null,null,null,null,null,null,null,null,null,null,null,null,null,null,null,null,null,null,null,null,null,null,null,null,null,null,null,null,null,null,null,null,null,null,null,null,null,null,null,null,null,null,null,null,null,null,null,null,null,null,null,null,null,null,null,null,null,null,null,null,null,null,null,null,null,null,null,null,null,null,null,null,null,null,null,null,null,null,null,null,null,null,null,null,null,null,null,null,null,null,null,null,null,null,null,null,null,null,null,null,null,null,null,null,null,null,null,null,null,null,null,null,null,null,null,null,null,null,null,null,null,null,null,null,null,null,null,null,null,null,null,null,null,null,null,null,null,null,null,null,null,null,null,null,null,null,null,null,null,null,null,null,null,null,null,null,null,null,null,null,null,null,null,null,null,null,null,null,null,null,null,null,null,null,null,null,null,null,null,null,null,null,null,null,null,null,null,null,null,null,null,null,null,null,null,null,null,null,null,null,null,null,null,null,null,null,null,null,null,null,null,null,null,null,null,null,null,null,null,null,null,null,null,null,null,null,null,null,null,null,null,null,null,null,null,null,null,null,null,null,null,null,null,null,null,null,null,null,null,null,null,null,null,null,null,null,null,null,null,null,null,null,null,null,null,null,null,null,null,null,null,null,null,null,null,null,null,null,null,null,null,null,null,null,null,null,null,null,null,null,null,null,null,null,null,null,null,null,null,null,null,null,null,null,null,null,null,null,null,null,null,null,null,null,null,null,null,null,null,null,null,null,null,null,null,null,null,null,null,null,null,null,null,null,null,null,null,null,null,null,null,null,null,null,null,null,null,null,null,null,null,null,null,null,null,null,null,null,null,null,null,null,null,null,null,null,null,null,null,null,null,null,null,null,null,null,null,null,null,null,null,null,null,null,null,null,null,null,null,null,null,null,null,null,null,null,null,null,null,null,null,null,null,null,null,null,null,null,null,null,null,null,null,null,null,null,null,null,null,null,null,null,null,null,null,null,null,null,null,null,null,null,null,null,null,null,null,null,null,null,null,null,null,null,null,null,null,null,null,null,null,null,null,null,null,null,null,null,null,null,null,null,null,null,null,null,null,null,null,null,null,null,null,null,null,null,null,null,null,null,null,null,null,null,null,null,null,null,null,null,null,null,null,null,null,null,null,null,null,null,null,null,null,null,null,null,null,null,null,null,null,null,null,null,null,null,null,null,null,null,null,null,null,null,null,null,null,null,null,null,null,null,null,null,null,null,null,null,null,null,null,null,null,null,null,null,null,null,null,null,null,null,null,null,null,null,null,null,null,null,null,null,null,null,null,null,null,null,null,null,null,null,null,null,null,null,null,null,null,null,null,null,null,null,null,null,null,null,null,null,null,null,null,null,null,null,null,null,null,null,null,null,null,null,null,null,null,null,null,null,null,null,null,null,null,null,null,null,null,null,null,null,null,null,null,null,null,null,null,null,null,null,null,null,null,null,null,null,null,null,null,null,null,null,null,null,null,null,null,null,null,null,null,null,null,null,null,null,null,null,null,null,null,null,null,null,null,null,null,null,null,null,null,null,null,null,null,null,null,null,null,null,null,null,null,null,null,null,null,null,null,null,null,null,null,null,null,null,null,null,null,null,null,null,null,null,null,null,null,null,null,null,null,null,null,null,null,null,null,null,null,null,null,null,null,null,null,null,null,null,null,null,null,null,null,null,null,null,null,null,null,null,null,null,null,null,null,null,null,null,null,null,null,null,null,null,null,null,null,null,null,null,null,null,null,null,null,null,null,null,null,null,null,null,null,null,null,null,null,null,null,null,null,null,null,null,null,null,null,null,null,null,null,null,null,null,null,null,null,null,null,null,null,null,null,null,null,null,null,null,null,null,null,null,null,null,null,null,null,null,null,null,null,null,null,null,null,null,null,null,null,null,null,null,null,null,null,null,null,null,null,null,null,null,null,null,null,null,null,null,null,null,null,null,null,null,null,null,null,null,null,null,null,null,null,null,null,null,null,null,null,null,null,null,null,null,null,null,null,null,null,null,null,null,null,null,null,null,null,null,null,null,null,null,null,null,null,null,null,null,null,null,null,null,null,null,null,null,null,null,null,null,null,null,null,null,null,null,null,null,null,null,null,null,null,null,null,null,null,null,null,null,null,null,null,null,null,null,null,null,null,null,null,null,null,null,null,null,null,null,null,null,null,null,null,null,null,null,null,null,null,null,null,null,null,null,null,null,null,null,null,null,null,null,null,null,null,null,null,null,null,null,null,null,null,null,null,null,null,null,null,null,null,null,null,null,null,null,null,null,null,null,null,null,null,null,null,null,null,null,null,null,null,null,null,null,null,null,null,null,null,null,null,null,null,null,null,null,null,null,null,null,null,null,null,null,null,null,null,null,null,null,null,null,null,null,null,null,null,null,null,null,null,null,null,null,null,null,null,null,null,null,null,null,null,null,null,null,null,null,null,null,null,null,null,null,null,null,null,null,null,null,null,null,null,null,null,null,null,null,null,null,null,null,null,null,null,null,null,null,null,null,null,null,null,null,null,null,null,null,null,null,null,null,null,null,null,null,null,null,null,null,null,null,null,null,null,null,null,null,null,null,null,null,null,null,null,null,null,null,null,null,null,null,null,null,null,null,null,null,null,null,null,null,null,null,null,null,null,null,null,null,null,null,null,null,null,null,null,null,null,null,null,null,null,null,null,null,null,null,null,null,null,null,null,null,null,null,null,null,null,null,null,null,null,null,null,null,null,null,null,null,null,null,null,null,null,null,null,null,null,null,null,null,null,null,null,null,null,null,null,null,null,null,null,null,null,null,null,null,null,null,null,null,null,null,null,null,null,null,null,null,null,null,null,null,null,null,null,null,null,null,null,null,null,null,null,null,null,null,null,null,null,null,null,null,null,null,null,null,null,null,null,null,null,null,null,null,null,null,null,null,null,null,null,null,null,null,null,null,null,null,null,null,null,null,null,null,null,null,null,null,null,null,null,null,null,null,null,null,null,null,null,null,null,null,null,null,null,null,null,null,null,null,null,null,null,null,null,null,null,null,null,null,null,null,null,null,null,null,null,null,null,null,null,null,null,null,null,null,null,null,null,null,null,null,null,null,null,null,null,null,null,null,null,null,null,null,null,null,null,null,null,null,null,null,null,null,null,null,null,null,null,null,null,null,null,null,null,null,null,null,null,null,null,null,null,null,null,null,null,null,null,null,null,null,null,null,null,null,null,null,null,null,null,null,null,null,null,null,null,null,null,null,null,null,null,null,null,null,null,null,null,null,null,null,null,null,null,null,null,null,null,null,null,null,null,null,null,null,null,null,null,null,null,null,null,null,null,null,null,null,null,null,null,null,null,null,null,null,null,null,null,null,null,null,null,null,null,null,null,null,null,null,null,null,null,null,null,null,null,null,null,null,null,null,null,null,null,null,null,null,null,null,null,null,null,null,null,null,null,null,null,null,null,null,null,null,null,null,null,null,null,null,null,null,null,null,null,null,null,null,null,null,null,null,null,null,null,null,null,null,null,null,null,null,null,null,null,null,null,null,null,null,null,null,null,null,null,null,null,null,null,null,null,null,null,null,null,null,null,null,null,null,null,null,null,null,null,null,null,null,null,null,null,null,null,null,null,null,null,null,null,null,null,null,null,null,null,null,null,null,null,null,null,null,null,null,null,null,null,null,null,null,null,null,null,null,null,null,null,null,null,null,null,null,null,null,null,null,null,null,null,null,null,null,null,null,null,null,null,null,null,null,null,null,null,null,null,null,null,null,null,null,null,null,null,null,null,null,null,null,null,null,null,null,null,null,null,null,null,null,null,null,null,null,null,null,null,null,null,null,null,null,null,null,null,null,null,null,null,null,null,null,null,null,null,null,null,null,null,null,null,null,null,null,null,null,null,null,null,null,null,null,null,null,null,null,null,null,null,null,null,null,null,null,null,null,null,null,null,null,null,null,null,null,null,null,null,null,null,null,null,null,null,null,null,null,null,null,null,null,null,null,null,null,null,null,null,null,null,null,null,null,null,null,null,null,null,null,null,null,null,null,null,null,null,null,null,null,null,null,null,null,null,null,null,null,null,null,null,null,null,null,null,null,null,null,null,null,null,null,null,null,null,null,null,null,null,null,null,null,"GuardarRespaldoEnpdf"]
[null,null,null,null,null,null,null,null,null,null,null,null,null,null,null,null,null,null,null,null,null,null,null,null,null,null,null,null,null,null,null,null,null,null,null,null,null,null,null,null,null,null,null,null,null,null,null,null,null,null,null,null,null,null,null,null,null,null,null,null,null,null,null,null,null,null,null,null,null,null,null,null,null,null,null,null,null,null,null,null,null,null,null,null,null,null,null,null,null,null,null,null,null,null,null,null,null,null,null,null,null,null,null,null,null,null,null,null,null,null,null,null,null,null,null,null,null,null,null,null,null,null,null,null,null,null,null,null,null,null,null,null,null,null,null,null,null,null,null,null,null,null,null,null,null,null,null,null,null,null,null,null,null,null,null,null,null,null,null,null,null,null,null,null,null,null,null,null,null,null,null,null,null,null,null,null,null,null,null,null,null,null,null,null,null,null,null,null,null,null,null,null,null,null,null,null,null,null,null,null,null,null,null,null,null,null,null,null,null,null,null,null,null,null,null,null,null,null,null,null,null,null,null,null,null,null,null,null,null,null,null,null,null,null,null,null,null,null,null,null,null,null,null,null,null,null,null,null,null,null,null,null,null,null,null,null,null,null,null,null,null,null,null,null,null,null,null,null,null,null,null,null,null,null,null,null,null,null,null,null,null,null,null,null,null,null,null,null,null,null,null,null,null,null,null,null,null,null,null,null,null,null,null,null,null,null,null,null,null,null,null,null,null,null,null,null,null,null,null,null,null,null,null,null,null,null,null,null,null,null,null,null,null,null,null,null,null,null,null,null,null,null,null,null,null,null,null,null,null,null,null,null,null,null,null,null,null,null,null,null,null,null,null,null,null,null,null,null,null,null,null,null,null,null,null,null,null,null,null,null,null,null,null,null,null,null,null,null,null,null,null,null,null,null,null,null,null,null,null,null,null,null,null,null,null,null,null,null,null,null,null,null,null,null,null,null,null,null,null,null,null,null,null,null,null,null,null,null,null,null,null,null,null,null,null,null,null,null,null,null,null,null,null,null,null,null,null,null,null,null,null,null,null,null,null,null,null,null,null,null,null,null,null,null,null,null,null,null,null,null,null,null,null,null,null,null,null,null,null,null,null,null,null,null,null,null,null,null,null,null,null,null,null,null,null,null,null,null,null,null,null,null,null,null,null,null,null,null,null,null,null,null,null,null,null,null,null,null,null,null,null,null,null,null,null,null,null,null,null,null,null,null,null,null,null,null,null,null,null,null,null,null,null,null,null,null,null,null,null,null,null,null,null,null,null,null,null,null,null,null,null,null,null,null,null,null,null,null,null,null,null,null,null,null,null,null,null,null,null,null,null,null,null,null,null,null,null,null,null,null,null,null,null,null,null,null,null,null,null,null,null,null,null,null,null,null,null,null,null,null,null,null,null,null,null,null,null,null,null,null,null,null,null,null,null,null,null,null,null,null,null,null,null,null,null,null,null,null,null,null,null,null,null,null,null,null,null,null,null,null,null,null,null,null,null,null,null,null,null,null,null,null,null,null,null,null,null,null,null,null,null,null,null,null,null,null,null,null,null,null,null,null,null,null,null,null,null,null,null,null,null,null,null,null,null,null,null,null,null,null,null,null,null,null,null,null,null,null,null,null,null,null,null,null,null,null,null,null,null,null,null,null,null,null,null,null,null,null,null,null,null,null,null,null,null,null,null,null,null,null,null,null,null,null,null,null,null,null,null,null,null,null,null,null,null,null,null,null,null,null,null,null,null,null,null,null,null,null,null,null,null,null,null,null,null,null,null,null,null,null,null,null,null,null,null,null,null,null,null,null,null,null,null,null,null,null,null,null,null,null,null,null,null,null,null,null,null,null,null,null,null,null,null,null,null,null,null,null,null,null,null,null,null,null,null,null,null,null,null,null,null,null,null,null,null,null,null,null,null,null,null,null,null,null,null,null,null,null,null,null,null,null,null,null,null,null,null,null,null,null,null,null,null,null,null,null,null,null,null,null,null,null,null,null,null,null,null,null,null,null,null,null,null,null,null,null,null,null,null,null,null,null,null,null,null,null,null,null,null,null,null,null,null,null,null,null,null,null,null,null,null,null,null,null,null,null,null,null,null,null,null,null,null,null,null,null,null,null,null,null,null,null,null,null,null,null,null,null,null,null,null,null,null,null,null,null,null,null,null,null,null,null,null,null,null,null,null,null,null,null,null,null,null,null,null,null,null,null,null,null,null,null,null,null,null,null,null,null,null,null,null,null,null,null,null,null,null,null,null,null,null,null,null,null,null,null,null,null,null,null,null,null,null,null,null,null,null,null,null,null,null,null,null,null,null,null,null,null,null,null,null,null,null,null,null,null,null,null,null,null,null,null,null,null,null,null,null,null,null,null,null,null,null,null,null,null,null,null,null,null,null,null,null,null,null,null,null,null,null,null,null,null,null,null,null,null,null,null,null,null,null,null,null,null,null,null,null,null,null,null,null,null,null,null,null,null,null,null,null,null,null,null,null,null,null,null,null,null,null,null,null,null,null,null,null,null,null,null,null,null,null,null,null,null,null,null,null,null,null,null,null,null,null,null,null,null,null,null,null,null,null,null,null,null,null,null,null,null,null,null,null,null,null,null,null,null,null,null,null,null,null,null,null,null,null,null,null,null,null,null,null,null,null,null,null,null,null,null,null,null,null,null,null,null,null,null,null,null,null,null,null,null,null,null,null,null,null,null,null,null,null,null,null,null,null,null,null,null,null,null,null,null,null,null,null,null,null,null,null,null,null,null,null,null,null,null,null,null,null,null,null,null,null,null,null,null,null,null,null,null,null,null,null,null,null,null,null,null,null,null,null,null,null,null,null,null,null,null,null,null,null,null,null,null,null,null,null,null,null,null,null,null,null,null,null,null,null,null,null,null,null,null,null,null,null,null,null,null,null,null,null,null,null,null,null,null,null,null,null,null,null,null,null,null,null,null,null,null,null,null,null,null,null,null,null,null,null,null,null,null,null,null,null,null,null,null,null,null,null,null,null,null,null,null,null,null,null,null,null,null,null,null,null,null,null,null,null,null,null,null,null,null,null,null,null,null,null,null,null,null,null,null,null,null,null,null,null,null,null,null,null,null,null,null,null,null,null,null,null,null,null,null,null,null,null,null,null,null,null,null,null,null,null,null,null,null,null,null,null,null,null,null,null,null,null,null,null,null,null,null,null,null,null,null,null,null,null,null,null,null,null,null,null,null,null,null,null,null,null,null,null,null,null,null,null,null,null,null,null,null,null,null,null,null,null,null,null,null,null,null,null,null,null,null,null,null,null,null,null,null,null,null,null,null,null,null,null,null,null,null,null,null,null,null,null,null,null,null,null,null,null,null,null,null,null,null,null,null,null,null,null,null,null,null,null,null,null,null,null,null,null,null,null,null,null,null,null,null,null,null,null,null,null,null,null,null,null,null,null,null,null,null,null,null,null,null,null,null,null,null,null,null,null,null,null,null,null,null,null,null,null,null,null,null,null,null,null,null,null,null,null,null,null,null,null,null,null,null,null,null,null,null,null,null,null,null,null,null,null,null,null,null,null,null,null,null,null,null,null,null,null,null,null,null,null,null,null,null,null,null,null,null,null,null,null,null,null,null,null,null,null,null,null,null,null,null,null,null,null,null,null,null,null,null,null,null,null,null,null,null,null,null,null,null,null,null,null,null,null,null,null,null,null,null,null,null,null,null,null,null,null,null,null,null,null,null,null,null,null,null,null,null,null,null,null,null,null,null,null,null,null,null,null,null,null,null,null,null,null,null,null,null,null,null,null,null,null,null,null,null,null,null,null,null,null,null,null,null,null,null,null,null,null,null,null,null,null,null,null,null,null,null,null,null,null,null,null,null,null,null,null,null,null,null,null,null,null,null,null,null,null,null,null,null,null,null,null,null,null,null,null,null,null,null,null,null,null,null,null,null,null,null,null,null,null,null,null,null,null,null,null,null,null,null,null,null,null,null,null,null,null,null,null,null,null,null,null,null,null,null,null,null,null,null,null,null,null,null,null,null,null,null,null,null,null,null,null,null,null,null,null,null,null,null,null,null,null,null,null,null,null,null,null,null,null,null,null,null,null,null,null,null,null,null,null,null,null,null,null,null,null,null,null,null,null,null,null,null,null,null,null,null,null,null,null,null,null,null,null,null,null,null,null,null,null,null,null,null,null,null,null,null,null,null,null,null,null,null,null,null,null,null,null,null,null,null,null,null,null,null,null,null,null,null,null,null,null,null,null,null,null,null,null,null,null,null,null,null,null,null,null,null,null,null,null,null,null,null,null,null,null,null,null,null,null,null,null,null,null,null,null,null,null,null,null,null,null,null,null,null,null,null,null,null,null,null,null,null,null,null,null,null,null,null,null,null,null,null,null,null,null,null,null,null,null,null,null,null,null,null,null,null,null,null,null,null,null,null,null,null,null,null,null,null,null,null,null,null,null,null,null,null,null,null,null,null,null,null,null,null,null,null,null,null,null,null,null,null,null,null,null,null,null,null,null,null,null,null,null,null,null,null,null,null,null,null,null,null,null,null,null,null,null,null,null,null,null,null,null,null,null,null,null,null,null,null,null,null,null,null,null,null,null,null,null,null,null,null,null,null,null,null,null,null,null,null,null,null,null,null,null,null,null,null,null,null,null,null,null,null,null,null,null,null,null,null,null,null,null,null,null,null,null,null,null,null,null,null,null,null,null,null,null,null,null,null,null,null,null,null,null,null,null,null,null,null,null,null,null,null,null,null,null,null,null,null,null,null,null,null,null,null,null,null,null,null,null,null,null,null,null,null,null,null,null,null,null,null,null,null,null,null,null,null,null,null,null,null,null,null,null,null,null,null,null,null,null,null,null,null,null,null,null,null,null,null,null,null,null,null,null,null,null,null,null,null,null,null,null,null,null,null,null,null,null,null,null,null,null,null,null,null,null,null,null,null,null,null,null,null,null,null,null,null,null,null,null,null,null,null,null,null,null,null,null,null,null,null,null,null,null,null,null,null,null,null,null,null,null,null,null,null,null,null,null,null,null,null,null,null,null,null,null,null,null,null,null,null,null,null,null,null,null,null,null,null,null,null,null,null,null,null,null,null,null,null,null,null,null,null,null,null,null,null,null,null,null,null,null,null,null,null,null,null,null,null,null,null,null,null,null,null,null,null,null,null,null,null,null,null,null,null,null,null,null,null,null,null,null,null,null,null,null,null,null,null,null,null,null,null,null,null,null,null,null,null,null,null,null,null,null,null,null,null,null,null,null,null,null,null,null,null,null,null,null,null,null,null,null,null,null,null,null,null,null,null,null,null,null,null,null,null,null,null,null,null,null,null,null,null,null,null,null,null,null,null,null,null,null,null,null,null,null,null,null,null,null,null,null,null,null,null,null,null,null,null,null,null,null,null,null,null,null,null,null,null,null,null,null,null,null,null,null,null,null,null,null,null,null,null,null,null,null,null,null,null,null,null,null,null,null,null,null,null,null,null,null,null,null,null,null,null,null,null,null,null,null,null,null,null,null,null,null,null,null,null,null,null,null,null,null,null,null,null,null,null,null,null,null,null,null,null,null,null,null,null,null,null,null,null,null,null,null,null,null,null,null,null,null,null,null,null,null,null,null,null,null,null,null,null,null,null,null,null,null,null,null,null,null,null,null,null,null,null,null,null,null,null,null,null,null,null,null,null,null,null,null,null,null,null,null,null,null,null,null,null,null,null,null,null,null,null,null,null,null,null,null,null,null,null,null,null,null,null,null,null,null,null,null,null,null,null,null,null,null,null,null,null,null,null,null,null,null,null,null,null,null,null,null,null,null,null,null,null,null,null,null,null,null,null,null,null,null,null,null,null,null,null,null,null,null,null,null,null,null,null,null,null,null,null,null,null,null,null,null,null,null,null,null,null,null,null,null,null,null,null,null,null,null,null,null,null,null,null,null,null,null,null,null,null,null,null,null,null,null,null,null,null,null,null,null,null,null,null,null,null,null,null,null,null,null,null,null,null,null,null,null,null,null,null,null,null,null,null,null,null,null,null,null,null,null,null,null,null,null,null,null,null,null,null,null,null,null,null,null,null,null,null,null,null,null,null,null,null,null,null,null,null,null,null,null,null,null,null,null,null,null,null,null,null,null,null,null,null,null,null,null,null,null,null,null,null,null,null,null,null,null,null,null,null,null,null,null,null,null,null,null,null,null,null,null,null,null,null,null,null,null,null,null,null,null,null,null,null,null,null,null,null,null,null,null,null,null,null,null,null,null,null,null,null,null,null,null,null,null,null,null,null,null,null,null,null,null,null,null,null,null,null,null,null,null,null,null,null,null,null,null,null,null,null,null,null,null,null,null,null,null,null,null,null,null,null,null,null,null,null,null,null,null,null,null,null,null,null,null,null,null,null,null,null,null,null,null,null,null,null,null,null,null,null,null,null,null,null,null,null,null,null,null,null,null,null,null,null,null,null,null,null,null,null,null,null,null,null,null,null,null,null,null,null,null,null,null,null,null,null,null,null,null,null,null,null,null,null,null,null,null,null,null,null,null,null,null,null,null,null,null,null,null,null,null,null,null,null,null,null,null,null,null,null,null,null,null,null,null,null,null,null,null,null,null,null,null,null,null,null,null,null,null,null,null,null,null,null,null,null,null,null,null,null,null,null,null,null,null,null,null,null,null,null,null,null,null,null,null,null,null,null,null,null,null,null,null,null,null,null,null,null,null,null,null,null,null,null,null,null,null,null,null,null,null,null,null,null,null,null,null,null,null,null,null,null,null,null,null,null,null,null,null,null,null,null,null,null,null,null,null,null,null,null,null,null,null,null,null,null,null,null,null,null,null,null,null,null,null,null,null,null,null,null,null,null,null,null,null,null,null,null,null,null,null,null,null,null,null,null,null,null,null,null,null,null,null,null,null,null,null,null,null,null,null,null,null,null,null,null,null,null,null,null,null,null,null,null,null,null,null,null,null,null,null,null,null,null,null,null,null,null,null,null,null,null,null,null,null,null,null,null,null,null,null,null,null,null,null,null,null,null,null,null,null,null,null,null,null,null,null,null,null,null,null,null,null,null,null,null,null,null,null,null,null,null,null,null,null,null,null,null,null,null,null,null,null,null,null,null,null,null,null,null,null,null,null,null,null,null,null,null,null,null,null,null,null,null,null,null,null,null,null,null,null,null,null,null,null,null,null,null,null,null,null,null,null,null,null,null,null,null,null,null,null,null,null,null,null,null,null,null,null,null,null,null,null,null,null,null,null,null,null,null,null,null,null,null,null,null,null,null,null,null,null,null,null,null,null,null,null,null,null,null,null,null,null,null,null,null,null,null,null,null,null,null,null,null,null,null,null,null,null,null,null,null,null,null,null,null,null,null,null,null,null,null,null,null,null,null,null,null,null,null,null,null,null,null,null,null,null,null,null,null,null,null,null,null,null,null,null,null,null,null,null,null,null,null,null,null,null,null,null,null,null,null,null,null,null,null,null,null,null,null,null,null,null,null,null,null,null,null,null,null,null,null,null,null,null,null,null,null,null,null,null,null,null,null,null,null,null,null,null,null,null,null,null,null,null,null,null,null,null,null,null,null,null,null,null,null,null,null,null,null,null,null,null,null,null,null,null,null,null,null,null,null,null,null,null,null,null,null,null,null,null,null,null,null,null,null,null,null,null,null,null,null,null,null,null,null,null,null,null,null,null,null,null,null,null,null,null,null,null,null,null,null,null,null,null,null,null,null,null,null,null,null,null,null,null,null,null,null,null,null,null,null,null,null,null,null,null,null,null,null,null,null,null,null,null,null,null,null,null,null,null,null,null,null,null,null,null,null,null,null,null,null,null,null,null,null,null,null,null,null,null,null,null,null,null,null,null,null,null,null,null,null,null,null,null,null,null,null,null,null,null,null,null,null,null,null,null,null,null,null,null,null,null,null,null,null,null,null,null,null,null,null,null,null,null,null,null,null,null,null,null,null,null,null,null,null,null,null,null,null,null,null,null,null,null,null,null,null,null,null,null,null,null,null,null,null,null,null,null,null,null,null,null,null,null,null,null,null,null,null,null,null,null,null,null,null,null,null,null,null,null,null,null,null,null,null,null,null,null,null,null,null,null,null,null,null,null,null,null,null,null,null,null,null,null,null,null,null,null,null,null,null,null,null,null,null,null,null,null,null,null,null,null,null,null,null,null,null,null,null,null,null,null,null,null,null,null,null,null,null,null,null,null,null,null,null,null,null,null,null,null,null,null,null,null,null,null,null,null,null,null,null,null,null,null,null,null,null,null,null,null,null,null,null,null,null,null,null,null,null,null,null,null,null,null,null,null,null,null,null,null,null,null,null,null,null,null,null,null,null,null,null,null,null,null,null,null,null,null,null,null,null,null,null,null,null,null,null,null,null,null,null,null,null,null,null,null,null,null,null,null,null,null,null,null,null,null,null,null,null,null,null,null,null,null,null,null,null,null,null,null,null,null,null,null,null,null,null,null,null,null,null,null,null,null,null,null,null,null,null,null,null,null,null,null,null,null,null,null,null,null,null,null,null,null,null,null,null,null,null,null,null,null,null,null,null,null,null,null,null,null,null,null,null,null,null,null,null,null,null,null,null,null,null,null,null,null,null,null,null,null,null,null,null,null,null,null,null,null,null,null,null,null,null,null,null,null,null,null,null,null,null,null,null,null,null,null,null,null,null,null,null,null,null,null,null,null,null,null,null,null,null,null,null,null,null,null,null,null,null,null,null,null,null,null,null,null,null,null,null,null,null,null,null,null,null,null,null,null,null,null,null,null,null,null,null,null,null,null,null,null,null,null,null,null,null,null,null,null,null,null,null,null,null,null,null,null,null,null,null,null,null,null,null,null,null,null,null,null,null,null,null,null,null,null,null,null,null,null,null,null,null,null,null,null,null,null,null,null,null,null,null,null,null,null,null,null,null,null,null,null,null,null,null,null,null,null,null,null,null,null,null,null,null,null,null,null,null,null,null,null,null,null,null,null,null,null,null,null,null,null,null,null,null,null,null,null,null,null,null,null,null,null,null,null,null,null,null,null,null,null,null,null,null,null,null,null,null,null,null,null,null,null,null,null,null,null,null,null,null,null,null,null,null,null,null,null,null,null,null,null,null,null,null,null,null,null,null,null,null,null,null,null,null,null,null,null,null,null,null,null,null,null,null,null,null,null,null,null,null,null,null,null,null,null,null,null,null,null,null,null,null,null,null,null,null,null,null,null,null,null,null,null,null,null,null,null,null,null,null,null,null,null,null,null,null,null,null,null,null,null,null,null,null,null,null,null,null,null,null,null,null,null,null,null,null,null,null,null,null,null,null,null,null,null,null,null,null,null,null,null,null,null,null,null,null,null,null,null,null,null,null,null,null,null,null,null,null,null,null,null,null,null,null,null,null,null,null,null,null,null,null,null,null,null,null,null,null,null,null,null,null,null,null,null,null,null,null,null,null,null,null,null,null,null,null,null,null,null,null,null,null,null,null,null,null,null,null,null,null,null,null,null,null,null,null,null,null,null,null,null,null,null,null,null,null,null,null,null,null,null,null,null,null,null,null,null,null,null,null,null,null,null,null,null,null,null,null,null,null,null,null,null,null,null,null,null,null,null,null,null,null,null,null,null,null,null,null,null,null,null,null,null,null,null,null,null,null,null,null,null,null,null,null,null,null,null,null,null,null,null,null,null,null,null,null,null,null,null,null,null,null,null,null,null,null,null,null,null,null,null,null,null,null,null,null,null,null,null,null,null,null,null,null,null,null,null,null,null,null,null,null,null,null,null,null,null,null,null,null,null,null,null,null,null,null,null,null,null,null,null,null,null,null,null,null,null,null,null,null,null,null,null,null,null,null,null,null,null,null,null,null,null,null,null,null,null,null,null,null,null,null,null,null,null,null,null,null,null,null,null,null,null,null,null,null,null,null,null,null,null,null,null,null,null,null,null,null,null,null,null,null,null,null,null,null,null,null,null,null,null,null,null,null,null,null,null,null,null,null,null,null,null,null,null,null,null,null,null,null,null,null,null,null,null,null,null,null,null,null,null,null,null,null,null,null,null,null,null,null,null,null,null,null,null,null,null,null,null,null,null,null,null,null,null,null,null,null,null,null,null,null,null,null,null,null,null,null,null,null,null,null,null,null,null,null,null,null,null,null,null,null,null,null,null,null,null,null,null,null,null,null,null,null,null,null,null,null,null,null,null,null,null,null,null,null,null,null,null,null,null,null,null,null,null,null,null,null,null,null,null,null,null,null,null,null,null,null,null,null,null,null,null,null,null,null,null,null,null,null,null,null,null,null,null,null,null,null,null,null,null,null,null,null,null,null,null,null,null,null,null,null,null,null,null,null,null,null,null,null,null,null,null,null,null,null,null,null,null,null,null,null,null,null,null,null,null,null,null,null,null,null,null,null,null,null,null,null,null,null,null,null,null,null,null,null,null,null,null,null,null,null,null,null,null,null,null,null,null,null,null,null,null,null,null,null,null,null,null,null,null,null,null,null,null,null,null,null,null,null,null,null,null,null,null,null,null,null,null,null,null,null,null,null,null,null,null,null,null,null,null,null,null,null,null,null,null,null,null,null,null,null,null,null,null,null,null,null,null,null,null,null,null,null,null,null,null,null,null,null,null,null,null,null,null,null,null,null,null,null,null,null,null,null,null,null,null,null,null,null,null,null,null,null,null,null,null,null,null,null,null,null,null,null,null,null,null,null,null,null,null,null,null,null,null,null,null,null,null,null,null,null,null,null,null,null,null,null,null,null,null,null,null,null,null,null,null,null,null,null,null,null,null,null,null,null,null,null,null,null,null,null,null,null,null,null,null,null,null,null,null,null,null,null,null,null,null,null,null,null,null,null,null,null,null,null,null,null,null,null,null,null,null,null,null,null,null,null,null,null,null,null,null,null,null,null,null,null,null,null,null,null,null,null,null,null,null,null,null,null,null,null,null,null,null,null,null,null,null,null,null,null,null,null,null,null,null,null,null,null,null,null,null,null,null,null,null,null,null,null,null,null,null,null,null,null,null,null,null,null,null,null,null,null,null,null,null,null,null,null,null,null,null,null,null,null,null,null,null,null,null,null,null,null,null,null,null,null,null,null,null,null,null,null,null,null,null,null,null,null,null,null,null,null,null,null,null,null,null,null,null,null,null,null,null,null,null,null,null,null,null,null,null,null,null,null,null,null,null,null,null,null,null,null,null,null,null,null,null,null,null,null,null,null,null,null,null,null,null,null,null,null,null,null,null,null,null,null,null,null,null,null,null,null,null,null,null,null,null,null,null,null,null,null,null,null,null,null,null,null,null,null,null,null,null,null,null,null,null,null,null,null,null,null,null,null,null,null,null,null,null,null,null,null,null,null,null,null,null,null,null,null,null,null,null,null,null,null,null,null,null,null,null,null,null,null,null,null,null,null,null,null,null,null,null,null,null,null,null,null,null,null,null,null,null,null,null,null,null,null,null,null,null,null,null,null,null,null,null,null,null,null,null,null,null,null,null,null,null,null,null,null,null,null,null,null,null,null,null,null,null,null,null,null,null,null,null,null,null,null,null,null,null,null,null,null,null,null,null,null,null,null,null,null,null,null,null,null,null,null,null,null,null,null,null,null,null,null,null,null,null,null,null,null,null,null,null,null,null,null,null,null,null,null,null,null,null,null,null,null,null,null,null,null,null,null,null,null,null,null,null,null,null,null,null,null,null,null,null,null,null,null,null,null,null,null,null,null,null,null,null,null,null,null,null,null,null,null,null,null,null,null,null,null,null,null,null,null,null,null,null,null,null,null,null,null,null,null,null,null,null,null,null,null,null,null,null,null,null,null,null,null,null,null,null,null,null,null,null,null,null,null,null,null,null,null,null,null,null,null,null,null,null,null,null,null,null,null,null,null,null,null,null,null,null,null,null,null,null,null,null,null,null,null,null,null,null,null,null,null,null,null,null,null,null,null,null,null,null,null,null,null,null,null,null,null,null,null,null,null,null,null,null,null,null,null,null,null,null,null,null,null,null,null,null,null,null,null,null,null,null,null,null,null,null,null,null,null,null,null,null,null,null,null,null,null,null,null,null,null,null,null,null,null,null,null,null,null,null,null,null,null,null,null,null,null,null,null,null,null,null,null,null,null,null,null,null,null,null,null,null,null,null,null,null,null,null,null,null,null,null,null,null,null,null,null,null,null,null,null,null,null,null,null,null,null,null,null,null,null,null,null,null,null,null,null,null,null,null,null,null,null,null,null,null,null,null,null,null,null,null,null,null,null,null,null,null,null,null,null,null,null,null,null,null,null,null,null,null,null,null,null,null,null,null,null,null,null,null,null,null,null,null,null,null,null,null,null,null,null,null,null,null,null,null,null,null,null,null,null,null,null,null,null,null,null,null,null,null,null,null,null,null,null,null,null,null,null,null,null,null,null,null,null,null,null,null,null,null,null,null,null,null,null,null,null,null,null,null,null,null,null,null,null,null,null,null,null,null,null,null,null,null,null,null,null,null,null,null,null,null,null,null,null,null,null,null,null,null,null,null,null,null,null,null,null,null,null,null,null,null,null,null,null,null,null,null,null,null,null,null,null,null,null,null,null,null,null,null,null,null,null,null,null,null,null,null,null,null,null,null,null,null,null,null,null,null,null,null,null,null,null,null,null,null,null,null,null,null,null,null,null,null,null,null,null,null,null,null,null,null,null,null,null,null,null,null,null,null,null,null,null,null,null,null,null,null,null,null,null,null,null,null,null,null,null,null,null,null,null,null,null,null,null,null,null,null,null,null,null,null,null,null,null,null,null,null,null,null,null,null,null,null,null,null,null,null,null,null,null,null,null,null,null,null,null,null,null,null,null,null,null,null,null,null,null,null,null,null,null,null,null,null,null,null,null,null,null,null,null,null,null,null,null,null,null,null,null,null,null,null,null,null,null,null,null,null,null,null,null,null,null,null,null,null,null,null,null,null,null,null,null,null,null,null,null,null,null,null,null,null,null,null,null,null,null,null,null,null,null,null,null,null,null,null,null,null,null,null,null,null,null,null,null,null,null,null,null,null,null,null,null,null,null,null,null,null,null,null,null,null,null,null,null,null,null,null,null,null,null,null,null,null,null,null,null,null,null,null,null,null,null,null,null,null,null,null,null,null,null,null,null,null,null,null,null,null,null,null,null,null,null,null,null,null,null,null,null,null,null,null,null,null,null,null,null,null,null,null,null,null,null,null,null,null,null,null,null,null,null,null,null,null,null,null,null,null,null,null,null,null,null,null,null,null,null,null,null,null,null,null,null,null,null,null,null,null,null,null,null,null,null,null,null,null,null,null,null,null,null,null,null,null,null,null,null,null,null,null,null,null,null,null,null,null,null,null,null,null,null,null,null,null,null,null,null,null,null,null,null,null,null,null,null,null,null,null,null,null,null,null,null,null,null,null,null,null,null,null,null,null,null,null,null,null,null,null,null,null,null,null,null,null,null,null,null,null,null,null,null,null,null,null,null,null,null,null,null,null,null,null,null,null,null,null,null,null,null,null,null,null,null,null,null,null,null,null,null,null,null,null,null,null,null,null,null,null,null,null,null,null,null,null,null,null,null,null,null,null,null,null,null,null,null,null,null,null,null,null,null,null,null,null,null,null,null,null,null,null,null,null,null,null,null,null,null,null,null,null,null,null,null,null,null,null,null,null,null,null,null,null,null,null,null,null,null,null,null,null,null,null,null,null,null,null,null,null,null,null,null,null,null,null,null,null,null,null,null,null,null,null,null,null,null,null,null,null,null,null,null,null,null,null,null,null,null,null,null,null,null,null,null,null,null,null,null,null,null,null,null,null,null,null,null,null,null,null,null,null,null,null,null,null,null,null,null,null,null,null,null,null,null,null,null,null,null,null,null,null,null,null,null,null,null,null,null,null,null,null,null,null,null,null,null,null,null,null,null,null,null,null,null,null,null,null,null,null,null,null,null,null,null,null,null,null,null,null,null,null,null,null,null,null,null,null,null,null,null,null,null,null,null,null,null,null,null,null,null,null,null,null,null,null,null,null,null,null,null,null,null,null,null,null,null,null,null,null,null,null,null,null,null,null,null,null,null,null,null,null,null,null,null,null,null,null,null,null,null,null,null,null,null,null,null,null,null,null,null,null,null,null,null,null,null,null,null,null,null,null,null,null,null,null,null,null,null,null,null,null,null,null,null,null,null,null,null,null,null,null,null,null,null,null,null,null,null,null,null,null,null,null,null,null,null,null,null,null,null,null,null,null,null,null,null,null,null,null,null,null,null,null,null,null,null,null,null,null,null,null,null,null,null,null,null,null,null,null,null,null,null,null,null,null,null,null,null,null,null,null,null,null,null,null,null,null,null,null,null,null,null,null,null,null,null,null,null,null,null,null,null,null,null,null,null,null,null,null,null,null,null,null,null,null,null,null,null,null,null,null,null,null,null,null,null,null,null,null,null,null,null,null,null,null,null,null,null,null,null,null,null,null,null,null,null,null,null,null,null,null,null,null,null,null,null,null,null,null,null,null,null,null,null,null,null,null,null,null,null,null,null,null,null,null,null,null,null,null,null,null,null,null,null,null,null,null,null,null,null,null,null,null,null,null,null,null,null,null,null,null,null,null,null,null,null,null,null,null,null,null,null,null,null,null,null,null,null,null,null,null,null,null,null,null,null,null,null,null,null,null,null,null,null,null,null,null,null,null,null,null,null,null,null,null,null,null,null,null,null,null,null,null,null,null,null,null,null,null,null,null,null,null,null,null,null,null,null,null,null,null,null,null,null,null,null,null,null,null,null,null,null,null,null,null,null,null,null,null,null,null,null,null,null,null,null,null,null,null,null,null,null,null,null,null,null,null,null,null,null,null,null,null,null,null,null,null,null,null,null,null,null,null,null,null,null,null,null,null,null,null,null,null,null,null,null,null,null,null,null,null,null,null,null,null,null,null,null,null,null,null,null,null,null,null,null,null,null,null,null,null,null,null,null,null,null,null,null,null,null,null,null,null,null,null,null,null,null,null,null,null,null,null,null,null,null,null,null,null,null,null,null,null,null,null,null,null,null,null,null,null,null,null,null,null,null,null,null,null,null,null,null,null,null,null,null,null,null,null,null,null,null,null,null,null,null,null,null,null,null,null,null,null,null,null,null,null,null,null,null,null,null,null,null,null,null,null,null,null,null,null,null,null,null,null,null,null,null,null,null,null,null,null,null,null,null,null,null,null,null,null,null,null,null,null,null,null,null,null,null,null,null,null,null,null,null,null,null,null,null,null,null,null,null,null,null,null,null,null,null,null,null,null,null,null,null,null,null,null,null,null,null,null,null,null,null,null,null,null,null,null,null,null,null,null,null,null,null,null,null,null,null,null,null,null,null,null,null,null,null,null,null,null,null,null,null,null,null,null,null,null,null,null,null,null,null,null,null,null,null,null,null,null,null,null,null,null,null,null,null,null,null,null,null,null,null,null,null,null,null,null,null,null,null,null,null,null,null,null,null,null,null,null,null,null,null,null,null,null,null,null,null,null,null,null,null,null,null,null,null,null,null,null,null,null,null,null,null,null,null,null,null,null,null,null,null,null,null,null,null,null,null,null,null,null,null,null,null,null,null,null,null,null,null,null,null,null,null,null,null,null,null,null,null,null,null,null,null,null,null,null,null,null,null,null,null,null,null,null,null,null,null,null,null,null,null,null,null,null,null,null,null,null,null,null,null,null,null,null,null,null,null,null,null,null,null,null,null,null,null,null,null,null,null,null,null,null,null,null,null,null,null,null,null,null,null,null,null,null,null,null,null,null,null,null,null,null,null,null,null,null,null,null,null,null,null,null,null,null,null,null,null,null,null,null,null,null,null,null,null,null,null,null,null,null,null,null,null,null,null,null,null,null,null,null,null,null,null,null,null,null,null,null,null,null,null,null,null,null,null,null,null,null,null,null,null,null,null,null,null,null,null,null,null,null,null,null,null,null,null,null,null,null,null,null,null,null,null,null,null,null,null,null,null,null,null,null,null,null,null,null,null,null,null,null,null,null,null,null,null,null,null,null,null,null,null,null,null,null,null,null,null,null,null,null,null,null,null,null,null,null,null,null,null,null,null,null,null,null,null,null,null,null,null,null,null,null,null,null,null,null,null,null,null,null,null,null,null,null,null,null,null,null,null,null,null,null,null,null,null,null,null,null,null,null,null,null,null,null,null,null,null,null,null,null,null,null,null,null,null,null,null,null,null,null,null,null,null,null,null,null,null,null,null,null,null,null,null,null,null,null,null,null,null,null,null,null,null,null,null,null,null,null,null,null,null,null,null,null,null,null,null,null,null,null,null,null,null,null,null,null,null,null,null,null,null,null,null,null,null,null,null,null,null,null,null,null,null,null,null,null,null,null,null,null,null,null,null,null,null,null,null,null,null,null,null,null,null,null,null,null,null,null,null,null,null,null,null,null,null,null,null,null,null,null,null,null,null,null,null,null,null,null,null,null,null,null,null,null,null,null,null,null,null,null,null,null,null,null,null,null,null,null,null,null,null,null,null,null,null,null,null,null,null,null,null,null,null,null,null,null,null,null,null,null,null,null,null,null,null,null,null,null,null,null,null,null,null,null,null,null,null,null,null,null,null,null,null,null,null,null,null,null,null,null,null,null,null,null,null,null,null,null,null,null,null,null,null,null,null,null,null,null,null,null,null,null,null,null,null,null,null,null,null,null,null,null,null,null,null,null,null,null,null,null,null,null,null,null,null,null,null,null,null,null,null,null,null,null,null,null,null,null,null,null,null,null,null,null,null,null,null,null,null,null,null,null,null,null,null,null,null,null,null,null,null,null,null,null,null,null,null,null,null,null,null,null,null,null,null,null,null,null,null,null,null,null,null,null,null,null,null,null,null,null,null,null,null,null,null,null,null,null,null,null,null,null,null,null,null,null,null,null,null,null,null,null,null,null,null,null,null,null,null,null,null,null,null,null,null,null,null,null,null,null,null,null,null,null,null,null,null,null,null,null,null,null,null,null,null,null,null,null,null,null,null,null,null,null,null,null,null,null,null,null,null,null,null,null,null,null,null,null,null,null,null,null,null,null,null,null,null,null,null,null,null,null,null,null,null,null,null,null,null,null,null,null,null,null,null,null,null,null,null,null,null,null,null,null,null,null,null,null,null,null,null,null,null,null,null,null,null,null,null,null,null,null,null,null,null,null,null,null,null,null,null,null,null,null,null,null,null,null,null,null,null,null,null,null,null,null,null,null,null,null,null,null,null,null,null,null,null,null,null,null,null,null,null,null,null,null,null,null,null,null,null,null,null,null,null,null,null,null,null,null,null,null,null,null,null,null,null,null,null,null,null,null,null,null,null,null,null,null,null,null,null,null,null,null,null,null,null,null,null,null,null,null,null,null,null,null,null,null,null,null,null,null,null,null,null,null,null,null,null,null,null,null,null,null,null,null,null,null,null,null,null,null,null,null,null,null,null,null,null,null,null,null,null,null,null,null,null,null,null,null,null,null,null,null,null,null,null,null,null,null,null,null,null,null,null,null,null,null,null,null,null,null,null,null,null,null,null,null,null,null,null,null,null,null,null,null,null,null,null,null,null,null,null,null,null,null,null,null,null,null,null,null,null,null,null,null,null,null,null,null,null,null,null,null,null,null,null,null,null,null,null,null,null,null,null,null,null,null,null,null,null,null,null,null,null,null,null,null,null,null,null,null,null,null,null,null,null,null,null,null,null,null,null,null,null,null,null,null,null,null,null,null,null,null,null,null,null,null,null,null,null,null,null,null,null,null,null,null,null,null,null,null,null,null,null,null,null,null,null,null,null,null,null,null,null,null,null,null,null,null,null,null,null,null,null,null,null,null,null,null,null,null,null,null,null,null,null,null,null,null,null,null,null,null,null,null,null,null,null,null,null,null,null,null,null,null,null,null,null,null,null,null,null,null,null,null,null,null,null,null,null,null,null,null,null,null,null,null,null,null,null,null,null,null,null,null,null,null,null,null,null,null,null,null,null,null,null,null,null,null,null,null,null,null,null,null,null,null,null,null,null,null,null,null,null,null,null,null,null,null,null,null,null,null,null,null,null,null,null,null,null,null,null,null,null,null,null,null,null,null,null,null,null,null,null,null,null,null,null,null,null,null,null,null,null,null,null,null,null,null,null,null,null,null,null,null,null,null,null,null,null,null,null,null,null,null,null,null,null,null,null,null,null,null,null,null,null,null,null,null,null,null,null,null,null,null,null,null,null,null,null,null,null,null,null,null,null,null,null,null,null,null,null,null,null,null,null,null,null,null,null,null,null,null,null,null,null,null,null,null,null,null,null,null,null,null,null,null,null,null,null,null,null,null,null,null,null,null,null,null,null,null,null,null,null,null,null,null,null,null,null,null,null,null,null,null,null,null,null,null,null,null,null,null,null,null,null,null,null,null,null,null,null,null,null,null,null,null,null,null,null,null,null,null,null,null,null,null,null,null,null,null,null,null,null,null,null,null,null,null,null,null,null,null,null,null,null,null,null,null,null,null,null,null,null,null,null,null,null,null,null,null,null,null,null,null,null,null,null,null,null,null,null,null,null,null,null,null,null,null,null,null,null,null,null,null,null,null,null,null,null,null,null,null,null,null,null,null,null,null,null,null,null,null,null,null,null,null,null,null,null,null,null,null,null,null,null,null,null,null,null,null,null,null,null,null,null,null,null,null,null,null,null,null,null,null,null,null,null,null,null,null,null,null,null,null,null,null,null,null,null,null,null,null,null,null,null,null,null,null,null,null,null,null,null,null,null,null,null,null,null,null,null,null,null,null,null,null,null,null,null,null,null,null,null,null,null,null,null,null,null,null,null,null,null,null,null,null,null,null,null,null,null,null,null,null,null,null,null,null,null,null,null,null,null,null,null,null,null,null,null,null,null,null,null,null,null,null,null,null,null,null,null,null,null,null,null,null,null,null,null,null,null,null,null,null,null,null,null,null,null,null,null,null,null,null,null,null,null,null,null,null,null,null,null,null,null,null,null,null,null,null,null,null,null,null,null,null,null,null,null,null,null,null,null,null,null,null,null,null,null,null,null,null,null,null,null,null,null,null,null,null,null,null,null,null,null,null,null,null,null,null,null,null,null,null,null,null,null,null,null,null,null,null,null,null,null,null,null,null,null,null,null,null,null,null,null,null,null,null,null,null,null,null,null,null,null,null,null,null,null,null,null,null,null,null,null,null,null,null,null,null,null,null,null,null,null,null,null,null,null,null,null,null,null,null,null,null,null,null,null,null,null,null,null,null,null,null,null,null,null,null,null,null,null,null,null,null,null,null,null,null,null,null,null,null,null,null,null,null,null,null,null,null,null,null,null,null,null,null,null,null,null,null,null,null,null,null,null,null,null,null,null,null,null,null,null,null,null,null,null,null,null,null,null,null,null,null,null,null,null,null,null,null,null,null,null,null,null,null,null,null,null,null,null,null,null,null,null,null,null,null,null,null,null,null,null,null,null,null,null,null,null,null,null,null,null,null,null,null,null,null,null,null,null,null,null,null,null,null,null,null,null,null,null,null,null,null,null,null,null,null,null,null,null,null,null,null,null,null,null,null,null,null,null,null,null,null,null,null,null,null,null,null,null,null,null,null,null,null,null,null,null,null,null,null,null,null,null,null,null,null,null,null,null,null,null,null,null,null,null,null,null,null,null,null,null,null,null,null,null,null,null,null,null,null,null,null,null,null,null,null,null,null,null,null,null,null,null,null,null,null,null,null,null,null,null,null,null,null,null,null,null,null,null,null,null,null,null,null,null,null,null,null,null,null,null,null,null,null,null,null,null,null,null,null,null,null,null,null,null,null,null,null,null,null,null,null,null,null,null,null,null,null,null,null,null,null,null,null,null,null,null,null,null,null,null,null,null,null,null,null,null,null,null,null,null,null,null,null,null,null,null,null,null,null,null,null,null,null,null,null,null,null,null,null,null,null,null,null,null,null,null,null,null,null,null,null,null,null,null,null,null,null,null,null,null,null,null,null,null,null,null,null,null,null,null,null,null,null,null,null,null,null,null,null,null,null,null,null,null,null,null,null,null,null,null,null,null,null,null,null,null,null,null,null,null,null,null,null,null,null,null,null,null,null,null,null,null,null,null,null,null,null,null,null,null,null,null,null,null,null,null,null,null,null,null,null,null,null,null,null,null,null,null,null,null,null,null,null,null,null,null,null,null,null,null,null,null,null,null,null,null,null,null,null,null,null,null,null,null,null,null,null,null,null,null,null,null,null,null,null,null,null,null,null,null,null,null,null,null,null,null,null,null,null,null,null,null,null,null,null,null,null,null,null,null,null,null,null,null,null,null,null,null,null,null,null,null,null,null,null,null,null,null,null,null,null,null,null,null,null,null,null,null,null,null,null,null,null,null,null,null,null,null,null,null,null,null,null,null,null,null,null,null,null,null,null,null,null,null,null,null,null,null,null,null,null,null,null,null,null,null,null,null,null,null,null,null,null,null,null,null,null,null,null,null,null,null,null,null,null,null,null,null,null,null,null,null,null,null,null,null,null,null,null,null,null,null,null,null,null,null,null,null,null,null,null,null,null,null,null,null,null,null,null,null,null,null,null,null,null,null,null,null,null,null,null,null,null,null,null,null,null,null,null,null,null,null,null,null,null,null,null,null,null,null,null,null,null,null,null,null,null,null,null,null,null,null,null,null,null,null,null,null,null,null,null,null,null,null,null,null,null,null,null,null,null,null,null,null,null,null,null,null,null,null,null,null,null,null,null,null,null,null,null,null,null,null,null,null,null,null,null,null,null,null,null,null,null,null,null,null,null,null,null,null,null,null,null,null,null,null,null,null,null,null,null,null,null,null,null,null,null,null,null,null,null,null,null,null,null,null,null,null,null,null,null,null,null,null,null,null,null,null,null,null,null,null,null,null,null,null,null,null,null,null,null,null,null,null,null,null,null,null,null,null,null,null,null,null,null,null,null,null,null,null,null,null,null,null,null,null,null,null,null,null,null,null,null,null,null,null,null,null,null,null,null,null,null,null,null,null,null,null,null,null,null,null,null,null,null,null,null,null,null,null,null,null,null,null,null,null,null,null,null,null,null,null,null,null,null,null,null,null,null,null,null,null,null,null,null,null,null,null,null,null,null,null,null,null,null,null,null,null,null,null,null,null,null,null,null,null,null,null,null,null,null,null,null,null,null,null,null,null,null,null,null,null,null,null,null,null,null,null,null,null,null,null,null,null,null,null,null,null,null,null,null,null,null,null,null,null,null,null,null,null,null,null,null,null,null,null,null,null,null,null,null,null,null,null,null,null,null,null,null,null,null,null,null,null,null,null,null,null,null,null,null,null,null,null,null,null,null,null,null,null,null,null,null,null,null,null,null,null,null,null,null,null,null,null,null,null,null,null,null,null,null,null,null,null,null,null,null,null,null,null,null,null,null,null,null,null,null,null,null,null,null,null,null,null,null,null,null,null,null,null,null,null,null,null,null,null,null,null,null,null,null,null,null,null,null,null,null,null,null,null,null,null,null,null,null,null,null,null,null,null,null,null,null,null,null,null,null,null,null,null,null,null,null,null,null,null,null,null,null,null,null,null,null,null,null,null,null,null,null,null,null,null,null,null,null,null,null,null,null,null,null,null,null,null,null,null,null,null,null,null,null,null,null,null,null,null,null,null,null,null,null,null,null,null,null,null,null,null,null,null,null,null,null,null,null,null,null,null,null,null,null,null,null,null,null,null,null,null,null,null,null,null,null,null,null,null,null,null,null,null,null,null,null,null,null,null,null,null,null,null,null,null,null,null,null,null,null,null,null,null,null,null,null,null,null,null,null,null,null,null,null,null,null,null,null,null,null,null,null,null,null,null,null,null,null,null,null,null,null,null,null,null,null,null,null,null,null,null,null,null,null,null,null,null,null,null,null,null,null,null,null,null,null,null,null,null,null,null,null,null,null,null,null,null,null,null,null,null,null,null,null,null,null,null,null,null,null,null,null,null,null,null,null,null,null,null,null,null,null,null,null,null,null,null,null,null,null,null,null,null,null,null,null,null,null,null,null,null,null,null,null,null,null,null,null,null,null,null,null,null,null,null,null,null,null,null,null,null,null,null,null,null,null,null,null,null,null,null,null,null,null,null,null,null,null,null,null,null,null,null,null,null,null,null,null,null,null,null,null,null,null,null,null,null,null,null,null,null,null,null,null,null,null,null,null,null,null,null,null,null,null,null,null,null,null,null,null,null,null,null,null,null,null,null,null,null,null,null,null,null,null,null,null,null,null,null,null,null,null,null,null,null,null,null,null,null,null,null,null,null,null,null,null,null,null,null,null,null,null,null,null,null,null,null,null,null,null,null,null,null,null,null,null,null,null,null,null,null,null,null,null,null,null,null,null,null,null,null,null,null,null,null,null,null,null,null,null,null,null,null,null,null,null,null,null,null,null,null,null,null,null,null,null,null,null,null,null,null,null,null,null,null,null,null,null,null,null,null,null,null,null,null,null,null,null,null,null,null,null,null,null,null,null,null,null,null,null,null,null,null,null,null,null,null,null,null,null,null,null,null,null,null,null,null,null,null,null,null,null,null,null,null,null,null,null,null,null,null,null,null,null,null,null,null,null,null,null,null,null,null,null,null,null,null,null,null,null,null,null,null,null,null,null,null,null,null,null,null,null,null,null,null,null,null,null,null,null,null,null,null,null,null,null,null,null,null,null,null,null,null,null,null,null,null,null,null,null,null,null,null,null,null,null,null,null,null,null,null,null,null,null,null,null,null,null,null,null,null,null,null,null,null,null,null,null,null,null,null,null,null,null,null,null,null,null,null,null,null,null,null,null,null,null,null,null,null,null,null,null,null,null,null,null,null,null,null,null,null,null,null,null,null,null,null,null,null,null,null,null,null,null,null,null,null,null,null,null,null,null,null,null,null,null,null,null,null,null,null,null,null,null,null,null,null,null,null,null,null,null,null,null,null,null,null,null,null,null,null,null,null,null,null,null,null,null,null,null,null,null,null,null,null,null,null,null,null,null,null,null,null,null,null,null,null,null,null,null,null,null,null,null,null,null,null,null,null,null,null,null,null,null,null,null,null,null,null,null,null,null,null,null,null,null,null,null,null,null,null,null,null,null,null,null,null,null,null,null,null,null,null,null,null,null,null,null,null,null,null,null,null,null,null,null,null,null,null,null,null,null,null,null,null,null,null,null,null,null,null,null,null,null,null,null,null,null,null,null,null,null,null,null,null,null,null,null,null,null,null,null,null,null,null,null,null,null,null,null,null,null,null,null,null,null,null,null,null,null,null,null,null,null,null,null,null,null,null,null,null,null,null,null,null,null,null,null,null,null,null,null,null,null,null,null,null,null,null,null,null,null,null,null,null,null,null,null,null,null,null,null,null,null,null,null,null,null,null,null,null,null,null,null,null,null,null,null,null,null,null,null,null,null,null,null,null,null,null,null,null,null,null,null,null,null,null,null,null,null,null,null,null,null,null,null,null,null,null,null,null,null,null,null,null,null,null,null,null,null,null,null,null,null,null,null,null,null,null,null,null,null,null,null,null,null,null,null,null,null,null,null,null,null,null,null,null,null,null,null,null,null,null,null,null,null,null,null,null,null,null,null,null,null,null,null,null,null,null,null,null,null,null,null,null,null,null,null,null,null,null,null,null,null,null,null,null,null,null,null,null,null,null,null,null,null,null,null,null,null,null,null,null,null,null,null,null,null,null,null,null,null,null,null,null,null,null,null,null,null,null,null,null,null,null,null,null,null,null,null,null,null,null,null,null,null,null,null,null,null,null,null,null,null,null,null,null,null,null,null,null,null,null,null,null,null,null,null,null,null,null,null,null,null,null,null,null,null,null,null,null,null,null,null,null,null,null,null,null,null,null,null,null,null,null,null,null,null,null,null,null,null,null,null,null,null,null,null,null,null,null,null,null,null,null,null,null,null,null,null,null,null,null,null,null,null,null,null,null,null,null,null,null,null,null,null,null,null,null,null,null,null,null,null,null,null,null,null,null,null,null,null,null,null,null,null,null,null,null,null,null,null,null,null,null,null,null,null,null,null,null,null,null,null,null,null,null,null,null,null,null,null,null,null,null,null,null,null,null,null,null,null,null,null,null,null,null,null,null,null,null,null,null,null,null,null,null,null,null,null,null,null,null,null,null,null,null,null,null,null,null,null,null,null,null,null,null,null,null,null,null,null,null,null,null,null,null,null,null,null,null,null,null,null,null,null,null,null,null,null,null,null,null,null,null,null,null,null,null,null,null,null,null,null,null,null,null,null,null,null,null,null,null,null,null,null,null,null,null,null,null,null,null,null,null,null,null,null,null,null,null,null,null,null,null,null,null,null,null,null,null,null,null,null,null,null,null,null,null,null,null,null,null,null,null,null,null,null,null,null,null,null,null,null,null,null,null,null,null,null,null,null,null,null,null,null,null,null,null,null,null,null,null,null,null,null,null,null,null,null,null,null,null,null,null,null,null,null,null,null,null,null,null,null,null,null,null,null,null,null,null,null,null,null,null,null,null,null,null,null,null,null,null,null,null,null,null,null,null,null,null,null,null,null,null,null,null,null,null,null,null,null,null,null,null,null,null,null,null,null,null,null,null,null,null,null,null,null,null,null,null,null,null,null,null,null,null,null,null,null,null,null,null,null,null,null,null,null,null,null,null,null,null,null,null,null,null,null,null,null,null,null,null,null,null,null,null,null,null,null,null,null,null,null,null,null,null,null,null,null,null,null,null,null,null,null,null,null,null,null,null,null,null,null,null,null,null,null,null,null,null,null,null,null,null,null,null,null,null,null,null,null,null,null,null,null,null,null,null,null,null,null,null,null,null,null,null,null,null,null,null,null,null,null,null,null,null,null,null,null,null,null,null,null,null,null,null,null,null,null,null,null,null,null,null,null,null,null,null,null,null,null,null,null,null,null,null,null,null,null,null,null,null,null,null,null,null,null,null,null,null,null,null,null,null,null,null,null,null,null,null,null,null,null,null,null,null,null,null,null,null,null,null,null,null,null,null,null,null,null,null,null,null,null,null,null,null,null,null,null,null,null,null,null,null,null,null,null,null,null,null,null,null,null,null,null,null,null,null,null,null,null,null,null,null,null,null,null,null,null,null,null,null,null,null,null,null,null,null,null,null,null,null,null,null,null,null,null,null,null,null,null,null,null,null,null,null,null,null,null,null,null,null,null,null,null,null,null,null,null,null,null,null,null,null,null,null,null,null,null,null,null,null,null,null,null,null,null,null,null,null,null,null,null,null,null,null,null,null,null,null,null,null,null,null,null,null,null,null,null,null,null,null,null,null,null,null,null,null,null,null,null,null,null,null,null,null,null,null,null,null,null,null,null,null,null,null,null,null,null,null,null,null,null,null,null,null,null,null,null,null,null,null,null,null,null,null,null,null,null,null,null,null,null,null,null,null,null,null,null,null,null,null,null,null,null,null,null,null,null,null,null,null,null,null,null,null,null,null,null,null,null,null,null,null,null,null,null,null,null,null,null,null,null,null,null,null,null,null,null,null,null,null,null,null,null,null,null,null,null,null,null,null,null,null,null,null,null,null,null,null,null,null,null,null,null,null,null,null,null,null,null,null,null,null,null,null,null,null,null,null,null,null,null,null,null,null,null,null,null,null,null,null,null,null,null,null,null,null,null,null,null,null,null,null,null,null,null,null,null,null,null,null,null,null,null,null,null,null,null,null,null,null,null,null,null,null,null,null,null,null,null,null,null,null,null,null,null,null,null,null,null,null,null,null,null,null,null,null,null,null,null,null,null,null,null,null,null,null,null,null,null,null,null,null,null,null,null,null,null,null,null,null,null,null,null,null,null,null,null,null,null,null,null,null,null,null,null,null,null,null,null,null,null,null,null,null,null,null,null,null,null,null,null,null,null,null,null,null,null,null,null,null,null,null,null,null,null,null,null,null,null,null,null,null,null,null,null,null,null,null,null,null,null,null,null,null,null,null,null,null,null,null,null,null,null,null,null,null,null,null,null,null,null,null,null,null,null,null,null,null,null,null,null,null,null,null,null,null,null,null,null,null,null,null,null,null,null,null,null,null,null,null,null,null,null,null,null,null,null,null,null,null,null,null,null,null,null,null,null,null,null,null,null,null,null,null,null,null,null,null,null,null,null,null,null,null,null,null,null,null,null,null,null,null,null,null,null,null,null,null,null,null,null,null,null,null,null,null,null,null,null,null,null,null,null,null,null,null,null,null,null,null,null,null,null,null,null,null,null,null,null,null,null,null,null,null,null,null,null,null,null,null,null,null,null,null,null,null,null,null,null,null,null,null,null,null,null,null,null,null,null,null,null,null,null,null,null,null,null,null,null,null,null,null,null,null,null,null,null,null,null,null,null,null,null,null,null,null,null,null,null,null,null,null,null,null,null,null,null,null,null,null,null,null,null,null,null,null,null,null,null,null,null,null,null,null,null,null,null,null,null,null,null,null,null,null,null,null,null,null,null,null,null,null,null,null,null,null,null,null,null,null,null,null,null,null,null,null,null,null,null,null,null,null,null,null,null,null,null,null,null,null,null,null,null,null,null,null,null,null,null,null,null,null,null,null,null,null,null,null,null,null,null,null,null,null,null,null,null,null,null,null,null,null,null,null,null,null,null,null,null,null,null,null,null,null,null,null,null,null,null,null,null,null,null,null,null,null,null,null,null,null,null,null,null,null,null,null,null,null,null,null,null,null,null,null,null,null,null,null,null,null,null,null,null,null,null,null,null,null,null,null,null,null,null,null,null,null,null,null,null,null,null,null,null,null,null,null,null,null,null,null,null,null,null,null,null,null,null,null,null,null,null,null,null,null,null,null,null,null,null,null,null,null,null,null,null,null,null,null,null,null,null,null,null,null,null,null,null,null,null,null,null,null,null,null,null,null,null,null,null,null,null,null,null,null,null,null,null,null,null,null,null,null,null,null,null,null,null,null,null,null,null,null,null,null,null,null,null,null,null,null,null,null,null,null,null,null,null,null,null,null,null,null,null,null,null,null,null,null,null,null,null,null,null,null,null,null,null,null,null,null,null,null,null,null,null,null,null,null,null,null,null,null,null,null,null,null,null,null,null,null,null,null,null,null,null,null,null,null,null,null,null,null,null,null,null,null,null,null,null,null,null,null,null,null,null,null,null,null,null,null,null,null,null,null,null,null,null,null,null,null,null,null,null,null,null,null,null,null,null,null,null,null,null,null,null,null,null,null,null,null,null,null,null,null,null,null,null,null,null,null,null,null,null,null,null,null,null,null,null,null,null,null,null,null,null,null,null,null,null,null,null,null,null,null,null,null,null,null,null,null,null,null,null,null,null,null,null,null,null,null,null,null,null,null,null,null,null,null,null,null,null,null,null,null,null,null,null,null,null,null,null,null,null,null,null,null,null,null,null,null,null,null,null,null,null,null,null,null,null,null,null,null,null,null,null,null,null,null,null,null,null,null,null,null,null,null,null,null,null,null,null,null,null,null,null,null,null,null,null,null,null,null,null,null,null,null,null,null,null,null,null,null,null,null,null,null,null,null,null,null,null,null,null,null,null,null,null,null,null,null,null,null,null,null,null,null,null,null,null,null,null,null,null,null,null,null,null,null,null,null,null,null,null,null,null,null,null,null,null,null,null,null,null,null,null,null,null,null,null,null,null,null,null,null,null,null,null,null,null,null,null,null,null,null,null,null,null,null,null,null,null,null,null,null,null,null,null,null,null,null,null,null,null,null,null,null,null,null,null,null,null,null,null,null,null,null,null,null,null,null,null,null,null,null,null,null,null,null,null,null,null,null,null,null,null,null,null,null,null,null,null,null,null,null,null,null,null,null,null,null,null,null,null,null,null,null,null,null,null,null,null,null,null,null,null,null,null,null,null,null,null,null,null,null,null,null,null,null,null,null,null,null,null,null,null,null,null,null,null,null,null,null,null,null,null,null,null,null,null,null,null,null,null,null,null,null,null,null,null,null,null,null,null,null,null,null,null,null,null,null,null,null,null,null,null,null,null,null,null,null,null,null,null,null,null,null,null,null,null,null,null,null,null,null,null,null,null,null,null,null,null,null,null,null,null,null,null,null,null,null,null,null,null,null,null,null,null,null,null,null,null,null,null,null,null,null,null,null,null,null,null,null,null,null,null,null,null,null,null,null,null,null,null,null,null,null,null,null,null,null,null,null,null,null,null,null,null,null,null,null,null,null,null,null,null,null,null,null,null,null,null,null,null,null,null,null,null,null,null,null,null,null,null,null,null,null,null,null,null,null,null,null,null,null,null,null,null,null,null,null,null,null,null,null,null,null,null,null,null,null,null,null,null,null,null,null,null,null,null,null,null,null,null,null,null,null,null,null,null,null,null,null,null,null,null,null,null,null,null,null,null,null,null,null,null,null,null,null,null,null,null,null,null,null,null,null,null,null,null,null,null,null,null,null,null,null,null,null,null,null,null,null,null,null,null,null,null,null,null,null,null,null,null,null,null,null,null,null,null,null,null,null,null,null,null,null,null,null,null,null,null,null,null,null,null,null,null,null,null,null,null,null,null,null,null,null,null,null,null,null,null,null,null,null,null,null,null,null,null,null,null,null,null,null,null,null,null,null,null,null,null,null,null,null,null,null,null,null,null,null,null,null,null,null,null,null,null,null,null,null,null,null,null,null,null,null,null,null,null,null,null,null,null,null,null,null,null,null,null,null,null,null,null,null,null,null,null,null,null,null,null,null,null,null,null,null,null,null,null,null,null,null,null,null,null,null,null,null,null,null,null,null,null,null,null,null,null,null,null,null,null,null,null,null,null,null,null,null,null,null,null,null,null,null,null,null,null,null,null,null,null,null,null,null,null,null,null,null,null,null,null,null,null,null,null,null,null,null,null,null,null,null,null,null,null,null,null,null,null,null,null,null,null,null,null,null,null,null,null,null,null,null,null,null,null,null,null,null,null,null,null,null,null,null,null,null,null,null,null,null,null,null,null,null,null,null,null,null,null,null,null,null,null,null,null,null,null,null,null,null,null,null,null,null,null,null,null,null,null,null,null,null,null,null,null,null,null,null,null,null,null,null,null,null,null,null,null,null,null,null,null,null,null,null,null,null,null,null,null,null,null,null,null,null,null,null,null,null,null,null,null,null,null,null,null,null,null,null,null,null,null,null,null,null,null,null,null,null,null,null,null,null,null,null,null,null,null,null,null,null,null,null,null,null,null,null,null,null,null,null,null,null,null,null,null,null,null,null,null,null,null,null,null,null,null,null,null,null,null,null,null,null,null,null,null,null,null,null,null,null,null,null,null,null,null,null,null,null,null,null,null,null,null,null,null,null,null,null,null,null,null,null,null,null,null,null,null,null,null,null,null,null,null,null,null,null,null,null,null,null,null,null,null,null,null,null,null,null,null,null,null,null,null,null,null,null,null,null,null,null,null,null,null,null,null,null,null,null,null,null,null,null,null,null,null,null,null,null,null,null,null,null,null,null,null,null,null,null,null,null,null,null,null,null,null,null,null,null,null,null,null,null,null,null,null,null,null,null,null,null,null,null,null,null,null,null,null,null,null,null,null,null,null,null,null,null,null,null,null,null,null,null,null,null,null,null,null,null,null,null,null,null,null,null,null,null,null,null,null,null,null,null,null,null,null,null,null,null,null,null,null,null,null,null,null,null,null,null,null,null,null,null,null,null,null,null,null,null,null,null,null,null,null,null,null,null,null,null,null,null,null,null,null,null,null,null,null,null,null,null,null,null,null,null,null,null,null,null,null,null,null,null,null,null,null,null,null,null,null,null,null,null,null,null,null,null,null,null,null,null,null,null,null,null,null,null,null,null,null,null,null,null,null,null,null,null,null,null,null,null,null,null,null,null,null,null,null,null,null,null,null,null,null,null,null,null,null,null,null,null,null,null,null,null,null,null,null,null,null,null,null,null,null,null,null,null,null,null,null,null,null,null,null,null,null,null,null,null,null,null,null,null,null,null,null,null,null,null,null,null,null,null,null,null,null,null,null,null,null,null,null,null,null,null,null,null,null,null,null,null,null,null,null,null,null,null,null,null,null,null,null,null,null,null,null,null,null,null,null,null,null,null,null,null,null,null,null,null,null,null,null,null,null,null,null,null,null,null,null,null,null,null,null,null,null,null,null,null,null,null,null,null,null,null,null,null,null,null,null,null,null,null,null,null,null,null,null,null,null,null,null,null,null,null,null,null,null,null,null,null,null,null,null,null,null,null,null,null,null,null,null,null,null,null,null,null,null,null,null,null,null,null,null,null,null,null,null,null,null,null,null,null,null,null,null,null,null,null,null,null,null,null,null,null,null,null,null,null,null,null,null,null,null,null,null,null,null,null,null,null,null,null,null,null,null,null,null,null,null,null,null,null,null,null,null,null,null,null,null,null,null,null,null,null,null,null,null,null,null,null,null,null,null,null,null,null,null,null,null,null,null,null,null,null,null,null,null,null,null,null,null,null,null,null,null,null,null,null,null,null,null,null,null,null,null,null,null,null,null,null,null,null,null,null,null,null,null,null,null,null,null,null,null,null,null,null,null,null,null,null,null,null,null,null,null,null,null,null,null,null,null,null,null,null,null,null,null,null,null,null,null,null,null,null,null,null,null,null,null,null,null,null,null,null,null,null,null,null,null,null,null,null,null,null,null,null,null,null,null,null,null,null,null,null,null,null,null,null,null,null,null,null,null,null,null,null,null,null,null,null,null,null,null,null,null,null,null,null,null,null,null,null,null,null,null,null,null,null,null,null,null,null,null,null,null,null,null,null,null,null,null,null,null,null,null,null,null,null,null,null,null,null,null,null,null,null,null,null,null,null,null,null,null,null,null,null,null,null,null,null,null,null,null,null,null,null,null,null,null,null,null,null,null,null,null,null,null,null,null,null,null,null,null,null,null,null,null,null,null,null,null,null,null,null,null,null,null,null,null,null,null,null,null,null,null,null,null,null,null,null,null,null,null,null,null,null,null,null,null,null,null,null,null,null,null,null,null,null,null,null,null,null,null,null,null,null,null,null,null,null,null,null,null,null,null,null,null,null,null,null,null,null,null,null,null,null,null,null,null,null,null,null,null,null,null,null,null,null,null,null,null,null,null,null,null,null,null,null,null,null,null,null,null,null,null,null,null,null,null,null,null,null,null,null,null,null,null,null,null,null,null,null,null,null,null,null,null,null,null,null,null,null,null,null,null,null,null,null,null,null,null,null,null,null,null,null,null,null,null,null,null,null,null,null,null,null,null,null,null,null,null,null,null,null,null,null,null,null,null,null,null,null,null,null,null,null,null,null,null,null,null,null,null,null,null,null,null,null,null,null,null,null,null,null,null,null,null,null,null,null,null,null,null,null,null,null,null,null,null,null,null,null,null,null,null,null,null,null,null,null,null,null,null,null,null,null,null,null,null,null,null,null,null,null,null,null,null,null,null,null,null,null,null,null,null,null,null,null,null,null,null,null,null,null,null,null,null,null,null,null,null,null,null,null,null,null,null,null,null,null,null,null,null,null,null,null,null,null,null,null,null,null,null,null,null,null,null,null,null,null,null,null,null,null,null,null,null,null,null,null,null,null,null,null,null,null,null,null,null,null,null,null,null,null,null,null,null,null,null,null,null,null,null,null,null,null,null,null,null,null,null,null,null,null,null,null,null,null,null,null,null,null,null,null,null,null,null,null,null,null,null,null,null,null,null,null,null,null,null,null,null,null,null,null,null,null,null,null,null,null,null,null,null,null,null,null,null,null,null,null,null,null,null,null,null,null,null,null,null,null,null,null,null,null,null,null,null,null,null,null,null,null,null,null,null,null,null,null,null,null,null,null,null,null,null,null,null,null,null,null,null,null,null,null,null,null,null,null,null,null,null,null,null,null,null,null,null,null,null,null,null,null,null,null,null,null,null,null,null,null,null,null,null,null,null,null,null,null,null,null,null,null,null,null,null,null,null,null,null,null,null,null,null,null,null,null,null,null,null,null,null,null,null,null,null,null,null,null,null,null,null,null,null,null,null,null,null,null,null,null,null,null,null,null,null,null,null,null,null,null,null,null,null,null,null,null,null,null,null,null,null,null,null,null,null,null,null,null,null,null,null,null,null,null,null,null,null,null,null,null,null,null,null,null,null,null,null,null,null,null,null,null,null,null,null,null,null,null,null,null,null,null,null,null,null,null,null,null,null,null,null,null,null,null,null,null,null,null,null,null,null,null,null,null,null,null,null,null,null,null,null,null,null,null,null,null,null,null,null,null,null,null,null,null,null,null,null,null,null,null,null,null,null,null,null,null,null,null,null,null,null,null,null,null,null,null,null,null,null,null,null,null,null,null,null,null,null,null,null,null,null,null,null,null,null,null,null,null,null,null,null,null,null,null,null,null,null,null,null,null,null,null,null,null,null,null,null,null,null,null,null,null,null,null,null,null,null,null,null,null,null,null,null,null,null,null,null,null,null,null,null,null,null,null,null,null,null,null,null,null,null,null,null,null,null,null,null,null,null,null,null,null,null,null,null,null,null,null,null,null,null,null,null,null,null,null,null,null,null,null,null,null,null,null,null,null,null,null,null,null,null,null,null,null,null,null,null,null,null,null,null,null,null,null,null,null,null,null,null,null,null,null,null,null,null,null,null,null,null,null,null,null,null,null,null,null,null,null,null,null,null,null,null,null,null,null,null,null,null,null,null,null,null,null,null,null,null,null,null,null,null,null,null,null,null,null,null,null,null,null,null,null,null,null,null,null,null,null,null,null,null,null,null,null,null,null,null,null,null,null,null,null,null,null,null,null,null,null,null,null,null,null,null,null,null,null,null,null,null,null,null,null,null,null,null,null,null,null,null,null,null,null,null,null,null,null,null,null,null,null,null,null,null,null,null,null,null,null,null,null,null,null,null,null,null,null,null,null,null,null,null,null,null,null,null,null,null,null,null,null,null,null,null,null,null,null,null,null,null,null,null,null,null,null,null,null,null,null,null,null,null,null,null,null,null,null,null,null,null,null,null,null,null,null,null,null,null,null,null,null,null,null,null,null,null,null,null,null,null,null,null,null,null,null,null,null,null,null,null,null,null,null,null,null,null,null,null,null,null,null,null,null,null,null,null,null,null,null,null,null,null,null,null,null,null,null,null,null,null,null,null,null,null,null,null,null,null,null,null,null,null,null,null,null,null,null,null,null,null,null,null,null,null,null,null,null,null,null,null,null,null,null,null,null,null,null,null,null,null,null,null,null,null,null,null,null,null,null,null,null,null,null,null,null,null,null,null,null,null,null,null,null,null,null,null,null,null,null,null,null,null,null,null,null,null,null,null,null,null,null,null,null,null,null,null,null,null,null,null,null,null,null,null,null,null,null,null,null,null,null,null,null,null,null,null,null,null,null,null,null,null,null,null,null,null,null,null,null,null,null,null,null,null,null,null,null,null,null,null,null,null,null,null,null,null,null,null,null,null,null,null,null,null,null,null,null,null,null,null,null,null,null,null,null,null,null,null,null,null,null,null,null,null,null,null,null,null,null,null,null,null,null,null,null,null,null,null,null,null,null,null,null,null,null,null,null,null,null,null,null,null,null,null,null,null,null,null,null,null,null,null,null,null,null,null,null,null,null,null,null,null,null,null,null,null,null,null,null,null,null,null,null,null,null,null,null,null,null,null,null,null,null,null,null,null,null,null,null,null,null,null,null,null,null,null,null,null,null,null,null,null,null,null,null,null,null,null,null,null,null,null,null,null,null,null,null,null,null,null,null,null,null,null,null,null,null,null,null,null,null,null,null,null,null,null,null,null,null,null,null,null,null,null,null,null,null,null,null,null,null,null,null,null,null,null,null,null,null,null,null,null,null,null,null,null,null,null,null,null,null,null,null,null,null,null,null,null,null,null,null,null,null,null,null,null,null,null,null,null,null,null,null,null,null,null,null,null,null,null,null,null,null,null,null,null,null,null,null,null,null,null,null,null,null,null,null,null,null,null,null,null,null,null,null,null,null,null,null,null,null,null,null,null,null,null,null,null,null,null,null,null,null,null,null,null,null,null,null,null,null,null,null,null,null,null,null,null,null,null,null,null,null,null,null,null,null,null,null,null,null,null,null,null,null,null,null,null,null,null,null,null,null,null,null,null,null,null,null,null,null,null,null,null,null,null,null,null,null,null,null,null,null,null,null,null,null,null,null,null,null,null,null,null,null,null,null,null,null,null,null,null,null,null,null,null,null,null,null,null,null,null,null,null,null,null,null,null,null,null,null,null,null,null,null,null,null,null,null,null,null,null,null,null,null,null,null,null,null,null,null,null,null,null,null,null,null,null,null,null,null,null,null,null,null,null,null,null,null,null,null,null,null,null,null,null,null,null,null,null,null,null,null,null,null,null,null,null,null,null,null,null,null,null,null,null,null,null,null,null,null,null,null,null,null,null,null,null,null,null,null,null,null,null,null,null,null,null,null,null,null,null,null,null,null,null,null,null,null,null,null,null,null,null,null,null,null,null,null,null,null,null,null,null,null,null,null,null,null,null,null,null,null,null,null,null,null,null,null,null,null,null,null,null,null,null,null,null,null,null,null,null,null,null,null,null,null,null,null,null,null,null,null,null,null,null,null,null,null,null,null,null,null,null,null,null,null,null,null,null,null,null,null,null,null,null,null,null,null,null,null,null,null,null,null,null,null,null,null,null,null,null,null,null,null,null,null,null,null,null,null,null,null,null,null,null,null,null,null,null,null,null,null,null,null,null,null,null,null,null,null,null,null,null,null,null,null,null,null,null,null,null,null,null,null,null,null,null,null,null,null,null,null,null,null,null,null,null,null,null,null,null,null,null,null,null,null,null,null,null,null,null,null,null,null,null,null,null,null,null,null,null,null,null,null,null,null,null,null,null,null,null,null,null,null,null,null,null,null,null,null,null,null,null,null,null,null,null,null,null,null,null,null,null,null,null,null,null,null,null,null,null,null,null,null,null,null,null,null,null,null,null,null,null,null,null,null,null,null,null,null,null,null,null,null,null,null,null,null,null,null,null,null,null,null,null,null,null,null,null,null,null,null,null,null,null,null,null,null,null,null,null,null,null,null,null,null,null,null,null,null,null,null,null,null,null,null,null,null,null,null,null,null,null,null,null,null,null,null,null,null,null,null,null,null,null,null,null,null,null,null,null,null,null,null,null,null,null,null,null,null,null,null,null,null,null,null,null,null,null,null,null,null,null,null,null,null,null,null,null,null,null,null,null,null,null,null,null,null,null,null,null,null,null,null,null,null,null,null,null,null,null,null,null,null,null,null,null,null,null,null,null,null,null,null,null,null,null,null,null,null,null,null,null,null,null,null,null,null,null,null,null,null,null,null,null,null,null,null,null,null,null,null,null,null,null,null,null,null,null,null,null,null,null,null,null,null,null,null,null,null,null,null,null,null,null,null,null,null,null,null,null,null,null,null,null,null,null,null,null,null,null,null,null,null,null,null,null,null,null,null,null,null,null,null,null,null,null,null,null,null,null,null,null,null,null,null,null,null,null,null,null,null,null,null,null,null,null,null,null,null,null,null,null,null,null,null,null,null,null,null,null,null,null,null,null,null,null,null,null,null,null,null,null,null,null,null,null,null,null,null,null,null,null,null,null,null,null,null,null,null,null,null,null,null,null,null,null,null,null,null,null,null,null,null,null,null,null,null,null,null,null,null,null,null,null,null,null,null,null,null,null,null,null,null,null,null,null,null,null,null,null,null,null,null,null,null,null,null,null,null,null,null,null,null,null,null,null,null,null,null,null,null,null,null,null,null,null,null,null,null,null,null,null,null,null,null,null,null,null,null,null,null,null,null,null,null,null,null,null,null,null,null,null,null,null,null,null,null,null,null,null,null,null,null,null,null,null,null,null,null,null,null,null,null,null,null,null,null,null,null,null,null,null,null,null,null,null,null,null,null,null,null,null,null,null,null,null,null,null,null,null,null,null,null,null,null,null,null,null,null,null,null,null,null,null,null,null,null,null,null,null,null,null,null,null,null,null,null,null,null,null,null,null,null,null,null,null,null,null,null,null,null,null,null,null,null,null,null,null,null,null,null,null,null,null,null,null,null,null,null,null,null,null,null,null,null,null,null,null,null,null,null,null,null,null,null,null,null,null,null,null,null,null,null,null,null,null,null,null,null,null,null,null,null,null,null,null,null,null,null,null,null,null,null,null,null,null,null,null,null,null,null,null,null,null,null,null,null,null,null,null,null,null,null,null,null,null,null,null,null,null,null,null,null,null,null,null,null,null,null,null,null,null,null,null,null,null,null,null,null,null,null,null,null,null,null,null,null,null,null,null,null,null,null,null,null,null,null,null,null,null,null,null,null,null,null,null,null,null,null,null,null,null,null,null,null,null,null,null,null,null,null,null,null,null,null,null,null,null,null,null,null,null,null,null,null,null,null,null,null,null,null,null,null,null,null,null,null,null,null,null,null,null,null,null,null,null,null,null,null,null,null,null,null,null,null,null,null,null,null,null,null,null,null,null,null,null,null,null,null,null,null,null,null,null,null,null,null,null,null,null,null,null,null,null,null,null,null,null,null,null,null,null,null,null,null,null,null,null,null,null,null,null,null,null,null,null,null,null,null,null,null,null,null,null,null,null,null,null,null,null,null,null,null,null,null,null,null,null,null,null,null,null,null,null,null,null,null,null,null,null,null,null,null,null,null,null,null,null,null,null,null,null,null,null,null,null,null,null,null,null,null,null,null,null,null,null,null,null,null,null,null,null,null,null,null,null,null,null,null,null,null,null,null,null,null,null,null,null,null,null,null,null,null,null,null,null,null,null,null,null,null,null,null,null,null,null,null,null,null,null,null,null,null,null,null,null,null,null,null,null,null,null,null,null,null,null,null,null,null,null,null,null,null,null,null,null,null,null,null,null,null,null,null,null,null,null,null,null,null,null,null,null,null,null,null,null,null,null,null,null,null,null,null,null,null,null,null,null,null,null,null,null,null,null,null,null,null,null,null,null,null,null,null,null,null,null,null,null,null,null,null,null,null,null,null,null,null,null,null,null,null,null,null,null,null,null,null,null,null,null,null,null,null,null,null,null,null,null,null,null,null,null,"PrintThisSheet"]
[null,null,null,null,null,null,null,null,null,null,null,null,null,null,null,null,null,null,null,null,null,null,null,null,null,null,null,null,null,null,null,null,null,null,null,null,null,null,null,null,null,null,null,null,null,null,null,null,null,null,null,null,null,null,null,null,null,null,null,null,null,null,null,null,null,null,null,null,null,null,null,null,null,null,null,null,null,null,null,null,null,null,null,null,null,null,null,null,null,null,null,null,null,null,null,null,null,null,null,null,null,null,null,null,null,null,null,null,null,null,null,null,null,null,null,null,null,null,null,null,null,null,null,null,null,null,null,null,null,null,null,null,null,null,null,null,null,null,null,null,null,null,null,null,null,null,null,null,null,null,null,null,null,null,null,null,null,null,null,null,null,null,null,null,null,null,null,null,null,null,null,null,null,null,null,null,null,null,null,null,null,null,null,null,null,null,null,null,null,null,null,null,null,null,null,null,null,null,null,null,null,null,null,null,null,null,null,null,null,null,null,null,null,null,null,null,null,null,null,null,null,null,null,null,null,null,null,null,null,null,null,null,null,null,null,null,null,null,null,null,null,null,null,null,null,null,null,null,null,null,null,null,null,null,null,null,null,null,null,null,null,null,null,null,null,null,null,null,null,null,null,null,null,null,null,null,null,null,null,null,null,null,null,null,null,null,null,null,null,null,null,null,null,null,null,null,null,null,null,null,null,null,null,null,null,null,null,null,null,null,null,null,null,null,null,null,null,null,null,null,null,null,null,null,null,null,null,null,null,null,null,null,null,null,null,null,null,null,null,null,null,null,null,null,null,null,null,null,null,null,null,null,null,null,null,null,null,null,null,null,null,null,null,null,null,null,null,null,null,null,null,null,null,null,null,null,null,null,null,null,null,null,null,null,null,null,null,null,null,null,null,null,null,null,null,null,null,null,null,null,null,null,null,null,null,null,null,null,null,null,null,null,null,null,null,null,null,null,null,null,null,null,null,null,null,null,null,null,null,null,null,null,null,null,null,null,null,null,null,null,null,null,null,null,null,null,null,null,null,null,null,null,null,null,null,null,null,null,null,null,null,null,null,null,null,null,null,null,null,null,null,null,null,null,null,null,null,null,null,null,null,null,null,null,null,null,null,null,null,null,null,null,null,null,null,null,null,null,null,null,null,null,null,null,null,null,null,null,null,null,null,null,null,null,null,null,null,null,null,null,null,null,null,null,null,null,null,null,null,null,null,null,null,null,null,null,null,null,null,null,null,null,null,null,null,null,null,null,null,null,null,null,null,null,null,null,null,null,null,null,null,null,null,null,null,null,null,null,null,null,null,null,null,null,null,null,null,null,null,null,null,null,null,null,null,null,null,null,null,null,null,null,null,null,null,null,null,null,null,null,null,null,null,null,null,null,null,null,null,null,null,null,null,null,null,null,null,null,null,null,null,null,null,null,null,null,null,null,null,null,null,null,null,null,null,null,null,null,null,null,null,null,null,null,null,null,null,null,null,null,null,null,null,null,null,null,null,null,null,null,null,null,null,null,null,null,null,null,null,null,null,null,null,null,null,null,null,null,null,null,null,null,null,null,null,null,null,null,null,null,null,null,null,null,null,null,null,null,null,null,null,null,null,null,null,null,null,null,null,null,null,null,null,null,null,null,null,null,null,null,null,null,null,null,null,null,null,null,null,null,null,null,null,null,null,null,null,null,null,null,null,null,null,null,null,null,null,null,null,null,null,null,null,null,null,null,null,null,null,null,null,null,null,null,null,null,null,null,null,null,null,null,null,null,null,null,null,null,null,null,null,null,null,null,null,null,null,null,null,null,null,null,null,null,null,null,null,null,null,null,null,null,null,null,null,null,null,null,null,null,null,null,null,null,null,null,null,null,null,null,null,null,null,null,null,null,null,null,null,null,null,null,null,null,null,null,null,null,null,null,null,null,null,null,null,null,null,null,null,null,null,null,null,null,null,null,null,null,null,null,null,null,null,null,null,null,null,null,null,null,null,null,null,null,null,null,null,null,null,null,null,null,null,null,null,null,null,null,null,null,null,null,null,null,null,null,null,null,null,null,null,null,null,null,null,null,null,null,null,null,null,null,null,null,null,null,null,null,null,null,null,null,null,null,null,null,null,null,null,null,null,null,null,null,null,null,null,null,null,null,null,null,null,null,null,null,null,null,null,null,null,null,null,null,null,null,null,null,null,null,null,null,null,null,null,null,null,null,null,null,null,null,null,null,null,null,null,null,null,null,null,null,null,null,null,null,null,null,null,null,null,null,null,null,null,null,null,null,null,null,null,null,null,null,null,null,null,null,null,null,null,null,null,null,null,null,null,null,null,null,null,null,null,null,null,null,null,null,null,null,null,null,null,null,null,null,null,null,null,null,null,null,null,null,null,null,null,null,null,null,null,null,null,null,null,null,null,null,null,null,null,null,null,null,null,null,null,null,null,null,null,null,null,null,null,null,null,null,null,null,null,null,null,null,null,null,null,null,null,null,null,null,null,null,null,null,null,null,null,null,null,null,null,null,null,null,null,null,null,null,null,null,null,null,null,null,null,null,null,null,null,null,null,null,null,null,null,null,null,null,null,null,null,null,null,null,null,null,null,null,null,null,null,null,null,null,null,null,null,null,null,null,null,null,null,null,null,null,null,null,null,null,null,null,null,null,null,null,null,null,null,null,null,null,null,null,null,null,null,null,null,null,null,null,null,null,null,null,null,null,null,null,null,null,null,null,null,null,null,null,null,null,null,null,null,null,null,null,null,null,null,null,null,null,null,null,null,null,null,null,null,null,null,null,null,null,null,null,null,null,null,null,null,null,null,null,null,null,null,null,null,null,null,null,null,null,null,null,null,null,null,null,null,null,null,null,null,null,null,null,null,null,null,null,null,null,null,null,null,null,null,null,null,null,null,null,null,null,null,null,null,null,null,null,null,null,null,null,null,null,null,null,null,null,null,null,null,null,null,null,null,null,null,null,null,null,null,null,null,null,null,null,null,null,null,null,null,null,null,null,null,null,null,null,null,null,null,null,null,null,null,null,null,null,null,null,null,null,null,null,null,null,null,null,null,null,null,null,null,null,null,null,null,null,null,null,null,null,null,null,null,null,null,null,null,null,null,null,null,null,null,null,null,null,null,null,null,null,null,null,null,null,null,null,null,null,null,null,null,null,null,null,null,null,null,null,null,null,null,null,null,null,null,null,null,null,null,null,null,null,null,null,null,null,null,null,null,null,null,null,null,null,null,null,null,null,null,null,null,null,null,null,null,null,null,null,null,null,null,null,null,null,null,null,null,null,null,null,null,null,null,null,null,null,null,null,null,null,null,null,null,null,null,null,null,null,null,null,null,null,null,null,null,null,null,null,null,null,null,null,null,null,null,null,null,null,null,null,null,null,null,null,null,null,null,null,null,null,null,null,null,null,null,null,null,null,null,null,null,null,null,null,null,null,null,null,null,null,null,null,null,null,null,null,null,null,null,null,null,null,null,null,null,null,null,null,null,null,null,null,null,null,null,null,null,null,null,null,null,null,null,null,null,null,null,null,null,null,null,null,null,null,null,null,null,null,null,null,null,null,null,null,null,null,null,null,null,null,null,null,null,null,null,null,null,null,null,null,null,null,null,null,null,null,null,null,null,null,null,null,null,null,null,null,null,null,null,null,null,null,null,null,null,null,null,null,null,null,null,null,null,null,null,null,null,null,null,null,null,null,null,null,null,null,null,null,null,null,null,null,null,null,null,null,null,null,null,null,null,null,null,null,null,null,null,null,null,null,null,null,null,null,null,null,null,null,null,null,null,null,null,null,null,null,null,null,null,null,null,null,null,null,null,null,null,null,null,null,null,null,null,null,null,null,null,null,null,null,null,null,null,null,null,null,null,null,null,null,null,null,null,null,null,null,null,null,null,null,null,null,null,null,null,null,null,null,null,null,null,null,null,null,null,null,null,null,null,null,null,null,null,null,null,null,null,null,null,null,null,null,null,null,null,null,null,null,null,null,null,null,null,null,null,null,null,null,null,null,null,null,null,null,null,null,null,null,null,null,null,null,null,null,null,null,null,null,null,null,null,null,null,null,null,null,null,null,null,null,null,null,null,null,null,null,null,null,null,null,null,null,null,null,null,null,null,null,null,null,null,null,null,null,null,null,null,null,null,null,null,null,null,null,null,null,null,null,null,null,null,null,null,null,null,null,null,null,null,null,null,null,null,null,null,null,null,null,null,null,null,null,null,null,null,null,null,null,null,null,null,null,null,null,null,null,null,null,null,null,null,null,null,null,null,null,null,null,null,null,null,null,null,null,null,null,null,null,null,null,null,null,null,null,null,null,null,null,null,null,null,null,null,null,null,null,null,null,null,null,null,null,null,null,null,null,null,null,null,null,null,null,null,null,null,null,null,null,null,null,null,null,null,null,null,null,null,null,null,null,null,null,null,null,null,null,null,null,null,null,null,null,null,null,null,null,null,null,null,null,null,null,null,null,null,null,null,null,null,null,null,null,null,null,null,null,null,null,null,null,null,null,null,null,null,null,null,null,null,null,null,null,null,null,null,null,null,null,null,null,null,null,null,null,null,null,null,null,null,null,null,null,null,null,null,null,null,null,null,null,null,null,null,null,null,null,null,null,null,null,null,null,null,null,null,null,null,null,null,null,null,null,null,null,null,null,null,null,null,null,null,null,null,null,null,null,null,null,null,null,null,null,null,null,null,null,null,null,null,null,null,null,null,null,null,null,null,null,null,null,null,null,null,null,null,null,null,null,null,null,null,null,null,null,null,null,null,null,null,null,null,null,null,null,null,null,null,null,null,null,null,null,null,null,null,null,null,null,null,null,null,null,null,null,null,null,null,null,null,null,null,null,null,null,null,null,null,null,null,null,null,null,null,null,null,null,null,null,null,null,null,null,null,null,null,null,null,null,null,null,null,null,null,null,null,null,null,null,null,null,null,null,null,null,null,null,null,null,null,null,null,null,null,null,null,null,null,null,null,null,null,null,null,null,null,null,null,null,null,null,null,null,null,null,null,null,null,null,null,null,null,null,null,null,null,null,null,null,null,null,null,null,null,null,null,null,null,null,null,null,null,null,null,null,null,null,null,null,null,null,null,null,null,null,null,null,null,null,null,null,null,null,null,null,null,null,null,null,null,null,null,null,null,null,null,null,null,null,null,null,null,null,null,null,null,null,null,null,null,null,null,null,null,null,null,null,null,null,null,null,null,null,null,null,null,null,null,null,null,null,null,null,null,null,null,null,null,null,null,null,null,null,null,null,null,null,null,null,null,null,null,null,null,null,null,null,null,null,null,null,null,null,null,null,null,null,null,null,null,null,null,null,null,null,null,null,null,null,null,null,null,null,null,null,null,null,null,null,null,null,null,null,null,null,null,null,null,null,null,null,null,null,null,null,null,null,null,null,null,null,null,null,null,null,null,null,null,null,null,null,null,null,null,null,null,null,null,null,null,null,null,null,null,null,null,null,null,null,null,null,null,null,null,null,null,null,null,null,null,null,null,null,null,null,null,null,null,null,null,null,null,null,null,null,null,null,null,null,null,null,null,null,null,null,null,null,null,null,null,null,null,null,null,null,null,null,null,null,null,null,null,null,null,null,null,null,null,null,null,null,null,null,null,null,null,null,null,null,null,null,null,null,null,null,null,null,null,null,null,null,null,null,null,null,null,null,null,null,null,null,null,null,null,null,null,null,null,null,null,null,null,null,null,null,null,null,null,null,null,null,null,null,null,null,null,null,null,null,null,null,null,null,null,null,null,null,null,null,null,null,null,null,null,null,null,null,null,null,null,null,null,null,null,null,null,null,null,null,null,null,null,null,null,null,null,null,null,null,null,null,null,null,null,null,null,null,null,null,null,null,null,null,null,null,null,null,null,null,null,null,null,null,null,null,null,null,null,null,null,null,null,null,null,null,null,null,null,null,null,null,null,null,null,null,null,null,null,null,null,null,null,null,null,null,null,null,null,null,null,null,null,null,null,null,null,null,null,null,null,null,null,null,null,null,null,null,null,null,null,null,null,null,null,null,null,null,null,null,null,null,null,null,null,null,null,null,null,null,null,null,null,null,null,null,null,null,null,null,null,null,null,null,null,null,null,null,null,null,null,null,null,null,null,null,null,null,null,null,null,null,null,null,null,null,null,null,null,null,null,null,null,null,null,null,null,null,null,null,null,null,null,null,null,null,null,null,null,null,null,null,null,null,null,null,null,null,null,null,null,null,null,null,null,null,null,null,null,null,null,null,null,null,null,null,null,null,null,null,null,null,null,null,null,null,null,null,null,null,null,null,null,null,null,null,null,null,null,null,null,null,null,null,null,null,null,null,null,null,null,null,null,null,null,null,null,null,null,null,null,null,null,null,null,null,null,null,null,null,null,null,null,null,null,null,null,null,null,null,null,null,null,null,null,null,null,null,null,null,null,null,null,null,null,null,null,null,null,null,null,null,null,null,null,null,null,null,null,null,null,null,null,null,null,null,null,null,null,null,null,null,null,null,null,null,null,null,null,null,null,null,null,null,null,null,null,null,null,null,null,null,null,null,null,null,null,null,null,null,null,null,null,null,null,null,null,null,null,null,null,null,null,null,null,null,null,null,null,null,null,null,null,null,null,null,null,null,null,null,null,null,null,null,null,null,null,null,null,null,null,null,null,null,null,null,null,null,null,null,null,null,null,null,null,null,null,null,null,null,null,null,null,null,null,null,null,null,null,null,null,null,null,null,null,null,null,null,null,null,null,null,null,null,null,null,null,null,null,null,null,null,null,null,null,null,null,null,null,null,null,null,null,null,null,null,null,null,null,null,null,null,null,null,null,null,null,null,null,null,null,null,null,null,null,null,null,null,null,null,null,null,null,null,null,null,null,null,null,null,null,null,null,null,null,null,null,null,null,null,null,null,null,null,null,null,null,null,null,null,null,null,null,null,null,null,null,null,null,null,null,null,null,null,null,null,null,null,null,null,null,null,null,null,null,null,null,null,null,null,null,null,null,null,null,null,null,null,null,null,null,null,null,null,null,null,null,null,null,null,null,null,null,null,null,null,null,null,null,null,null,null,null,null,null,null,null,null,null,null,null,null,null,null,null,null,null,null,null,null,null,null,null,null,null,null,null,null,null,null,null,null,null,null,null,null,null,null,null,null,null,null,null,null,null,null,null,null,null,null,null,null,null,null,null,null,null,null,null,null,null,null,null,null,null,null,null,null,null,null,null,null,null,null,null,null,null,null,null,null,null,null,null,null,null,null,null,null,null,null,null,null,null,null,null,null,null,null,null,null,null,null,null,null,null,null,null,null,null,null,null,null,null,null,null,null,null,null,null,null,null,null,null,null,null,null,null,null,null,null,null,null,null,null,null,null,null,null,null,null,null,null,null,null,null,null,null,null,null,null,null,null,null,null,null,null,null,null,null,null,null,null,null,null,null,null,null,null,null,null,null,null,null,null,null,null,null,null,null,null,null,null,null,null,null,null,null,null,null,null,null,null,null,null,null,null,null,null,null,null,null,null,null,null,null,null,null,null,null,null,null,null,null,null,null,null,null,null,null,null,null,null,null,null,null,null,null,null,null,null,null,null,null,null,null,null,null,null,null,null,null,null,null,null,null,null,null,null,null,null,null,null,null,null,null,null,null,null,null,null,null,null,null,null,null,null,null,null,null,null,null,null,null,null,null,null,null,null,null,null,null,null,null,null,null,null,null,null,null,null,null,null,null,null,null,null,null,null,null,null,null,null,null,null,null,null,null,null,null,null,null,null,null,null,null,null,null,null,null,null,null,null,null,null,null,null,null,null,null,null,null,null,null,null,null,null,null,null,null,null,null,null,null,null,null,null,null,null,null,null,null,null,null,null,null,null,null,null,null,null,null,null,null,null,null,null,null,null,null,null,null,null,null,null,null,null,null,null,null,null,null,null,null,null,null,null,null,null,null,null,null,null,null,null,null,null,null,null,null,null,null,null,null,null,null,null,null,null,null,null,null,null,null,null,null,null,null,null,null,null,null,null,null,null,null,null,null,null,null,null,null,null,null,null,null,null,null,null,null,null,null,null,null,null,null,null,null,null,null,null,null,null,null,null,null,null,null,null,null,null,null,null,null,null,null,null,null,null,null,null,null,null,null,null,null,null,null,null,null,null,null,null,null,null,null,null,null,null,null,null,null,null,null,null,null,null,null,null,null,null,null,null,null,null,null,null,null,null,null,null,null,null,null,null,null,null,null,null,null,null,null,null,null,null,null,null,null,null,null,null,null,null,null,null,null,null,null,null,null,null,null,null,null,null,null,null,null,null,null,null,null,null,null,null,null,null,null,null,null,null,null,null,null,null,null,null,null,null,null,null,null,null,null,null,null,null,null,null,null,null,null,null,null,null,null,null,null,null,null,null,null,null,null,null,null,null,null,null,null,null,null,null,null,null,null,null,null,null,null,null,null,null,null,null,null,null,null,null,null,null,null,null,null,null,null,null,null,null,null,null,null,null,null,null,null,null,null,null,null,null,null,null,null,null,null,null,null,null,null,null,null,null,null,null,null,null,null,null,null,null,null,null,null,null,null,null,null,null,null,null,null,null,null,null,null,null,null,null,null,null,null,null,null,null,null,null,null,null,null,null,null,null,null,null,null,null,null,null,null,null,null,null,null,null,null,null,null,null,null,null,null,null,null,null,null,null,null,null,null,null,null,null,null,null,null,null,null,null,null,null,null,null,null,null,null,null,null,null,null,null,null,null,null,null,null,null,null,null,null,null,null,null,null,null,null,null,null,null,null,null,null,null,null,null,null,null,null,null,null,null,null,null,null,null,null,null,null,null,null,null,null,null,null,null,null,null,null,null,null,null,null,null,null,null,null,null,null,null,null,null,null,null,null,null,null,null,null,null,null,null,null,null,null,null,null,null,null,null,null,null,null,null,null,null,null,null,null,null,null,null,null,null,null,null,null,null,null,null,null,null,null,null,null,null,null,null,null,null,null,null,null,null,null,null,null,null,null,null,null,null,null,null,null,null,null,null,null,null,null,null,null,null,null,null,null,null,null,null,null,null,null,null,null,null,null,null,null,null,null,null,null,null,null,null,null,null,null,null,null,null,null,null,null,null,null,null,null,null,null,null,null,null,null,null,null,null,null,null,null,null,null,null,null,null,null,null,null,null,null,null,null,null,null,null,null,null,null,null,null,null,null,null,null,null,null,null,null,null,null,null,null,null,null,null,null,null,null,null,null,null,null,null,null,null,null,null,null,null,null,null,null,null,null,null,null,null,null,null,null,null,null,null,null,null,null,null,null,null,null,null,null,null,null,null,null,null,null,null,null,null,null,null,null,null,null,null,null,null,null,null,null,null,null,null,null,null,null,null,null,null,null,null,null,null,null,null,null,null,null,null,null,null,null,null,null,null,null,null,null,null,null,null,null,null,null,null,null,null,null,null,null,null,null,null,null,null,null,null,null,null,null,null,null,null,null,null,null,null,null,null,null,null,null,null,null,null,null,null,null,null,null,null,null,null,null,null,null,null,null,null,null,null,null,null,null,null,null,null,null,null,null,null,null,null,null,null,null,null,null,null,null,null,null,null,null,null,null,null,null,null,null,null,null,null,null,null,null,null,null,null,null,null,null,null,null,null,null,null,null,null,null,null,null,null,null,null,null,null,null,null,null,null,null,null,null,null,null,null,null,null,null,null,null,null,null,null,null,null,null,null,null,null,null,null,null,null,null,null,null,null,null,null,null,null,null,null,null,null,null,null,null,null,null,null,null,null,null,null,null,null,null,null,null,null,null,null,null,null,null,null,null,null,null,null,null,null,null,null,null,null,null,null,null,null,null,null,null,null,null,null,null,null,null,null,null,null,null,null,null,null,null,null,null,null,null,null,null,null,null,null,null,null,null,null,null,null,null,null,null,null,null,null,null,null,null,null,null,null,null,null,null,null,null,null,null,null,null,null,null,null,null,null,null,null,null,null,null,null,null,null,null,null,null,null,null,null,null,null,null,null,null,null,null,null,null,null,null,null,null,null,null,null,null,null,null,null,null,null,null,null,null,null,null,null,null,null,null,null,null,null,null,null,null,null,null,null,null,null,null,null,null,null,null,null,null,null,null,null,null,null,null,null,null,null,null,null,null,null,null,null,null,null,null,null,null,null,null,null,null,null,null,null,null,null,null,null,null,null,null,null,null,null,null,null,null,null,null,null,null,null,null,null,null,null,null,null,null,null,null,null,null,null,null,null,null,null,null,null,null,null,null,null,null,null,null,null,null,null,null,null,null,null,null,null,null,null,null,null,null,null,null,null,null,null,null,null,null,null,null,null,null,null,null,null,null,null,null,null,null,null,null,null,null,null,null,null,null,null,null,null,null,null,null,null,null,null,null,null,null,null,null,null,null,null,null,null,null,null,null,null,null,null,null,null,null,null,null,null,null,null,null,null,null,null,null,null,null,null,null,null,null,null,null,null,null,null,null,null,null,null,null,null,null,null,null,null,null,null,null,null,null,null,null,null,null,null,null,null,null,null,null,null,null,null,null,null,null,null,null,null,null,null,null,null,null,null,null,null,null,null,null,null,null,null,null,null,null,null,null,null,null,null,null,null,null,null,null,null,null,null,null,null,null,null,null,null,null,null,null,null,null,null,null,null,null,null,null,null,null,null,null,null,null,null,null,null,null,null,null,null,null,null,null,null,null,null,null,null,null,null,null,null,null,null,null,null,null,null,null,null,null,null,null,null,null,null,null,null,null,null,null,null,null,null,null,null,null,null,null,null,null,null,null,null,null,null,null,null,null,null,null,null,null,null,null,null,null,null,null,null,null,null,null,null,null,null,null,null,null,null,null,null,null,null,null,null,null,null,null,null,null,null,null,null,null,null,null,null,null,null,null,null,null,null,null,null,null,null,null,null,null,null,null,null,null,null,null,null,null,null,null,null,null,null,null,null,null,null,null,null,null,null,null,null,null,null,null,null,null,null,null,null,null,null,null,null,null,null,null,null,null,null,null,null,null,null,null,null,null,null,null,null,null,null,null,null,null,null,null,null,null,null,null,null,null,null,null,null,null,null,null,null,null,null,null,null,null,null,null,null,null,null,null,null,null,null,null,null,null,null,null,null,null,null,null,null,null,null,null,null,null,null,null,null,null,null,null,null,null,null,null,null,null,null,null,null,null,null,null,null,null,null,null,null,null,null,null,null,null,null,null,null,null,null,null,null,null,null,null,null,null,null,null,null,null,null,null,null,null,null,null,null,null,null,null,null,null,null,null,null,null,null,null,null,null,null,null,null,null,null,null,null,null,null,null,null,null,null,null,null,null,null,null,null,null,null,null,null,null,null,null,null,null,null,null,null,null,null,null,null,null,null,null,null,null,null,null,null,null,null,null,null,null,null,null,null,null,null,null,null,null,null,null,null,null,null,null,null,null,null,null,null,null,null,null,null,null,null,null,null,null,null,null,null,null,null,null,null,null,null,null,null,null,null,null,null,null,null,null,null,null,null,null,null,null,null,null,null,null,null,null,null,null,null,null,null,null,null,null,null,null,null,null,null,null,null,null,null,null,null,null,null,null,null,null,null,null,null,null,null,null,null,null,null,null,null,null,null,null,null,null,null,null,null,null,null,null,null,null,null,null,null,null,null,null,null,null,null,null,null,null,null,null,null,null,null,null,null,null,null,null,null,null,null,null,null,null,null,null,null,null,null,null,null,null,null,null,null,null,null,null,null,null,null,null,null,null,null,null,null,null,null,null,null,null,null,null,null,null,null,null,null,null,null,null,null,null,null,null,null,null,null,null,null,null,null,null,null,null,null,null,null,null,null,null,null,null,null,null,null,null,null,null,null,null,null,null,null,null,null,null,null,null,null,null,null,null,null,null,null,null,null,null,null,null,null,null,null,null,null,null,null,null,null,null,null,null,null,null,null,null,null,null,null,null,null,null,null,null,null,null,null,null,null,null,null,null,null,null,null,null,null,null,null,null,null,null,null,null,null,null,null,null,null,null,null,null,null,null,null,null,null,null,null,null,null,null,null,null,null,null,null,null,null,null,null,null,null,null,null,null,null,null,null,null,null,null,null,null,null,null,null,null,null,null,null,null,null,null,null,null,null,null,null,null,null,null,null,null,null,null,null,null,null,null,null,null,null,null,null,null,null,null,null,null,null,null,null,null,null,null,null,null,null,null,null,null,null,null,null,null,null,null,null,null,null,null,null,null,null,null,null,null,null,null,null,null,null,null,null,null,null,null,null,null,null,null,null,null,null,null,null,null,null,null,null,null,null,null,null,null,null,null,null,null,null,null,null,null,null,null,null,null,null,null,null,null,null,null,null,null,null,null,null,null,null,null,null,null,null,null,null,null,null,null,null,null,null,null,null,null,null,null,null,null,null,null,null,null,null,null,null,null,null,null,null,null,null,null,null,null,null,null,null,null,null,null,null,null,null,null,null,null,null,null,null,null,null,null,null,null,null,null,null,null,null,null,null,null,null,null,null,null,null,null,null,null,null,null,null,null,null,null,null,null,null,null,null,null,null,null,null,null,null,null,null,null,null,null,null,null,null,null,null,null,null,null,null,null,null,null,null,null,null,null,null,null,null,null,null,null,null,null,null,null,null,null,null,null,null,null,null,null,null,null,null,null,null,null,null,null,null,null,null,null,null,null,null,null,null,null,null,null,null,null,null,null,null,null,null,null,null,null,null,null,null,null,null,null,null,null,null,null,null,null,null,null,null,null,null,null,null,null,null,null,null,null,null,null,null,null,null,null,null,null,null,null,null,null,null,null,null,null,null,null,null,null,null,null,null,null,null,null,null,null,null,null,null,null,null,null,null,null,null,null,null,null,null,null,null,null,null,null,null,null,null,null,null,null,null,null,null,null,null,null,null,null,null,null,null,null,null,null,null,null,null,null,null,null,null,null,null,null,null,null,null,null,null,null,null,null,null,null,null,null,null,null,null,null,null,null,null,null,null,null,null,null,null,null,null,null,null,null,null,null,null,null,null,null,null,null,null,null,null,null,null,null,null,null,null,null,null,null,null,null,null,null,null,null,null,null,null,null,null,null,null,null,null,null,null,null,null,null,null,null,null,null,null,null,null,null,null,null,null,null,null,null,null,null,null,null,null,null,null,null,null,null,null,null,null,null,null,null,null,null,null,null,null,null,null,null,null,null,null,null,null,null,null,null,null,null,null,null,null,null,null,null,null,null,null,null,null,null,null,null,null,null,null,null,null,null,null,null,null,null,null,null,null,null,null,null,null,null,null,null,null,null,null,null,null,null,null,null,null,null,null,null,null,null,null,null,null,null,null,null,null,null,null,null,null,null,null,null,null,null,null,null,null,null,null,null,null,null,null,null,null,null,null,null,null,null,null,null,null,null,null,null,null,null,null,null,null,null,null,null,null,null,null,null,null,null,null,null,null,null,null,null,null,null,null,null,null,null,null,null,null,null,null,null,null,null,null,null,null,null,null,null,null,null,null,null,null,null,null,null,null,null,null,null,null,null,null,null,null,null,null,null,null,null,null,null,null,null,null,null,null,null,null,null,null,null,null,null,null,null,null,null,null,null,null,null,null,null,null,null,null,null,null,null,null,null,null,null,null,null,null,null,null,null,null,null,null,null,null,null,null,null,null,null,null,null,null,null,null,null,null,null,null,null,null,null,null,null,null,null,null,null,null,null,null,null,null,null,null,null,null,null,null,null,null,null,null,null,null,null,null,null,null,null,null,null,null,null,null,null,null,null,null,null,null,null,null,null,null,null,null,null,null,null,null,null,null,null,null,null,null,null,null,null,null,null,null,null,null,null,null,null,null,null,null,null,null,null,null,null,null,null,null,null,null,null,null,null,null,null,null,null,null,null,null,null,null,null,null,null,null,null,null,null,null,null,null,null,null,null,null,null,null,null,null,null,null,null,null,null,null,null,null,null,null,null,null,null,null,null,null,null,null,null,null,null,null,null,null,null,null,null,null,null,null,null,null,null,null,null,null,null,null,null,null,null,null,null,null,null,null,null,null,null,null,null,null,null,null,null,null,null,null,null,null,null,null,null,null,null,null,null,null,null,null,null,null,null,null,null,null,null,null,null,null,null,null,null,null,null,null,null,null,null,null,null,null,null,null,null,null,null,null,null,null,null,null,null,null,null,null,null,null,null,null,null,null,null,null,null,null,null,null,null,null,null,null,null,null,null,null,null,null,null,null,null,null,null,null,null,null,null,null,null,null,null,null,null,null,null,null,null,null,null,null,null,null,null,null,null,null,null,null,null,null,null,null,null,null,null,null,null,null,null,null,null,null,null,null,null,null,null,null,null,null,null,null,null,null,null,null,null,null,null,null,null,null,null,null,null,null,null,null,null,null,null,null,null,null,null,null,null,null,null,null,null,null,null,null,null,null,null,null,null,null,null,null,null,null,null,null,null,null,null,null,null,null,null,null,null,null,null,null,null,null,null,null,null,null,null,null,null,null,null,null,null,null,null,null,null,null,null,null,null,null,null,null,null,null,null,null,null,null,null,null,null,null,null,null,null,null,null,null,null,null,null,null,null,null,null,null,null,null,null,null,null,null,null,null,null,null,null,null,null,null,null,null,null,null,null,null,null,null,null,null,null,null,null,null,null,null,null,null,null,null,null,null,null,null,null,null,null,null,null,null,null,null,null,null,null,null,null,null,null,null,null,null,null,null,null,null,null,null,null,null,null,null,null,null,null,null,null,null,null,null,null,null,null,null,null,null,null,null,null,null,null,null,null,null,null,null,null,null,null,null,null,null,null,null,null,null,null,null,null,null,null,null,null,null,null,null,null,null,null,null,null,null,null,null,null,null,null,null,null,null,null,null,null,null,null,null,null,null,null,null,null,null,null,null,null,null,null,null,null,null,null,null,null,null,null,null,null,null,null,null,null,null,null,null,null,null,null,null,null,null,null,null,null,null,null,null,null,null,null,null,null,null,null,null,null,null,null,null,null,null,null,null,null,null,null,null,null,null,null,null,null,null,null,null,null,null,null,null,null,null,null,null,null,null,null,null,null,null,null,null,null,null,null,null,null,null,null,null,null,null,null,null,null,null,null,null,null,null,null,null,null,null,null,null,null,null,null,null,null,null,null,null,null,null,null,null,null,null,null,null,null,null,null,null,null,null,null,null,null,null,null,null,null,null,null,null,null,null,null,null,null,null,null,null,null,null,null,null,null,null,null,null,null,null,null,null,null,null,null,null,null,null,null,null,null,null,null,null,null,null,null,null,null,null,null,null,null,null,null,null,null,null,null,null,null,null,null,null,null,null,null,null,null,null,null,null,null,null,null,null,null,null,null,null,null,null,null,null,null,null,null,null,null,null,null,null,null,null,null,null,null,null,null,null,null,null,null,null,null,null,null,null,null,null,null,null,null,null,null,null,null,null,null,null,null,null,null,null,null,null,null,null,null,null,null,null,null,null,null,null,null,null,null,null,null,null,null,null,null,null,null,null,null,null,null,null,null,null,null,null,null,null,null,null,null,null,null,null,null,null,null,null,null,null,null,null,null,null,null,null,null,null,null,null,null,null,null,null,null,null,null,null,null,null,null,null,null,null,null,null,null,null,null,null,null,null,null,null,null,null,null,null,null,null,null,null,null,null,null,null,null,null,null,null,null,null,null,null,null,null,null,null,null,null,null,null,null,null,null,null,null,null,null,null,null,null,null,null,null,null,null,null,null,null,null,null,null,null,null,null,null,null,null,null,null,null,null,null,null,null,null,null,null,null,null,null,null,null,null,null,null,null,null,null,null,null,null,null,null,null,null,null,null,null,null,null,null,null,null,null,null,null,null,null,null,null,null,null,null,null,null,null,null,null,null,null,null,null,null,null,null,null,null,null,null,null,null,null,null,null,null,null,null,null,null,null,null,null,null,null,null,null,null,null,null,null,null,null,null,null,null,null,null,null,null,null,null,null,null,null,null,null,null,null,null,null,null,null,null,null,null,null,null,null,null,null,null,null,null,null,null,null,null,null,null,null,null,null,null,null,null,null,null,null,null,null,null,null,null,null,null,null,null,null,null,null,null,null,null,null,null,null,null,null,null,null,null,null,null,null,null,null,null,null,null,null,null,null,null,null,null,null,null,null,null,null,null,null,null,null,null,null,null,null,null,null,null,null,null,null,null,null,null,null,null,null,null,null,null,null,null,null,null,null,null,null,null,null,null,null,null,null,null,null,null,null,null,null,null,null,null,null,null,null,null,null,null,null,null,null,null,null,null,null,null,null,null,null,null,null,null,null,null,null,null,null,null,null,null,null,null,null,null,null,null,null,null,null,null,null,null,null,null,null,null,null,null,null,null,null,null,null,null,null,null,null,null,null,null,null,null,null,null,null,null,null,null,null,null,null,null,null,null,null,null,null,null,null,null,null,null,null,null,null,null,null,null,null,null,null,null,null,null,null,null,null,null,null,null,null,null,null,null,null,null,null,null,null,null,null,null,null,null,null,null,null,null,null,null,null,null,null,null,null,null,null,null,null,null,null,null,null,null,null,null,null,null,null,null,null,null,null,null,null,null,null,null,null,null,null,null,null,null,null,null,null,null,null,null,null,null,null,null,null,null,null,null,null,null,null,null,null,null,null,null,null,null,null,null,null,null,null,null,null,null,null,null,null,null,null,null,null,null,null,null,null,null,null,null,null,null,null,null,null,null,null,null,null,null,null,null,null,null,null,null,null,null,null,null,null,null,null,null,null,null,null,null,null,null,null,null,null,null,null,null,null,null,null,null,null,null,null,null,null,null,null,null,null,null,null,null,null,null,null,null,null,null,null,null,null,null,null,null,null,null,null,null,null,null,null,null,null,null,null,null,null,null,null,null,null,null,null,null,null,null,null,null,null,null,null,null,null,null,null,null,null,null,null,null,null,null,null,null,null,null,null,null,null,null,null,null,null,null,null,null,null,null,null,null,null,null,null,null,null,null,null,null,null,null,null,null,null,null,null,null,null,null,null,null,null,null,null,null,null,null,null,null,null,null,null,null,null,null,null,null,null,null,null,null,null,null,null,null,null,null,null,null,null,null,null,null,null,null,null,null,null,null,null,null,null,null,null,null,null,null,null,null,null,null,null,null,null,null,null,null,null,null,null,null,null,null,null,null,null,null,null,null,null,null,null,null,null,null,null,null,null,null,null,null,null,null,null,null,null,null,null,null,null,null,null,null,null,null,null,null,null,null,null,null,null,null,null,null,null,null,null,null,null,null,null,null,null,null,null,null,null,null,null,null,null,null,null,null,null,null,null,null,null,null,null,null,null,null,null,null,null,null,null,null,null,null,null,null,null,null,null,null,null,null,null,null,null,null,null,null,null,null,null,null,null,null,null,null,null,null,null,null,null,null,null,null,null,null,null,null,null,null,null,null,null,null,null,null,null,null,null,null,null,null,null,null,null,null,null,null,null,null,null,null,null,null,null,null,null,null,null,null,null,null,null,null,null,null,null,null,null,null,null,null,null,null,null,null,null,null,null,null,null,null,null,null,null,null,null,null,null,null,null,null,null,null,null,null,null,null,null,null,null,null,null,null,null,null,null,null,null,null,null,null,null,null,null,null,null,null,null,null,null,null,null,null,null,null,null,null,null,null,null,null,null,null,null,null,null,null,null,null,null,null,null,null,null,null,null,null,null,null,null,null,null,null,null,null,null,null,null,null,null,null,null,null,null,null,null,null,null,null,null,null,null,null,null,null,null,null,null,null,null,null,null,null,null,null,null,null,null,null,null,null,null,null,null,null,null,null,null,null,null,null,null,null,null,null,null,null,null,null,null,null,null,null,null,null,null,null,null,null,null,null,null,null,null,null,null,null,null,null,null,null,null,null,null,null,null,null,null,null,null,null,null,null,null,null,null,null,null,null,null,null,null,null,null,null,null,null,null,null,null,null,null,null,null,null,null,null,null,null,null,null,null,null,null,null,null,null,null,null,null,null,null,null,null,null,null,null,null,null,null,null,null,null,null,null,null,null,null,null,null,null,null,null,null,null,null,null,null,null,null,null,null,null,null,null,null,null,null,null,null,null,null,null,null,null,null,null,null,null,null,null,null,null,null,null,null,null,null,null,null,null,null,null,null,null,null,null,null,null,null,null,null,null,null,null,null,null,null,null,null,null,null,null,null,null,null,null,null,null,null,null,null,null,null,null,null,null,null,null,null,null,null,null,null,null,null,null,null,null,null,null,null,null,null,null,null,null,null,null,null,null,null,null,null,null,null,null,null,null,null,null,null,null,null,null,null,null,null,null,null,null,null,null,null,null,null,null,null,null,null,null,null,null,null,null,null,null,null,null,null,null,null,null,null,null,null,null,null,null,null,null,null,null,null,null,null,null,null,null,null,null,null,null,null,null,null,null,null,null,null,null,null,null,null,null,null,null,null,null,null,null,null,null,null,null,null,null,null,null,null,null,null,null,null,null,null,null,null,null,null,null,null,null,null,null,null,null,null,null,null,null,null,null,null,null,null,null,null,null,null,null,null,null,null,null,null,null,null,null,null,null,null,null,null,null,null,null,null,null,null,null,null,null,null,null,null,null,null,null,null,null,null,null,null,null,null,null,null,null,null,null,null,null,null,null,null,null,null,null,null,null,null,null,null,null,null,null,null,null,null,null,null,null,null,null,null,null,null,null,null,null,null,null,null,null,null,null,null,null,null,null,null,null,null,null,null,null,null,null,null,null,null,null,null,null,null,null,null,null,null,null,null,null,null,null,null,null,null,null,null,null,null,null,null,null,null,null,null,null,null,null,null,null,null,null,null,null,null,null,null,null,null,null,null,null,null,null,null,null,null,null,null,null,null,null,null,null,null,null,null,null,null,null,null,null,null,null,null,null,null,null,null,null,null,null,null,null,null,null,null,null,null,null,null,null,null,null,null,null,null,null,null,null,null,null,null,null,null,null,null,null,null,null,null,null,null,null,null,null,null,null,null,null,null,null,null,null,null,null,null,null,null,null,null,null,null,null,null,null,null,null,null,null,null,null,null,null,null,null,null,null,null,null,null,null,null,null,null,null,null,null,null,null,null,null,null,null,null,null,null,null,null,null,null,null,null,null,null,null,null,null,null,null,null,null,null,null,null,null,null,null,null,null,null,null,null,null,null,null,null,null,null,null,null,null,null,null,null,null,null,null,null,null,null,null,null,null,null,null,null,null,null,null,null,null,null,null,null,null,null,null,null,null,null,null,null,null,null,null,null,null,null,null,null,null,null,null,null,null,null,null,null,null,null,null,null,null,null,null,null,null,null,null,null,null,null,null,null,null,null,null,null,null,null,null,null,null,null,null,null,null,null,null,null,null,null,null,null,null,null,null,null,null,null,null,null,null,null,null,null,null,null,null,null,null,null,null,null,null,null,null,null,null,null,null,null,null,null,null,null,null,null,null,null,null,null,null,null,null,null,null,null,null,null,null,null,null,null,null,null,null,null,null,null,null,null,null,null,null,null,null,null,null,null,null,null,null,null,null,null,null,null,null,null,null,null,null,null,null,null,null,null,null,null,null,null,null,null,null,null,null,null,null,null,null,null,null,null,null,null,null,null,null,null,null,null,null,null,null,null,null,null,null,null,null,null,null,null,null,null,null,null,null,null,null,null,null,null,null,null,null,null,null,null,null,null,null,null,null,null,null,null,null,null,null,null,null,null,null,null,null,null,null,null,null,null,null,null,null,null,null,null,null,null,null,null,null,null,null,null,null,null,null,null,null,null,null,null,null,null,null,null,null,null,null,null,null,null,null,null,null,null,null,null,null,null,null,null,null,null,null,null,null,null,null,null,null,null,null,null,null,null,null,null,null,null,null,null,null,null,null,null,null,null,null,null,null,null,null,null,null,null,null,null,null,null,null,null,null,null,null,null,null,null,null,null,null,null,null,null,null,null,null,null,null,null,null,null,null,null,null,null,null,null,null,null,null,null,null,null,null,null,null,null,null,null,null,null,null,null,null,null,null,null,null,null,null,null,null,null,null,null,null,null,null,null,null,null,null,null,null,null,null,null,null,null,null,null,null,null,null,null,null,null,null,null,null,null,null,null,null,null,null,null,null,null,null,null,null,null,null,null,null,null,null,null,null,null,null,null,null,null,null,null,null,null,null,null,null,null,null,null,null,null,null,null,null,null,null,null,null,null,null,null,null,null,null,null,null,null,null,null,null,null,null,null,null,null,null,null,null,null,null,null,null,null,null,null,null,null,null,null,null,null,null,null,null,null,null,null,null,null,null,null,null,null,null,null,null,null,null,null,null,null,null,null,null,null,null,null,null,null,null,null,null,null,null,null,null,null,null,null,null,null,null,null,null,null,null,null,null,null,null,null,null,null,null,null,null,null,null,null,null,null,null,null,null,null,null,null,null,null,null,null,null,null,null,null,null,null,null,null,null,null,null,null,null,null,null,null,null,null,null,null,null,null,null,null,null,null,null,null,null,null,null,null,null,null,null,null,null,null,null,null,null,null,null,null,null,null,null,null,null,null,null,null,null,null,null,null,null,null,null,null,null,null,null,null,null,null,null,null,null,null,null,null,null,null,null,null,null,null,null,null,null,null,null,null,null,null,null,null,null,null,null,null,null,null,null,null,null,null,null,null,null,null,null,null,null,null,null,null,null,null,null,null,null,null,null,null,null,null,null,null,null,null,null,null,null,null,null,null,null,null,null,null,null,null,null,null,null,null,null,null,null,null,null,null,null,null,null,null,null,null,null,null,null,null,null,null,null,null,null,null,null,null,null,null,null,null,null,null,null,null,null,null,null,null,null,null,null,null,null,null,null,null,null,null,null,null,null,null,null,null,null,null,null,null,null,null,null,null,null,null,null,null,null,null,null,null,null,null,null,null,null,null,null,null,null,null,null,null,null,null,null,null,null,null,null,null,null,null,null,null,null,null,null,null,null,null,null,null,null,null,null,null,null,null,null,null,null,null,null,null,null,null,null,null,null,null,null,null,null,null,null,null,null,null,null,null,null,null,null,null,null,null,null,null,null,null,null,null,null,null,null,null,null,null,null,null,null,null,null,null,null,null,null,null,null,null,null,null,null,null,null,null,null,null,null,null,null,null,null,null,null,null,null,null,null,null,null,null,null,null,null,null,null,null,null,null,null,null,null,null,null,null,null,null,null,null,null,null,null,null,null,null,null,null,null,null,null,null,null,null,null,null,null,null,null,null,null,null,null,null,null,null,null,null,null,null,null,null,null,null,null,null,null,null,null,null,null,null,null,null,null,null,null,null,null,null,null,null,null,null,null,null,null,null,null,null,null,null,null,null,null,null,null,null,null,null,null,null,null,null,null,null,null,null,null,null,null,null,null,null,null,null,null,null,null,null,null,null,null,null,null,null,null,null,null,null,null,null,null,null,null,null,null,null,null,null,null,null,null,null,null,null,null,null,null,null,null,null,null,null,null,null,null,null,null,null,null,null,null,null,null,null,null,null,null,null,null,null,null,null,null,null,null,null,null,null,null,null,null,null,null,null,null,null,null,null,null,null,null,null,null,null,null,null,null,null,null,null,null,null,null,null,null,null,null,null,null,null,null,null,null,null,null,null,null,null,null,null,null,null,null,null,null,null,null,null,null,null,null,null,null,null,null,null,null,null,null,null,null,null,null,null,null,null,null,null,null,null,null,null,null,null,null,null,null,null,null,null,null,null,null,null,null,null,null,null,null,null,null,null,null,null,null,null,null,null,null,null,null,null,null,null,null,null,null,null,null,null,null,null,null,null,null,null,null,null,null,null,null,null,null,null,null,null,null,null,null,null,null,null,null,null,null,null,null,null,null,null,null,null,null,null,null,null,null,null,null,null,null,null,null,null,null,null,null,null,null,null,null,null,null,null,null,null,null,null,null,null,null,null,null,null,null,null,null,null,null,null,null,null,null,null,null,null,null,null,null,null,null,null,null,null,null,null,null,null,null,null,null,null,null,null,null,null,null,null,null,null,null,null,null,null,null,null,null,null,null,null,null,null,null,null,null,null,null,null,null,null,null,null,null,null,null,null,null,null,null,null,null,null,null,null,null,null,null,null,null,null,null,null,null,null,null,null,null,null,null,null,null,null,null,null,null,null,null,null,null,null,null,null,null,null,null,null,null,null,null,null,null,null,null,null,null,null,null,null,null,null,null,null,null,null,null,null,null,null,null,null,null,null,null,null,null,null,null,null,null,null,null,null,null,null,null,null,null,null,null,null,null,null,null,null,null,null,null,null,null,null,null,null,null,null,null,null,null,null,null,null,null,null,null,null,null,null,null,null,null,null,null,null,null,null,null,null,null,null,null,null,null,null,null,null,null,null,null,null,null,null,null,null,null,null,null,null,null,null,null,null,null,null,null,null,null,null,null,null,null,null,null,null,null,null,null,null,null,null,null,null,null,null,null,null,null,null,null,null,null,null,null,null,null,null,null,null,null,null,null,null,null,null,null,null,null,null,null,null,null,null,null,null,null,null,null,null,null,null,null,null,null,null,null,null,null,null,null,null,null,null,null,null,null,null,null,null,null,null,null,null,null,null,null,null,null,null,null,null,null,null,null,null,null,null,null,null,null,null,null,null,null,null,null,null,null,null,null,null,null,null,null,null,null,null,null,null,null,null,null,null,null,null,null,null,null,null,null,null,null,null,null,null,null,null,null,null,null,null,null,null,null,null,null,null,null,null,null,null,null,null,null,null,null,null,null,null,null,null,null,null,null,null,null,null,null,null,null,null,null,null,null,null,null,null,null,null,null,null,null,null,null,null,null,null,null,null,null,null,null,null,null,null,null,null,null,null,null,null,null,null,null,null,null,null,null,null,null,null,null,null,null,null,null,null,null,null,null,null,null,null,null,null,null,null,null,null,null,null,null,null,null,null,null,null,null,null,null,null,null,null,null,null,null,null,null,null,null,null,null,null,null,null,null,null,null,null,null,null,null,null,null,null,null,null,null,null,null,null,null,null,null,null,null,null,null,null,null,null,null,null,null,null,null,null,null,null,null,null,null,null,null,null,null,null,null,null,null,null,null,null,null,null,null,null,null,null,null,null,null,null,null,null,null,null,null,null,null,null,null,null,null,null,null,null,null,null,null,null,null,null,null,null,null,null,null,null,null,null,null,null,null,null,null,null,null,null,null,null,null,null,null,null,null,null,null,null,null,null,null,null,null,null,null,null,null,null,null,null,null,null,null,null,null,null,null,null,null,null,null,null,null,null,null,null,null,null,null,null,null,null,null,null,null,null,null,null,null,null,null,null,null,null,null,null,null,null,null,null,null,null,null,null,null,null,null,null,null,null,null,null,null,null,null,null,null,null,null,null,null,null,null,null,null,null,null,null,null,null,null,null,null,null,null,null,null,null,null,null,null,null,null,null,null,null,null,null,null,null,null,null,null,null,null,null,null,null,null,null,null,null,null,null,null,null,null,null,null,null,null,null,null,null,null,null,null,null,null,null,null,null,null,null,null,null,null,null,null,null,null,null,null,null,null,null,null,null,null,null,null,null,null,null,null,null,null,null,null,null,null,null,null,null,null,null,null,null,null,null,null,null,null,null,null,null,null,null,null,null,null,null,null,null,null,null,null,null,null,null,null,null,null,null,null,null,null,null,null,null,null,null,null,null,null,null,null,null,null,null,null,null,null,null,null,null,null,null,null,null,null,null,null,null,null,null,null,null,null,null,null,null,null,null,null,null,null,null,null,null,null,null,null,null,null,null,null,null,null,null,null,null,null,null,null,null,null,null,null,null,null,null,null,null,null,null,null,null,null,null,null,null,null,null,null,null,null,null,null,null,null,null,null,null,null,null,null,null,null,null,null,null,null,null,null,null,null,null,null,null,null,null,null,null,null,null,null,null,null,null,null,null,null,null,null,null,null,null,null,null,null,null,null,null,null,null,null,null,null,null,null,null,null,null,null,null,null,null,null,null,null,null,null,null,null,null,null,null,null,null,null,null,null,null,null,null,null,null,null,null,null,null,null,null,null,null,null,null,null,null,null,null,null,null,null,null,null,null,null,null,null,null,null,null,null,null,null,null,null,null,null,null,null,null,null,null,null,null,null,null,null,null,null,null,null,null,null,null,null,null,null,null,null,null,null,null,null,null,null,null,null,null,null,null,null,null,null,null,null,null,null,null,null,null,null,null,null,null,null,null,null,null,null,null,null,null,null,null,null,null,null,null,null,null,null,null,null,null,null,null,null,null,null,null,null,null,null,null,null,null,null,null,null,null,null,null,null,null,null,null,null,null,null,null,null,null,null,null,null,null,null,null,null,null,null,null,null,null,null,null,null,null,null,null,null,null,null,null,null,null,null,null,null,null,null,null,null,null,null,null,null,null,null,null,null,null,null,null,null,null,null,null,null,null,null,null,null,null,null,null,null,null,null,null,null,null,null,null,null,null,null,null,null,null,null,null,null,null,null,null,null,null,null,null,null,null,null,null,null,null,null,null,null,null,null,null,null,null,null,null,null,null,null,null,null,null,null,null,null,null,null,null,null,null,null,null,null,null,null,null,null,null,null,null,null,null,null,null,null,null,null,null,null,null,null,null,null,null,null,null,null,null,null,null,null,null,null,null,null,null,null,null,null,null,null,null,null,null,null,null,null,null,null,null,null,null,null,null,null,null,null,null,null,null,null,null,null,null,null,null,null,null,null,null,null,null,null,null,null,null,null,null,null,null,null,null,null,null,null,null,null,null,null,null,null,null,null,null,null,null,null,null,null,null,null,null,null,null,null,null,null,null,null,null,null,null,null,null,null,null,null,null,null,null,null,null,null,null,null,null,null,null,null,null,null,null,null,null,null,null,null,null,null,null,null,null,null,null,null,null,null,null,null,null,null,null,null,null,null,null,null,null,null,null,null,null,null,null,null,null,null,null,null,null,null,null,null,null,null,null,null,null,null,null,null,null,null,null,null,null,null,null,null,null,null,null,null,null,null,null,null,null,null,null,null,null,null,null,null,null,null,null,null,null,null,null,null,null,null,null,null,null,null,null,null,null,null,null,null,null,null,null,null,null,null,null,null,null,null,null,null,null,null,null,null,null,null,null,null,null,null,null,null,null,null,null,null,null,null,null,null,null,null,null,null,null,null,null,null,null,null,null,null,null,null,null,null,null,null,null,null,null,null,null,null,null,null,null,null,null,null,null,null,null,null,null,null,null,null,null,null,null,null,null,null,null,null,null,null,null,null,null,null,null,null,null,null,null,null,null,null,null,null,null,null,null,null,null,null,null,null,null,null,null,null,null,null,null,null,null,null,null,null,null,null,null,null,null,null,null,null,null,null,null,null,null,null,null,null,null,null,null,null,null,null,null,null,null,null,null,null,null,null,null,null,null,null,null,null,null,null,null,null,null,null,null,null,null,null,null,null,null,null,null,null,null,null,null,null,null,null,null,null,null,null,null,null,null,null,null,null,null,null,null,null,null,null,null,null,null,null,null,null,null,null,null,null,null,null,null,null,null,null,null,null,null,null,null,null,null,null,null,null,null,null,null,null,null,null,null,null,null,null,null,null,null,null,null,null,null,null,null,null,null,null,null,null,null,null,null,null,null,null,null,null,null,null,null,null,null,null,null,null,null,null,null,null,null,null,null,null,null,null,null,null,null,null,null,null,null,null,null,null,null,null,null,null,null,null,null,null,null,null,null,null,null,null,null,null,null,null,null,null,null,null,null,null,null,null,null,null,null,null,null,null,null,null,null,null,null,null,null,null,null,null,null,null,null,null,null,null,null,null,null,null,null,null,null,null,null,null,null,null,null,null,null,null,null,null,null,null,null,null,null,null,null,null,null,null,null,null,null,null,null,null,null,null,null,null,null,null,null,null,null,null,null,null,null,null,null,null,null,null,null,null,null,null,null,null,null,null,null,null,null,null,null,null,null,null,null,null,null,null,null,null,null,null,null,null,null,null,null,null,null,null,null,null,null,null,null,null,null,null,null,null,null,null,null,null,null,null,null,null,null,null,null,null,null,null,null,null,null,null,null,null,null,null,null,null,null,null,null,null,null,null,null,null,null,null,null,null,null,null,null,null,null,null,null,null,null,null,null,null,null,null,null,null,null,null,null,null,null,null,null,null,null,null,null,null,null,null,null,null,null,null,null,null,null,null,null,null,null,null,null,null,null,null,null,null,null,null,null,null,null,null,null,null,null,null,null,null,null,null,null,null,null,null,null,null,null,null,null,null,null,null,null,null,null,null,null,null,null,null,null,null,null,null,null,null,null,null,null,null,null,null,null,null,null,null,null,null,null,null,null,null,null,null,null,null,null,null,null,null,null,null,null,null,null,null,null,null,null,null,null,null,null,null,null,null,null,null,null,null,null,null,null,null,null,null,null,null,null,null,null,null,null,null,null,null,null,null,null,null,null,null,null,null,null,null,null,null,null,null,null,null,null,null,null,null,null,null,null,null,null,null,null,null,null,null,null,null,null,null,null,null,null,null,null,null,null,null,null,null,null,null,null,null,null,null,null,null,null,null,null,null,null,null,null,null,null,null,null,null,null,null,null,null,null,null,null,null,null,null,null,null,null,null,null,null,null,null,null,null,null,null,null,null,null,null,null,null,null,null,null,null,null,null,null,null,null,null,null,null,null,null,null,null,null,null,null,null,null,null,null,null,null,null,null,null,null,null,null,null,null,null,null,null,null,null,null,null,null,null,null,null,null,null,null,null,null,null,null,null,null,null,null,null,null,null,null,null,null,null,null,null,null,null,null,null,null,null,null,null,null,null,null,null,null,null,null,null,null,null,null,null,null,null,null,null,null,null,null,null,null,null,null,null,null,null,null,null,null,null,null,null,null,null,null,null,null,null,null,null,null,null,null,null,null,null,null,null,null,null,null,null,null,null,null,null,null,null,null,null,null,null,null,null,null,null,null,null,null,null,null,null,null,null,null,null,null,null,null,null,null,null,null,null,null,null,null,null,null,null,null,null,null,null,null,null,null,null,null,null,null,null,null,null,null,null,null,null,null,null,null,null,null,null,null,null,null,null,null,null,null,null,null,null,null,null,null,null,null,null,null,null,null,null,null,null,null,null,null,null,null,null,null,null,null,null,null,null,null,null,null,null,null,null,null,null,null,null,null,null,null,null,null,null,null,null,null,null,null,null,null,null,null,null,null,null,null,null,null,null,null,null,null,null,null,null,null,null,null,null,null,null,null,null,null,null,null,null,null,null,null,null,null,null,null,null,null,null,null,null,null,null,null,null,null,null,null,null,null,null,null,null,null,null,null,null,null,null,null,null,null,null,null,null,null,null,null,null,null,null,null,null,null,null,null,null,null,null,null,null,null,null,null,null,null,null,null,null,null,null,null,null,null,null,null,null,null,null,null,null,null,null,null,null,null,null,null,null,null,null,null,null,null,null,null,null,null,null,null,null,null,null,null,null,null,null,null,null,null,null,null,null,null,null,null,null,null,null,null,null,null,null,null,null,null,null,null,null,null,null,null,null,null,null,null,null,null,null,null,null,null,null,null,null,null,null,null,null,null,null,null,null,null,null,null,null,null,null,null,null,null,null,null,null,null,null,null,null,null,null,null,null,null,null,null,null,null,null,null,null,null,null,null,null,null,null,null,null,null,null,null,null,null,null,null,null,null,null,null,null,null,null,null,null,null,null,null,null,null,null,null,null,null,null,null,null,null,null,null,null,null,null,null,null,null,null,null,null,null,null,null,null,null,null,null,null,null,null,null,null,null,null,null,null,null,null,null,null,null,null,null,null,null,null,null,null,null,null,null,null,null,null,null,null,null,null,null,null,null,null,null,null,null,null,null,null,null,null,null,null,null,null,null,null,null,null,null,null,null,null,null,null,null,null,null,null,null,null,null,null,null,null,null,null,null,null,null,null,null,null,null,null,null,null,null,null,null,null,null,null,null,null,null,null,null,null,null,null,null,null,null,null,null,null,null,null,null,null,null,null,null,null,null,null,null,null,null,null,null,null,null,null,null,null,null,null,null,null,null,null,null,null,null,null,null,null,null,null,null,null,null,null,null,null,null,null,null,null,null,null,null,null,null,null,null,null,null,null,null,null,null,null,null,null,null,null,null,null,null,null,null,null,null,null,null,null,null,null,null,null,null,null,null,null,null,null,null,null,null,null,null,null,null,null,null,null,null,null,null,null,null,null,null,null,null,null,null,null,null,null,null,null,null,null,null,null,null,null,null,null,null,null,null,null,null,null,null,null,null,null,null,null,null,null,null,null,null,null,null,null,null,null,null,null,null,null,null,null,null,null,null,null,null,null,null,null,null,null,null,null,null,null,null,null,null,null,null,null,null,null,null,null,null,null,null,null,null,null,null,null,null,null,null,null,null,null,null,null,null,null,null,null,null,null,null,null,null,null,null,null,null,null,null,null,null,null,null,null,null,null,null,null,null,null,null,null,null,null,null,null,null,null,null,null,null,null,null,null,null,null,null,null,null,null,null,null,null,null,null,null,null,null,null,null,null,null,null,null,null,null,null,null,null,null,null,null,null,null,null,null,null,null,null,null,null,null,null,null,null,null,null,null,null,null,null,null,null,null,null,null,null,null,null,null,null,null,null,null,null,null,null,null,null,null,null,null,null,null,null,null,null,null,null,null,null,null,null,null,null,null,null,null,null,null,null,null,null,null,null,null,null,null,null,null,null,null,null,null,null,null,null,null,null,null,null,null,null,null,null,null,null,null,null,null,null,null,null,null,null,null,null,null,null,null,null,null,null,null,null,null,null,null,null,null,null,null,null,null,null,null,null,null,null,null,null,null,null,null,null,null,null,null,null,null,null,null,null,null,null,null,null,null,null,null,null,null,null,null,null,null,null,null,null,null,null,null,null,null,null,null,null,null,null,null,null,null,null,null,null,null,null,null,null,null,null,null,null,null,null,null,null,null,null,null,null,null,null,null,null,null,null,null,null,null,null,null,null,null,null,null,null,null,null,null,null,null,null,null,null,null,null,null,null,null,null,null,null,null,null,null,null,null,null,null,null,null,null,null,null,null,null,null,null,null,null,null,null,null,null,null,null,null,null,null,null,null,null,null,null,null,null,null,null,null,null,null,null,null,null,null,null,null,null,null,null,null,null,null,null,null,null,null,null,null,null,null,null,null,null,null,null,null,null,null,null,null,null,null,null,null,null,null,null,null,null,null,null,null,null,null,null,null,null,null,null,null,null,null,null,null,null,null,null,null,null,null,null,null,null,null,null,null,null,null,null,null,null,null,null,null,null,null,null,null,null,null,null,null,null,null,null,null,null,null,null,null,null,null,null,null,null,null,null,null,null,null,null,null,null,null,null,null,null,null,null,null,null,null,null,null,null,null,null,null,null,null,null,null,null,null,null,null,null,null,null,null,null,null,null,null,null,null,null,null,null,null,null,null,null,null,null,null,null,null,null,null,null,null,null,null,null,null,null,null,null,null,null,null,null,null,null,null,null,null,null,null,null,null,null,null,null,null,null,null,null,null,null,null,null,null,null,null,null,null,null,null,null,null,null,null,null,null,null,null,null,null,null,null,null,null,null,null,null,null,null,null,null,null,null,null,null,null,null,null,null,null,null,null,null,null,null,null,null,null,null,null,null,null,null,null,null,null,null,null,null,null,null,null,null,null,null,null,null,null,null,null,null,null,null,null,null,null,null,null,null,null,null,null,null,null,null,null,null,null,null,null,null,null,null,null,null,null,null,null,null,null,null,null,null,null,null,null,null,null,null,null,null,null,null,null,null,null,null,null,null,null,null,null,null,null,null,null,null,null,null,null,null,null,null,null,null,null,null,null,null,null,null,null,null,null,null,null,null,null,null,null,null,null,null,null,null,null,null,null,null,null,null,null,null,null,null,null,null,null,null,null,null,null,null,null,null,null,null,null,null,null,null,null,null,null,null,null,null,null,null,null,null,null,null,null,null,null,null,null,null,null,null,null,null,null,null,null,null,null,null,null,null,null,null,null,null,null,null,null,null,null,null,null,null,null,null,null,null,null,null,null,null,null,null,null,null,null,null,null,null,null,null,null,null,null,null,null,null,null,null,null,null,null,null,null,null,null,null,null,null,null,null,null,null,null,null,null,null,null,null,null,null,null,null,null,null,null,null,null,null,null,null,null,null,null,null,null,null,null,null,null,null,null,null,null,null,null,null,null,null,null,null,null,null,null,null,null,null,null,null,null,null,null,null,null,null,null,null,null,null,null,null,null,null,null,null,null,null,null,null,null,null,null,null,null,null,null,null,null,null,null,null,null,null,null,null,null,null,null,null,null,null,null,null,null,null,null,null,null,null,null,null,null,null,null,null,null,null,null,null,null,null,null,null,null,null,null,null,null,null,null,null,null,null,null,null,null,null,null,null,null,null,null,null,null,null,null,null,null,null,null,null,null,null,null,null,null,null,null,null,null,null,null,null,null,null,null,null,null,null,null,null,null,null,null,null,null,null,null,null,null,null,null,null,null,null,null,null,null,null,null,null,null,null,null,null,null,null,null,null,null,null,null,null,null,null,null,null,null,null,null,null,null,null,null,null,null,null,null,null,null,null,null,null,null,null,null,null,null,null,null,null,null,null,null,null,null,null,null,null,null,null,null,null,null,null,null,null,null,null,null,null,null,null,null,null,null,null,null,null,null,null,null,null,null,null,null,null,null,null,null,null,null,null,null,null,null,null,null,null,null,null,null,null,null,null,null,null,null,null,null,null,null,null,null,null,null,null,null,null,null,null,null,null,null,null,null,null,null,null,null,null,null,null,null,null,null,null,null,null,null,null,null,null,null,null,null,null,null,null,null,null,null,null,null,null,null,null,null,null,null,null,null,null,null,null,null,null,null,null,null,null,null,null,null,null,null,null,null,null,null,null,null,null,null,null,null,null,null,null,null,null,null,null,null,null,null,null,null,null,null,null,null,null,null,null,null,null,null,null,null,null,null,null,null,null,null,null,null,null,null,null,null,null,null,null,null,null,null,null,null,null,null,null,null,null,null,null,null,null,null,null,null,null,null,null,null,null,null,null,null,null,null,null,null,null,null,null,null,null,null,null,null,null,null,null,null,null,null,null,null,null,null,null,null,null,null,null,null,null,null,null,null,null,null,null,null,null,null,null,null,null,null,null,null,null,null,null,null,null,null,null,null,null,null,null,null,null,null,null,null,null,null,null,null,null,null,null,null,null,null,null,null,null,null,null,null,null,null,null,null,null,null,null,null,null,null,null,null,null,null,null,null,null,null,null,null,null,null,null,null,null,null,null,null,null,null,null,null,null,null,null,null,null,null,null,null,null,null,null,null,null,null,null,null,null,null,null,null,null,null,null,null,null,null,null,null,null,null,null,null,null,null,null,null,null,null,null,null,null,null,null,null,null,null,null,null,null,null,null,null,null,null,null,null,null,null,null,null,null,null,null,null,null,null,null,null,null,null,null,null,null,null,null,null,null,null,null,null,null,null,null,null,null,null,null,null,null,null,null,null,null,null,null,null,null,null,null,null,null,null,null,null,null,null,null,null,null,null,null,null,null,null,null,null,null,null,null,null,null,null,null,null,null,null,null,null,null,null,null,null,null,null,null,null,null,null,null,null,null,null,null,null,null,null,null,null,null,null,null,null,null,null,null,null,null,null,null,null,null,null,null,null,null,null,null,null,null,null,null,null,null,null,null,null,null,null,null,null,null,null,null,null,null,null,null,null,null,null,null,null,null,null,null,null,null,null,null,null,null,null,null,null,null,null,null,null,null,null,null,null,null,null,null,null,null,null,null,null,null,null,null,null,null,null,null,null,null,null,null,null,null,null,null,null,null,null,null,null,null,null,null,null,null,null,null,null,null,null,null,null,null,null,null,null,null,null,null,null,null,null,null,null,null,null,null,null,null,null,null,null,null,null,null,null,null,null,null,null,null,null,null,null,null,null,null,null,null,null,null,null,null,null,null,null,null,null,null,null,null,null,null,null,null,null,null,null,null,null,null,null,null,null,null,null,null,null,null,null,null,null,null,null,null,null,null,null,null,null,null,null,null,null,null,null,null,null,null,null,null,null,null,null,null,null,null,null,null,null,null,null,null,null,null,null,null,null,null,null,null,null,null,null,null,null,null,null,null,null,null,null,null,null,null,null,null,null,null,null,null,null,null,null,null,null,null,null,null,null,null,null,null,null,null,null,null,null,null,null,null,null,null,null,null,null,null,null,null,null,null,null,null,null,null,null,null,null,null,null,null,null,null,null,null,null,null,null,null,null,null,null,null,null,null,null,null,null,null,null,null,null,null,null,null,null,null,null,null,null,null,null,null,null,null,null,null,null,null,null,null,null,null,null,null,null,null,null,null,null,null,null,null,null,null,null,null,null,null,null,null,null,null,null,null,null,null,null,null,null,null,null,null,null,null,null,null,null,null,null,null,null,null,null,null,null,null,null,null,null,null,null,null,null,null,null,null,null,null,null,null,null,null,null,null,null,null,null,null,null,null,null,null,null,null,null,null,null,null,null,null,null,null,null,null,null,null,null,null,null,null,null,null,null,null,null,null,null,null,null,null,null,null,null,null,null,null,null,null,null,null,null,null,null,null,null,null,null,null,null,null,null,null,null,null,null,null,null,null,null,null,null,null,null,null,null,null,null,null,null,null,null,null,null,null,null,null,null,null,null,null,null,null,null,null,null,null,null,null,null,null,null,null,null,null,null,null,null,null,null,null,null,null,null,null,null,null,null,null,null,null,null,null,null,null,null,null,null,null,null,null,null,null,null,null,null,null,null,null,null,null,null,null,null,null,null,null,null,null,null,null,null,null,null,null,null,null,null,null,null,null,null,null,null,null,null,null,null,null,null,null,null,null,null,null,null,null,null,null,null,null,null,null,null,null,null,null,null,null,null,null,null,null,null,null,null,null,null,null,null,null,null,null,null,null,null,null,null,null,null,null,null,null,null,null,null,null,null,null,null,null,null,null,null,null,null,null,null,null,null,null,null,null,null,null,null,null,null,null,null,null,null,null,null,null,null,null,null,null,null,null,null,null,null,null,null,null,null,null,null,null,null,null,null,null,null,null,null,null,null,null,null,null,null,null,null,null,null,null,null,null,null,null,null,null,null,null,null,null,null,null,null,null,null,null,null,null,null,null,null,null,null,null,null,null,null,null,null,null,null,null,null,null,null,null,null,null,null,null,null,null,null,null,null,null,null,null,null,null,null,null,null,null,null,null,null,null,null,null,null,null,null,null,null,null,null,null,null,null,null,null,null,null,null,null,null,null,null,null,null,null,null,null,null,null,null,null,null,null,null,null,null,null,null,null,null,null,null,null,null,null,null,null,null,null,null,null,null,null,null,null,null,null,null,null,null,null,null,null,null,null,null,null,null,null,null,null,null,null,null,null,null,null,null,null,null,null,null,null,null,null,null,null,null,null,null,null,null,null,null,null,null,null,null,null,null,null,null,null,null,null,null,null,null,null,null,null,null,null,null,null,null,null,null,null,null,null,null,null,null,null,null,null,null,null,null,null,null,null,null,null,null,null,null,null,null,null,null,null,null,null,null,null,null,null,null,null,null,null,null,null,null,null,null,null,null,null,null,null,null,null,null,null,null,null,null,null,null,null,null,null,null,null,null,null,null,null,null,null,null,null,null,null,null,null,null,null,null,null,null,null,null,null,null,null,null,null,null,null,null,null,null,null,null,null,null,null,null,null,null,null,null,null,null,null,null,null,null,null,null,null,null,null,null,null,null,null,null,null,null,null,null,null,null,null,null,null,null,null,null,null,null,null,null,null,null,null,null,null,null,null,null,null,null,null,null,null,null,null,null,null,null,null,null,null,null,null,null,null,null,null,null,null,null,null,null,null,null,null,null,null,null,null,null,null,null,null,null,null,null,null,null,null,null,null,null,null,null,null,null,null,null,null,null,null,null,null,null,null,null,null,null,null,null,null,null,null,null,null,null,null,null,null,null,null,null,null,null,null,null,null,null,null,null,null,null,null,null,null,null,null,null,null,null,null,null,null,null,null,null,null,null,null,null,null,null,null,null,null,null,null,null,null,null,null,null,null,null,null,null,null,null,null,null,null,null,null,null,null,null,null,null,null,null,null,null,null,null,null,null,null,null,null,null,null,null,null,null,null,null,null,null,null,null,null,null,null,null,null,null,null,null,null,null,null,null,null,null,null,null,null,null,null,null,null,null,null,null,null,null,null,null,null,null,null,null,null,null,null,null,null,null,null,null,null,null,null,null,null,null,null,null,null,null,null,null,null,null,null,null,null,null,null,null,null,null,null,null,null,null,null,null,null,null,null,null,null,null,null,null,null,null,null,null,null,null,null,null,null,null,null,null,null,null,null,null,null,null,null,null,null,null,null,null,null,null,null,null,null,null,null,null,null,null,null,null,null,null,null,null,null,null,null,null,null,null,null,null,null,null,null,null,null,null,null,null,null,null,null,null,null,null,null,null,null,null,null,null,null,null,null,null,null,null,null,null,null,null,null,null,null,null,null,null,null,null,null,null,null,null,null,null,null,null,null,null,null,null,null,null,null,null,null,null,null,null,null,null,null,null,null,null,null,null,null,null,null,null,null,null,null,null,null,null,null,null,null,null,null,null,null,null,null,null,null,null,null,null,null,null,null,null,null,null,null,null,null,null,null,null,null,null,null,null,null,null,null,null,null,null,null,null,null,null,null,null,null,null,null,null,null,null,null,null,null,null,null,null,null,null,null,null,null,null,null,null,null,null,null,null,null,null,null,null,null,null,null,null,null,null,null,null,null,null,null,null,null,null,null,null,null,null,null,null,null,null,null,null,null,null,null,null,null,null,null,null,null,null,null,null,null,null,null,null,null,null,null,null,null,null,null,null,null,null,null,null,null,null,null,null,null,null,null,null,null,null,null,null,null,null,null,null,null,null,null,null,null,null,null,null,null,null,null,null,null,null,null,null,null,null,null,null,null,null,null,null,null,null,null,null,null,null,null,null,null,null,null,null,null,null,null,null,null,null,null,null,null,null,null,null,null,null,null,null,null,null,null,null,null,null,null,null,null,null,null,null,null,null,null,null,null,null,null,null,null,null,null,null,null,null,null,null,null,null,null,null,null,null,null,null,null,null,null,null,null,null,null,null,null,null,null,null,null,null,null,null,null,null,null,null,null,null,null,null,null,null,null,null,null,null,null,null,null,null,null,null,null,null,null,null,null,null,null,null,null,null,null,null,null,null,null,null,null,null,null,null,null,null,null,null,null,null,null,null,null,null,null,null,null,null,null,null,null,null,null,null,null,null,null,null,null,null,null,null,null,null,null,null,null,null,null,null,null,null,null,null,null,null,null,null,null,null,null,null,null,null,null,null,null,null,null,null,null,null,null,null,null,null,null,null,null,null,null,null,null,null,null,null,null,null,null,null,null,null,null,null,null,null,null,null,null,null,null,null,null,null,null,null,null,null,null,null,null,null,null,null,null,null,null,null,null,null,null,null,null,null,null,null,null,null,null,null,null,null,null,null,null,null,null,null,null,null,null,null,null,null,null,null,null,null,null,null,null,null,null,null,null,null,null,null,null,null,null,null,null,null,null,null,null,null,null,null,null,null,null,null,null,null,null,null,null,null,null,null,null,null,null,null,null,null,null,null,null,null,null,null,null,null,null,null,null,null,null,null,null,null,null,null,null,null,null,null,null,null,null,null,null,null,null,null,null,null,null,null,null,null,null,null,null,null,null,null,null,null,null,null,null,null,null,null,null,null,null,null,null,null,null,null,null,null,null,null,null,null,null,null,null,null,null,null,null,null,null,null,null,null,null,null,null,null,null,null,null,null,null,null,null,null,null,null,null,null,null,null,null,null,null,null,null,null,null,null,null,null,null,null,null,null,null,null,null,null,null,null,null,null,null,null,null,null,null,null,null,null,null,null,null,null,null,null,null,null,null,null,null,null,null,null,null,null,null,null,null,null,null,null,null,null,null,null,null,null,null,null,null,null,null,null,null,null,null,null,null,null,null,null,null,null,null,null,null,null,null,null,null,null,null,null,null,null,null,null,null,null,null,null,null,null,null,null,null,null,null,null,null,null,null,null,null,null,null,null,null,null,null,null,null,null,null,null,null,null,null,null,null,null,null,null,null,null,null,null,null,null,null,null,null,null,null,null,null,null,null,null,null,null,null,null,null,null,null,null,null,null,null,null,null,null,null,null,null,null,null,null,null,null,null,null,null,null,null,null,null,null,null,null,null,null,null,null,null,null,null,null,null,null,null,null,null,null,null,null,null,null,null,null,null,null,null,null,null,null,null,null,null,null,null,null,null,null,null,null,null,null,null,null,null,null,null,null,null,null,null,null,null,null,null,null,null,null,null,null,null,null,null,null,null,null,null,null,null,null,null,null,null,null,null,null,null,null,null,null,null,null,null,null,null,null,null,null,null,null,null,null,null,null,null,null,null,null,null,null,null,null,null,null,null,null,null,null,null,null,null,null,null,null,null,null,null,null,null,null,null,null,null,null,null,null,null,null,null,null,null,null,null,null,null,null,null,null,null,null,null,null,null,null,null,null,null,null,null,null,null,null,null,null,null,null,null,null,null,null,null,null,null,null,null,null,null,null,null,null,null,null,null,null,null,null,null,null,null,null,null,null,null,null,null,null,null,null,null,null,null,null,null,null,null,null,null,null,null,null,null,null,null,null,null,null,null,null,null,null,null,null,null,null,null,null,null,null,null,null,null,null,null,null,null,null,null,null,null,null,null,null,null,null,null,null,null,null,null,null,null,null,null,null,null,null,null,null,null,null,null,null,null,null,null,null,null,null,null,null,null,null,null,null,null,null,null,null,null,null,null,null,null,null,null,null,null,null,null,null,null,null,null,null,null,null,null,null,null,null,null,null,null,null,null,null,null,null,null,null,null,null,null,null,null,null,null,null,null,null,null,null,null,null,null,null,null,null,null,null,null,null,null,null,null,null,null,null,null,null,null,null,null,null,null,null,null,null,null,null,null,null,null,null,null,null,null,null,null,null,null,null,null,null,null,null,null,null,null,null,null,null,null,null,null,null,null,null,null,null,null,null,null,null,null,null,null,null,null,null,null,null,null,null,null,null,null,null,null,null,"Sage"]

{"sheet":"DESC.","index":3,"n_rows":160,"n_cols":68,"rows_kept":160,"cut":false,"hidden":false,"merged":[[24,1,24,5],[16,60,16,63],[17,60,17,63],[11,64,11,67],[12,64,12,67],[16,64,16,67],[17,64,17,67],[9,60,9,67],[14,60,14,67],[11,60,11,63],[12,60,12,63],[0,44,0,47],[7,60,7,66],[5,60,5,67]]}
["X",null,null,null,null,null,null,null,null,null,null,"Descuentos",null,null,null,null,null,null,null,null,null,null,null,null,null,null,null,null,null,null,null,null,"ACA PUEDES COLOCAR DESCRIPCION Y VALOR DE CUALQUIER OTRO DESCUENTO",null,null,null,null,null,null,null,null,null,null,null,"Tabla Impuesto Unico"]
[]
[]
[null,null,null,null,null,null,null,null,null,null,null,"NOMBRE","AFP","%AFP","TOTAL AFP","SALUD","%SALUD","TOTAL SALUD","SEGURO CESANTIA","%SEGURO","TOTAL SEGURO CESANTIA","ISAPRE","TOTAL ADICIONAL","PACTO UF","VALOR UF","TOTAL UF","IMPUESTO UNICO","PASO DESC. UNIC.","VALOR IMP U.","TOTAL DESC.","TIPO CONTRATO","aporte del empleador","Columna1","VALOR OTRO 1","OTRO 2","VALOR OTRO 2","SIS","% SIS","valor sis","MUTUAL","%MUTUAL","valor mutual",null,null,"DESDE","HASTA","FACTOR","REBAJA",null,null,"INDEFINIDO"]
[null,null,null,null,null,null,null,null,null,1,1,{"$f":"IF(BDD!J7=0,\" \",BDD!J7)","v":"Trabajador 1"},"AFP CAPITAL",0.1144,{"$f":"IF(BDD!S7<_TOPEIMPONIBLE,BDD!S7*Tabla4[[#This Row],[%AFP]],_TOPEIMPONIBLE*Tabla4[[#This Row],[%AFP]])","v":158110.29519999999},"BANMEDICA ",null,{"$f":"IF(BDD!S7<_TOPEIMPONIBLE,BDD!S7*Tabla4[[#This Row],[%SALUD]],_TOPEIMPONIBLE*Tabla4[[#This Row],[%SALUD]])","v":0},"SEGURO CESANTIA",0,{"$f":"BDD!S7*Tabla4[[#This Row],[%SEGURO]]","v":0},"BANMEDICA     3,213UF",{"$f":"IF(Tabla4[[#This Row],[TOTAL UF]]-Tabla4[[#This Row],[TOTAL SALUD]]<=0,0,Tabla4[[#This Row],[TOTAL UF]]-Tabla4[[#This Row],[TOTAL SALUD]])","v":121575.26115000001},3.2130000000000001,{"$f":"BDD!$N$4","v":37838.550000000003},{"$f":"Tabla4[[#This Row],[PACTO UF]]*Tabla4[[#This Row],[VALOR UF]]","v":121575.26115000001},"IMPUESTO UNICO",{"$f":"BDD!S7-Tabla4[[#This Row],[TOTAL AFP]]-Tabla4[[#This Row],[TOTAL SALUD]]-Tabla4[[#This Row],[TOTAL SEGURO CESANTIA]]-Tabla4[[#This Row],[TOTAL ADICIONAL]]","v":1102397.44365},{"$f":"IF(Tabla4[[#This Row],[PASO DESC. UNIC.]]<=$AT$5,0,IF(Tabla4[[#This Row],[PASO DESC. UNIC.]]<=$AT$6,Tabla4[[#This Row],[PASO DESC. UNIC.]]*$AU$6-$AV$6,IF(Tabla4[[#This Row],[PASO DESC. UNIC.]]<=$AT$7,Tabla4[[#This Row],[PASO DESC. UNIC.]]*$AU$7-$AV$7,IF(Tabla4[[#This Row],[PASO DESC. UNIC.]]<=$AT$8,Tabla4[[#This Row],[PASO DESC. UNIC.]]*$AU$8-$AV$8,IF(Tabla4[[#This Row],[PASO DESC. UNIC.]]<=$AT$9,Tabla4[[#This Row],[PASO DESC. UNIC.]]*$AU$9-$AV$9,IF(Tabla4[[#This Row],[PASO DESC. UNIC.]]<=$AT$10,Tabla4[[#This Row],[PASO DESC. UNIC.]]*$AU$10-$AV$10,IF(Tabla4[[#This Row],[PASO DESC. UNIC.]]>=$AS$11,Tabla4[[#This Row],[PASO DESC. UNIC.]]*$AU$11-$AV$11)))))))","v":9419.257746000003},{"$f":"Tabla4[[#This Row],[TOTAL AFP]]+Tabla4[[#This Row],[TOTAL SALUD]]+Tabla4[[#This Row],[TOTAL SEGURO CESANTIA]]+Tabla4[[#This Row],[TOTAL ADICIONAL]]+Tabla4[[#This Row],[VALOR IMP U.]]+Tabla4[[#This Row],[VALOR OTRO 2]]+Tabla4[[#This Row],[VALOR OTRO 1]]","v":289104.81409599999},"PLAZO FIJO",{"$f":"IF($BP$8 = \"SI\",IF(Tabla4[[#This Row],[TIPO CONTRATO]]=\"Indefinido\",BDD!S7*2.4%,IF(Tabla4[[#This Row],[TIPO CONTRATO]]=\"PLAZO FIJO\",BDD!S7*3%,0)),0)","v":41462.49},null,null,null,null,"SIS",1.55E-2,{"$f":"BDD!S7*Tabla4[[#This Row],[% SIS]]","v":21422.286499999998},"MUTUAL",9.4999999999999998E-3,{"$f":"BDD!S7*Tabla4[[#This Row],[%MUTUAL]]","v":13129.788500000001},null,null,0,866916,0,0,null,null,"PLAZO FIJO"]
[null,null,null,null,null,null,null,null,null,2,2,{"$f":"IF(BDD!J8=0,\" \",BDD!J8)","v":"Trabajador 2"},"PLAN VITAL",0.1116,{"$f":"IF(BDD!S8<_TOPEIMPONIBLE,BDD!S8*Tabla4[[#This Row],[%AFP]],_TOPEIMPONIBLE*Tabla4[[#This Row],[%AFP]])","v":100440},"FONASA",7.0000000000000007E-2,{"$f":"IF(BDD!S8<_TOPEIMPONIBLE,BDD!S8*Tabla4[[#This Row],[%SALUD]],_TOPEIMPONIBLE*Tabla4[[#This Row],[%SALUD]])","v":63000.000000000007},"SEGURO CESANTIA",0,{"$f":"BDD!S8*Tabla4[[#This Row],[%SEGURO]]","v":0},null,{"$f":"IF(Tabla4[[#This Row],[TOTAL UF]]-Tabla4[[#This Row],[TOTAL SALUD]]<=0,0,Tabla4[[#This Row],[TOTAL UF]]-Tabla4[[#This Row],[TOTAL SALUD]])","v":0},null,{"$f":"BDD!$N$4","v":37838.550000000003},{"$f":"Tabla4[[#This Row],[PACTO UF]]*Tabla4[[#This Row],[VALOR UF]]","v":0},"IMPUESTO UNICO",{"$f":"BDD!S8-Tabla4[[#This Row],[TOTAL AFP]]-Tabla4[[#This Row],[TOTAL SALUD]]-Tabla4[[#This Row],[TOTAL SEGURO CESANTIA]]-Tabla4[[#This Row],[TOTAL ADICIONAL]]","v":736560},{"$f":"IF(Tabla4[[#This Row],[PASO DESC. UNIC.]]<=$AT$5,0,IF(Tabla4[[#This Row],[PASO DESC. UNIC.]]<=$AT$6,Tabla4[[#This Row],[PASO DESC. UNIC.]]*$AU$6-$AV$6,IF(Tabla4[[#This Row],[PASO DESC. UNIC.]]<=$AT$7,Tabla4[[#This Row],[PASO DESC. UNIC.]]*$AU$7-$AV$7,IF(Tabla4[[#This Row],[PASO DESC. UNIC.]]<=$AT$8,Tabla4[[#This Row],[PASO DESC. UNIC.]]*$AU$8-$AV$8,IF(Tabla4[[#This Row],[PASO DESC. UNIC.]]<=$AT$9,Tabla4[[#This Row],[PASO DESC. UNIC.]]*$AU$9-$AV$9,IF(Tabla4[[#This Row],[PASO DESC. UNIC.]]<=$AT$10,Tabla4[[#This Row],[PASO DESC. UNIC.]]*$AU$10-$AV$10,IF(Tabla4[[#This Row],[PASO DESC. UNIC.]]>=$AS$11,Tabla4[[#This Row],[PASO DESC. UNIC.]]*$AU$11-$AV$11)))))))","v":0},{"$f":"Tabla4[[#This Row],[TOTAL AFP]]+Tabla4[[#This Row],[TOTAL SALUD]]+Tabla4[[#This Row],[TOTAL SEGURO CESANTIA]]+Tabla4[[#This Row],[TOTAL ADICIONAL]]+Tabla4[[#This Row],[VALOR IMP U.]]+Tabla4[[#This Row],[VALOR OTRO 2]]+Tabla4[[#This Row],[VALOR OTRO 1]]","v":163440},"PLAZO FIJO",{"$f":"IF($BP$8 = \"SI\",IF(Tabla4[[#This Row],[TIPO CONTRATO]]=\"Indefinido\",BDD!S8*2.4%,IF(Tabla4[[#This Row],[TIPO CONTRATO]]=\"PLAZO FIJO\",BDD!S8*3%,0)),0)","v":27000},null,null,null,null,"SIS",1.55E-2,{"$f":"BDD!S8*Tabla4[[#This Row],[% SIS]]","v":13950},"MUTUAL",9.4999999999999998E-3,{"$f":"BDD!S8*Tabla4[[#This Row],[%MUTUAL]]","v":8550},null,null,866916.01,1926480,0.04,34676.639999999999,null,null,null,null,null,null,null,null,null,null,null,null,"PARAMETROS SEGURO DE CESANTIA"]
[null,null,null,null,null,null,null,null,null,3,3,{"$f":"IF(BDD!J9=0,\" \",BDD!J9)","v":"Trabajador 3"},"AFP MODELO",0.10580000000000001,{"$f":"IF(BDD!S9<_TOPEIMPONIBLE,BDD!S9*Tabla4[[#This Row],[%AFP]],_TOPEIMPONIBLE*Tabla4[[#This Row],[%AFP]])","v":195730},"BANMEDICA   ",null,{"$f":"IF(BDD!S9<_TOPEIMPONIBLE,BDD!S9*Tabla4[[#This Row],[%SALUD]],_TOPEIMPONIBLE*Tabla4[[#This Row],[%SALUD]])","v":0},"SEGURO CESANTIA",0,{"$f":"BDD!S9*Tabla4[[#This Row],[%SEGURO]]","v":0},"BANMEDICA    3,926UF",{"$f":"IF(Tabla4[[#This Row],[TOTAL UF]]-Tabla4[[#This Row],[TOTAL SALUD]]<=0,0,Tabla4[[#This Row],[TOTAL UF]]-Tabla4[[#This Row],[TOTAL SALUD]])","v":148554.14730000001},3.9260000000000002,{"$f":"BDD!$N$4","v":37838.550000000003},{"$f":"Tabla4[[#This Row],[PACTO UF]]*Tabla4[[#This Row],[VALOR UF]]","v":148554.14730000001},"IMPUESTO UNICO",{"$f":"BDD!S9-Tabla4[[#This Row],[TOTAL AFP]]-Tabla4[[#This Row],[TOTAL SALUD]]-Tabla4[[#This Row],[TOTAL SEGURO CESANTIA]]-Tabla4[[#This Row],[TOTAL ADICIONAL]]","v":1505715.8526999999},{"$f":"IF(Tabla4[[#This Row],[PASO DESC. UNIC.]]<=$AT$5,0,IF(Tabla4[[#This Row],[PASO DESC. UNIC.]]<=$AT$6,Tabla4[[#This Row],[PASO DESC. UNIC.]]*$AU$6-$AV$6,IF(Tabla4[[#This Row],[PASO DESC. UNIC.]]<=$AT$7,Tabla4[[#This Row],[PASO DESC. UNIC.]]*$AU$7-$AV$7,IF(Tabla4[[#This Row],[PASO DESC. UNIC.]]<=$AT$8,Tabla4[[#This Row],[PASO DESC. UNIC.]]*$AU$8-$AV$8,IF(Tabla4[[#This Row],[PASO DESC. UNIC.]]<=$AT$9,Tabla4[[#This Row],[PASO DESC. UNIC.]]*$AU$9-$AV$9,IF(Tabla4[[#This Row],[PASO DESC. UNIC.]]<=$AT$10,Tabla4[[#This Row],[PASO DESC. UNIC.]]*$AU$10-$AV$10,IF(Tabla4[[#This Row],[PASO DESC. UNIC.]]>=$AS$11,Tabla4[[#This Row],[PASO DESC. UNIC.]]*$AU$11-$AV$11)))))))","v":25551.994107999999},{"$f":"Tabla4[[#This Row],[TOTAL AFP]]+Tabla4[[#This Row],[TOTAL SALUD]]+Tabla4[[#This Row],[TOTAL SEGURO CESANTIA]]+Tabla4[[#This Row],[TOTAL ADICIONAL]]+Tabla4[[#This Row],[VALOR IMP U.]]+Tabla4[[#This Row],[VALOR OTRO 2]]+Tabla4[[#This Row],[VALOR OTRO 1]]","v":369836.14140800002},"PLAZO FIJO",{"$f":"IF($BP$8 = \"SI\",IF(Tabla4[[#This Row],[TIPO CONTRATO]]=\"Indefinido\",BDD!S9*2.4%,IF(Tabla4[[#This Row],[TIPO CONTRATO]]=\"PLAZO FIJO\",BDD!S9*3%,0)),0)","v":55500},null,null,null,null,"SIS",1.55E-2,{"$f":"BDD!S9*Tabla4[[#This Row],[% SIS]]","v":28675},"MUTUAL",9.4999999999999998E-3,{"$f":"BDD!S9*Tabla4[[#This Row],[%MUTUAL]]","v":17575},null,null,1926480.01,3210800,0.08,111735.84,null,null,null,null,null,null,null,null,null,"SI"]
[null,null,null,null,null,null,null,null,null,4,4,{"$f":"IF(BDD!J10=0,\" \",BDD!J10)","v":"Trabajador 4"},"AFP MODELO",0.10580000000000001,{"$f":"IF(BDD!S10<_TOPEIMPONIBLE,BDD!S10*Tabla4[[#This Row],[%AFP]],_TOPEIMPONIBLE*Tabla4[[#This Row],[%AFP]])","v":116380},"FONASA",7.0000000000000007E-2,{"$f":"IF(BDD!S10<_TOPEIMPONIBLE,BDD!S10*Tabla4[[#This Row],[%SALUD]],_TOPEIMPONIBLE*Tabla4[[#This Row],[%SALUD]])","v":77000.000000000015},"SEGURO CESANTIA",0,{"$f":"BDD!S10*Tabla4[[#This Row],[%SEGURO]]","v":0},null,{"$f":"IF(Tabla4[[#This Row],[TOTAL UF]]-Tabla4[[#This Row],[TOTAL SALUD]]<=0,0,Tabla4[[#This Row],[TOTAL UF]]-Tabla4[[#This Row],[TOTAL SALUD]])","v":0},null,{"$f":"BDD!$N$4","v":37838.550000000003},{"$f":"Tabla4[[#This Row],[PACTO UF]]*Tabla4[[#This Row],[VALOR UF]]","v":0},"IMPUESTO UNICO",{"$f":"BDD!S10-Tabla4[[#This Row],[TOTAL AFP]]-Tabla4[[#This Row],[TOTAL SALUD]]-Tabla4[[#This Row],[TOTAL SEGURO CESANTIA]]-Tabla4[[#This Row],[TOTAL ADICIONAL]]","v":906620},{"$f":"IF(Tabla4[[#This Row],[PASO DESC. UNIC.]]<=$AT$5,0,IF(Tabla4[[#This Row],[PASO DESC. UNIC.]]<=$AT$6,Tabla4[[#This Row],[PASO DESC. UNIC.]]*$AU$6-$AV$6,IF(Tabla4[[#This Row],[PASO DESC. UNIC.]]<=$AT$7,Tabla4[[#This Row],[PASO DESC. UNIC.]]*$AU$7-$AV$7,IF(Tabla4[[#This Row],[PASO DESC. UNIC.]]<=$AT$8,Tabla4[[#This Row],[PASO DESC. UNIC.]]*$AU$8-$AV$8,IF(Tabla4[[#This Row],[PASO DESC. UNIC.]]<=$AT$9,Tabla4[[#This Row],[PASO DESC. UNIC.]]*$AU$9-$AV$9,IF(Tabla4[[#This Row],[PASO DESC. UNIC.]]<=$AT$10,Tabla4[[#This Row],[PASO DESC. UNIC.]]*$AU$10-$AV$10,IF(Tabla4[[#This Row],[PASO DESC. UNIC.]]>=$AS$11,Tabla4[[#This Row],[PASO DESC. UNIC.]]*$AU$11-$AV$11)))))))","v":1588.1600000000035},{"$f":"Tabla4[[#This Row],[TOTAL AFP]]+Tabla4[[#This Row],[TOTAL SALUD]]+Tabla4[[#This Row],[TOTAL SEGURO CESANTIA]]+Tabla4[[#This Row],[TOTAL ADICIONAL]]+Tabla4[[#This Row],[VALOR IMP U.]]+Tabla4[[#This Row],[VALOR OTRO 2]]+Tabla4[[#This Row],[VALOR OTRO 1]]","v":194968.16},"PLAZO FIJO",{"$f":"IF($BP$8 = \"SI\",IF(Tabla4[[#This Row],[TIPO CONTRATO]]=\"Indefinido\",BDD!S10*2.4%,IF(Tabla4[[#This Row],[TIPO CONTRATO]]=\"PLAZO FIJO\",BDD!S10*3%,0)),0)","v":33000},null,null,null,null,"SIS",1.55E-2,{"$f":"BDD!S10*Tabla4[[#This Row],[% SIS]]","v":17050},"MUTUAL",9.4999999999999998E-3,{"$f":"BDD!S10*Tabla4[[#This Row],[%MUTUAL]]","v":10450},null,null,3210800.01,4495120,0.13500000000000001,288329.84000000003,null,null,null,null,null,null,null,null,null,"NO",null,null,"¿EL EMPLEADOR APORTA EN EL SEGURO DE CESANTIA DE LOS TRABAJADORES?",null,null,null,null,null,null,"SI"]
[null,null,null,null,null,null,null,null,null,5,5,{"$f":"IF(BDD!J11=0,\" \",BDD!J11)","v":"Trabajador 5"},"AFP MODELO",0.10580000000000001,{"$f":"IF(BDD!S11<_TOPEIMPONIBLE,BDD!S11*Tabla4[[#This Row],[%AFP]],_TOPEIMPONIBLE*Tabla4[[#This Row],[%AFP]])","v":60835},"FONASA",7.0000000000000007E-2,{"$f":"IF(BDD!S11<_TOPEIMPONIBLE,BDD!S11*Tabla4[[#This Row],[%SALUD]],_TOPEIMPONIBLE*Tabla4[[#This Row],[%SALUD]])","v":40250.000000000007},"SEGURO CESANTIA",0,{"$f":"BDD!S11*Tabla4[[#This Row],[%SEGURO]]","v":0},null,{"$f":"IF(Tabla4[[#This Row],[TOTAL UF]]-Tabla4[[#This Row],[TOTAL SALUD]]<=0,0,Tabla4[[#This Row],[TOTAL UF]]-Tabla4[[#This Row],[TOTAL SALUD]])","v":0},null,{"$f":"BDD!$N$4","v":37838.550000000003},{"$f":"Tabla4[[#This Row],[PACTO UF]]*Tabla4[[#This Row],[VALOR UF]]","v":0},"IMPUESTO UNICO",{"$f":"BDD!S11-Tabla4[[#This Row],[TOTAL AFP]]-Tabla4[[#This Row],[TOTAL SALUD]]-Tabla4[[#This Row],[TOTAL SEGURO CESANTIA]]-Tabla4[[#This Row],[TOTAL ADICIONAL]]","v":473915},{"$f":"IF(Tabla4[[#This Row],[PASO DESC. UNIC.]]<=$AT$5,0,IF(Tabla4[[#This Row],[PASO DESC. UNIC.]]<=$AT$6,Tabla4[[#This Row],[PASO DESC. UNIC.]]*$AU$6-$AV$6,IF(Tabla4[[#This Row],[PASO DESC. UNIC.]]<=$AT$7,Tabla4[[#This Row],[PASO DESC. UNIC.]]*$AU$7-$AV$7,IF(Tabla4[[#This Row],[PASO DESC. UNIC.]]<=$AT$8,Tabla4[[#This Row],[PASO DESC. UNIC.]]*$AU$8-$AV$8,IF(Tabla4[[#This Row],[PASO DESC. UNIC.]]<=$AT$9,Tabla4[[#This Row],[PASO DESC. UNIC.]]*$AU$9-$AV$9,IF(Tabla4[[#This Row],[PASO DESC. UNIC.]]<=$AT$10,Tabla4[[#This Row],[PASO DESC. UNIC.]]*$AU$10-$AV$10,IF(Tabla4[[#This Row],[PASO DESC. UNIC.]]>=$AS$11,Tabla4[[#This Row],[PASO DESC. UNIC.]]*$AU$11-$AV$11)))))))","v":0},{"$f":"Tabla4[[#This Row],[TOTAL AFP]]+Tabla4[[#This Row],[TOTAL SALUD]]+Tabla4[[#This Row],[TOTAL SEGURO CESANTIA]]+Tabla4[[#This Row],[TOTAL ADICIONAL]]+Tabla4[[#This Row],[VALOR IMP U.]]+Tabla4[[#This Row],[VALOR OTRO 2]]+Tabla4[[#This Row],[VALOR OTRO 1]]","v":101085},"PLAZO FIJO",{"$f":"IF($BP$8 = \"SI\",IF(Tabla4[[#This Row],[TIPO CONTRATO]]=\"Indefinido\",BDD!S11*2.4%,IF(Tabla4[[#This Row],[TIPO CONTRATO]]=\"PLAZO FIJO\",BDD!S11*3%,0)),0)","v":17250},null,null,null,null,"SIS",1.55E-2,{"$f":"BDD!S11*Tabla4[[#This Row],[% SIS]]","v":8912.5},"MUTUAL",9.4999999999999998E-3,{"$f":"BDD!S11*Tabla4[[#This Row],[%MUTUAL]]","v":5462.5},null,null,4495120.01,5779440,0.23,715366.24]
[null,null,null,null,null,null,null,null,null,6,6,{"$f":"IF(BDD!J12=0,\" \",BDD!J12)","v":" "},null,null,{"$f":"IF(BDD!S12<_TOPEIMPONIBLE,BDD!S12*Tabla4[[#This Row],[%AFP]],_TOPEIMPONIBLE*Tabla4[[#This Row],[%AFP]])","v":0},null,null,{"$f":"IF(BDD!S12<_TOPEIMPONIBLE,BDD!S12*Tabla4[[#This Row],[%SALUD]],_TOPEIMPONIBLE*Tabla4[[#This Row],[%SALUD]])","v":0},null,null,{"$f":"BDD!S12*Tabla4[[#This Row],[%SEGURO]]","v":0},null,{"$f":"IF(Tabla4[[#This Row],[TOTAL UF]]-Tabla4[[#This Row],[TOTAL SALUD]]<=0,0,Tabla4[[#This Row],[TOTAL UF]]-Tabla4[[#This Row],[TOTAL SALUD]])","v":0},null,{"$f":"BDD!$N$4","v":37838.550000000003},{"$f":"Tabla4[[#This Row],[PACTO UF]]*Tabla4[[#This Row],[VALOR UF]]","v":0},"IMPUESTO UNICO",{"$f":"BDD!S12-Tabla4[[#This Row],[TOTAL AFP]]-Tabla4[[#This Row],[TOTAL SALUD]]-Tabla4[[#This Row],[TOTAL SEGURO CESANTIA]]-Tabla4[[#This Row],[TOTAL ADICIONAL]]","v":0},{"$f":"IF(Tabla4[[#This Row],[PASO DESC. UNIC.]]<=$AT$5,0,IF(Tabla4[[#This Row],[PASO DESC. UNIC.]]<=$AT$6,Tabla4[[#This Row],[PASO DESC. UNIC.]]*$AU$6-$AV$6,IF(Tabla4[[#This Row],[PASO DESC. UNIC.]]<=$AT$7,Tabla4[[#This Row],[PASO DESC. UNIC.]]*$AU$7-$AV$7,IF(Tabla4[[#This Row],[PASO DESC. UNIC.]]<=$AT$8,Tabla4[[#This Row],[PASO DESC. UNIC.]]*$AU$8-$AV$8,IF(Tabla4[[#This Row],[PASO DESC. UNIC.]]<=$AT$9,Tabla4[[#This Row],[PASO DESC. UNIC.]]*$AU$9-$AV$9,IF(Tabla4[[#This Row],[PASO DESC. UNIC.]]<=$AT$10,Tabla4[[#This Row],[PASO DESC. UNIC.]]*$AU$10-$AV$10,IF(Tabla4[[#This Row],[PASO DESC. UNIC.]]>=$AS$11,Tabla4[[#This Row],[PASO DESC. UNIC.]]*$AU$11-$AV$11)))))))","v":0},{"$f":"Tabla4[[#This Row],[TOTAL AFP]]+Tabla4[[#This Row],[TOTAL SALUD]]+Tabla4[[#This Row],[TOTAL SEGURO CESANTIA]]+Tabla4[[#This Row],[TOTAL ADICIONAL]]+Tabla4[[#This Row],[VALOR IMP U.]]+Tabla4[[#This Row],[VALOR OTRO 2]]+Tabla4[[#This Row],[VALOR OTRO 1]]","v":0},null,{"$f":"IF($BP$8 = \"SI\",IF(Tabla4[[#This Row],[TIPO CONTRATO]]=\"Indefinido\",BDD!S12*2.4%,IF(Tabla4[[#This Row],[TIPO CONTRATO]]=\"PLAZO FIJO\",BDD!S12*3%,0)),0)","v":0},null,null,null,null,null,null,{"$f":"BDD!S12*Tabla4[[#This Row],[% SIS]]","v":0},null,null,{"$f":"BDD!S12*Tabla4[[#This Row],[%MUTUAL]]","v":0},null,null,5779440.0099999998,7705920,0.30399999999999999,1143044.8,null,null,null,null,null,null,null,null,null,null,null,null,"PARA CONTRATOS INDEFINIDOS"]
[null,null,null,null,null,null,null,null,null,7,7,{"$f":"IF(BDD!J13=0,\" \",BDD!J13)","v":" "},null,null,{"$f":"IF(BDD!S13<_TOPEIMPONIBLE,BDD!S13*Tabla4[[#This Row],[%AFP]],_TOPEIMPONIBLE*Tabla4[[#This Row],[%AFP]])","v":0},null,null,{"$f":"IF(BDD!S13<_TOPEIMPONIBLE,BDD!S13*Tabla4[[#This Row],[%SALUD]],_TOPEIMPONIBLE*Tabla4[[#This Row],[%SALUD]])","v":0},null,null,{"$f":"BDD!S13*Tabla4[[#This Row],[%SEGURO]]","v":0},null,{"$f":"IF(Tabla4[[#This Row],[TOTAL UF]]-Tabla4[[#This Row],[TOTAL SALUD]]<=0,0,Tabla4[[#This Row],[TOTAL UF]]-Tabla4[[#This Row],[TOTAL SALUD]])","v":0},null,{"$f":"BDD!$N$4","v":37838.550000000003},{"$f":"Tabla4[[#This Row],[PACTO UF]]*Tabla4[[#This Row],[VALOR UF]]","v":0},"IMPUESTO UNICO",{"$f":"BDD!S13-Tabla4[[#This Row],[TOTAL AFP]]-Tabla4[[#This Row],[TOTAL SALUD]]-Tabla4[[#This Row],[TOTAL SEGURO CESANTIA]]-Tabla4[[#This Row],[TOTAL ADICIONAL]]","v":0},{"$f":"IF(Tabla4[[#This Row],[PASO DESC. UNIC.]]<=$AT$5,0,IF(Tabla4[[#This Row],[PASO DESC. UNIC.]]<=$AT$6,Tabla4[[#This Row],[PASO DESC. UNIC.]]*$AU$6-$AV$6,IF(Tabla4[[#This Row],[PASO DESC. UNIC.]]<=$AT$7,Tabla4[[#This Row],[PASO DESC. UNIC.]]*$AU$7-$AV$7,IF(Tabla4[[#This Row],[PASO DESC. UNIC.]]<=$AT$8,Tabla4[[#This Row],[PASO DESC. UNIC.]]*$AU$8-$AV$8,IF(Tabla4[[#This Row],[PASO DESC. UNIC.]]<=$AT$9,Tabla4[[#This Row],[PASO DESC. UNIC.]]*$AU$9-$AV$9,IF(Tabla4[[#This Row],[PASO DESC. UNIC.]]<=$AT$10,Tabla4[[#This Row],[PASO DESC. UNIC.]]*$AU$10-$AV$10,IF(Tabla4[[#This Row],[PASO DESC. UNIC.]]>=$AS$11,Tabla4[[#This Row],[PASO DESC. UNIC.]]*$AU$11-$AV$11)))))))","v":0},{"$f":"Tabla4[[#This Row],[TOTAL AFP]]+Tabla4[[#This Row],[TOTAL SALUD]]+Tabla4[[#This Row],[TOTAL SEGURO CESANTIA]]+Tabla4[[#This Row],[TOTAL ADICIONAL]]+Tabla4[[#This Row],[VALOR IMP U.]]+Tabla4[[#This Row],[VALOR OTRO 2]]+Tabla4[[#This Row],[VALOR OTRO 1]]","v":0},null,{"$f":"IF($BP$8 = \"SI\",IF(Tabla4[[#This Row],[TIPO CONTRATO]]=\"Indefinido\",BDD!S13*2.4%,IF(Tabla4[[#This Row],[TIPO CONTRATO]]=\"PLAZO FIJO\",BDD!S13*3%,0)),0)","v":0},null,null,null,null,null,null,{"$f":"BDD!S13*Tabla4[[#This Row],[% SIS]]","v":0},null,null,{"$f":"BDD!S13*Tabla4[[#This Row],[%MUTUAL]]","v":0},null,null,7705920.0099999998,"Y MAS",0.35,1497517.12]
[null,null,null,null,null,null,null,null,null,8,8,{"$f":"IF(BDD!J14=0,\" \",BDD!J14)","v":" "},null,null,{"$f":"IF(BDD!S14<_TOPEIMPONIBLE,BDD!S14*Tabla4[[#This Row],[%AFP]],_TOPEIMPONIBLE*Tabla4[[#This Row],[%AFP]])","v":0},null,null,{"$f":"IF(BDD!S14<_TOPEIMPONIBLE,BDD!S14*Tabla4[[#This Row],[%SALUD]],_TOPEIMPONIBLE*Tabla4[[#This Row],[%SALUD]])","v":0},null,null,{"$f":"BDD!S14*Tabla4[[#This Row],[%SEGURO]]","v":0},null,{"$f":"IF(Tabla4[[#This Row],[TOTAL UF]]-Tabla4[[#This Row],[TOTAL SALUD]]<=0,0,Tabla4[[#This Row],[TOTAL UF]]-Tabla4[[#This Row],[TOTAL SALUD]])","v":0},null,{"$f":"BDD!$N$4","v":37838.550000000003},{"$f":"Tabla4[[#This Row],[PACTO UF]]*Tabla4[[#This Row],[VALOR UF]]","v":0},"IMPUESTO UNICO",{"$f":"BDD!S14-Tabla4[[#This Row],[TOTAL AFP]]-Tabla4[[#This Row],[TOTAL SALUD]]-Tabla4[[#This Row],[TOTAL SEGURO CESANTIA]]-Tabla4[[#This Row],[TOTAL ADICIONAL]]","v":0},{"$f":"IF(Tabla4[[#This Row],[PASO DESC. UNIC.]]<=$AT$5,0,IF(Tabla4[[#This Row],[PASO DESC. UNIC.]]<=$AT$6,Tabla4[[#This Row],[PASO DESC. UNIC.]]*$AU$6-$AV$6,IF(Tabla4[[#This Row],[PASO DESC. UNIC.]]<=$AT$7,Tabla4[[#This Row],[PASO DESC. UNIC.]]*$AU$7-$AV$7,IF(Tabla4[[#This Row],[PASO DESC. UNIC.]]<=$AT$8,Tabla4[[#This Row],[PASO DESC. UNIC.]]*$AU$8-$AV$8,IF(Tabla4[[#This Row],[PASO DESC. UNIC.]]<=$AT$9,Tabla4[[#This Row],[PASO DESC. UNIC.]]*$AU$9-$AV$9,IF(Tabla4[[#This Row],[PASO DESC. UNIC.]]<=$AT$10,Tabla4[[#This Row],[PASO DESC. UNIC.]]*$AU$10-$AV$10,IF(Tabla4[[#This Row],[PASO DESC. UNIC.]]>=$AS$11,Tabla4[[#This Row],[PASO DESC. UNIC.]]*$AU$11-$AV$11)))))))","v":0},{"$f":"Tabla4[[#This Row],[TOTAL AFP]]+Tabla4[[#This Row],[TOTAL SALUD]]+Tabla4[[#This Row],[TOTAL SEGURO CESANTIA]]+Tabla4[[#This Row],[TOTAL ADICIONAL]]+Tabla4[[#This Row],[VALOR IMP U.]]+Tabla4[[#This Row],[VALOR OTRO 2]]+Tabla4[[#This Row],[VALOR OTRO 1]]","v":0},null,{"$f":"IF($BP$8 = \"SI\",IF(Tabla4[[#This Row],[TIPO CONTRATO]]=\"Indefinido\",BDD!S14*2.4%,IF(Tabla4[[#This Row],[TIPO CONTRATO]]=\"PLAZO FIJO\",BDD!S14*3%,0)),0)","v":0},null,null,null,null,null,null,{"$f":"BDD!S14*Tabla4[[#This Row],[% SIS]]","v":0},null,null,{"$f":"BDD!S14*Tabla4[[#This Row],[%MUTUAL]]","v":0},null,null,null,null,null,null,null,null,null,null,null,null,null,null,null,null,null,null,"APORTE DEL TRABAJADOR",null,null,null,6.0000000000000001E-3]
[null,null,null,null,null,null,null,null,null,9,9,{"$f":"IF(BDD!J15=0,\" \",BDD!J15)","v":" "},null,null,{"$f":"IF(BDD!S15<_TOPEIMPONIBLE,BDD!S15*Tabla4[[#This Row],[%AFP]],_TOPEIMPONIBLE*Tabla4[[#This Row],[%AFP]])","v":0},null,null,{"$f":"IF(BDD!S15<_TOPEIMPONIBLE,BDD!S15*Tabla4[[#This Row],[%SALUD]],_TOPEIMPONIBLE*Tabla4[[#This Row],[%SALUD]])","v":0},null,null,{"$f":"BDD!S15*Tabla4[[#This Row],[%SEGURO]]","v":0},null,{"$f":"IF(Tabla4[[#This Row],[TOTAL UF]]-Tabla4[[#This Row],[TOTAL SALUD]]<=0,0,Tabla4[[#This Row],[TOTAL UF]]-Tabla4[[#This Row],[TOTAL SALUD]])","v":0},null,{"$f":"BDD!$N$4","v":37838.550000000003},{"$f":"Tabla4[[#This Row],[PACTO UF]]*Tabla4[[#This Row],[VALOR UF]]","v":0},"IMPUESTO UNICO",{"$f":"BDD!S15-Tabla4[[#This Row],[TOTAL AFP]]-Tabla4[[#This Row],[TOTAL SALUD]]-Tabla4[[#This Row],[TOTAL SEGURO CESANTIA]]-Tabla4[[#This Row],[TOTAL ADICIONAL]]","v":0},{"$f":"IF(Tabla4[[#This Row],[PASO DESC. UNIC.]]<=$AT$5,0,IF(Tabla4[[#This Row],[PASO DESC. UNIC.]]<=$AT$6,Tabla4[[#This Row],[PASO DESC. UNIC.]]*$AU$6-$AV$6,IF(Tabla4[[#This Row],[PASO DESC. UNIC.]]<=$AT$7,Tabla4[[#This Row],[PASO DESC. UNIC.]]*$AU$7-$AV$7,IF(Tabla4[[#This Row],[PASO DESC. UNIC.]]<=$AT$8,Tabla4[[#This Row],[PASO DESC. UNIC.]]*$AU$8-$AV$8,IF(Tabla4[[#This Row],[PASO DESC. UNIC.]]<=$AT$9,Tabla4[[#This Row],[PASO DESC. UNIC.]]*$AU$9-$AV$9,IF(Tabla4[[#This Row],[PASO DESC. UNIC.]]<=$AT$10,Tabla4[[#This Row],[PASO DESC. UNIC.]]*$AU$10-$AV$10,IF(Tabla4[[#This Row],[PASO DESC. UNIC.]]>=$AS$11,Tabla4[[#This Row],[PASO DESC. UNIC.]]*$AU$11-$AV$11)))))))","v":0},{"$f":"Tabla4[[#This Row],[TOTAL AFP]]+Tabla4[[#This Row],[TOTAL SALUD]]+Tabla4[[#This Row],[TOTAL SEGURO CESANTIA]]+Tabla4[[#This Row],[TOTAL ADICIONAL]]+Tabla4[[#This Row],[VALOR IMP U.]]+Tabla4[[#This Row],[VALOR OTRO 2]]+Tabla4[[#This Row],[VALOR OTRO 1]]","v":0},null,{"$f":"IF($BP$8 = \"SI\",IF(Tabla4[[#This Row],[TIPO CONTRATO]]=\"Indefinido\",BDD!S15*2.4%,IF(Tabla4[[#This Row],[TIPO CONTRATO]]=\"PLAZO FIJO\",BDD!S15*3%,0)),0)","v":0},null,null,null,null,null,null,{"$f":"BDD!S15*Tabla4[[#This Row],[% SIS]]","v":0},null,null,{"$f":"BDD!S15*Tabla4[[#This Row],[%MUTUAL]]","v":0},null,null,null,null,null,null,null,null,null,null,null,null,null,null,null,null,null,null,"APORTE DEL EMPLEADOR",null,null,null,2.4E-2]
[null,null,null,null,null,null,null,null,null,10,10,{"$f":"IF(BDD!J16=0,\" \",BDD!J16)","v":" "},null,null,{"$f":"IF(BDD!S16<_TOPEIMPONIBLE,BDD!S16*Tabla4[[#This Row],[%AFP]],_TOPEIMPONIBLE*Tabla4[[#This Row],[%AFP]])","v":0},null,null,{"$f":"IF(BDD!S16<_TOPEIMPONIBLE,BDD!S16*Tabla4[[#This Row],[%SALUD]],_TOPEIMPONIBLE*Tabla4[[#This Row],[%SALUD]])","v":0},null,null,{"$f":"BDD!S16*Tabla4[[#This Row],[%SEGURO]]","v":0},null,{"$f":"IF(Tabla4[[#This Row],[TOTAL UF]]-Tabla4[[#This Row],[TOTAL SALUD]]<=0,0,Tabla4[[#This Row],[TOTAL UF]]-Tabla4[[#This Row],[TOTAL SALUD]])","v":0},null,{"$f":"BDD!$N$4","v":37838.550000000003},{"$f":"Tabla4[[#This Row],[PACTO UF]]*Tabla4[[#This Row],[VALOR UF]]","v":0},"IMPUESTO UNICO",{"$f":"BDD!S16-Tabla4[[#This Row],[TOTAL AFP]]-Tabla4[[#This Row],[TOTAL SALUD]]-Tabla4[[#This Row],[TOTAL SEGURO CESANTIA]]-Tabla4[[#This Row],[TOTAL ADICIONAL]]","v":0},{"$f":"IF(Tabla4[[#This Row],[PASO DESC. UNIC.]]<=$AT$5,0,IF(Tabla4[[#This Row],[PASO DESC. UNIC.]]<=$AT$6,Tabla4[[#This Row],[PASO DESC. UNIC.]]*$AU$6-$AV$6,IF(Tabla4[[#This Row],[PASO DESC. UNIC.]]<=$AT$7,Tabla4[[#This Row],[PASO DESC. UNIC.]]*$AU$7-$AV$7,IF(Tabla4[[#This Row],[PASO DESC. UNIC.]]<=$AT$8,Tabla4[[#This Row],[PASO DESC. UNIC.]]*$AU$8-$AV$8,IF(Tabla4[[#This Row],[PASO DESC. UNIC.]]<=$AT$9,Tabla4[[#This Row],[PASO DESC. UNIC.]]*$AU$9-$AV$9,IF(Tabla4[[#This Row],[PASO DESC. UNIC.]]<=$AT$10,Tabla4[[#This Row],[PASO DESC. UNIC.]]*$AU$10-$AV$10,IF(Tabla4[[#This Row],[PASO DESC. UNIC.]]>=$AS$11,Tabla4[[#This Row],[PASO DESC. UNIC.]]*$AU$11-$AV$11)))))))","v":0},{"$f":"Tabla4[[#This Row],[TOTAL AFP]]+Tabla4[[#This Row],[TOTAL SALUD]]+Tabla4[[#This Row],[TOTAL SEGURO CESANTIA]]+Tabla4[[#This Row],[TOTAL ADICIONAL]]+Tabla4[[#This Row],[VALOR IMP U.]]+Tabla4[[#This Row],[VALOR OTRO 2]]+Tabla4[[#This Row],[VALOR OTRO 1]]","v":0},null,{"$f":"IF($BP$8 = \"SI\",IF(Tabla4[[#This Row],[TIPO CONTRATO]]=\"Indefinido\",BDD!S16*2.4%,IF(Tabla4[[#This Row],[TIPO CONTRATO]]=\"PLAZO FIJO\",BDD!S16*3%,0)),0)","v":0},null,null,null,null,null,null,{"$f":"BDD!S16*Tabla4[[#This Row],[% SIS]]","v":0},null,null,{"$f":"BDD!S16*Tabla4[[#This Row],[%MUTUAL]]","v":0},null,null,"PARA MODIFICAR LA TABLA DESBLOQUEA LA HOJA USANDO LA "]
[null,null,null,null,null,null,null,null,null,11,11,{"$f":"IF(BDD!J17=0,\" \",BDD!J17)","v":" "},null,null,{"$f":"IF(BDD!S17<_TOPEIMPONIBLE,BDD!S17*Tabla4[[#This Row],[%AFP]],_TOPEIMPONIBLE*Tabla4[[#This Row],[%AFP]])","v":0},null,null,{"$f":"IF(BDD!S17<_TOPEIMPONIBLE,BDD!S17*Tabla4[[#This Row],[%SALUD]],_TOPEIMPONIBLE*Tabla4[[#This Row],[%SALUD]])","v":0},null,null,{"$f":"BDD!S17*Tabla4[[#This Row],[%SEGURO]]","v":0},null,{"$f":"IF(Tabla4[[#This Row],[TOTAL UF]]-Tabla4[[#This Row],[TOTAL SALUD]]<=0,0,Tabla4[[#This Row],[TOTAL UF]]-Tabla4[[#This Row],[TOTAL SALUD]])","v":0},null,{"$f":"BDD!$N$4","v":37838.550000000003},{"$f":"Tabla4[[#This Row],[PACTO UF]]*Tabla4[[#This Row],[VALOR UF]]","v":0},"IMPUESTO UNICO",{"$f":"BDD!S17-Tabla4[[#This Row],[TOTAL AFP]]-Tabla4[[#This Row],[TOTAL SALUD]]-Tabla4[[#This Row],[TOTAL SEGURO CESANTIA]]-Tabla4[[#This Row],[TOTAL ADICIONAL]]","v":0},{"$f":"IF(Tabla4[[#This Row],[PASO DESC. UNIC.]]<=$AT$5,0,IF(Tabla4[[#This Row],[PASO DESC. UNIC.]]<=$AT$6,Tabla4[[#This Row],[PASO DESC. UNIC.]]*$AU$6-$AV$6,IF(Tabla4[[#This Row],[PASO DESC. UNIC.]]<=$AT$7,Tabla4[[#This Row],[PASO DESC. UNIC.]]*$AU$7-$AV$7,IF(Tabla4[[#This Row],[PASO DESC. UNIC.]]<=$AT$8,Tabla4[[#This Row],[PASO DESC. UNIC.]]*$AU$8-$AV$8,IF(Tabla4[[#This Row],[PASO DESC. UNIC.]]<=$AT$9,Tabla4[[#This Row],[PASO DESC. UNIC.]]*$AU$9-$AV$9,IF(Tabla4[[#This Row],[PASO DESC. UNIC.]]<=$AT$10,Tabla4[[#This Row],[PASO DESC. UNIC.]]*$AU$10-$AV$10,IF(Tabla4[[#This Row],[PASO DESC. UNIC.]]>=$AS$11,Tabla4[[#This Row],[PASO DESC. UNIC.]]*$AU$11-$AV$11)))))))","v":0},{"$f":"Tabla4[[#This Row],[TOTAL AFP]]+Tabla4[[#This Row],[TOTAL SALUD]]+Tabla4[[#This Row],[TOTAL SEGURO CESANTIA]]+Tabla4[[#This Row],[TOTAL ADICIONAL]]+Tabla4[[#This Row],[VALOR IMP U.]]+Tabla4[[#This Row],[VALOR OTRO 2]]+Tabla4[[#This Row],[VALOR OTRO 1]]","v":0},null,{"$f":"IF($BP$8 = \"SI\",IF(Tabla4[[#This Row],[TIPO CONTRATO]]=\"Indefinido\",BDD!S17*2.4%,IF(Tabla4[[#This Row],[TIPO CONTRATO]]=\"PLAZO FIJO\",BDD!S17*3%,0)),0)","v":0},null,null,null,null,null,null,{"$f":"BDD!S17*Tabla4[[#This Row],[% SIS]]","v":0},null,null,{"$f":"BDD!S17*Tabla4[[#This Row],[%MUTUAL]]","v":0},null,null,"CLAVE \"DESCUENTOS\" Y AJUSTA LA TABLA CON LOS NUEVOS VALORES",null,null,null,null,null,null,null,null,null,null,null,null,null,null,null,"PARA CONTRATOS A PLAZO FIJO"]
[null,null,null,null,null,null,null,null,null,12,12,{"$f":"IF(BDD!J18=0,\" \",BDD!J18)","v":" "},null,null,{"$f":"IF(BDD!S18<_TOPEIMPONIBLE,BDD!S18*Tabla4[[#This Row],[%AFP]],_TOPEIMPONIBLE*Tabla4[[#This Row],[%AFP]])","v":0},null,null,{"$f":"IF(BDD!S18<_TOPEIMPONIBLE,BDD!S18*Tabla4[[#This Row],[%SALUD]],_TOPEIMPONIBLE*Tabla4[[#This Row],[%SALUD]])","v":0},null,null,{"$f":"BDD!S18*Tabla4[[#This Row],[%SEGURO]]","v":0},null,{"$f":"IF(Tabla4[[#This Row],[TOTAL UF]]-Tabla4[[#This Row],[TOTAL SALUD]]<=0,0,Tabla4[[#This Row],[TOTAL UF]]-Tabla4[[#This Row],[TOTAL SALUD]])","v":0},null,{"$f":"BDD!$N$4","v":37838.550000000003},{"$f":"Tabla4[[#This Row],[PACTO UF]]*Tabla4[[#This Row],[VALOR UF]]","v":0},"IMPUESTO UNICO",{"$f":"BDD!S18-Tabla4[[#This Row],[TOTAL AFP]]-Tabla4[[#This Row],[TOTAL SALUD]]-Tabla4[[#This Row],[TOTAL SEGURO CESANTIA]]-Tabla4[[#This Row],[TOTAL ADICIONAL]]","v":0},{"$f":"IF(Tabla4[[#This Row],[PASO DESC. UNIC.]]<=$AT$5,0,IF(Tabla4[[#This Row],[PASO DESC. UNIC.]]<=$AT$6,Tabla4[[#This Row],[PASO DESC. UNIC.]]*$AU$6-$AV$6,IF(Tabla4[[#This Row],[PASO DESC. UNIC.]]<=$AT$7,Tabla4[[#This Row],[PASO DESC. UNIC.]]*$AU$7-$AV$7,IF(Tabla4[[#This Row],[PASO DESC. UNIC.]]<=$AT$8,Tabla4[[#This Row],[PASO DESC. UNIC.]]*$AU$8-$AV$8,IF(Tabla4[[#This Row],[PASO DESC. UNIC.]]<=$AT$9,Tabla4[[#This Row],[PASO DESC. UNIC.]]*$AU$9-$AV$9,IF(Tabla4[[#This Row],[PASO DESC. UNIC.]]<=$AT$10,Tabla4[[#This Row],[PASO DESC. UNIC.]]*$AU$10-$AV$10,IF(Tabla4[[#This Row],[PASO DESC. UNIC.]]>=$AS$11,Tabla4[[#This Row],[PASO DESC. UNIC.]]*$AU$11-$AV$11)))))))","v":0},{"$f":"Tabla4[[#This Row],[TOTAL AFP]]+Tabla4[[#This Row],[TOTAL SALUD]]+Tabla4[[#This Row],[TOTAL SEGURO CESANTIA]]+Tabla4[[#This Row],[TOTAL ADICIONAL]]+Tabla4[[#This Row],[VALOR IMP U.]]+Tabla4[[#This Row],[VALOR OTRO 2]]+Tabla4[[#This Row],[VALOR OTRO 1]]","v":0},null,{"$f":"IF($BP$8 = \"SI\",IF(Tabla4[[#This Row],[TIPO CONTRATO]]=\"Indefinido\",BDD!S18*2.4%,IF(Tabla4[[#This Row],[TIPO CONTRATO]]=\"PLAZO FIJO\",BDD!S18*3%,0)),0)","v":0},null,null,null,null,null,null,{"$f":"BDD!S18*Tabla4[[#This Row],[% SIS]]","v":0},null,null,{"$f":"BDD!S18*Tabla4[[#This Row],[%MUTUAL]]","v":0},null,null,"LUEGO BLOQUEA LA HOJA DE NUEVO PARA EL BUEN FUNCIONAMIENTO "]
[null,null,null,null,null,null,null,null,null,13,13,{"$f":"IF(BDD!J19=0,\" \",BDD!J19)","v":" "},null,null,{"$f":"IF(BDD!S19<_TOPEIMPONIBLE,BDD!S19*Tabla4[[#This Row],[%AFP]],_TOPEIMPONIBLE*Tabla4[[#This Row],[%AFP]])","v":0},null,null,{"$f":"IF(BDD!S19<_TOPEIMPONIBLE,BDD!S19*Tabla4[[#This Row],[%SALUD]],_TOPEIMPONIBLE*Tabla4[[#This Row],[%SALUD]])","v":0},null,null,{"$f":"BDD!S19*Tabla4[[#This Row],[%SEGURO]]","v":0},null,{"$f":"IF(Tabla4[[#This Row],[TOTAL UF]]-Tabla4[[#This Row],[TOTAL SALUD]]<=0,0,Tabla4[[#This Row],[TOTAL UF]]-Tabla4[[#This Row],[TOTAL SALUD]])","v":0},null,{"$f":"BDD!$N$4","v":37838.550000000003},{"$f":"Tabla4[[#This Row],[PACTO UF]]*Tabla4[[#This Row],[VALOR UF]]","v":0},"IMPUESTO UNICO",{"$f":"BDD!S19-Tabla4[[#This Row],[TOTAL AFP]]-Tabla4[[#This Row],[TOTAL SALUD]]-Tabla4[[#This Row],[TOTAL SEGURO CESANTIA]]-Tabla4[[#This Row],[TOTAL ADICIONAL]]","v":0},{"$f":"IF(Tabla4[[#This Row],[PASO DESC. UNIC.]]<=$AT$5,0,IF(Tabla4[[#This Row],[PASO DESC. UNIC.]]<=$AT$6,Tabla4[[#This Row],[PASO DESC. UNIC.]]*$AU$6-$AV$6,IF(Tabla4[[#This Row],[PASO DESC. UNIC.]]<=$AT$7,Tabla4[[#This Row],[PASO DESC. UNIC.]]*$AU$7-$AV$7,IF(Tabla4[[#This Row],[PASO DESC. UNIC.]]<=$AT$8,Tabla4[[#This Row],[PASO DESC. UNIC.]]*$AU$8-$AV$8,IF(Tabla4[[#This Row],[PASO DESC. UNIC.]]<=$AT$9,Tabla4[[#This Row],[PASO DESC. UNIC.]]*$AU$9-$AV$9,IF(Tabla4[[#This Row],[PASO DESC. UNIC.]]<=$AT$10,Tabla4[[#This Row],[PASO DESC. UNIC.]]*$AU$10-$AV$10,IF(Tabla4[[#This Row],[PASO DESC. UNIC.]]>=$AS$11,Tabla4[[#This Row],[PASO DESC. UNIC.]]*$AU$11-$AV$11)))))))","v":0},{"$f":"Tabla4[[#This Row],[TOTAL AFP]]+Tabla4[[#This Row],[TOTAL SALUD]]+Tabla4[[#This Row],[TOTAL SEGURO CESANTIA]]+Tabla4[[#This Row],[TOTAL ADICIONAL]]+Tabla4[[#This Row],[VALOR IMP U.]]+Tabla4[[#This Row],[VALOR OTRO 2]]+Tabla4[[#This Row],[VALOR OTRO 1]]","v":0},null,{"$f":"IF($BP$8 = \"SI\",IF(Tabla4[[#This Row],[TIPO CONTRATO]]=\"Indefinido\",BDD!S19*2.4%,IF(Tabla4[[#This Row],[TIPO CONTRATO]]=\"PLAZO FIJO\",BDD!S19*3%,0)),0)","v":0},null,null,null,null,null,null,{"$f":"BDD!S19*Tabla4[[#This Row],[% SIS]]","v":0},null,null,{"$f":"BDD!S19*Tabla4[[#This Row],[%MUTUAL]]","v":0},null,null,"DE LA PLANILLA.",null,null,null,null,null,null,null,null,null,null,null,null,null,null,null,"APORTE DEL TRABAJADOR",null,null,null,"NINGUNO"]
[null,null,null,null,null,null,null,null,null,14,14,{"$f":"IF(BDD!J20=0,\" \",BDD!J20)","v":" "},null,null,{"$f":"IF(BDD!S20<_TOPEIMPONIBLE,BDD!S20*Tabla4[[#This Row],[%AFP]],_TOPEIMPONIBLE*Tabla4[[#This Row],[%AFP]])","v":0},null,null,{"$f":"IF(BDD!S20<_TOPEIMPONIBLE,BDD!S20*Tabla4[[#This Row],[%SALUD]],_TOPEIMPONIBLE*Tabla4[[#This Row],[%SALUD]])","v":0},null,null,{"$f":"BDD!S20*Tabla4[[#This Row],[%SEGURO]]","v":0},null,{"$f":"IF(Tabla4[[#This Row],[TOTAL UF]]-Tabla4[[#This Row],[TOTAL SALUD]]<=0,0,Tabla4[[#This Row],[TOTAL UF]]-Tabla4[[#This Row],[TOTAL SALUD]])","v":0},null,{"$f":"BDD!$N$4","v":37838.550000000003},{"$f":"Tabla4[[#This Row],[PACTO UF]]*Tabla4[[#This Row],[VALOR UF]]","v":0},"IMPUESTO UNICO",{"$f":"BDD!S20-Tabla4[[#This Row],[TOTAL AFP]]-Tabla4[[#This Row],[TOTAL SALUD]]-Tabla4[[#This Row],[TOTAL SEGURO CESANTIA]]-Tabla4[[#This Row],[TOTAL ADICIONAL]]","v":0},{"$f":"IF(Tabla4[[#This Row],[PASO DESC. UNIC.]]<=$AT$5,0,IF(Tabla4[[#This Row],[PASO DESC. UNIC.]]<=$AT$6,Tabla4[[#This Row],[PASO DESC. UNIC.]]*$AU$6-$AV$6,IF(Tabla4[[#This Row],[PASO DESC. UNIC.]]<=$AT$7,Tabla4[[#This Row],[PASO DESC. UNIC.]]*$AU$7-$AV$7,IF(Tabla4[[#This Row],[PASO DESC. UNIC.]]<=$AT$8,Tabla4[[#This Row],[PASO DESC. UNIC.]]*$AU$8-$AV$8,IF(Tabla4[[#This Row],[PASO DESC. UNIC.]]<=$AT$9,Tabla4[[#This Row],[PASO DESC. UNIC.]]*$AU$9-$AV$9,IF(Tabla4[[#This Row],[PASO DESC. UNIC.]]<=$AT$10,Tabla4[[#This Row],[PASO DESC. UNIC.]]*$AU$10-$AV$10,IF(Tabla4[[#This Row],[PASO DESC. UNIC.]]>=$AS$11,Tabla4[[#This Row],[PASO DESC. UNIC.]]*$AU$11-$AV$11)))))))","v":0},{"$f":"Tabla4[[#This Row],[TOTAL AFP]]+Tabla4[[#This Row],[TOTAL SALUD]]+Tabla4[[#This Row],[TOTAL SEGURO CESANTIA]]+Tabla4[[#This Row],[TOTAL ADICIONAL]]+Tabla4[[#This Row],[VALOR IMP U.]]+Tabla4[[#This Row],[VALOR OTRO 2]]+Tabla4[[#This Row],[VALOR OTRO 1]]","v":0},null,{"$f":"IF($BP$8 = \"SI\",IF(Tabla4[[#This Row],[TIPO CONTRATO]]=\"Indefinido\",BDD!S20*2.4%,IF(Tabla4[[#This Row],[TIPO CONTRATO]]=\"PLAZO FIJO\",BDD!S20*3%,0)),0)","v":0},null,null,null,null,null,null,{"$f":"BDD!S20*Tabla4[[#This Row],[% SIS]]","v":0},null,null,{"$f":"BDD!S20*Tabla4[[#This Row],[%MUTUAL]]","v":0},null,null,null,null,null,null,null,null,null,null,null,null,null,null,null,null,null,null,"APORTE DEL EMPLEADOR",null,null,null,0.03]
[null,null,null,null,null,null,null,null,null,15,15,{"$f":"IF(BDD!J21=0,\" \",BDD!J21)","v":" "},null,null,{"$f":"IF(BDD!S21<_TOPEIMPONIBLE,BDD!S21*Tabla4[[#This Row],[%AFP]],_TOPEIMPONIBLE*Tabla4[[#This Row],[%AFP]])","v":0},null,null,{"$f":"IF(BDD!S21<_TOPEIMPONIBLE,BDD!S21*Tabla4[[#This Row],[%SALUD]],_TOPEIMPONIBLE*Tabla4[[#This Row],[%SALUD]])","v":0},null,null,{"$f":"BDD!S21*Tabla4[[#This Row],[%SEGURO]]","v":0},null,{"$f":"IF(Tabla4[[#This Row],[TOTAL UF]]-Tabla4[[#This Row],[TOTAL SALUD]]<=0,0,Tabla4[[#This Row],[TOTAL UF]]-Tabla4[[#This Row],[TOTAL SALUD]])","v":0},null,{"$f":"BDD!$N$4","v":37838.550000000003},{"$f":"Tabla4[[#This Row],[PACTO UF]]*Tabla4[[#This Row],[VALOR UF]]","v":0},"IMPUESTO UNICO",{"$f":"BDD!S21-Tabla4[[#This Row],[TOTAL AFP]]-Tabla4[[#This Row],[TOTAL SALUD]]-Tabla4[[#This Row],[TOTAL SEGURO CESANTIA]]-Tabla4[[#This Row],[TOTAL ADICIONAL]]","v":0},{"$f":"IF(Tabla4[[#This Row],[PASO DESC. UNIC.]]<=$AT$5,0,IF(Tabla4[[#This Row],[PASO DESC. UNIC.]]<=$AT$6,Tabla4[[#This Row],[PASO DESC. UNIC.]]*$AU$6-$AV$6,IF(Tabla4[[#This Row],[PASO DESC. UNIC.]]<=$AT$7,Tabla4[[#This Row],[PASO DESC. UNIC.]]*$AU$7-$AV$7,IF(Tabla4[[#This Row],[PASO DESC. UNIC.]]<=$AT$8,Tabla4[[#This Row],[PASO DESC. UNIC.]]*$AU$8-$AV$8,IF(Tabla4[[#This Row],[PASO DESC. UNIC.]]<=$AT$9,Tabla4[[#This Row],[PASO DESC. UNIC.]]*$AU$9-$AV$9,IF(Tabla4[[#This Row],[PASO DESC. UNIC.]]<=$AT$10,Tabla4[[#This Row],[PASO DESC. UNIC.]]*$AU$10-$AV$10,IF(Tabla4[[#This Row],[PASO DESC. UNIC.]]>=$AS$11,Tabla4[[#This Row],[PASO DESC. UNIC.]]*$AU$11-$AV$11)))))))","v":0},{"$f":"Tabla4[[#This Row],[TOTAL AFP]]+Tabla4[[#This Row],[TOTAL SALUD]]+Tabla4[[#This Row],[TOTAL SEGURO CESANTIA]]+Tabla4[[#This Row],[TOTAL ADICIONAL]]+Tabla4[[#This Row],[VALOR IMP U.]]+Tabla4[[#This Row],[VALOR OTRO 2]]+Tabla4[[#This Row],[VALOR OTRO 1]]","v":0},null,{"$f":"IF($BP$8 = \"SI\",IF(Tabla4[[#This Row],[TIPO CONTRATO]]=\"Indefinido\",BDD!S21*2.4%,IF(Tabla4[[#This Row],[TIPO CONTRATO]]=\"PLAZO FIJO\",BDD!S21*3%,0)),0)","v":0},null,null,null,null,null,null,{"$f":"BDD!S21*Tabla4[[#This Row],[% SIS]]","v":0},null,null,{"$f":"BDD!S21*Tabla4[[#This Row],[%MUTUAL]]","v":0}]
[null,null,null,null,null,null,null,null,null,16,16,{"$f":"IF(BDD!J22=0,\" \",BDD!J22)","v":" "},null,null,{"$f":"IF(BDD!S22<_TOPEIMPONIBLE,BDD!S22*Tabla4[[#This Row],[%AFP]],_TOPEIMPONIBLE*Tabla4[[#This Row],[%AFP]])","v":0},null,null,{"$f":"IF(BDD!S22<_TOPEIMPONIBLE,BDD!S22*Tabla4[[#This Row],[%SALUD]],_TOPEIMPONIBLE*Tabla4[[#This Row],[%SALUD]])","v":0},null,null,{"$f":"BDD!S22*Tabla4[[#This Row],[%SEGURO]]","v":0},null,{"$f":"IF(Tabla4[[#This Row],[TOTAL UF]]-Tabla4[[#This Row],[TOTAL SALUD]]<=0,0,Tabla4[[#This Row],[TOTAL UF]]-Tabla4[[#This Row],[TOTAL SALUD]])","v":0},null,{"$f":"BDD!$N$4","v":37838.550000000003},{"$f":"Tabla4[[#This Row],[PACTO UF]]*Tabla4[[#This Row],[VALOR UF]]","v":0},"IMPUESTO UNICO",{"$f":"BDD!S22-Tabla4[[#This Row],[TOTAL AFP]]-Tabla4[[#This Row],[TOTAL SALUD]]-Tabla4[[#This Row],[TOTAL SEGURO CESANTIA]]-Tabla4[[#This Row],[TOTAL ADICIONAL]]","v":0},{"$f":"IF(Tabla4[[#This Row],[PASO DESC. UNIC.]]<=$AT$5,0,IF(Tabla4[[#This Row],[PASO DESC. UNIC.]]<=$AT$6,Tabla4[[#This Row],[PASO DESC. UNIC.]]*$AU$6-$AV$6,IF(Tabla4[[#This Row],[PASO DESC. UNIC.]]<=$AT$7,Tabla4[[#This Row],[PASO DESC. UNIC.]]*$AU$7-$AV$7,IF(Tabla4[[#This Row],[PASO DESC. UNIC.]]<=$AT$8,Tabla4[[#This Row],[PASO DESC. UNIC.]]*$AU$8-$AV$8,IF(Tabla4[[#This Row],[PASO DESC. UNIC.]]<=$AT$9,Tabla4[[#This Row],[PASO DESC. UNIC.]]*$AU$9-$AV$9,IF(Tabla4[[#This Row],[PASO DESC. UNIC.]]<=$AT$10,Tabla4[[#This Row],[PASO DESC. UNIC.]]*$AU$10-$AV$10,IF(Tabla4[[#This Row],[PASO DESC. UNIC.]]>=$AS$11,Tabla4[[#This Row],[PASO DESC. UNIC.]]*$AU$11-$AV$11)))))))","v":0},{"$f":"Tabla4[[#This Row],[TOTAL AFP]]+Tabla4[[#This Row],[TOTAL SALUD]]+Tabla4[[#This Row],[TOTAL SEGURO CESANTIA]]+Tabla4[[#This Row],[TOTAL ADICIONAL]]+Tabla4[[#This Row],[VALOR IMP U.]]+Tabla4[[#This Row],[VALOR OTRO 2]]+Tabla4[[#This Row],[VALOR OTRO 1]]","v":0},null,{"$f":"IF($BP$8 = \"SI\",IF(Tabla4[[#This Row],[TIPO CONTRATO]]=\"Indefinido\",BDD!S22*2.4%,IF(Tabla4[[#This Row],[TIPO CONTRATO]]=\"PLAZO FIJO\",BDD!S22*3%,0)),0)","v":0},null,null,null,null,null,null,{"$f":"BDD!S22*Tabla4[[#This Row],[% SIS]]","v":0},null,null,{"$f":"BDD!S22*Tabla4[[#This Row],[%MUTUAL]]","v":0}]
[null,null,null,null,null,null,null,null,null,17,17,{"$f":"IF(BDD!J23=0,\" \",BDD!J23)","v":" "},null,null,{"$f":"IF(BDD!S23<_TOPEIMPONIBLE,BDD!S23*Tabla4[[#This Row],[%AFP]],_TOPEIMPONIBLE*Tabla4[[#This Row],[%AFP]])","v":0},null,null,{"$f":"IF(BDD!S23<_TOPEIMPONIBLE,BDD!S23*Tabla4[[#This Row],[%SALUD]],_TOPEIMPONIBLE*Tabla4[[#This Row],[%SALUD]])","v":0},null,null,{"$f":"BDD!S23*Tabla4[[#This Row],[%SEGURO]]","v":0},null,{"$f":"IF(Tabla4[[#This Row],[TOTAL UF]]-Tabla4[[#This Row],[TOTAL SALUD]]<=0,0,Tabla4[[#This Row],[TOTAL UF]]-Tabla4[[#This Row],[TOTAL SALUD]])","v":0},null,{"$f":"BDD!$N$4","v":37838.550000000003},{"$f":"Tabla4[[#This Row],[PACTO UF]]*Tabla4[[#This Row],[VALOR UF]]","v":0},"IMPUESTO UNICO",{"$f":"BDD!S23-Tabla4[[#This Row],[TOTAL AFP]]-Tabla4[[#This Row],[TOTAL SALUD]]-Tabla4[[#This Row],[TOTAL SEGURO CESANTIA]]-Tabla4[[#This Row],[TOTAL ADICIONAL]]","v":0},{"$f":"IF(Tabla4[[#This Row],[PASO DESC. UNIC.]]<=$AT$5,0,IF(Tabla4[[#This Row],[PASO DESC. UNIC.]]<=$AT$6,Tabla4[[#This Row],[PASO DESC. UNIC.]]*$AU$6-$AV$6,IF(Tabla4[[#This Row],[PASO DESC. UNIC.]]<=$AT$7,Tabla4[[#This Row],[PASO DESC. UNIC.]]*$AU$7-$AV$7,IF(Tabla4[[#This Row],[PASO DESC. UNIC.]]<=$AT$8,Tabla4[[#This Row],[PASO DESC. UNIC.]]*$AU$8-$AV$8,IF(Tabla4[[#This Row],[PASO DESC. UNIC.]]<=$AT$9,Tabla4[[#This Row],[PASO DESC. UNIC.]]*$AU$9-$AV$9,IF(Tabla4[[#This Row],[PASO DESC. UNIC.]]<=$AT$10,Tabla4[[#This Row],[PASO DESC. UNIC.]]*$AU$10-$AV$10,IF(Tabla4[[#This Row],[PASO DESC. UNIC.]]>=$AS$11,Tabla4[[#This Row],[PASO DESC. UNIC.]]*$AU$11-$AV$11)))))))","v":0},{"$f":"Tabla4[[#This Row],[TOTAL AFP]]+Tabla4[[#This Row],[TOTAL SALUD]]+Tabla4[[#This Row],[TOTAL SEGURO CESANTIA]]+Tabla4[[#This Row],[TOTAL ADICIONAL]]+Tabla4[[#This Row],[VALOR IMP U.]]+Tabla4[[#This Row],[VALOR OTRO 2]]+Tabla4[[#This Row],[VALOR OTRO 1]]","v":0},null,{"$f":"IF($BP$8 = \"SI\",IF(Tabla4[[#This Row],[TIPO CONTRATO]]=\"Indefinido\",BDD!S23*2.4%,IF(Tabla4[[#This Row],[TIPO CONTRATO]]=\"PLAZO FIJO\",BDD!S23*3%,0)),0)","v":0},null,null,null,null,null,null,{"$f":"BDD!S23*Tabla4[[#This Row],[% SIS]]","v":0},null,null,{"$f":"BDD!S23*Tabla4[[#This Row],[%MUTUAL]]","v":0}]
[null,null,null,null,null,null,null,null,null,18,18,{"$f":"IF(BDD!J24=0,\" \",BDD!J24)","v":" "},null,null,{"$f":"IF(BDD!S24<_TOPEIMPONIBLE,BDD!S24*Tabla4[[#This Row],[%AFP]],_TOPEIMPONIBLE*Tabla4[[#This Row],[%AFP]])","v":0},null,null,{"$f":"IF(BDD!S24<_TOPEIMPONIBLE,BDD!S24*Tabla4[[#This Row],[%SALUD]],_TOPEIMPONIBLE*Tabla4[[#This Row],[%SALUD]])","v":0},null,null,{"$f":"BDD!S24*Tabla4[[#This Row],[%SEGURO]]","v":0},null,{"$f":"IF(Tabla4[[#This Row],[TOTAL UF]]-Tabla4[[#This Row],[TOTAL SALUD]]<=0,0,Tabla4[[#This Row],[TOTAL UF]]-Tabla4[[#This Row],[TOTAL SALUD]])","v":0},null,{"$f":"BDD!$N$4","v":37838.550000000003},{"$f":"Tabla4[[#This Row],[PACTO UF]]*Tabla4[[#This Row],[VALOR UF]]","v":0},"IMPUESTO UNICO",{"$f":"BDD!S24-Tabla4[[#This Row],[TOTAL AFP]]-Tabla4[[#This Row],[TOTAL SALUD]]-Tabla4[[#This Row],[TOTAL SEGURO CESANTIA]]-Tabla4[[#This Row],[TOTAL ADICIONAL]]","v":0},{"$f":"IF(Tabla4[[#This Row],[PASO DESC. UNIC.]]<=$AT$5,0,IF(Tabla4[[#This Row],[PASO DESC. UNIC.]]<=$AT$6,Tabla4[[#This Row],[PASO DESC. UNIC.]]*$AU$6-$AV$6,IF(Tabla4[[#This Row],[PASO DESC. UNIC.]]<=$AT$7,Tabla4[[#This Row],[PASO DESC. UNIC.]]*$AU$7-$AV$7,IF(Tabla4[[#This Row],[PASO DESC. UNIC.]]<=$AT$8,Tabla4[[#This Row],[PASO DESC. UNIC.]]*$AU$8-$AV$8,IF(Tabla4[[#This Row],[PASO DESC. UNIC.]]<=$AT$9,Tabla4[[#This Row],[PASO DESC. UNIC.]]*$AU$9-$AV$9,IF(Tabla4[[#This Row],[PASO DESC. UNIC.]]<=$AT$10,Tabla4[[#This Row],[PASO DESC. UNIC.]]*$AU$10-$AV$10,IF(Tabla4[[#This Row],[PASO DESC. UNIC.]]>=$AS$11,Tabla4[[#This Row],[PASO DESC. UNIC.]]*$AU$11-$AV$11)))))))","v":0},{"$f":"Tabla4[[#This Row],[TOTAL AFP]]+Tabla4[[#This Row],[TOTAL SALUD]]+Tabla4[[#This Row],[TOTAL SEGURO CESANTIA]]+Tabla4[[#This Row],[TOTAL ADICIONAL]]+Tabla4[[#This Row],[VALOR IMP U.]]+Tabla4[[#This Row],[VALOR OTRO 2]]+Tabla4[[#This Row],[VALOR OTRO 1]]","v":0},null,{"$f":"IF($BP$8 = \"SI\",IF(Tabla4[[#This Row],[TIPO CONTRATO]]=\"Indefinido\",BDD!S24*2.4%,IF(Tabla4[[#This Row],[TIPO CONTRATO]]=\"PLAZO FIJO\",BDD!S24*3%,0)),0)","v":0},null,null,null,null,null,null,{"$f":"BDD!S24*Tabla4[[#This Row],[% SIS]]","v":0},null,null,{"$f":"BDD!S24*Tabla4[[#This Row],[%MUTUAL]]","v":0}]
[null,null,null,null,null,null,null,null,null,19,19,{"$f":"IF(BDD!J25=0,\" \",BDD!J25)","v":" "},null,null,{"$f":"IF(BDD!S25<_TOPEIMPONIBLE,BDD!S25*Tabla4[[#This Row],[%AFP]],_TOPEIMPONIBLE*Tabla4[[#This Row],[%AFP]])","v":0},null,null,{"$f":"IF(BDD!S25<_TOPEIMPONIBLE,BDD!S25*Tabla4[[#This Row],[%SALUD]],_TOPEIMPONIBLE*Tabla4[[#This Row],[%SALUD]])","v":0},null,null,{"$f":"BDD!S25*Tabla4[[#This Row],[%SEGURO]]","v":0},null,{"$f":"IF(Tabla4[[#This Row],[TOTAL UF]]-Tabla4[[#This Row],[TOTAL SALUD]]<=0,0,Tabla4[[#This Row],[TOTAL UF]]-Tabla4[[#This Row],[TOTAL SALUD]])","v":0},null,{"$f":"BDD!$N$4","v":37838.550000000003},{"$f":"Tabla4[[#This Row],[PACTO UF]]*Tabla4[[#This Row],[VALOR UF]]","v":0},"IMPUESTO UNICO",{"$f":"BDD!S25-Tabla4[[#This Row],[TOTAL AFP]]-Tabla4[[#This Row],[TOTAL SALUD]]-Tabla4[[#This Row],[TOTAL SEGURO CESANTIA]]-Tabla4[[#This Row],[TOTAL ADICIONAL]]","v":0},{"$f":"IF(Tabla4[[#This Row],[PASO DESC. UNIC.]]<=$AT$5,0,IF(Tabla4[[#This Row],[PASO DESC. UNIC.]]<=$AT$6,Tabla4[[#This Row],[PASO DESC. UNIC.]]*$AU$6-$AV$6,IF(Tabla4[[#This Row],[PASO DESC. UNIC.]]<=$AT$7,Tabla4[[#This Row],[PASO DESC. UNIC.]]*$AU$7-$AV$7,IF(Tabla4[[#This Row],[PASO DESC. UNIC.]]<=$AT$8,Tabla4[[#This Row],[PASO DESC. UNIC.]]*$AU$8-$AV$8,IF(Tabla4[[#This Row],[PASO DESC. UNIC.]]<=$AT$9,Tabla4[[#This Row],[PASO DESC. UNIC.]]*$AU$9-$AV$9,IF(Tabla4[[#This Row],[PASO DESC. UNIC.]]<=$AT$10,Tabla4[[#This Row],[PASO DESC. UNIC.]]*$AU$10-$AV$10,IF(Tabla4[[#This Row],[PASO DESC. UNIC.]]>=$AS$11,Tabla4[[#This Row],[PASO DESC. UNIC.]]*$AU$11-$AV$11)))))))","v":0},{"$f":"Tabla4[[#This Row],[TOTAL AFP]]+Tabla4[[#This Row],[TOTAL SALUD]]+Tabla4[[#This Row],[TOTAL SEGURO CESANTIA]]+Tabla4[[#This Row],[TOTAL ADICIONAL]]+Tabla4[[#This Row],[VALOR IMP U.]]+Tabla4[[#This Row],[VALOR OTRO 2]]+Tabla4[[#This Row],[VALOR OTRO 1]]","v":0},null,{"$f":"IF($BP$8 = \"SI\",IF(Tabla4[[#This Row],[TIPO CONTRATO]]=\"Indefinido\",BDD!S25*2.4%,IF(Tabla4[[#This Row],[TIPO CONTRATO]]=\"PLAZO FIJO\",BDD!S25*3%,0)),0)","v":0},null,null,null,null,null,null,{"$f":"BDD!S25*Tabla4[[#This Row],[% SIS]]","v":0},null,null,{"$f":"BDD!S25*Tabla4[[#This Row],[%MUTUAL]]","v":0}]
[null,null,null,null,null,null,null,null,null,20,20,{"$f":"IF(BDD!J26=0,\" \",BDD!J26)","v":" "},null,null,{"$f":"IF(BDD!S26<_TOPEIMPONIBLE,BDD!S26*Tabla4[[#This Row],[%AFP]],_TOPEIMPONIBLE*Tabla4[[#This Row],[%AFP]])","v":0},null,null,{"$f":"IF(BDD!S26<_TOPEIMPONIBLE,BDD!S26*Tabla4[[#This Row],[%SALUD]],_TOPEIMPONIBLE*Tabla4[[#This Row],[%SALUD]])","v":0},null,null,{"$f":"BDD!S26*Tabla4[[#This Row],[%SEGURO]]","v":0},null,{"$f":"IF(Tabla4[[#This Row],[TOTAL UF]]-Tabla4[[#This Row],[TOTAL SALUD]]<=0,0,Tabla4[[#This Row],[TOTAL UF]]-Tabla4[[#This Row],[TOTAL SALUD]])","v":0},null,{"$f":"BDD!$N$4","v":37838.550000000003},{"$f":"Tabla4[[#This Row],[PACTO UF]]*Tabla4[[#This Row],[VALOR UF]]","v":0},"IMPUESTO UNICO",{"$f":"BDD!S26-Tabla4[[#This Row],[TOTAL AFP]]-Tabla4[[#This Row],[TOTAL SALUD]]-Tabla4[[#This Row],[TOTAL SEGURO CESANTIA]]-Tabla4[[#This Row],[TOTAL ADICIONAL]]","v":0},{"$f":"IF(Tabla4[[#This Row],[PASO DESC. UNIC.]]<=$AT$5,0,IF(Tabla4[[#This Row],[PASO DESC. UNIC.]]<=$AT$6,Tabla4[[#This Row],[PASO DESC. UNIC.]]*$AU$6-$AV$6,IF(Tabla4[[#This Row],[PASO DESC. UNIC.]]<=$AT$7,Tabla4[[#This Row],[PASO DESC. UNIC.]]*$AU$7-$AV$7,IF(Tabla4[[#This Row],[PASO DESC. UNIC.]]<=$AT$8,Tabla4[[#This Row],[PASO DESC. UNIC.]]*$AU$8-$AV$8,IF(Tabla4[[#This Row],[PASO DESC. UNIC.]]<=$AT$9,Tabla4[[#This Row],[PASO DESC. UNIC.]]*$AU$9-$AV$9,IF(Tabla4[[#This Row],[PASO DESC. UNIC.]]<=$AT$10,Tabla4[[#This Row],[PASO DESC. UNIC.]]*$AU$10-$AV$10,IF(Tabla4[[#This Row],[PASO DESC. UNIC.]]>=$AS$11,Tabla4[[#This Row],[PASO DESC. UNIC.]]*$AU$11-$AV$11)))))))","v":0},{"$f":"Tabla4[[#This Row],[TOTAL AFP]]+Tabla4[[#This Row],[TOTAL SALUD]]+Tabla4[[#This Row],[TOTAL SEGURO CESANTIA]]+Tabla4[[#This Row],[TOTAL ADICIONAL]]+Tabla4[[#This Row],[VALOR IMP U.]]+Tabla4[[#This Row],[VALOR OTRO 2]]+Tabla4[[#This Row],[VALOR OTRO 1]]","v":0},null,{"$f":"IF($BP$8 = \"SI\",IF(Tabla4[[#This Row],[TIPO CONTRATO]]=\"Indefinido\",BDD!S26*2.4%,IF(Tabla4[[#This Row],[TIPO CONTRATO]]=\"PLAZO FIJO\",BDD!S26*3%,0)),0)","v":0},null,null,null,null,null,null,{"$f":"BDD!S26*Tabla4[[#This Row],[% SIS]]","v":0},null,null,{"$f":"BDD!S26*Tabla4[[#This Row],[%MUTUAL]]","v":0}]
[null,"PARAMETROS SEGURO CESANTIA",null,null,null,null,null,null,null,21,21,{"$f":"IF(BDD!J27=0,\" \",BDD!J27)","v":" "},null,null,{"$f":"IF(BDD!S27<_TOPEIMPONIBLE,BDD!S27*Tabla4[[#This Row],[%AFP]],_TOPEIMPONIBLE*Tabla4[[#This Row],[%AFP]])","v":0},null,null,{"$f":"IF(BDD!S27<_TOPEIMPONIBLE,BDD!S27*Tabla4[[#This Row],[%SALUD]],_TOPEIMPONIBLE*Tabla4[[#This Row],[%SALUD]])","v":0},null,null,{"$f":"BDD!S27*Tabla4[[#This Row],[%SEGURO]]","v":0},null,{"$f":"IF(Tabla4[[#This Row],[TOTAL UF]]-Tabla4[[#This Row],[TOTAL SALUD]]<=0,0,Tabla4[[#This Row],[TOTAL UF]]-Tabla4[[#This Row],[TOTAL SALUD]])","v":0},null,{"$f":"BDD!$N$4","v":37838.550000000003},{"$f":"Tabla4[[#This Row],[PACTO UF]]*Tabla4[[#This Row],[VALOR UF]]","v":0},"IMPUESTO UNICO",{"$f":"BDD!S27-Tabla4[[#This Row],[TOTAL AFP]]-Tabla4[[#This Row],[TOTAL SALUD]]-Tabla4[[#This Row],[TOTAL SEGURO CESANTIA]]-Tabla4[[#This Row],[TOTAL ADICIONAL]]","v":0},{"$f":"IF(Tabla4[[#This Row],[PASO DESC. UNIC.]]<=$AT$5,0,IF(Tabla4[[#This Row],[PASO DESC. UNIC.]]<=$AT$6,Tabla4[[#This Row],[PASO DESC. UNIC.]]*$AU$6-$AV$6,IF(Tabla4[[#This Row],[PASO DESC. UNIC.]]<=$AT$7,Tabla4[[#This Row],[PASO DESC. UNIC.]]*$AU$7-$AV$7,IF(Tabla4[[#This Row],[PASO DESC. UNIC.]]<=$AT$8,Tabla4[[#This Row],[PASO DESC. UNIC.]]*$AU$8-$AV$8,IF(Tabla4[[#This Row],[PASO DESC. UNIC.]]<=$AT$9,Tabla4[[#This Row],[PASO DESC. UNIC.]]*$AU$9-$AV$9,IF(Tabla4[[#This Row],[PASO DESC. UNIC.]]<=$AT$10,Tabla4[[#This Row],[PASO DESC. UNIC.]]*$AU$10-$AV$10,IF(Tabla4[[#This Row],[PASO DESC. UNIC.]]>=$AS$11,Tabla4[[#This Row],[PASO DESC. UNIC.]]*$AU$11-$AV$11)))))))","v":0},{"$f":"Tabla4[[#This Row],[TOTAL AFP]]+Tabla4[[#This Row],[TOTAL SALUD]]+Tabla4[[#This Row],[TOTAL SEGURO CESANTIA]]+Tabla4[[#This Row],[TOTAL ADICIONAL]]+Tabla4[[#This Row],[VALOR IMP U.]]+Tabla4[[#This Row],[VALOR OTRO 2]]+Tabla4[[#This Row],[VALOR OTRO 1]]","v":0},null,{"$f":"IF($BP$8 = \"SI\",IF(Tabla4[[#This Row],[TIPO CONTRATO]]=\"Indefinido\",BDD!S27*2.4%,IF(Tabla4[[#This Row],[TIPO CONTRATO]]=\"PLAZO FIJO\",BDD!S27*3%,0)),0)","v":0},null,null,null,null,null,null,{"$f":"BDD!S27*Tabla4[[#This Row],[% SIS]]","v":0},null,null,{"$f":"BDD!S27*Tabla4[[#This Row],[%MUTUAL]]","v":0}]
[null,null,null,null,null,null,null,null,null,22,22,{"$f":"IF(BDD!J28=0,\" \",BDD!J28)","v":" "},null,null,{"$f":"IF(BDD!S28<_TOPEIMPONIBLE,BDD!S28*Tabla4[[#This Row],[%AFP]],_TOPEIMPONIBLE*Tabla4[[#This Row],[%AFP]])","v":0},null,null,{"$f":"IF(BDD!S28<_TOPEIMPONIBLE,BDD!S28*Tabla4[[#This Row],[%SALUD]],_TOPEIMPONIBLE*Tabla4[[#This Row],[%SALUD]])","v":0},null,null,{"$f":"BDD!S28*Tabla4[[#This Row],[%SEGURO]]","v":0},null,{"$f":"IF(Tabla4[[#This Row],[TOTAL UF]]-Tabla4[[#This Row],[TOTAL SALUD]]<=0,0,Tabla4[[#This Row],[TOTAL UF]]-Tabla4[[#This Row],[TOTAL SALUD]])","v":0},null,{"$f":"BDD!$N$4","v":37838.550000000003},{"$f":"Tabla4[[#This Row],[PACTO UF]]*Tabla4[[#This Row],[VALOR UF]]","v":0},"IMPUESTO UNICO",{"$f":"BDD!S28-Tabla4[[#This Row],[TOTAL AFP]]-Tabla4[[#This Row],[TOTAL SALUD]]-Tabla4[[#This Row],[TOTAL SEGURO CESANTIA]]-Tabla4[[#This Row],[TOTAL ADICIONAL]]","v":0},{"$f":"IF(Tabla4[[#This Row],[PASO DESC. UNIC.]]<=$AT$5,0,IF(Tabla4[[#This Row],[PASO DESC. UNIC.]]<=$AT$6,Tabla4[[#This Row],[PASO DESC. UNIC.]]*$AU$6-$AV$6,IF(Tabla4[[#This Row],[PASO DESC. UNIC.]]<=$AT$7,Tabla4[[#This Row],[PASO DESC. UNIC.]]*$AU$7-$AV$7,IF(Tabla4[[#This Row],[PASO DESC. UNIC.]]<=$AT$8,Tabla4[[#This Row],[PASO DESC. UNIC.]]*$AU$8-$AV$8,IF(Tabla4[[#This Row],[PASO DESC. UNIC.]]<=$AT$9,Tabla4[[#This Row],[PASO DESC. UNIC.]]*$AU$9-$AV$9,IF(Tabla4[[#This Row],[PASO DESC. UNIC.]]<=$AT$10,Tabla4[[#This Row],[PASO DESC. UNIC.]]*$AU$10-$AV$10,IF(Tabla4[[#This Row],[PASO DESC. UNIC.]]>=$AS$11,Tabla4[[#This Row],[PASO DESC. UNIC.]]*$AU$11-$AV$11)))))))","v":0},{"$f":"Tabla4[[#This Row],[TOTAL AFP]]+Tabla4[[#This Row],[TOTAL SALUD]]+Tabla4[[#This Row],[TOTAL SEGURO CESANTIA]]+Tabla4[[#This Row],[TOTAL ADICIONAL]]+Tabla4[[#This Row],[VALOR IMP U.]]+Tabla4[[#This Row],[VALOR OTRO 2]]+Tabla4[[#This Row],[VALOR OTRO 1]]","v":0},null,{"$f":"IF($BP$8 = \"SI\",IF(Tabla4[[#This Row],[TIPO CONTRATO]]=\"Indefinido\",BDD!S28*2.4%,IF(Tabla4[[#This Row],[TIPO CONTRATO]]=\"PLAZO FIJO\",BDD!S28*3%,0)),0)","v":0},null,null,null,null,null,null,{"$f":"BDD!S28*Tabla4[[#This Row],[% SIS]]","v":0},null,null,{"$f":"BDD!S28*Tabla4[[#This Row],[%MUTUAL]]","v":0}]
[null,null,null,null,null,null,null,null,null,23,23,{"$f":"IF(BDD!J29=0,\" \",BDD!J29)","v":" "},null,null,{"$f":"IF(BDD!S29<_TOPEIMPONIBLE,BDD!S29*Tabla4[[#This Row],[%AFP]],_TOPEIMPONIBLE*Tabla4[[#This Row],[%AFP]])","v":0},null,null,{"$f":"IF(BDD!S29<_TOPEIMPONIBLE,BDD!S29*Tabla4[[#This Row],[%SALUD]],_TOPEIMPONIBLE*Tabla4[[#This Row],[%SALUD]])","v":0},null,null,{"$f":"BDD!S29*Tabla4[[#This Row],[%SEGURO]]","v":0},null,{"$f":"IF(Tabla4[[#This Row],[TOTAL UF]]-Tabla4[[#This Row],[TOTAL SALUD]]<=0,0,Tabla4[[#This Row],[TOTAL UF]]-Tabla4[[#This Row],[TOTAL SALUD]])","v":0},null,{"$f":"BDD!$N$4","v":37838.550000000003},{"$f":"Tabla4[[#This Row],[PACTO UF]]*Tabla4[[#This Row],[VALOR UF]]","v":0},"IMPUESTO UNICO",{"$f":"BDD!S29-Tabla4[[#This Row],[TOTAL AFP]]-Tabla4[[#This Row],[TOTAL SALUD]]-Tabla4[[#This Row],[TOTAL SEGURO CESANTIA]]-Tabla4[[#This Row],[TOTAL ADICIONAL]]","v":0},{"$f":"IF(Tabla4[[#This Row],[PASO DESC. UNIC.]]<=$AT$5,0,IF(Tabla4[[#This Row],[PASO DESC. UNIC.]]<=$AT$6,Tabla4[[#This Row],[PASO DESC. UNIC.]]*$AU$6-$AV$6,IF(Tabla4[[#This Row],[PASO DESC. UNIC.]]<=$AT$7,Tabla4[[#This Row],[PASO DESC. UNIC.]]*$AU$7-$AV$7,IF(Tabla4[[#This Row],[PASO DESC. UNIC.]]<=$AT$8,Tabla4[[#This Row],[PASO DESC. UNIC.]]*$AU$8-$AV$8,IF(Tabla4[[#This Row],[PASO DESC. UNIC.]]<=$AT$9,Tabla4[[#This Row],[PASO DESC. UNIC.]]*$AU$9-$AV$9,IF(Tabla4[[#This Row],[PASO DESC. UNIC.]]<=$AT$10,Tabla4[[#This Row],[PASO DESC. UNIC.]]*$AU$10-$AV$10,IF(Tabla4[[#This Row],[PASO DESC. UNIC.]]>=$AS$11,Tabla4[[#This Row],[PASO DESC. UNIC.]]*$AU$11-$AV$11)))))))","v":0},{"$f":"Tabla4[[#This Row],[TOTAL AFP]]+Tabla4[[#This Row],[TOTAL SALUD]]+Tabla4[[#This Row],[TOTAL SEGURO CESANTIA]]+Tabla4[[#This Row],[TOTAL ADICIONAL]]+Tabla4[[#This Row],[VALOR IMP U.]]+Tabla4[[#This Row],[VALOR OTRO 2]]+Tabla4[[#This Row],[VALOR OTRO 1]]","v":0},null,{"$f":"IF($BP$8 = \"SI\",IF(Tabla4[[#This Row],[TIPO CONTRATO]]=\"Indefinido\",BDD!S29*2.4%,IF(Tabla4[[#This Row],[TIPO CONTRATO]]=\"PLAZO FIJO\",BDD!S29*3%,0)),0)","v":0},null,null,null,null,null,null,{"$f":"BDD!S29*Tabla4[[#This Row],[% SIS]]","v":0},null,null,{"$f":"BDD!S29*Tabla4[[#This Row],[%MUTUAL]]","v":0}]
[null,null,null,null,null,null,null,null,null,24,24,{"$f":"IF(BDD!J30=0,\" \",BDD!J30)","v":" "},null,null,{"$f":"IF(BDD!S30<_TOPEIMPONIBLE,BDD!S30*Tabla4[[#This Row],[%AFP]],_TOPEIMPONIBLE*Tabla4[[#This Row],[%AFP]])","v":0},null,null,{"$f":"IF(BDD!S30<_TOPEIMPONIBLE,BDD!S30*Tabla4[[#This Row],[%SALUD]],_TOPEIMPONIBLE*Tabla4[[#This Row],[%SALUD]])","v":0},null,null,{"$f":"BDD!S30*Tabla4[[#This Row],[%SEGURO]]","v":0},null,{"$f":"IF(Tabla4[[#This Row],[TOTAL UF]]-Tabla4[[#This Row],[TOTAL SALUD]]<=0,0,Tabla4[[#This Row],[TOTAL UF]]-Tabla4[[#This Row],[TOTAL SALUD]])","v":0},null,{"$f":"BDD!$N$4","v":37838.550000000003},{"$f":"Tabla4[[#This Row],[PACTO UF]]*Tabla4[[#This Row],[VALOR UF]]","v":0},"IMPUESTO UNICO",{"$f":"BDD!S30-Tabla4[[#This Row],[TOTAL AFP]]-Tabla4[[#This Row],[TOTAL SALUD]]-Tabla4[[#This Row],[TOTAL SEGURO CESANTIA]]-Tabla4[[#This Row],[TOTAL ADICIONAL]]","v":0},{"$f":"IF(Tabla4[[#This Row],[PASO DESC. UNIC.]]<=$AT$5,0,IF(Tabla4[[#This Row],[PASO DESC. UNIC.]]<=$AT$6,Tabla4[[#This Row],[PASO DESC. UNIC.]]*$AU$6-$AV$6,IF(Tabla4[[#This Row],[PASO DESC. UNIC.]]<=$AT$7,Tabla4[[#This Row],[PASO DESC. UNIC.]]*$AU$7-$AV$7,IF(Tabla4[[#This Row],[PASO DESC. UNIC.]]<=$AT$8,Tabla4[[#This Row],[PASO DESC. UNIC.]]*$AU$8-$AV$8,IF(Tabla4[[#This Row],[PASO DESC. UNIC.]]<=$AT$9,Tabla4[[#This Row],[PASO DESC. UNIC.]]*$AU$9-$AV$9,IF(Tabla4[[#This Row],[PASO DESC. UNIC.]]<=$AT$10,Tabla4[[#This Row],[PASO DESC. UNIC.]]*$AU$10-$AV$10,IF(Tabla4[[#This Row],[PASO DESC. UNIC.]]>=$AS$11,Tabla4[[#This Row],[PASO DESC. UNIC.]]*$AU$11-$AV$11)))))))","v":0},{"$f":"Tabla4[[#This Row],[TOTAL AFP]]+Tabla4[[#This Row],[TOTAL SALUD]]+Tabla4[[#This Row],[TOTAL SEGURO CESANTIA]]+Tabla4[[#This Row],[TOTAL ADICIONAL]]+Tabla4[[#This Row],[VALOR IMP U.]]+Tabla4[[#This Row],[VALOR OTRO 2]]+Tabla4[[#This Row],[VALOR OTRO 1]]","v":0},null,{"$f":"IF($BP$8 = \"SI\",IF(Tabla4[[#This Row],[TIPO CONTRATO]]=\"Indefinido\",BDD!S30*2.4%,IF(Tabla4[[#This Row],[TIPO CONTRATO]]=\"PLAZO FIJO\",BDD!S30*3%,0)),0)","v":0},null,null,null,null,null,null,{"$f":"BDD!S30*Tabla4[[#This Row],[% SIS]]","v":0},null,null,{"$f":"BDD!S30*Tabla4[[#This Row],[%MUTUAL]]","v":0}]
[null,null,null,null,null,null,null,null,null,25,25,{"$f":"IF(BDD!J31=0,\" \",BDD!J31)","v":" "},null,null,{"$f":"IF(BDD!S31<_TOPEIMPONIBLE,BDD!S31*Tabla4[[#This Row],[%AFP]],_TOPEIMPONIBLE*Tabla4[[#This Row],[%AFP]])","v":0},null,null,{"$f":"IF(BDD!S31<_TOPEIMPONIBLE,BDD!S31*Tabla4[[#This Row],[%SALUD]],_TOPEIMPONIBLE*Tabla4[[#This Row],[%SALUD]])","v":0},null,null,{"$f":"BDD!S31*Tabla4[[#This Row],[%SEGURO]]","v":0},null,{"$f":"IF(Tabla4[[#This Row],[TOTAL UF]]-Tabla4[[#This Row],[TOTAL SALUD]]<=0,0,Tabla4[[#This Row],[TOTAL UF]]-Tabla4[[#This Row],[TOTAL SALUD]])","v":0},null,{"$f":"BDD!$N$4","v":37838.550000000003},{"$f":"Tabla4[[#This Row],[PACTO UF]]*Tabla4[[#This Row],[VALOR UF]]","v":0},"IMPUESTO UNICO",{"$f":"BDD!S31-Tabla4[[#This Row],[TOTAL AFP]]-Tabla4[[#This Row],[TOTAL SALUD]]-Tabla4[[#This Row],[TOTAL SEGURO CESANTIA]]-Tabla4[[#This Row],[TOTAL ADICIONAL]]","v":0},{"$f":"IF(Tabla4[[#This Row],[PASO DESC. UNIC.]]<=$AT$5,0,IF(Tabla4[[#This Row],[PASO DESC. UNIC.]]<=$AT$6,Tabla4[[#This Row],[PASO DESC. UNIC.]]*$AU$6-$AV$6,IF(Tabla4[[#This Row],[PASO DESC. UNIC.]]<=$AT$7,Tabla4[[#This Row],[PASO DESC. UNIC.]]*$AU$7-$AV$7,IF(Tabla4[[#This Row],[PASO DESC. UNIC.]]<=$AT$8,Tabla4[[#This Row],[PASO DESC. UNIC.]]*$AU$8-$AV$8,IF(Tabla4[[#This Row],[PASO DESC. UNIC.]]<=$AT$9,Tabla4[[#This Row],[PASO DESC. UNIC.]]*$AU$9-$AV$9,IF(Tabla4[[#This Row],[PASO DESC. UNIC.]]<=$AT$10,Tabla4[[#This Row],[PASO DESC. UNIC.]]*$AU$10-$AV$10,IF(Tabla4[[#This Row],[PASO DESC. UNIC.]]>=$AS$11,Tabla4[[#This Row],[PASO DESC. UNIC.]]*$AU$11-$AV$11)))))))","v":0},{"$f":"Tabla4[[#This Row],[TOTAL AFP]]+Tabla4[[#This Row],[TOTAL SALUD]]+Tabla4[[#This Row],[TOTAL SEGURO CESANTIA]]+Tabla4[[#This Row],[TOTAL ADICIONAL]]+Tabla4[[#This Row],[VALOR IMP U.]]+Tabla4[[#This Row],[VALOR OTRO 2]]+Tabla4[[#This Row],[VALOR OTRO 1]]","v":0},null,{"$f":"IF($BP$8 = \"SI\",IF(Tabla4[[#This Row],[TIPO CONTRATO]]=\"Indefinido\",BDD!S31*2.4%,IF(Tabla4[[#This Row],[TIPO CONTRATO]]=\"PLAZO FIJO\",BDD!S31*3%,0)),0)","v":0},null,null,null,null,null,null,{"$f":"BDD!S31*Tabla4[[#This Row],[% SIS]]","v":0},null,null,{"$f":"BDD!S31*Tabla4[[#This Row],[%MUTUAL]]","v":0}]
[null,null,null,null,null,null,null,null,null,26,26,{"$f":"IF(BDD!J32=0,\" \",BDD!J32)","v":" "},null,null,{"$f":"IF(BDD!S32<_TOPEIMPONIBLE,BDD!S32*Tabla4[[#This Row],[%AFP]],_TOPEIMPONIBLE*Tabla4[[#This Row],[%AFP]])","v":0},null,null,{"$f":"IF(BDD!S32<_TOPEIMPONIBLE,BDD!S32*Tabla4[[#This Row],[%SALUD]],_TOPEIMPONIBLE*Tabla4[[#This Row],[%SALUD]])","v":0},null,null,{"$f":"BDD!S32*Tabla4[[#This Row],[%SEGURO]]","v":0},null,{"$f":"IF(Tabla4[[#This Row],[TOTAL UF]]-Tabla4[[#This Row],[TOTAL SALUD]]<=0,0,Tabla4[[#This Row],[TOTAL UF]]-Tabla4[[#This Row],[TOTAL SALUD]])","v":0},null,{"$f":"BDD!$N$4","v":37838.550000000003},{"$f":"Tabla4[[#This Row],[PACTO UF]]*Tabla4[[#This Row],[VALOR UF]]","v":0},"IMPUESTO UNICO",{"$f":"BDD!S32-Tabla4[[#This Row],[TOTAL AFP]]-Tabla4[[#This Row],[TOTAL SALUD]]-Tabla4[[#This Row],[TOTAL SEGURO CESANTIA]]-Tabla4[[#This Row],[TOTAL ADICIONAL]]","v":0},{"$f":"IF(Tabla4[[#This Row],[PASO DESC. UNIC.]]<=$AT$5,0,IF(Tabla4[[#This Row],[PASO DESC. UNIC.]]<=$AT$6,Tabla4[[#This Row],[PASO DESC. UNIC.]]*$AU$6-$AV$6,IF(Tabla4[[#This Row],[PASO DESC. UNIC.]]<=$AT$7,Tabla4[[#This Row],[PASO DESC. UNIC.]]*$AU$7-$AV$7,IF(Tabla4[[#This Row],[PASO DESC. UNIC.]]<=$AT$8,Tabla4[[#This Row],[PASO DESC. UNIC.]]*$AU$8-$AV$8,IF(Tabla4[[#This Row],[PASO DESC. UNIC.]]<=$AT$9,Tabla4[[#This Row],[PASO DESC. UNIC.]]*$AU$9-$AV$9,IF(Tabla4[[#This Row],[PASO DESC. UNIC.]]<=$AT$10,Tabla4[[#This Row],[PASO DESC. UNIC.]]*$AU$10-$AV$10,IF(Tabla4[[#This Row],[PASO DESC. UNIC.]]>=$AS$11,Tabla4[[#This Row],[PASO DESC. UNIC.]]*$AU$11-$AV$11)))))))","v":0},{"$f":"Tabla4[[#This Row],[TOTAL AFP]]+Tabla4[[#This Row],[TOTAL SALUD]]+Tabla4[[#This Row],[TOTAL SEGURO CESANTIA]]+Tabla4[[#This Row],[TOTAL ADICIONAL]]+Tabla4[[#This Row],[VALOR IMP U.]]+Tabla4[[#This Row],[VALOR OTRO 2]]+Tabla4[[#This Row],[VALOR OTRO 1]]","v":0},null,{"$f":"IF($BP$8 = \"SI\",IF(Tabla4[[#This Row],[TIPO CONTRATO]]=\"Indefinido\",BDD!S32*2.4%,IF(Tabla4[[#This Row],[TIPO CONTRATO]]=\"PLAZO FIJO\",BDD!S32*3%,0)),0)","v":0},null,null,null,null,null,null,{"$f":"BDD!S32*Tabla4[[#This Row],[% SIS]]","v":0},null,null,{"$f":"BDD!S32*Tabla4[[#This Row],[%MUTUAL]]","v":0}]
[null,null,null,null,null,null,null,null,null,27,27,{"$f":"IF(BDD!J33=0,\" \",BDD!J33)","v":" "},null,null,{"$f":"IF(BDD!S33<_TOPEIMPONIBLE,BDD!S33*Tabla4[[#This Row],[%AFP]],_TOPEIMPONIBLE*Tabla4[[#This Row],[%AFP]])","v":0},null,null,{"$f":"IF(BDD!S33<_TOPEIMPONIBLE,BDD!S33*Tabla4[[#This Row],[%SALUD]],_TOPEIMPONIBLE*Tabla4[[#This Row],[%SALUD]])","v":0},null,null,{"$f":"BDD!S33*Tabla4[[#This Row],[%SEGURO]]","v":0},null,{"$f":"IF(Tabla4[[#This Row],[TOTAL UF]]-Tabla4[[#This Row],[TOTAL SALUD]]<=0,0,Tabla4[[#This Row],[TOTAL UF]]-Tabla4[[#This Row],[TOTAL SALUD]])","v":0},null,{"$f":"BDD!$N$4","v":37838.550000000003},{"$f":"Tabla4[[#This Row],[PACTO UF]]*Tabla4[[#This Row],[VALOR UF]]","v":0},"IMPUESTO UNICO",{"$f":"BDD!S33-Tabla4[[#This Row],[TOTAL AFP]]-Tabla4[[#This Row],[TOTAL SALUD]]-Tabla4[[#This Row],[TOTAL SEGURO CESANTIA]]-Tabla4[[#This Row],[TOTAL ADICIONAL]]","v":0},{"$f":"IF(Tabla4[[#This Row],[PASO DESC. UNIC.]]<=$AT$5,0,IF(Tabla4[[#This Row],[PASO DESC. UNIC.]]<=$AT$6,Tabla4[[#This Row],[PASO DESC. UNIC.]]*$AU$6-$AV$6,IF(Tabla4[[#This Row],[PASO DESC. UNIC.]]<=$AT$7,Tabla4[[#This Row],[PASO DESC. UNIC.]]*$AU$7-$AV$7,IF(Tabla4[[#This Row],[PASO DESC. UNIC.]]<=$AT$8,Tabla4[[#This Row],[PASO DESC. UNIC.]]*$AU$8-$AV$8,IF(Tabla4[[#This Row],[PASO DESC. UNIC.]]<=$AT$9,Tabla4[[#This Row],[PASO DESC. UNIC.]]*$AU$9-$AV$9,IF(Tabla4[[#This Row],[PASO DESC. UNIC.]]<=$AT$10,Tabla4[[#This Row],[PASO DESC. UNIC.]]*$AU$10-$AV$10,IF(Tabla4[[#This Row],[PASO DESC. UNIC.]]>=$AS$11,Tabla4[[#This Row],[PASO DESC. UNIC.]]*$AU$11-$AV$11)))))))","v":0},{"$f":"Tabla4[[#This Row],[TOTAL AFP]]+Tabla4[[#This Row],[TOTAL SALUD]]+Tabla4[[#This Row],[TOTAL SEGURO CESANTIA]]+Tabla4[[#This Row],[TOTAL ADICIONAL]]+Tabla4[[#This Row],[VALOR IMP U.]]+Tabla4[[#This Row],[VALOR OTRO 2]]+Tabla4[[#This Row],[VALOR OTRO 1]]","v":0},null,{"$f":"IF($BP$8 = \"SI\",IF(Tabla4[[#This Row],[TIPO CONTRATO]]=\"Indefinido\",BDD!S33*2.4%,IF(Tabla4[[#This Row],[TIPO CONTRATO]]=\"PLAZO FIJO\",BDD!S33*3%,0)),0)","v":0},null,null,null,null,null,null,{"$f":"BDD!S33*Tabla4[[#This Row],[% SIS]]","v":0},null,null,{"$f":"BDD!S33*Tabla4[[#This Row],[%MUTUAL]]","v":0}]
[null,null,null,null,null,null,null,null,null,28,28,{"$f":"IF(BDD!J34=0,\" \",BDD!J34)","v":" "},null,null,{"$f":"IF(BDD!S34<_TOPEIMPONIBLE,BDD!S34*Tabla4[[#This Row],[%AFP]],_TOPEIMPONIBLE*Tabla4[[#This Row],[%AFP]])","v":0},null,null,{"$f":"IF(BDD!S34<_TOPEIMPONIBLE,BDD!S34*Tabla4[[#This Row],[%SALUD]],_TOPEIMPONIBLE*Tabla4[[#This Row],[%SALUD]])","v":0},null,null,{"$f":"BDD!S34*Tabla4[[#This Row],[%SEGURO]]","v":0},null,{"$f":"IF(Tabla4[[#This Row],[TOTAL UF]]-Tabla4[[#This Row],[TOTAL SALUD]]<=0,0,Tabla4[[#This Row],[TOTAL UF]]-Tabla4[[#This Row],[TOTAL SALUD]])","v":0},null,{"$f":"BDD!$N$4","v":37838.550000000003},{"$f":"Tabla4[[#This Row],[PACTO UF]]*Tabla4[[#This Row],[VALOR UF]]","v":0},"IMPUESTO UNICO",{"$f":"BDD!S34-Tabla4[[#This Row],[TOTAL AFP]]-Tabla4[[#This Row],[TOTAL SALUD]]-Tabla4[[#This Row],[TOTAL SEGURO CESANTIA]]-Tabla4[[#This Row],[TOTAL ADICIONAL]]","v":0},{"$f":"IF(Tabla4[[#This Row],[PASO DESC. UNIC.]]<=$AT$5,0,IF(Tabla4[[#This Row],[PASO DESC. UNIC.]]<=$AT$6,Tabla4[[#This Row],[PASO DESC. UNIC.]]*$AU$6-$AV$6,IF(Tabla4[[#This Row],[PASO DESC. UNIC.]]<=$AT$7,Tabla4[[#This Row],[PASO DESC. UNIC.]]*$AU$7-$AV$7,IF(Tabla4[[#This Row],[PASO DESC. UNIC.]]<=$AT$8,Tabla4[[#This Row],[PASO DESC. UNIC.]]*$AU$8-$AV$8,IF(Tabla4[[#This Row],[PASO DESC. UNIC.]]<=$AT$9,Tabla4[[#This Row],[PASO DESC. UNIC.]]*$AU$9-$AV$9,IF(Tabla4[[#This Row],[PASO DESC. UNIC.]]<=$AT$10,Tabla4[[#This Row],[PASO DESC. UNIC.]]*$AU$10-$AV$10,IF(Tabla4[[#This Row],[PASO DESC. UNIC.]]>=$AS$11,Tabla4[[#This Row],[PASO DESC. UNIC.]]*$AU$11-$AV$11)))))))","v":0},{"$f":"Tabla4[[#This Row],[TOTAL AFP]]+Tabla4[[#This Row],[TOTAL SALUD]]+Tabla4[[#This Row],[TOTAL SEGURO CESANTIA]]+Tabla4[[#This Row],[TOTAL ADICIONAL]]+Tabla4[[#This Row],[VALOR IMP U.]]+Tabla4[[#This Row],[VALOR OTRO 2]]+Tabla4[[#This Row],[VALOR OTRO 1]]","v":0},null,{"$f":"IF($BP$8 = \"SI\",IF(Tabla4[[#This Row],[TIPO CONTRATO]]=\"Indefinido\",BDD!S34*2.4%,IF(Tabla4[[#This Row],[TIPO CONTRATO]]=\"PLAZO FIJO\",BDD!S34*3%,0)),0)","v":0},null,null,null,null,null,null,{"$f":"BDD!S34*Tabla4[[#This Row],[% SIS]]","v":0},null,null,{"$f":"BDD!S34*Tabla4[[#This Row],[%MUTUAL]]","v":0}]
[null,null,null,null,null,null,null,null,null,29,29,{"$f":"IF(BDD!J35=0,\" \",BDD!J35)","v":" "},null,null,{"$f":"IF(BDD!S35<_TOPEIMPONIBLE,BDD!S35*Tabla4[[#This Row],[%AFP]],_TOPEIMPONIBLE*Tabla4[[#This Row],[%AFP]])","v":0},null,null,{"$f":"IF(BDD!S35<_TOPEIMPONIBLE,BDD!S35*Tabla4[[#This Row],[%SALUD]],_TOPEIMPONIBLE*Tabla4[[#This Row],[%SALUD]])","v":0},null,null,{"$f":"BDD!S35*Tabla4[[#This Row],[%SEGURO]]","v":0},null,{"$f":"IF(Tabla4[[#This Row],[TOTAL UF]]-Tabla4[[#This Row],[TOTAL SALUD]]<=0,0,Tabla4[[#This Row],[TOTAL UF]]-Tabla4[[#This Row],[TOTAL SALUD]])","v":0},null,{"$f":"BDD!$N$4","v":37838.550000000003},{"$f":"Tabla4[[#This Row],[PACTO UF]]*Tabla4[[#This Row],[VALOR UF]]","v":0},"IMPUESTO UNICO",{"$f":"BDD!S35-Tabla4[[#This Row],[TOTAL AFP]]-Tabla4[[#This Row],[TOTAL SALUD]]-Tabla4[[#This Row],[TOTAL SEGURO CESANTIA]]-Tabla4[[#This Row],[TOTAL ADICIONAL]]","v":0},{"$f":"IF(Tabla4[[#This Row],[PASO DESC. UNIC.]]<=$AT$5,0,IF(Tabla4[[#This Row],[PASO DESC. UNIC.]]<=$AT$6,Tabla4[[#This Row],[PASO DESC. UNIC.]]*$AU$6-$AV$6,IF(Tabla4[[#This Row],[PASO DESC. UNIC.]]<=$AT$7,Tabla4[[#This Row],[PASO DESC. UNIC.]]*$AU$7-$AV$7,IF(Tabla4[[#This Row],[PASO DESC. UNIC.]]<=$AT$8,Tabla4[[#This Row],[PASO DESC. UNIC.]]*$AU$8-$AV$8,IF(Tabla4[[#This Row],[PASO DESC. UNIC.]]<=$AT$9,Tabla4[[#This Row],[PASO DESC. UNIC.]]*$AU$9-$AV$9,IF(Tabla4[[#This Row],[PASO DESC. UNIC.]]<=$AT$10,Tabla4[[#This Row],[PASO DESC. UNIC.]]*$AU$10-$AV$10,IF(Tabla4[[#This Row],[PASO DESC. UNIC.]]>=$AS$11,Tabla4[[#This Row],[PASO DESC. UNIC.]]*$AU$11-$AV$11)))))))","v":0},{"$f":"Tabla4[[#This Row],[TOTAL AFP]]+Tabla4[[#This Row],[TOTAL SALUD]]+Tabla4[[#This Row],[TOTAL SEGURO CESANTIA]]+Tabla4[[#This Row],[TOTAL ADICIONAL]]+Tabla4[[#This Row],[VALOR IMP U.]]+Tabla4[[#This Row],[VALOR OTRO 2]]+Tabla4[[#This Row],[VALOR OTRO 1]]","v":0},null,{"$f":"IF($BP$8 = \"SI\",IF(Tabla4[[#This Row],[TIPO CONTRATO]]=\"Indefinido\",BDD!S35*2.4%,IF(Tabla4[[#This Row],[TIPO CONTRATO]]=\"PLAZO FIJO\",BDD!S35*3%,0)),0)","v":0},null,null,null,null,null,null,{"$f":"BDD!S35*Tabla4[[#This Row],[% SIS]]","v":0},null,null,{"$f":"BDD!S35*Tabla4[[#This Row],[%MUTUAL]]","v":0}]
[null,null,null,null,null,null,null,null,null,30,30,{"$f":"IF(BDD!J36=0,\" \",BDD!J36)","v":" "},null,null,{"$f":"IF(BDD!S36<_TOPEIMPONIBLE,BDD!S36*Tabla4[[#This Row],[%AFP]],_TOPEIMPONIBLE*Tabla4[[#This Row],[%AFP]])","v":0},null,null,{"$f":"IF(BDD!S36<_TOPEIMPONIBLE,BDD!S36*Tabla4[[#This Row],[%SALUD]],_TOPEIMPONIBLE*Tabla4[[#This Row],[%SALUD]])","v":0},null,null,{"$f":"BDD!S36*Tabla4[[#This Row],[%SEGURO]]","v":0},null,{"$f":"IF(Tabla4[[#This Row],[TOTAL UF]]-Tabla4[[#This Row],[TOTAL SALUD]]<=0,0,Tabla4[[#This Row],[TOTAL UF]]-Tabla4[[#This Row],[TOTAL SALUD]])","v":0},null,{"$f":"BDD!$N$4","v":37838.550000000003},{"$f":"Tabla4[[#This Row],[PACTO UF]]*Tabla4[[#This Row],[VALOR UF]]","v":0},"IMPUESTO UNICO",{"$f":"BDD!S36-Tabla4[[#This Row],[TOTAL AFP]]-Tabla4[[#This Row],[TOTAL SALUD]]-Tabla4[[#This Row],[TOTAL SEGURO CESANTIA]]-Tabla4[[#This Row],[TOTAL ADICIONAL]]","v":0},{"$f":"IF(Tabla4[[#This Row],[PASO DESC. UNIC.]]<=$AT$5,0,IF(Tabla4[[#This Row],[PASO DESC. UNIC.]]<=$AT$6,Tabla4[[#This Row],[PASO DESC. UNIC.]]*$AU$6-$AV$6,IF(Tabla4[[#This Row],[PASO DESC. UNIC.]]<=$AT$7,Tabla4[[#This Row],[PASO DESC. UNIC.]]*$AU$7-$AV$7,IF(Tabla4[[#This Row],[PASO DESC. UNIC.]]<=$AT$8,Tabla4[[#This Row],[PASO DESC. UNIC.]]*$AU$8-$AV$8,IF(Tabla4[[#This Row],[PASO DESC. UNIC.]]<=$AT$9,Tabla4[[#This Row],[PASO DESC. UNIC.]]*$AU$9-$AV$9,IF(Tabla4[[#This Row],[PASO DESC. UNIC.]]<=$AT$10,Tabla4[[#This Row],[PASO DESC. UNIC.]]*$AU$10-$AV$10,IF(Tabla4[[#This Row],[PASO DESC. UNIC.]]>=$AS$11,Tabla4[[#This Row],[PASO DESC. UNIC.]]*$AU$11-$AV$11)))))))","v":0},{"$f":"Tabla4[[#This Row],[TOTAL AFP]]+Tabla4[[#This Row],[TOTAL SALUD]]+Tabla4[[#This Row],[TOTAL SEGURO CESANTIA]]+Tabla4[[#This Row],[TOTAL ADICIONAL]]+Tabla4[[#This Row],[VALOR IMP U.]]+Tabla4[[#This Row],[VALOR OTRO 2]]+Tabla4[[#This Row],[VALOR OTRO 1]]","v":0},null,{"$f":"IF($BP$8 = \"SI\",IF(Tabla4[[#This Row],[TIPO CONTRATO]]=\"Indefinido\",BDD!S36*2.4%,IF(Tabla4[[#This Row],[TIPO CONTRATO]]=\"PLAZO FIJO\",BDD!S36*3%,0)),0)","v":0},null,null,null,null,null,null,{"$f":"BDD!S36*Tabla4[[#This Row],[% SIS]]","v":0},null,null,{"$f":"BDD!S36*Tabla4[[#This Row],[%MUTUAL]]","v":0}]
[null,null,null,null,null,null,null,null,null,31,31,{"$f":"IF(BDD!J37=0,\" \",BDD!J37)","v":" "},null,null,{"$f":"IF(BDD!S37<_TOPEIMPONIBLE,BDD!S37*Tabla4[[#This Row],[%AFP]],_TOPEIMPONIBLE*Tabla4[[#This Row],[%AFP]])","v":0},null,null,{"$f":"IF(BDD!S37<_TOPEIMPONIBLE,BDD!S37*Tabla4[[#This Row],[%SALUD]],_TOPEIMPONIBLE*Tabla4[[#This Row],[%SALUD]])","v":0},null,null,{"$f":"BDD!S37*Tabla4[[#This Row],[%SEGURO]]","v":0},null,{"$f":"IF(Tabla4[[#This Row],[TOTAL UF]]-Tabla4[[#This Row],[TOTAL SALUD]]<=0,0,Tabla4[[#This Row],[TOTAL UF]]-Tabla4[[#This Row],[TOTAL SALUD]])","v":0},null,{"$f":"BDD!$N$4","v":37838.550000000003},{"$f":"Tabla4[[#This Row],[PACTO UF]]*Tabla4[[#This Row],[VALOR UF]]","v":0},"IMPUESTO UNICO",{"$f":"BDD!S37-Tabla4[[#This Row],[TOTAL AFP]]-Tabla4[[#This Row],[TOTAL SALUD]]-Tabla4[[#This Row],[TOTAL SEGURO CESANTIA]]-Tabla4[[#This Row],[TOTAL ADICIONAL]]","v":0},{"$f":"IF(Tabla4[[#This Row],[PASO DESC. UNIC.]]<=$AT$5,0,IF(Tabla4[[#This Row],[PASO DESC. UNIC.]]<=$AT$6,Tabla4[[#This Row],[PASO DESC. UNIC.]]*$AU$6-$AV$6,IF(Tabla4[[#This Row],[PASO DESC. UNIC.]]<=$AT$7,Tabla4[[#This Row],[PASO DESC. UNIC.]]*$AU$7-$AV$7,IF(Tabla4[[#This Row],[PASO DESC. UNIC.]]<=$AT$8,Tabla4[[#This Row],[PASO DESC. UNIC.]]*$AU$8-$AV$8,IF(Tabla4[[#This Row],[PASO DESC. UNIC.]]<=$AT$9,Tabla4[[#This Row],[PASO DESC. UNIC.]]*$AU$9-$AV$9,IF(Tabla4[[#This Row],[PASO DESC. UNIC.]]<=$AT$10,Tabla4[[#This Row],[PASO DESC. UNIC.]]*$AU$10-$AV$10,IF(Tabla4[[#This Row],[PASO DESC. UNIC.]]>=$AS$11,Tabla4[[#This Row],[PASO DESC. UNIC.]]*$AU$11-$AV$11)))))))","v":0},{"$f":"Tabla4[[#This Row],[TOTAL AFP]]+Tabla4[[#This Row],[TOTAL SALUD]]+Tabla4[[#This Row],[TOTAL SEGURO CESANTIA]]+Tabla4[[#This Row],[TOTAL ADICIONAL]]+Tabla4[[#This Row],[VALOR IMP U.]]+Tabla4[[#This Row],[VALOR OTRO 2]]+Tabla4[[#This Row],[VALOR OTRO 1]]","v":0},null,{"$f":"IF($BP$8 = \"SI\",IF(Tabla4[[#This Row],[TIPO CONTRATO]]=\"Indefinido\",BDD!S37*2.4%,IF(Tabla4[[#This Row],[TIPO CONTRATO]]=\"PLAZO FIJO\",BDD!S37*3%,0)),0)","v":0},null,null,null,null,null,null,{"$f":"BDD!S37*Tabla4[[#This Row],[% SIS]]","v":0},null,null,{"$f":"BDD!S37*Tabla4[[#This Row],[%MUTUAL]]","v":0}]
[null,null,null,null,null,null,null,null,null,32,32,{"$f":"IF(BDD!J38=0,\" \",BDD!J38)","v":" "},null,null,{"$f":"IF(BDD!S38<_TOPEIMPONIBLE,BDD!S38*Tabla4[[#This Row],[%AFP]],_TOPEIMPONIBLE*Tabla4[[#This Row],[%AFP]])","v":0},null,null,{"$f":"IF(BDD!S38<_TOPEIMPONIBLE,BDD!S38*Tabla4[[#This Row],[%SALUD]],_TOPEIMPONIBLE*Tabla4[[#This Row],[%SALUD]])","v":0},null,null,{"$f":"BDD!S38*Tabla4[[#This Row],[%SEGURO]]","v":0},null,{"$f":"IF(Tabla4[[#This Row],[TOTAL UF]]-Tabla4[[#This Row],[TOTAL SALUD]]<=0,0,Tabla4[[#This Row],[TOTAL UF]]-Tabla4[[#This Row],[TOTAL SALUD]])","v":0},null,{"$f":"BDD!$N$4","v":37838.550000000003},{"$f":"Tabla4[[#This Row],[PACTO UF]]*Tabla4[[#This Row],[VALOR UF]]","v":0},"IMPUESTO UNICO",{"$f":"BDD!S38-Tabla4[[#This Row],[TOTAL AFP]]-Tabla4[[#This Row],[TOTAL SALUD]]-Tabla4[[#This Row],[TOTAL SEGURO CESANTIA]]-Tabla4[[#This Row],[TOTAL ADICIONAL]]","v":0},{"$f":"IF(Tabla4[[#This Row],[PASO DESC. UNIC.]]<=$AT$5,0,IF(Tabla4[[#This Row],[PASO DESC. UNIC.]]<=$AT$6,Tabla4[[#This Row],[PASO DESC. UNIC.]]*$AU$6-$AV$6,IF(Tabla4[[#This Row],[PASO DESC. UNIC.]]<=$AT$7,Tabla4[[#This Row],[PASO DESC. UNIC.]]*$AU$7-$AV$7,IF(Tabla4[[#This Row],[PASO DESC. UNIC.]]<=$AT$8,Tabla4[[#This Row],[PASO DESC. UNIC.]]*$AU$8-$AV$8,IF(Tabla4[[#This Row],[PASO DESC. UNIC.]]<=$AT$9,Tabla4[[#This Row],[PASO DESC. UNIC.]]*$AU$9-$AV$9,IF(Tabla4[[#This Row],[PASO DESC. UNIC.]]<=$AT$10,Tabla4[[#This Row],[PASO DESC. UNIC.]]*$AU$10-$AV$10,IF(Tabla4[[#This Row],[PASO DESC. UNIC.]]>=$AS$11,Tabla4[[#This Row],[PASO DESC. UNIC.]]*$AU$11-$AV$11)))))))","v":0},{"$f":"Tabla4[[#This Row],[TOTAL AFP]]+Tabla4[[#This Row],[TOTAL SALUD]]+Tabla4[[#This Row],[TOTAL SEGURO CESANTIA]]+Tabla4[[#This Row],[TOTAL ADICIONAL]]+Tabla4[[#This Row],[VALOR IMP U.]]+Tabla4[[#This Row],[VALOR OTRO 2]]+Tabla4[[#This Row],[VALOR OTRO 1]]","v":0},null,{"$f":"IF($BP$8 = \"SI\",IF(Tabla4[[#This Row],[TIPO CONTRATO]]=\"Indefinido\",BDD!S38*2.4%,IF(Tabla4[[#This Row],[TIPO CONTRATO]]=\"PLAZO FIJO\",BDD!S38*3%,0)),0)","v":0},null,null,null,null,null,null,{"$f":"BDD!S38*Tabla4[[#This Row],[% SIS]]","v":0},null,null,{"$f":"BDD!S38*Tabla4[[#This Row],[%MUTUAL]]","v":0}]
[null,null,null,null,null,null,null,null,null,33,33,{"$f":"IF(BDD!J39=0,\" \",BDD!J39)","v":" "},null,null,{"$f":"IF(BDD!S39<_TOPEIMPONIBLE,BDD!S39*Tabla4[[#This Row],[%AFP]],_TOPEIMPONIBLE*Tabla4[[#This Row],[%AFP]])","v":0},null,null,{"$f":"IF(BDD!S39<_TOPEIMPONIBLE,BDD!S39*Tabla4[[#This Row],[%SALUD]],_TOPEIMPONIBLE*Tabla4[[#This Row],[%SALUD]])","v":0},null,null,{"$f":"BDD!S39*Tabla4[[#This Row],[%SEGURO]]","v":0},null,{"$f":"IF(Tabla4[[#This Row],[TOTAL UF]]-Tabla4[[#This Row],[TOTAL SALUD]]<=0,0,Tabla4[[#This Row],[TOTAL UF]]-Tabla4[[#This Row],[TOTAL SALUD]])","v":0},null,{"$f":"BDD!$N$4","v":37838.550000000003},{"$f":"Tabla4[[#This Row],[PACTO UF]]*Tabla4[[#This Row],[VALOR UF]]","v":0},"IMPUESTO UNICO",{"$f":"BDD!S39-Tabla4[[#This Row],[TOTAL AFP]]-Tabla4[[#This Row],[TOTAL SALUD]]-Tabla4[[#This Row],[TOTAL SEGURO CESANTIA]]-Tabla4[[#This Row],[TOTAL ADICIONAL]]","v":0},{"$f":"IF(Tabla4[[#This Row],[PASO DESC. UNIC.]]<=$AT$5,0,IF(Tabla4[[#This Row],[PASO DESC. UNIC.]]<=$AT$6,Tabla4[[#This Row],[PASO DESC. UNIC.]]*$AU$6-$AV$6,IF(Tabla4[[#This Row],[PASO DESC. UNIC.]]<=$AT$7,Tabla4[[#This Row],[PASO DESC. UNIC.]]*$AU$7-$AV$7,IF(Tabla4[[#This Row],[PASO DESC. UNIC.]]<=$AT$8,Tabla4[[#This Row],[PASO DESC. UNIC.]]*$AU$8-$AV$8,IF(Tabla4[[#This Row],[PASO DESC. UNIC.]]<=$AT$9,Tabla4[[#This Row],[PASO DESC. UNIC.]]*$AU$9-$AV$9,IF(Tabla4[[#This Row],[PASO DESC. UNIC.]]<=$AT$10,Tabla4[[#This Row],[PASO DESC. UNIC.]]*$AU$10-$AV$10,IF(Tabla4[[#This Row],[PASO DESC. UNIC.]]>=$AS$11,Tabla4[[#This Row],[PASO DESC. UNIC.]]*$AU$11-$AV$11)))))))","v":0},{"$f":"Tabla4[[#This Row],[TOTAL AFP]]+Tabla4[[#This Row],[TOTAL SALUD]]+Tabla4[[#This Row],[TOTAL SEGURO CESANTIA]]+Tabla4[[#This Row],[TOTAL ADICIONAL]]+Tabla4[[#This Row],[VALOR IMP U.]]+Tabla4[[#This Row],[VALOR OTRO 2]]+Tabla4[[#This Row],[VALOR OTRO 1]]","v":0},null,{"$f":"IF($BP$8 = \"SI\",IF(Tabla4[[#This Row],[TIPO CONTRATO]]=\"Indefinido\",BDD!S39*2.4%,IF(Tabla4[[#This Row],[TIPO CONTRATO]]=\"PLAZO FIJO\",BDD!S39*3%,0)),0)","v":0},null,null,null,null,null,null,{"$f":"BDD!S39*Tabla4[[#This Row],[% SIS]]","v":0},null,null,{"$f":"BDD!S39*Tabla4[[#This Row],[%MUTUAL]]","v":0}]
[null,null,null,null,null,null,null,null,null,34,34,{"$f":"IF(BDD!J40=0,\" \",BDD!J40)","v":" "},null,null,{"$f":"IF(BDD!S40<_TOPEIMPONIBLE,BDD!S40*Tabla4[[#This Row],[%AFP]],_TOPEIMPONIBLE*Tabla4[[#This Row],[%AFP]])","v":0},null,null,{"$f":"IF(BDD!S40<_TOPEIMPONIBLE,BDD!S40*Tabla4[[#This Row],[%SALUD]],_TOPEIMPONIBLE*Tabla4[[#This Row],[%SALUD]])","v":0},null,null,{"$f":"BDD!S40*Tabla4[[#This Row],[%SEGURO]]","v":0},null,{"$f":"IF(Tabla4[[#This Row],[TOTAL UF]]-Tabla4[[#This Row],[TOTAL SALUD]]<=0,0,Tabla4[[#This Row],[TOTAL UF]]-Tabla4[[#This Row],[TOTAL SALUD]])","v":0},null,{"$f":"BDD!$N$4","v":37838.550000000003},{"$f":"Tabla4[[#This Row],[PACTO UF]]*Tabla4[[#This Row],[VALOR UF]]","v":0},"IMPUESTO UNICO",{"$f":"BDD!S40-Tabla4[[#This Row],[TOTAL AFP]]-Tabla4[[#This Row],[TOTAL SALUD]]-Tabla4[[#This Row],[TOTAL SEGURO CESANTIA]]-Tabla4[[#This Row],[TOTAL ADICIONAL]]","v":0},{"$f":"IF(Tabla4[[#This Row],[PASO DESC. UNIC.]]<=$AT$5,0,IF(Tabla4[[#This Row],[PASO DESC. UNIC.]]<=$AT$6,Tabla4[[#This Row],[PASO DESC. UNIC.]]*$AU$6-$AV$6,IF(Tabla4[[#This Row],[PASO DESC. UNIC.]]<=$AT$7,Tabla4[[#This Row],[PASO DESC. UNIC.]]*$AU$7-$AV$7,IF(Tabla4[[#This Row],[PASO DESC. UNIC.]]<=$AT$8,Tabla4[[#This Row],[PASO DESC. UNIC.]]*$AU$8-$AV$8,IF(Tabla4[[#This Row],[PASO DESC. UNIC.]]<=$AT$9,Tabla4[[#This Row],[PASO DESC. UNIC.]]*$AU$9-$AV$9,IF(Tabla4[[#This Row],[PASO DESC. UNIC.]]<=$AT$10,Tabla4[[#This Row],[PASO DESC. UNIC.]]*$AU$10-$AV$10,IF(Tabla4[[#This Row],[PASO DESC. UNIC.]]>=$AS$11,Tabla4[[#This Row],[PASO DESC. UNIC.]]*$AU$11-$AV$11)))))))","v":0},{"$f":"Tabla4[[#This Row],[TOTAL AFP]]+Tabla4[[#This Row],[TOTAL SALUD]]+Tabla4[[#This Row],[TOTAL SEGURO CESANTIA]]+Tabla4[[#This Row],[TOTAL ADICIONAL]]+Tabla4[[#This Row],[VALOR IMP U.]]+Tabla4[[#This Row],[VALOR OTRO 2]]+Tabla4[[#This Row],[VALOR OTRO 1]]","v":0},null,{"$f":"IF($BP$8 = \"SI\",IF(Tabla4[[#This Row],[TIPO CONTRATO]]=\"Indefinido\",BDD!S40*2.4%,IF(Tabla4[[#This Row],[TIPO CONTRATO]]=\"PLAZO FIJO\",BDD!S40*3%,0)),0)","v":0},null,null,null,null,null,null,{"$f":"BDD!S40*Tabla4[[#This Row],[% SIS]]","v":0},null,null,{"$f":"BDD!S40*Tabla4[[#This Row],[%MUTUAL]]","v":0}]
[null,null,null,null,null,null,null,null,null,35,35,{"$f":"IF(BDD!J41=0,\" \",BDD!J41)","v":" "},null,null,{"$f":"IF(BDD!S41<_TOPEIMPONIBLE,BDD!S41*Tabla4[[#This Row],[%AFP]],_TOPEIMPONIBLE*Tabla4[[#This Row],[%AFP]])","v":0},null,null,{"$f":"IF(BDD!S41<_TOPEIMPONIBLE,BDD!S41*Tabla4[[#This Row],[%SALUD]],_TOPEIMPONIBLE*Tabla4[[#This Row],[%SALUD]])","v":0},null,null,{"$f":"BDD!S41*Tabla4[[#This Row],[%SEGURO]]","v":0},null,{"$f":"IF(Tabla4[[#This Row],[TOTAL UF]]-Tabla4[[#This Row],[TOTAL SALUD]]<=0,0,Tabla4[[#This Row],[TOTAL UF]]-Tabla4[[#This Row],[TOTAL SALUD]])","v":0},null,{"$f":"BDD!$N$4","v":37838.550000000003},{"$f":"Tabla4[[#This Row],[PACTO UF]]*Tabla4[[#This Row],[VALOR UF]]","v":0},"IMPUESTO UNICO",{"$f":"BDD!S41-Tabla4[[#This Row],[TOTAL AFP]]-Tabla4[[#This Row],[TOTAL SALUD]]-Tabla4[[#This Row],[TOTAL SEGURO CESANTIA]]-Tabla4[[#This Row],[TOTAL ADICIONAL]]","v":0},{"$f":"IF(Tabla4[[#This Row],[PASO DESC. UNIC.]]<=$AT$5,0,IF(Tabla4[[#This Row],[PASO DESC. UNIC.]]<=$AT$6,Tabla4[[#This Row],[PASO DESC. UNIC.]]*$AU$6-$AV$6,IF(Tabla4[[#This Row],[PASO DESC. UNIC.]]<=$AT$7,Tabla4[[#This Row],[PASO DESC. UNIC.]]*$AU$7-$AV$7,IF(Tabla4[[#This Row],[PASO DESC. UNIC.]]<=$AT$8,Tabla4[[#This Row],[PASO DESC. UNIC.]]*$AU$8-$AV$8,IF(Tabla4[[#This Row],[PASO DESC. UNIC.]]<=$AT$9,Tabla4[[#This Row],[PASO DESC. UNIC.]]*$AU$9-$AV$9,IF(Tabla4[[#This Row],[PASO DESC. UNIC.]]<=$AT$10,Tabla4[[#This Row],[PASO DESC. UNIC.]]*$AU$10-$AV$10,IF(Tabla4[[#This Row],[PASO DESC. UNIC.]]>=$AS$11,Tabla4[[#This Row],[PASO DESC. UNIC.]]*$AU$11-$AV$11)))))))","v":0},{"$f":"Tabla4[[#This Row],[TOTAL AFP]]+Tabla4[[#This Row],[TOTAL SALUD]]+Tabla4[[#This Row],[TOTAL SEGURO CESANTIA]]+Tabla4[[#This Row],[TOTAL ADICIONAL]]+Tabla4[[#This Row],[VALOR IMP U.]]+Tabla4[[#This Row],[VALOR OTRO 2]]+Tabla4[[#This Row],[VALOR OTRO 1]]","v":0},null,{"$f":"IF($BP$8 = \"SI\",IF(Tabla4[[#This Row],[TIPO CONTRATO]]=\"Indefinido\",BDD!S41*2.4%,IF(Tabla4[[#This Row],[TIPO CONTRATO]]=\"PLAZO FIJO\",BDD!S41*3%,0)),0)","v":0},null,null,null,null,null,null,{"$f":"BDD!S41*Tabla4[[#This Row],[% SIS]]","v":0},null,null,{"$f":"BDD!S41*Tabla4[[#This Row],[%MUTUAL]]","v":0}]
[null,null,null,null,null,null,null,null,null,36,36,{"$f":"IF(BDD!J42=0,\" \",BDD!J42)","v":" "},null,null,{"$f":"IF(BDD!S42<_TOPEIMPONIBLE,BDD!S42*Tabla4[[#This Row],[%AFP]],_TOPEIMPONIBLE*Tabla4[[#This Row],[%AFP]])","v":0},null,null,{"$f":"IF(BDD!S42<_TOPEIMPONIBLE,BDD!S42*Tabla4[[#This Row],[%SALUD]],_TOPEIMPONIBLE*Tabla4[[#This Row],[%SALUD]])","v":0},null,null,{"$f":"BDD!S42*Tabla4[[#This Row],[%SEGURO]]","v":0},null,{"$f":"IF(Tabla4[[#This Row],[TOTAL UF]]-Tabla4[[#This Row],[TOTAL SALUD]]<=0,0,Tabla4[[#This Row],[TOTAL UF]]-Tabla4[[#This Row],[TOTAL SALUD]])","v":0},null,{"$f":"BDD!$N$4","v":37838.550000000003},{"$f":"Tabla4[[#This Row],[PACTO UF]]*Tabla4[[#This Row],[VALOR UF]]","v":0},"IMPUESTO UNICO",{"$f":"BDD!S42-Tabla4[[#This Row],[TOTAL AFP]]-Tabla4[[#This Row],[TOTAL SALUD]]-Tabla4[[#This Row],[TOTAL SEGURO CESANTIA]]-Tabla4[[#This Row],[TOTAL ADICIONAL]]","v":0},{"$f":"IF(Tabla4[[#This Row],[PASO DESC. UNIC.]]<=$AT$5,0,IF(Tabla4[[#This Row],[PASO DESC. UNIC.]]<=$AT$6,Tabla4[[#This Row],[PASO DESC. UNIC.]]*$AU$6-$AV$6,IF(Tabla4[[#This Row],[PASO DESC. UNIC.]]<=$AT$7,Tabla4[[#This Row],[PASO DESC. UNIC.]]*$AU$7-$AV$7,IF(Tabla4[[#This Row],[PASO DESC. UNIC.]]<=$AT$8,Tabla4[[#This Row],[PASO DESC. UNIC.]]*$AU$8-$AV$8,IF(Tabla4[[#This Row],[PASO DESC. UNIC.]]<=$AT$9,Tabla4[[#This Row],[PASO DESC. UNIC.]]*$AU$9-$AV$9,IF(Tabla4[[#This Row],[PASO DESC. UNIC.]]<=$AT$10,Tabla4[[#This Row],[PASO DESC. UNIC.]]*$AU$10-$AV$10,IF(Tabla4[[#This Row],[PASO DESC. UNIC.]]>=$AS$11,Tabla4[[#This Row],[PASO DESC. UNIC.]]*$AU$11-$AV$11)))))))","v":0},{"$f":"Tabla4[[#This Row],[TOTAL AFP]]+Tabla4[[#This Row],[TOTAL SALUD]]+Tabla4[[#This Row],[TOTAL SEGURO CESANTIA]]+Tabla4[[#This Row],[TOTAL ADICIONAL]]+Tabla4[[#This Row],[VALOR IMP U.]]+Tabla4[[#This Row],[VALOR OTRO 2]]+Tabla4[[#This Row],[VALOR OTRO 1]]","v":0},null,{"$f":"IF($BP$8 = \"SI\",IF(Tabla4[[#This Row],[TIPO CONTRATO]]=\"Indefinido\",BDD!S42*2.4%,IF(Tabla4[[#This Row],[TIPO CONTRATO]]=\"PLAZO FIJO\",BDD!S42*3%,0)),0)","v":0},null,null,null,null,null,null,{"$f":"BDD!S42*Tabla4[[#This Row],[% SIS]]","v":0},null,null,{"$f":"BDD!S42*Tabla4[[#This Row],[%MUTUAL]]","v":0}]
[null,null,null,null,null,null,null,null,null,37,37,{"$f":"IF(BDD!J43=0,\" \",BDD!J43)","v":" "},null,null,{"$f":"IF(BDD!S43<_TOPEIMPONIBLE,BDD!S43*Tabla4[[#This Row],[%AFP]],_TOPEIMPONIBLE*Tabla4[[#This Row],[%AFP]])","v":0},null,null,{"$f":"IF(BDD!S43<_TOPEIMPONIBLE,BDD!S43*Tabla4[[#This Row],[%SALUD]],_TOPEIMPONIBLE*Tabla4[[#This Row],[%SALUD]])","v":0},null,null,{"$f":"BDD!S43*Tabla4[[#This Row],[%SEGURO]]","v":0},null,{"$f":"IF(Tabla4[[#This Row],[TOTAL UF]]-Tabla4[[#This Row],[TOTAL SALUD]]<=0,0,Tabla4[[#This Row],[TOTAL UF]]-Tabla4[[#This Row],[TOTAL SALUD]])","v":0},null,{"$f":"BDD!$N$4","v":37838.550000000003},{"$f":"Tabla4[[#This Row],[PACTO UF]]*Tabla4[[#This Row],[VALOR UF]]","v":0},"IMPUESTO UNICO",{"$f":"BDD!S43-Tabla4[[#This Row],[TOTAL AFP]]-Tabla4[[#This Row],[TOTAL SALUD]]-Tabla4[[#This Row],[TOTAL SEGURO CESANTIA]]-Tabla4[[#This Row],[TOTAL ADICIONAL]]","v":0},{"$f":"IF(Tabla4[[#This Row],[PASO DESC. UNIC.]]<=$AT$5,0,IF(Tabla4[[#This Row],[PASO DESC. UNIC.]]<=$AT$6,Tabla4[[#This Row],[PASO DESC. UNIC.]]*$AU$6-$AV$6,IF(Tabla4[[#This Row],[PASO DESC. UNIC.]]<=$AT$7,Tabla4[[#This Row],[PASO DESC. UNIC.]]*$AU$7-$AV$7,IF(Tabla4[[#This Row],[PASO DESC. UNIC.]]<=$AT$8,Tabla4[[#This Row],[PASO DESC. UNIC.]]*$AU$8-$AV$8,IF(Tabla4[[#This Row],[PASO DESC. UNIC.]]<=$AT$9,Tabla4[[#This Row],[PASO DESC. UNIC.]]*$AU$9-$AV$9,IF(Tabla4[[#This Row],[PASO DESC. UNIC.]]<=$AT$10,Tabla4[[#This Row],[PASO DESC. UNIC.]]*$AU$10-$AV$10,IF(Tabla4[[#This Row],[PASO DESC. UNIC.]]>=$AS$11,Tabla4[[#This Row],[PASO DESC. UNIC.]]*$AU$11-$AV$11)))))))","v":0},{"$f":"Tabla4[[#This Row],[TOTAL AFP]]+Tabla4[[#This Row],[TOTAL SALUD]]+Tabla4[[#This Row],[TOTAL SEGURO CESANTIA]]+Tabla4[[#This Row],[TOTAL ADICIONAL]]+Tabla4[[#This Row],[VALOR IMP U.]]+Tabla4[[#This Row],[VALOR OTRO 2]]+Tabla4[[#This Row],[VALOR OTRO 1]]","v":0},null,{"$f":"IF($BP$8 = \"SI\",IF(Tabla4[[#This Row],[TIPO CONTRATO]]=\"Indefinido\",BDD!S43*2.4%,IF(Tabla4[[#This Row],[TIPO CONTRATO]]=\"PLAZO FIJO\",BDD!S43*3%,0)),0)","v":0},null,null,null,null,null,null,{"$f":"BDD!S43*Tabla4[[#This Row],[% SIS]]","v":0},null,null,{"$f":"BDD!S43*Tabla4[[#This Row],[%MUTUAL]]","v":0}]
[null,null,null,null,null,null,null,null,null,38,38,{"$f":"IF(BDD!J44=0,\" \",BDD!J44)","v":" "},null,null,{"$f":"IF(BDD!S44<_TOPEIMPONIBLE,BDD!S44*Tabla4[[#This Row],[%AFP]],_TOPEIMPONIBLE*Tabla4[[#This Row],[%AFP]])","v":0},null,null,{"$f":"IF(BDD!S44<_TOPEIMPONIBLE,BDD!S44*Tabla4[[#This Row],[%SALUD]],_TOPEIMPONIBLE*Tabla4[[#This Row],[%SALUD]])","v":0},null,null,{"$f":"BDD!S44*Tabla4[[#This Row],[%SEGURO]]","v":0},null,{"$f":"IF(Tabla4[[#This Row],[TOTAL UF]]-Tabla4[[#This Row],[TOTAL SALUD]]<=0,0,Tabla4[[#This Row],[TOTAL UF]]-Tabla4[[#This Row],[TOTAL SALUD]])","v":0},null,{"$f":"BDD!$N$4","v":37838.550000000003},{"$f":"Tabla4[[#This Row],[PACTO UF]]*Tabla4[[#This Row],[VALOR UF]]","v":0},"IMPUESTO UNICO",{"$f":"BDD!S44-Tabla4[[#This Row],[TOTAL AFP]]-Tabla4[[#This Row],[TOTAL SALUD]]-Tabla4[[#This Row],[TOTAL SEGURO CESANTIA]]-Tabla4[[#This Row],[TOTAL ADICIONAL]]","v":0},{"$f":"IF(Tabla4[[#This Row],[PASO DESC. UNIC.]]<=$AT$5,0,IF(Tabla4[[#This Row],[PASO DESC. UNIC.]]<=$AT$6,Tabla4[[#This Row],[PASO DESC. UNIC.]]*$AU$6-$AV$6,IF(Tabla4[[#This Row],[PASO DESC. UNIC.]]<=$AT$7,Tabla4[[#This Row],[PASO DESC. UNIC.]]*$AU$7-$AV$7,IF(Tabla4[[#This Row],[PASO DESC. UNIC.]]<=$AT$8,Tabla4[[#This Row],[PASO DESC. UNIC.]]*$AU$8-$AV$8,IF(Tabla4[[#This Row],[PASO DESC. UNIC.]]<=$AT$9,Tabla4[[#This Row],[PASO DESC. UNIC.]]*$AU$9-$AV$9,IF(Tabla4[[#This Row],[PASO DESC. UNIC.]]<=$AT$10,Tabla4[[#This Row],[PASO DESC. UNIC.]]*$AU$10-$AV$10,IF(Tabla4[[#This Row],[PASO DESC. UNIC.]]>=$AS$11,Tabla4[[#This Row],[PASO DESC. UNIC.]]*$AU$11-$AV$11)))))))","v":0},{"$f":"Tabla4[[#This Row],[TOTAL AFP]]+Tabla4[[#This Row],[TOTAL SALUD]]+Tabla4[[#This Row],[TOTAL SEGURO CESANTIA]]+Tabla4[[#This Row],[TOTAL ADICIONAL]]+Tabla4[[#This Row],[VALOR IMP U.]]+Tabla4[[#This Row],[VALOR OTRO 2]]+Tabla4[[#This Row],[VALOR OTRO 1]]","v":0},null,{"$f":"IF($BP$8 = \"SI\",IF(Tabla4[[#This Row],[TIPO CONTRATO]]=\"Indefinido\",BDD!S44*2.4%,IF(Tabla4[[#This Row],[TIPO CONTRATO]]=\"PLAZO FIJO\",BDD!S44*3%,0)),0)","v":0},null,null,null,null,null,null,{"$f":"BDD!S44*Tabla4[[#This Row],[% SIS]]","v":0},null,null,{"$f":"BDD!S44*Tabla4[[#This Row],[%MUTUAL]]","v":0}]
[null,null,null,null,null,null,null,null,null,39,39,{"$f":"IF(BDD!J45=0,\" \",BDD!J45)","v":" "},null,null,{"$f":"IF(BDD!S45<_TOPEIMPONIBLE,BDD!S45*Tabla4[[#This Row],[%AFP]],_TOPEIMPONIBLE*Tabla4[[#This Row],[%AFP]])","v":0},null,null,{"$f":"IF(BDD!S45<_TOPEIMPONIBLE,BDD!S45*Tabla4[[#This Row],[%SALUD]],_TOPEIMPONIBLE*Tabla4[[#This Row],[%SALUD]])","v":0},null,null,{"$f":"BDD!S45*Tabla4[[#This Row],[%SEGURO]]","v":0},null,{"$f":"IF(Tabla4[[#This Row],[TOTAL UF]]-Tabla4[[#This Row],[TOTAL SALUD]]<=0,0,Tabla4[[#This Row],[TOTAL UF]]-Tabla4[[#This Row],[TOTAL SALUD]])","v":0},null,{"$f":"BDD!$N$4","v":37838.550000000003},{"$f":"Tabla4[[#This Row],[PACTO UF]]*Tabla4[[#This Row],[VALOR UF]]","v":0},"IMPUESTO UNICO",{"$f":"BDD!S45-Tabla4[[#This Row],[TOTAL AFP]]-Tabla4[[#This Row],[TOTAL SALUD]]-Tabla4[[#This Row],[TOTAL SEGURO CESANTIA]]-Tabla4[[#This Row],[TOTAL ADICIONAL]]","v":0},{"$f":"IF(Tabla4[[#This Row],[PASO DESC. UNIC.]]<=$AT$5,0,IF(Tabla4[[#This Row],[PASO DESC. UNIC.]]<=$AT$6,Tabla4[[#This Row],[PASO DESC. UNIC.]]*$AU$6-$AV$6,IF(Tabla4[[#This Row],[PASO DESC. UNIC.]]<=$AT$7,Tabla4[[#This Row],[PASO DESC. UNIC.]]*$AU$7-$AV$7,IF(Tabla4[[#This Row],[PASO DESC. UNIC.]]<=$AT$8,Tabla4[[#This Row],[PASO DESC. UNIC.]]*$AU$8-$AV$8,IF(Tabla4[[#This Row],[PASO DESC. UNIC.]]<=$AT$9,Tabla4[[#This Row],[PASO DESC. UNIC.]]*$AU$9-$AV$9,IF(Tabla4[[#This Row],[PASO DESC. UNIC.]]<=$AT$10,Tabla4[[#This Row],[PASO DESC. UNIC.]]*$AU$10-$AV$10,IF(Tabla4[[#This Row],[PASO DESC. UNIC.]]>=$AS$11,Tabla4[[#This Row],[PASO DESC. UNIC.]]*$AU$11-$AV$11)))))))","v":0},{"$f":"Tabla4[[#This Row],[TOTAL AFP]]+Tabla4[[#This Row],[TOTAL SALUD]]+Tabla4[[#This Row],[TOTAL SEGURO CESANTIA]]+Tabla4[[#This Row],[TOTAL ADICIONAL]]+Tabla4[[#This Row],[VALOR IMP U.]]+Tabla4[[#This Row],[VALOR OTRO 2]]+Tabla4[[#This Row],[VALOR OTRO 1]]","v":0},null,{"$f":"IF($BP$8 = \"SI\",IF(Tabla4[[#This Row],[TIPO CONTRATO]]=\"Indefinido\",BDD!S45*2.4%,IF(Tabla4[[#This Row],[TIPO CONTRATO]]=\"PLAZO FIJO\",BDD!S45*3%,0)),0)","v":0},null,null,null,null,null,null,{"$f":"BDD!S45*Tabla4[[#This Row],[% SIS]]","v":0},null,null,{"$f":"BDD!S45*Tabla4[[#This Row],[%MUTUAL]]","v":0}]
[null,null,null,null,null,null,null,null,null,40,40,{"$f":"IF(BDD!J46=0,\" \",BDD!J46)","v":" "},null,null,{"$f":"IF(BDD!S46<_TOPEIMPONIBLE,BDD!S46*Tabla4[[#This Row],[%AFP]],_TOPEIMPONIBLE*Tabla4[[#This Row],[%AFP]])","v":0},null,null,{"$f":"IF(BDD!S46<_TOPEIMPONIBLE,BDD!S46*Tabla4[[#This Row],[%SALUD]],_TOPEIMPONIBLE*Tabla4[[#This Row],[%SALUD]])","v":0},null,null,{"$f":"BDD!S46*Tabla4[[#This Row],[%SEGURO]]","v":0},null,{"$f":"IF(Tabla4[[#This Row],[TOTAL UF]]-Tabla4[[#This Row],[TOTAL SALUD]]<=0,0,Tabla4[[#This Row],[TOTAL UF]]-Tabla4[[#This Row],[TOTAL SALUD]])","v":0},null,{"$f":"BDD!$N$4","v":37838.550000000003},{"$f":"Tabla4[[#This Row],[PACTO UF]]*Tabla4[[#This Row],[VALOR UF]]","v":0},"IMPUESTO UNICO",{"$f":"BDD!S46-Tabla4[[#This Row],[TOTAL AFP]]-Tabla4[[#This Row],[TOTAL SALUD]]-Tabla4[[#This Row],[TOTAL SEGURO CESANTIA]]-Tabla4[[#This Row],[TOTAL ADICIONAL]]","v":0},{"$f":"IF(Tabla4[[#This Row],[PASO DESC. UNIC.]]<=$AT$5,0,IF(Tabla4[[#This Row],[PASO DESC. UNIC.]]<=$AT$6,Tabla4[[#This Row],[PASO DESC. UNIC.]]*$AU$6-$AV$6,IF(Tabla4[[#This Row],[PASO DESC. UNIC.]]<=$AT$7,Tabla4[[#This Row],[PASO DESC. UNIC.]]*$AU$7-$AV$7,IF(Tabla4[[#This Row],[PASO DESC. UNIC.]]<=$AT$8,Tabla4[[#This Row],[PASO DESC. UNIC.]]*$AU$8-$AV$8,IF(Tabla4[[#This Row],[PASO DESC. UNIC.]]<=$AT$9,Tabla4[[#This Row],[PASO DESC. UNIC.]]*$AU$9-$AV$9,IF(Tabla4[[#This Row],[PASO DESC. UNIC.]]<=$AT$10,Tabla4[[#This Row],[PASO DESC. UNIC.]]*$AU$10-$AV$10,IF(Tabla4[[#This Row],[PASO DESC. UNIC.]]>=$AS$11,Tabla4[[#This Row],[PASO DESC. UNIC.]]*$AU$11-$AV$11)))))))","v":0},{"$f":"Tabla4[[#This Row],[TOTAL AFP]]+Tabla4[[#This Row],[TOTAL SALUD]]+Tabla4[[#This Row],[TOTAL SEGURO CESANTIA]]+Tabla4[[#This Row],[TOTAL ADICIONAL]]+Tabla4[[#This Row],[VALOR IMP U.]]+Tabla4[[#This Row],[VALOR OTRO 2]]+Tabla4[[#This Row],[VALOR OTRO 1]]","v":0},null,{"$f":"IF($BP$8 = \"SI\",IF(Tabla4[[#This Row],[TIPO CONTRATO]]=\"Indefinido\",BDD!S46*2.4%,IF(Tabla4[[#This Row],[TIPO CONTRATO]]=\"PLAZO FIJO\",BDD!S46*3%,0)),0)","v":0},null,null,null,null,null,null,{"$f":"BDD!S46*Tabla4[[#This Row],[% SIS]]","v":0},null,null,{"$f":"BDD!S46*Tabla4[[#This Row],[%MUTUAL]]","v":0}]
[null,null,null,null,null,null,null,null,null,41,41,{"$f":"IF(BDD!J47=0,\" \",BDD!J47)","v":" "},null,null,{"$f":"IF(BDD!S47<_TOPEIMPONIBLE,BDD!S47*Tabla4[[#This Row],[%AFP]],_TOPEIMPONIBLE*Tabla4[[#This Row],[%AFP]])","v":0},null,null,{"$f":"IF(BDD!S47<_TOPEIMPONIBLE,BDD!S47*Tabla4[[#This Row],[%SALUD]],_TOPEIMPONIBLE*Tabla4[[#This Row],[%SALUD]])","v":0},null,null,{"$f":"BDD!S47*Tabla4[[#This Row],[%SEGURO]]","v":0},null,{"$f":"IF(Tabla4[[#This Row],[TOTAL UF]]-Tabla4[[#This Row],[TOTAL SALUD]]<=0,0,Tabla4[[#This Row],[TOTAL UF]]-Tabla4[[#This Row],[TOTAL SALUD]])","v":0},null,{"$f":"BDD!$N$4","v":37838.550000000003},{"$f":"Tabla4[[#This Row],[PACTO UF]]*Tabla4[[#This Row],[VALOR UF]]","v":0},"IMPUESTO UNICO",{"$f":"BDD!S47-Tabla4[[#This Row],[TOTAL AFP]]-Tabla4[[#This Row],[TOTAL SALUD]]-Tabla4[[#This Row],[TOTAL SEGURO CESANTIA]]-Tabla4[[#This Row],[TOTAL ADICIONAL]]","v":0},{"$f":"IF(Tabla4[[#This Row],[PASO DESC. UNIC.]]<=$AT$5,0,IF(Tabla4[[#This Row],[PASO DESC. UNIC.]]<=$AT$6,Tabla4[[#This Row],[PASO DESC. UNIC.]]*$AU$6-$AV$6,IF(Tabla4[[#This Row],[PASO DESC. UNIC.]]<=$AT$7,Tabla4[[#This Row],[PASO DESC. UNIC.]]*$AU$7-$AV$7,IF(Tabla4[[#This Row],[PASO DESC. UNIC.]]<=$AT$8,Tabla4[[#This Row],[PASO DESC. UNIC.]]*$AU$8-$AV$8,IF(Tabla4[[#This Row],[PASO DESC. UNIC.]]<=$AT$9,Tabla4[[#This Row],[PASO DESC. UNIC.]]*$AU$9-$AV$9,IF(Tabla4[[#This Row],[PASO DESC. UNIC.]]<=$AT$10,Tabla4[[#This Row],[PASO DESC. UNIC.]]*$AU$10-$AV$10,IF(Tabla4[[#This Row],[PASO DESC. UNIC.]]>=$AS$11,Tabla4[[#This Row],[PASO DESC. UNIC.]]*$AU$11-$AV$11)))))))","v":0},{"$f":"Tabla4[[#This Row],[TOTAL AFP]]+Tabla4[[#This Row],[TOTAL SALUD]]+Tabla4[[#This Row],[TOTAL SEGURO CESANTIA]]+Tabla4[[#This Row],[TOTAL ADICIONAL]]+Tabla4[[#This Row],[VALOR IMP U.]]+Tabla4[[#This Row],[VALOR OTRO 2]]+Tabla4[[#This Row],[VALOR OTRO 1]]","v":0},null,{"$f":"IF($BP$8 = \"SI\",IF(Tabla4[[#This Row],[TIPO CONTRATO]]=\"Indefinido\",BDD!S47*2.4%,IF(Tabla4[[#This Row],[TIPO CONTRATO]]=\"PLAZO FIJO\",BDD!S47*3%,0)),0)","v":0},null,null,null,null,null,null,{"$f":"BDD!S47*Tabla4[[#This Row],[% SIS]]","v":0},null,null,{"$f":"BDD!S47*Tabla4[[#This Row],[%MUTUAL]]","v":0}]
[null,null,null,null,null,null,null,null,null,42,42,{"$f":"IF(BDD!J48=0,\" \",BDD!J48)","v":" "},null,null,{"$f":"IF(BDD!S48<_TOPEIMPONIBLE,BDD!S48*Tabla4[[#This Row],[%AFP]],_TOPEIMPONIBLE*Tabla4[[#This Row],[%AFP]])","v":0},null,null,{"$f":"IF(BDD!S48<_TOPEIMPONIBLE,BDD!S48*Tabla4[[#This Row],[%SALUD]],_TOPEIMPONIBLE*Tabla4[[#This Row],[%SALUD]])","v":0},null,null,{"$f":"BDD!S48*Tabla4[[#This Row],[%SEGURO]]","v":0},null,{"$f":"IF(Tabla4[[#This Row],[TOTAL UF]]-Tabla4[[#This Row],[TOTAL SALUD]]<=0,0,Tabla4[[#This Row],[TOTAL UF]]-Tabla4[[#This Row],[TOTAL SALUD]])","v":0},null,{"$f":"BDD!$N$4","v":37838.550000000003},{"$f":"Tabla4[[#This Row],[PACTO UF]]*Tabla4[[#This Row],[VALOR UF]]","v":0},"IMPUESTO UNICO",{"$f":"BDD!S48-Tabla4[[#This Row],[TOTAL AFP]]-Tabla4[[#This Row],[TOTAL SALUD]]-Tabla4[[#This Row],[TOTAL SEGURO CESANTIA]]-Tabla4[[#This Row],[TOTAL ADICIONAL]]","v":0},{"$f":"IF(Tabla4[[#This Row],[PASO DESC. UNIC.]]<=$AT$5,0,IF(Tabla4[[#This Row],[PASO DESC. UNIC.]]<=$AT$6,Tabla4[[#This Row],[PASO DESC. UNIC.]]*$AU$6-$AV$6,IF(Tabla4[[#This Row],[PASO DESC. UNIC.]]<=$AT$7,Tabla4[[#This Row],[PASO DESC. UNIC.]]*$AU$7-$AV$7,IF(Tabla4[[#This Row],[PASO DESC. UNIC.]]<=$AT$8,Tabla4[[#This Row],[PASO DESC. UNIC.]]*$AU$8-$AV$8,IF(Tabla4[[#This Row],[PASO DESC. UNIC.]]<=$AT$9,Tabla4[[#This Row],[PASO DESC. UNIC.]]*$AU$9-$AV$9,IF(Tabla4[[#This Row],[PASO DESC. UNIC.]]<=$AT$10,Tabla4[[#This Row],[PASO DESC. UNIC.]]*$AU$10-$AV$10,IF(Tabla4[[#This Row],[PASO DESC. UNIC.]]>=$AS$11,Tabla4[[#This Row],[PASO DESC. UNIC.]]*$AU$11-$AV$11)))))))","v":0},{"$f":"Tabla4[[#This Row],[TOTAL AFP]]+Tabla4[[#This Row],[TOTAL SALUD]]+Tabla4[[#This Row],[TOTAL SEGURO CESANTIA]]+Tabla4[[#This Row],[TOTAL ADICIONAL]]+Tabla4[[#This Row],[VALOR IMP U.]]+Tabla4[[#This Row],[VALOR OTRO 2]]+Tabla4[[#This Row],[VALOR OTRO 1]]","v":0},null,{"$f":"IF($BP$8 = \"SI\",IF(Tabla4[[#This Row],[TIPO CONTRATO]]=\"Indefinido\",BDD!S48*2.4%,IF(Tabla4[[#This Row],[TIPO CONTRATO]]=\"PLAZO FIJO\",BDD!S48*3%,0)),0)","v":0},null,null,null,null,null,null,{"$f":"BDD!S48*Tabla4[[#This Row],[% SIS]]","v":0},null,null,{"$f":"BDD!S48*Tabla4[[#This Row],[%MUTUAL]]","v":0}]
[null,null,null,null,null,null,null,null,null,43,43,{"$f":"IF(BDD!J49=0,\" \",BDD!J49)","v":" "},null,null,{"$f":"IF(BDD!S49<_TOPEIMPONIBLE,BDD!S49*Tabla4[[#This Row],[%AFP]],_TOPEIMPONIBLE*Tabla4[[#This Row],[%AFP]])","v":0},null,null,{"$f":"IF(BDD!S49<_TOPEIMPONIBLE,BDD!S49*Tabla4[[#This Row],[%SALUD]],_TOPEIMPONIBLE*Tabla4[[#This Row],[%SALUD]])","v":0},null,null,{"$f":"BDD!S49*Tabla4[[#This Row],[%SEGURO]]","v":0},null,{"$f":"IF(Tabla4[[#This Row],[TOTAL UF]]-Tabla4[[#This Row],[TOTAL SALUD]]<=0,0,Tabla4[[#This Row],[TOTAL UF]]-Tabla4[[#This Row],[TOTAL SALUD]])","v":0},null,{"$f":"BDD!$N$4","v":37838.550000000003},{"$f":"Tabla4[[#This Row],[PACTO UF]]*Tabla4[[#This Row],[VALOR UF]]","v":0},"IMPUESTO UNICO",{"$f":"BDD!S49-Tabla4[[#This Row],[TOTAL AFP]]-Tabla4[[#This Row],[TOTAL SALUD]]-Tabla4[[#This Row],[TOTAL SEGURO CESANTIA]]-Tabla4[[#This Row],[TOTAL ADICIONAL]]","v":0},{"$f":"IF(Tabla4[[#This Row],[PASO DESC. UNIC.]]<=$AT$5,0,IF(Tabla4[[#This Row],[PASO DESC. UNIC.]]<=$AT$6,Tabla4[[#This Row],[PASO DESC. UNIC.]]*$AU$6-$AV$6,IF(Tabla4[[#This Row],[PASO DESC. UNIC.]]<=$AT$7,Tabla4[[#This Row],[PASO DESC. UNIC.]]*$AU$7-$AV$7,IF(Tabla4[[#This Row],[PASO DESC. UNIC.]]<=$AT$8,Tabla4[[#This Row],[PASO DESC. UNIC.]]*$AU$8-$AV$8,IF(Tabla4[[#This Row],[PASO DESC. UNIC.]]<=$AT$9,Tabla4[[#This Row],[PASO DESC. UNIC.]]*$AU$9-$AV$9,IF(Tabla4[[#This Row],[PASO DESC. UNIC.]]<=$AT$10,Tabla4[[#This Row],[PASO DESC. UNIC.]]*$AU$10-$AV$10,IF(Tabla4[[#This Row],[PASO DESC. UNIC.]]>=$AS$11,Tabla4[[#This Row],[PASO DESC. UNIC.]]*$AU$11-$AV$11)))))))","v":0},{"$f":"Tabla4[[#This Row],[TOTAL AFP]]+Tabla4[[#This Row],[TOTAL SALUD]]+Tabla4[[#This Row],[TOTAL SEGURO CESANTIA]]+Tabla4[[#This Row],[TOTAL ADICIONAL]]+Tabla4[[#This Row],[VALOR IMP U.]]+Tabla4[[#This Row],[VALOR OTRO 2]]+Tabla4[[#This Row],[VALOR OTRO 1]]","v":0},null,{"$f":"IF($BP$8 = \"SI\",IF(Tabla4[[#This Row],[TIPO CONTRATO]]=\"Indefinido\",BDD!S49*2.4%,IF(Tabla4[[#This Row],[TIPO CONTRATO]]=\"PLAZO FIJO\",BDD!S49*3%,0)),0)","v":0},null,null,null,null,null,null,{"$f":"BDD!S49*Tabla4[[#This Row],[% SIS]]","v":0},null,null,{"$f":"BDD!S49*Tabla4[[#This Row],[%MUTUAL]]","v":0}]
[null,null,null,null,null,null,null,null,null,44,44,{"$f":"IF(BDD!J50=0,\" \",BDD!J50)","v":" "},null,null,{"$f":"IF(BDD!S50<_TOPEIMPONIBLE,BDD!S50*Tabla4[[#This Row],[%AFP]],_TOPEIMPONIBLE*Tabla4[[#This Row],[%AFP]])","v":0},null,null,{"$f":"IF(BDD!S50<_TOPEIMPONIBLE,BDD!S50*Tabla4[[#This Row],[%SALUD]],_TOPEIMPONIBLE*Tabla4[[#This Row],[%SALUD]])","v":0},null,null,{"$f":"BDD!S50*Tabla4[[#This Row],[%SEGURO]]","v":0},null,{"$f":"IF(Tabla4[[#This Row],[TOTAL UF]]-Tabla4[[#This Row],[TOTAL SALUD]]<=0,0,Tabla4[[#This Row],[TOTAL UF]]-Tabla4[[#This Row],[TOTAL SALUD]])","v":0},null,{"$f":"BDD!$N$4","v":37838.550000000003},{"$f":"Tabla4[[#This Row],[PACTO UF]]*Tabla4[[#This Row],[VALOR UF]]","v":0},"IMPUESTO UNICO",{"$f":"BDD!S50-Tabla4[[#This Row],[TOTAL AFP]]-Tabla4[[#This Row],[TOTAL SALUD]]-Tabla4[[#This Row],[TOTAL SEGURO CESANTIA]]-Tabla4[[#This Row],[TOTAL ADICIONAL]]","v":0},{"$f":"IF(Tabla4[[#This Row],[PASO DESC. UNIC.]]<=$AT$5,0,IF(Tabla4[[#This Row],[PASO DESC. UNIC.]]<=$AT$6,Tabla4[[#This Row],[PASO DESC. UNIC.]]*$AU$6-$AV$6,IF(Tabla4[[#This Row],[PASO DESC. UNIC.]]<=$AT$7,Tabla4[[#This Row],[PASO DESC. UNIC.]]*$AU$7-$AV$7,IF(Tabla4[[#This Row],[PASO DESC. UNIC.]]<=$AT$8,Tabla4[[#This Row],[PASO DESC. UNIC.]]*$AU$8-$AV$8,IF(Tabla4[[#This Row],[PASO DESC. UNIC.]]<=$AT$9,Tabla4[[#This Row],[PASO DESC. UNIC.]]*$AU$9-$AV$9,IF(Tabla4[[#This Row],[PASO DESC. UNIC.]]<=$AT$10,Tabla4[[#This Row],[PASO DESC. UNIC.]]*$AU$10-$AV$10,IF(Tabla4[[#This Row],[PASO DESC. UNIC.]]>=$AS$11,Tabla4[[#This Row],[PASO DESC. UNIC.]]*$AU$11-$AV$11)))))))","v":0},{"$f":"Tabla4[[#This Row],[TOTAL AFP]]+Tabla4[[#This Row],[TOTAL SALUD]]+Tabla4[[#This Row],[TOTAL SEGURO CESANTIA]]+Tabla4[[#This Row],[TOTAL ADICIONAL]]+Tabla4[[#This Row],[VALOR IMP U.]]+Tabla4[[#This Row],[VALOR OTRO 2]]+Tabla4[[#This Row],[VALOR OTRO 1]]","v":0},null,{"$f":"IF($BP$8 = \"SI\",IF(Tabla4[[#This Row],[TIPO CONTRATO]]=\"Indefinido\",BDD!S50*2.4%,IF(Tabla4[[#This Row],[TIPO CONTRATO]]=\"PLAZO FIJO\",BDD!S50*3%,0)),0)","v":0},null,null,null,null,null,null,{"$f":"BDD!S50*Tabla4[[#This Row],[% SIS]]","v":0},null,null,{"$f":"BDD!S50*Tabla4[[#This Row],[%MUTUAL]]","v":0}]
[null,null,null,null,null,null,null,null,null,45,45,{"$f":"IF(BDD!J51=0,\" \",BDD!J51)","v":" "},null,null,{"$f":"IF(BDD!S51<_TOPEIMPONIBLE,BDD!S51*Tabla4[[#This Row],[%AFP]],_TOPEIMPONIBLE*Tabla4[[#This Row],[%AFP]])","v":0},null,null,{"$f":"IF(BDD!S51<_TOPEIMPONIBLE,BDD!S51*Tabla4[[#This Row],[%SALUD]],_TOPEIMPONIBLE*Tabla4[[#This Row],[%SALUD]])","v":0},null,null,{"$f":"BDD!S51*Tabla4[[#This Row],[%SEGURO]]","v":0},null,{"$f":"IF(Tabla4[[#This Row],[TOTAL UF]]-Tabla4[[#This Row],[TOTAL SALUD]]<=0,0,Tabla4[[#This Row],[TOTAL UF]]-Tabla4[[#This Row],[TOTAL SALUD]])","v":0},null,{"$f":"BDD!$N$4","v":37838.550000000003},{"$f":"Tabla4[[#This Row],[PACTO UF]]*Tabla4[[#This Row],[VALOR UF]]","v":0},"IMPUESTO UNICO",{"$f":"BDD!S51-Tabla4[[#This Row],[TOTAL AFP]]-Tabla4[[#This Row],[TOTAL SALUD]]-Tabla4[[#This Row],[TOTAL SEGURO CESANTIA]]-Tabla4[[#This Row],[TOTAL ADICIONAL]]","v":0},{"$f":"IF(Tabla4[[#This Row],[PASO DESC. UNIC.]]<=$AT$5,0,IF(Tabla4[[#This Row],[PASO DESC. UNIC.]]<=$AT$6,Tabla4[[#This Row],[PASO DESC. UNIC.]]*$AU$6-$AV$6,IF(Tabla4[[#This Row],[PASO DESC. UNIC.]]<=$AT$7,Tabla4[[#This Row],[PASO DESC. UNIC.]]*$AU$7-$AV$7,IF(Tabla4[[#This Row],[PASO DESC. UNIC.]]<=$AT$8,Tabla4[[#This Row],[PASO DESC. UNIC.]]*$AU$8-$AV$8,IF(Tabla4[[#This Row],[PASO DESC. UNIC.]]<=$AT$9,Tabla4[[#This Row],[PASO DESC. UNIC.]]*$AU$9-$AV$9,IF(Tabla4[[#This Row],[PASO DESC. UNIC.]]<=$AT$10,Tabla4[[#This Row],[PASO DESC. UNIC.]]*$AU$10-$AV$10,IF(Tabla4[[#This Row],[PASO DESC. UNIC.]]>=$AS$11,Tabla4[[#This Row],[PASO DESC. UNIC.]]*$AU$11-$AV$11)))))))","v":0},{"$f":"Tabla4[[#This Row],[TOTAL AFP]]+Tabla4[[#This Row],[TOTAL SALUD]]+Tabla4[[#This Row],[TOTAL SEGURO CESANTIA]]+Tabla4[[#This Row],[TOTAL ADICIONAL]]+Tabla4[[#This Row],[VALOR IMP U.]]+Tabla4[[#This Row],[VALOR OTRO 2]]+Tabla4[[#This Row],[VALOR OTRO 1]]","v":0},null,{"$f":"IF($BP$8 = \"SI\",IF(Tabla4[[#This Row],[TIPO CONTRATO]]=\"Indefinido\",BDD!S51*2.4%,IF(Tabla4[[#This Row],[TIPO CONTRATO]]=\"PLAZO FIJO\",BDD!S51*3%,0)),0)","v":0},null,null,null,null,null,null,{"$f":"BDD!S51*Tabla4[[#This Row],[% SIS]]","v":0},null,null,{"$f":"BDD!S51*Tabla4[[#This Row],[%MUTUAL]]","v":0}]
[null,null,null,null,null,null,null,null,null,46,46,{"$f":"IF(BDD!J52=0,\" \",BDD!J52)","v":" "},null,null,{"$f":"IF(BDD!S52<_TOPEIMPONIBLE,BDD!S52*Tabla4[[#This Row],[%AFP]],_TOPEIMPONIBLE*Tabla4[[#This Row],[%AFP]])","v":0},null,null,{"$f":"IF(BDD!S52<_TOPEIMPONIBLE,BDD!S52*Tabla4[[#This Row],[%SALUD]],_TOPEIMPONIBLE*Tabla4[[#This Row],[%SALUD]])","v":0},null,null,{"$f":"BDD!S52*Tabla4[[#This Row],[%SEGURO]]","v":0},null,{"$f":"IF(Tabla4[[#This Row],[TOTAL UF]]-Tabla4[[#This Row],[TOTAL SALUD]]<=0,0,Tabla4[[#This Row],[TOTAL UF]]-Tabla4[[#This Row],[TOTAL SALUD]])","v":0},null,{"$f":"BDD!$N$4","v":37838.550000000003},{"$f":"Tabla4[[#This Row],[PACTO UF]]*Tabla4[[#This Row],[VALOR UF]]","v":0},"IMPUESTO UNICO",{"$f":"BDD!S52-Tabla4[[#This Row],[TOTAL AFP]]-Tabla4[[#This Row],[TOTAL SALUD]]-Tabla4[[#This Row],[TOTAL SEGURO CESANTIA]]-Tabla4[[#This Row],[TOTAL ADICIONAL]]","v":0},{"$f":"IF(Tabla4[[#This Row],[PASO DESC. UNIC.]]<=$AT$5,0,IF(Tabla4[[#This Row],[PASO DESC. UNIC.]]<=$AT$6,Tabla4[[#This Row],[PASO DESC. UNIC.]]*$AU$6-$AV$6,IF(Tabla4[[#This Row],[PASO DESC. UNIC.]]<=$AT$7,Tabla4[[#This Row],[PASO DESC. UNIC.]]*$AU$7-$AV$7,IF(Tabla4[[#This Row],[PASO DESC. UNIC.]]<=$AT$8,Tabla4[[#This Row],[PASO DESC. UNIC.]]*$AU$8-$AV$8,IF(Tabla4[[#This Row],[PASO DESC. UNIC.]]<=$AT$9,Tabla4[[#This Row],[PASO DESC. UNIC.]]*$AU$9-$AV$9,IF(Tabla4[[#This Row],[PASO DESC. UNIC.]]<=$AT$10,Tabla4[[#This Row],[PASO DESC. UNIC.]]*$AU$10-$AV$10,IF(Tabla4[[#This Row],[PASO DESC. UNIC.]]>=$AS$11,Tabla4[[#This Row],[PASO DESC. UNIC.]]*$AU$11-$AV$11)))))))","v":0},{"$f":"Tabla4[[#This Row],[TOTAL AFP]]+Tabla4[[#This Row],[TOTAL SALUD]]+Tabla4[[#This Row],[TOTAL SEGURO CESANTIA]]+Tabla4[[#This Row],[TOTAL ADICIONAL]]+Tabla4[[#This Row],[VALOR IMP U.]]+Tabla4[[#This Row],[VALOR OTRO 2]]+Tabla4[[#This Row],[VALOR OTRO 1]]","v":0},null,{"$f":"IF($BP$8 = \"SI\",IF(Tabla4[[#This Row],[TIPO CONTRATO]]=\"Indefinido\",BDD!S52*2.4%,IF(Tabla4[[#This Row],[TIPO CONTRATO]]=\"PLAZO FIJO\",BDD!S52*3%,0)),0)","v":0},null,null,null,null,null,null,{"$f":"BDD!S52*Tabla4[[#This Row],[% SIS]]","v":0},null,null,{"$f":"BDD!S52*Tabla4[[#This Row],[%MUTUAL]]","v":0}]
[null,null,null,null,null,null,null,null,null,47,47,{"$f":"IF(BDD!J53=0,\" \",BDD!J53)","v":" "},null,null,{"$f":"IF(BDD!S53<_TOPEIMPONIBLE,BDD!S53*Tabla4[[#This Row],[%AFP]],_TOPEIMPONIBLE*Tabla4[[#This Row],[%AFP]])","v":0},null,null,{"$f":"IF(BDD!S53<_TOPEIMPONIBLE,BDD!S53*Tabla4[[#This Row],[%SALUD]],_TOPEIMPONIBLE*Tabla4[[#This Row],[%SALUD]])","v":0},null,null,{"$f":"BDD!S53*Tabla4[[#This Row],[%SEGURO]]","v":0},null,{"$f":"IF(Tabla4[[#This Row],[TOTAL UF]]-Tabla4[[#This Row],[TOTAL SALUD]]<=0,0,Tabla4[[#This Row],[TOTAL UF]]-Tabla4[[#This Row],[TOTAL SALUD]])","v":0},null,{"$f":"BDD!$N$4","v":37838.550000000003},{"$f":"Tabla4[[#This Row],[PACTO UF]]*Tabla4[[#This Row],[VALOR UF]]","v":0},"IMPUESTO UNICO",{"$f":"BDD!S53-Tabla4[[#This Row],[TOTAL AFP]]-Tabla4[[#This Row],[TOTAL SALUD]]-Tabla4[[#This Row],[TOTAL SEGURO CESANTIA]]-Tabla4[[#This Row],[TOTAL ADICIONAL]]","v":0},{"$f":"IF(Tabla4[[#This Row],[PASO DESC. UNIC.]]<=$AT$5,0,IF(Tabla4[[#This Row],[PASO DESC. UNIC.]]<=$AT$6,Tabla4[[#This Row],[PASO DESC. UNIC.]]*$AU$6-$AV$6,IF(Tabla4[[#This Row],[PASO DESC. UNIC.]]<=$AT$7,Tabla4[[#This Row],[PASO DESC. UNIC.]]*$AU$7-$AV$7,IF(Tabla4[[#This Row],[PASO DESC. UNIC.]]<=$AT$8,Tabla4[[#This Row],[PASO DESC. UNIC.]]*$AU$8-$AV$8,IF(Tabla4[[#This Row],[PASO DESC. UNIC.]]<=$AT$9,Tabla4[[#This Row],[PASO DESC. UNIC.]]*$AU$9-$AV$9,IF(Tabla4[[#This Row],[PASO DESC. UNIC.]]<=$AT$10,Tabla4[[#This Row],[PASO DESC. UNIC.]]*$AU$10-$AV$10,IF(Tabla4[[#This Row],[PASO DESC. UNIC.]]>=$AS$11,Tabla4[[#This Row],[PASO DESC. UNIC.]]*$AU$11-$AV$11)))))))","v":0},{"$f":"Tabla4[[#This Row],[TOTAL AFP]]+Tabla4[[#This Row],[TOTAL SALUD]]+Tabla4[[#This Row],[TOTAL SEGURO CESANTIA]]+Tabla4[[#This Row],[TOTAL ADICIONAL]]+Tabla4[[#This Row],[VALOR IMP U.]]+Tabla4[[#This Row],[VALOR OTRO 2]]+Tabla4[[#This Row],[VALOR OTRO 1]]","v":0},null,{"$f":"IF($BP$8 = \"SI\",IF(Tabla4[[#This Row],[TIPO CONTRATO]]=\"Indefinido\",BDD!S53*2.4%,IF(Tabla4[[#This Row],[TIPO CONTRATO]]=\"PLAZO FIJO\",BDD!S53*3%,0)),0)","v":0},null,null,null,null,null,null,{"$f":"BDD!S53*Tabla4[[#This Row],[% SIS]]","v":0},null,null,{"$f":"BDD!S53*Tabla4[[#This Row],[%MUTUAL]]","v":0}]
[null,null,null,null,null,null,null,null,null,48,48,{"$f":"IF(BDD!J54=0,\" \",BDD!J54)","v":" "},null,null,{"$f":"IF(BDD!S54<_TOPEIMPONIBLE,BDD!S54*Tabla4[[#This Row],[%AFP]],_TOPEIMPONIBLE*Tabla4[[#This Row],[%AFP]])","v":0},null,null,{"$f":"IF(BDD!S54<_TOPEIMPONIBLE,BDD!S54*Tabla4[[#This Row],[%SALUD]],_TOPEIMPONIBLE*Tabla4[[#This Row],[%SALUD]])","v":0},null,null,{"$f":"BDD!S54*Tabla4[[#This Row],[%SEGURO]]","v":0},null,{"$f":"IF(Tabla4[[#This Row],[TOTAL UF]]-Tabla4[[#This Row],[TOTAL SALUD]]<=0,0,Tabla4[[#This Row],[TOTAL UF]]-Tabla4[[#This Row],[TOTAL SALUD]])","v":0},null,{"$f":"BDD!$N$4","v":37838.550000000003},{"$f":"Tabla4[[#This Row],[PACTO UF]]*Tabla4[[#This Row],[VALOR UF]]","v":0},"IMPUESTO UNICO",{"$f":"BDD!S54-Tabla4[[#This Row],[TOTAL AFP]]-Tabla4[[#This Row],[TOTAL SALUD]]-Tabla4[[#This Row],[TOTAL SEGURO CESANTIA]]-Tabla4[[#This Row],[TOTAL ADICIONAL]]","v":0},{"$f":"IF(Tabla4[[#This Row],[PASO DESC. UNIC.]]<=$AT$5,0,IF(Tabla4[[#This Row],[PASO DESC. UNIC.]]<=$AT$6,Tabla4[[#This Row],[PASO DESC. UNIC.]]*$AU$6-$AV$6,IF(Tabla4[[#This Row],[PASO DESC. UNIC.]]<=$AT$7,Tabla4[[#This Row],[PASO DESC. UNIC.]]*$AU$7-$AV$7,IF(Tabla4[[#This Row],[PASO DESC. UNIC.]]<=$AT$8,Tabla4[[#This Row],[PASO DESC. UNIC.]]*$AU$8-$AV$8,IF(Tabla4[[#This Row],[PASO DESC. UNIC.]]<=$AT$9,Tabla4[[#This Row],[PASO DESC. UNIC.]]*$AU$9-$AV$9,IF(Tabla4[[#This Row],[PASO DESC. UNIC.]]<=$AT$10,Tabla4[[#This Row],[PASO DESC. UNIC.]]*$AU$10-$AV$10,IF(Tabla4[[#This Row],[PASO DESC. UNIC.]]>=$AS$11,Tabla4[[#This Row],[PASO DESC. UNIC.]]*$AU$11-$AV$11)))))))","v":0},{"$f":"Tabla4[[#This Row],[TOTAL AFP]]+Tabla4[[#This Row],[TOTAL SALUD]]+Tabla4[[#This Row],[TOTAL SEGURO CESANTIA]]+Tabla4[[#This Row],[TOTAL ADICIONAL]]+Tabla4[[#This Row],[VALOR IMP U.]]+Tabla4[[#This Row],[VALOR OTRO 2]]+Tabla4[[#This Row],[VALOR OTRO 1]]","v":0},null,{"$f":"IF($BP$8 = \"SI\",IF(Tabla4[[#This Row],[TIPO CONTRATO]]=\"Indefinido\",BDD!S54*2.4%,IF(Tabla4[[#This Row],[TIPO CONTRATO]]=\"PLAZO FIJO\",BDD!S54*3%,0)),0)","v":0},null,null,null,null,null,null,{"$f":"BDD!S54*Tabla4[[#This Row],[% SIS]]","v":0},null,null,{"$f":"BDD!S54*Tabla4[[#This Row],[%MUTUAL]]","v":0}]
[null,null,null,null,null,null,null,null,null,49,49,{"$f":"IF(BDD!J55=0,\" \",BDD!J55)","v":" "},null,null,{"$f":"IF(BDD!S55<_TOPEIMPONIBLE,BDD!S55*Tabla4[[#This Row],[%AFP]],_TOPEIMPONIBLE*Tabla4[[#This Row],[%AFP]])","v":0},null,null,{"$f":"IF(BDD!S55<_TOPEIMPONIBLE,BDD!S55*Tabla4[[#This Row],[%SALUD]],_TOPEIMPONIBLE*Tabla4[[#This Row],[%SALUD]])","v":0},null,null,{"$f":"BDD!S55*Tabla4[[#This Row],[%SEGURO]]","v":0},null,{"$f":"IF(Tabla4[[#This Row],[TOTAL UF]]-Tabla4[[#This Row],[TOTAL SALUD]]<=0,0,Tabla4[[#This Row],[TOTAL UF]]-Tabla4[[#This Row],[TOTAL SALUD]])","v":0},null,{"$f":"BDD!$N$4","v":37838.550000000003},{"$f":"Tabla4[[#This Row],[PACTO UF]]*Tabla4[[#This Row],[VALOR UF]]","v":0},"IMPUESTO UNICO",{"$f":"BDD!S55-Tabla4[[#This Row],[TOTAL AFP]]-Tabla4[[#This Row],[TOTAL SALUD]]-Tabla4[[#This Row],[TOTAL SEGURO CESANTIA]]-Tabla4[[#This Row],[TOTAL ADICIONAL]]","v":0},{"$f":"IF(Tabla4[[#This Row],[PASO DESC. UNIC.]]<=$AT$5,0,IF(Tabla4[[#This Row],[PASO DESC. UNIC.]]<=$AT$6,Tabla4[[#This Row],[PASO DESC. UNIC.]]*$AU$6-$AV$6,IF(Tabla4[[#This Row],[PASO DESC. UNIC.]]<=$AT$7,Tabla4[[#This Row],[PASO DESC. UNIC.]]*$AU$7-$AV$7,IF(Tabla4[[#This Row],[PASO DESC. UNIC.]]<=$AT$8,Tabla4[[#This Row],[PASO DESC. UNIC.]]*$AU$8-$AV$8,IF(Tabla4[[#This Row],[PASO DESC. UNIC.]]<=$AT$9,Tabla4[[#This Row],[PASO DESC. UNIC.]]*$AU$9-$AV$9,IF(Tabla4[[#This Row],[PASO DESC. UNIC.]]<=$AT$10,Tabla4[[#This Row],[PASO DESC. UNIC.]]*$AU$10-$AV$10,IF(Tabla4[[#This Row],[PASO DESC. UNIC.]]>=$AS$11,Tabla4[[#This Row],[PASO DESC. UNIC.]]*$AU$11-$AV$11)))))))","v":0},{"$f":"Tabla4[[#This Row],[TOTAL AFP]]+Tabla4[[#This Row],[TOTAL SALUD]]+Tabla4[[#This Row],[TOTAL SEGURO CESANTIA]]+Tabla4[[#This Row],[TOTAL ADICIONAL]]+Tabla4[[#This Row],[VALOR IMP U.]]+Tabla4[[#This Row],[VALOR OTRO 2]]+Tabla4[[#This Row],[VALOR OTRO 1]]","v":0},null,{"$f":"IF($BP$8 = \"SI\",IF(Tabla4[[#This Row],[TIPO CONTRATO]]=\"Indefinido\",BDD!S55*2.4%,IF(Tabla4[[#This Row],[TIPO CONTRATO]]=\"PLAZO FIJO\",BDD!S55*3%,0)),0)","v":0},null,null,null,null,null,null,{"$f":"BDD!S55*Tabla4[[#This Row],[% SIS]]","v":0},null,null,{"$f":"BDD!S55*Tabla4[[#This Row],[%MUTUAL]]","v":0}]
[null,null,null,null,null,null,null,null,null,50,50,{"$f":"IF(BDD!J56=0,\" \",BDD!J56)","v":" "},null,null,{"$f":"IF(BDD!S56<_TOPEIMPONIBLE,BDD!S56*Tabla4[[#This Row],[%AFP]],_TOPEIMPONIBLE*Tabla4[[#This Row],[%AFP]])","v":0},null,null,{"$f":"IF(BDD!S56<_TOPEIMPONIBLE,BDD!S56*Tabla4[[#This Row],[%SALUD]],_TOPEIMPONIBLE*Tabla4[[#This Row],[%SALUD]])","v":0},null,null,{"$f":"BDD!S56*Tabla4[[#This Row],[%SEGURO]]","v":0},null,{"$f":"IF(Tabla4[[#This Row],[TOTAL UF]]-Tabla4[[#This Row],[TOTAL SALUD]]<=0,0,Tabla4[[#This Row],[TOTAL UF]]-Tabla4[[#This Row],[TOTAL SALUD]])","v":0},null,{"$f":"BDD!$N$4","v":37838.550000000003},{"$f":"Tabla4[[#This Row],[PACTO UF]]*Tabla4[[#This Row],[VALOR UF]]","v":0},"IMPUESTO UNICO",{"$f":"BDD!S56-Tabla4[[#This Row],[TOTAL AFP]]-Tabla4[[#This Row],[TOTAL SALUD]]-Tabla4[[#This Row],[TOTAL SEGURO CESANTIA]]-Tabla4[[#This Row],[TOTAL ADICIONAL]]","v":0},{"$f":"IF(Tabla4[[#This Row],[PASO DESC. UNIC.]]<=$AT$5,0,IF(Tabla4[[#This Row],[PASO DESC. UNIC.]]<=$AT$6,Tabla4[[#This Row],[PASO DESC. UNIC.]]*$AU$6-$AV$6,IF(Tabla4[[#This Row],[PASO DESC. UNIC.]]<=$AT$7,Tabla4[[#This Row],[PASO DESC. UNIC.]]*$AU$7-$AV$7,IF(Tabla4[[#This Row],[PASO DESC. UNIC.]]<=$AT$8,Tabla4[[#This Row],[PASO DESC. UNIC.]]*$AU$8-$AV$8,IF(Tabla4[[#This Row],[PASO DESC. UNIC.]]<=$AT$9,Tabla4[[#This Row],[PASO DESC. UNIC.]]*$AU$9-$AV$9,IF(Tabla4[[#This Row],[PASO DESC. UNIC.]]<=$AT$10,Tabla4[[#This Row],[PASO DESC. UNIC.]]*$AU$10-$AV$10,IF(Tabla4[[#This Row],[PASO DESC. UNIC.]]>=$AS$11,Tabla4[[#This Row],[PASO DESC. UNIC.]]*$AU$11-$AV$11)))))))","v":0},{"$f":"Tabla4[[#This Row],[TOTAL AFP]]+Tabla4[[#This Row],[TOTAL SALUD]]+Tabla4[[#This Row],[TOTAL SEGURO CESANTIA]]+Tabla4[[#This Row],[TOTAL ADICIONAL]]+Tabla4[[#This Row],[VALOR IMP U.]]+Tabla4[[#This Row],[VALOR OTRO 2]]+Tabla4[[#This Row],[VALOR OTRO 1]]","v":0},null,{"$f":"IF($BP$8 = \"SI\",IF(Tabla4[[#This Row],[TIPO CONTRATO]]=\"Indefinido\",BDD!S56*2.4%,IF(Tabla4[[#This Row],[TIPO CONTRATO]]=\"PLAZO FIJO\",BDD!S56*3%,0)),0)","v":0},null,null,null,null,null,null,{"$f":"BDD!S56*Tabla4[[#This Row],[% SIS]]","v":0},null,null,{"$f":"BDD!S56*Tabla4[[#This Row],[%MUTUAL]]","v":0}]
[null,null,null,null,null,null,null,null,null,null,51,{"$f":"IF(BDD!J57=0,\" \",BDD!J57)","v":" "},null,null,{"$f":"IF(BDD!S57<_TOPEIMPONIBLE,BDD!S57*Tabla4[[#This Row],[%AFP]],_TOPEIMPONIBLE*Tabla4[[#This Row],[%AFP]])","v":0},null,null,{"$f":"IF(BDD!S57<_TOPEIMPONIBLE,BDD!S57*Tabla4[[#This Row],[%SALUD]],_TOPEIMPONIBLE*Tabla4[[#This Row],[%SALUD]])","v":0},null,null,{"$f":"BDD!S57*Tabla4[[#This Row],[%SEGURO]]","v":0},null,{"$f":"IF(Tabla4[[#This Row],[TOTAL UF]]-Tabla4[[#This Row],[TOTAL SALUD]]<=0,0,Tabla4[[#This Row],[TOTAL UF]]-Tabla4[[#This Row],[TOTAL SALUD]])","v":0},null,{"$f":"BDD!$N$4","v":37838.550000000003},{"$f":"Tabla4[[#This Row],[PACTO UF]]*Tabla4[[#This Row],[VALOR UF]]","v":0},"IMPUESTO UNICO",{"$f":"BDD!S57-Tabla4[[#This Row],[TOTAL AFP]]-Tabla4[[#This Row],[TOTAL SALUD]]-Tabla4[[#This Row],[TOTAL SEGURO CESANTIA]]-Tabla4[[#This Row],[TOTAL ADICIONAL]]","v":0},{"$f":"IF(Tabla4[[#This Row],[PASO DESC. UNIC.]]<=$AT$5,0,IF(Tabla4[[#This Row],[PASO DESC. UNIC.]]<=$AT$6,Tabla4[[#This Row],[PASO DESC. UNIC.]]*$AU$6-$AV$6,IF(Tabla4[[#This Row],[PASO DESC. UNIC.]]<=$AT$7,Tabla4[[#This Row],[PASO DESC. UNIC.]]*$AU$7-$AV$7,IF(Tabla4[[#This Row],[PASO DESC. UNIC.]]<=$AT$8,Tabla4[[#This Row],[PASO DESC. UNIC.]]*$AU$8-$AV$8,IF(Tabla4[[#This Row],[PASO DESC. UNIC.]]<=$AT$9,Tabla4[[#This Row],[PASO DESC. UNIC.]]*$AU$9-$AV$9,IF(Tabla4[[#This Row],[PASO DESC. UNIC.]]<=$AT$10,Tabla4[[#This Row],[PASO DESC. UNIC.]]*$AU$10-$AV$10,IF(Tabla4[[#This Row],[PASO DESC. UNIC.]]>=$AS$11,Tabla4[[#This Row],[PASO DESC. UNIC.]]*$AU$11-$AV$11)))))))","v":0},{"$f":"Tabla4[[#This Row],[TOTAL AFP]]+Tabla4[[#This Row],[TOTAL SALUD]]+Tabla4[[#This Row],[TOTAL SEGURO CESANTIA]]+Tabla4[[#This Row],[TOTAL ADICIONAL]]+Tabla4[[#This Row],[VALOR IMP U.]]+Tabla4[[#This Row],[VALOR OTRO 2]]+Tabla4[[#This Row],[VALOR OTRO 1]]","v":0},null,{"$f":"IF($BP$8 = \"SI\",IF(Tabla4[[#This Row],[TIPO CONTRATO]]=\"Indefinido\",BDD!S57*2.4%,IF(Tabla4[[#This Row],[TIPO CONTRATO]]=\"PLAZO FIJO\",BDD!S57*3%,0)),0)","v":0},null,null,null,null,null,null,{"$f":"BDD!S57*Tabla4[[#This Row],[% SIS]]","v":0},null,null,{"$f":"BDD!S57*Tabla4[[#This Row],[%MUTUAL]]","v":0}]
[null,null,null,null,null,null,null,null,null,null,52,{"$f":"IF(BDD!J58=0,\" \",BDD!J58)","v":" "},null,null,{"$f":"IF(BDD!S58<_TOPEIMPONIBLE,BDD!S58*Tabla4[[#This Row],[%AFP]],_TOPEIMPONIBLE*Tabla4[[#This Row],[%AFP]])","v":0},null,null,{"$f":"IF(BDD!S58<_TOPEIMPONIBLE,BDD!S58*Tabla4[[#This Row],[%SALUD]],_TOPEIMPONIBLE*Tabla4[[#This Row],[%SALUD]])","v":0},null,null,{"$f":"BDD!S58*Tabla4[[#This Row],[%SEGURO]]","v":0},null,{"$f":"IF(Tabla4[[#This Row],[TOTAL UF]]-Tabla4[[#This Row],[TOTAL SALUD]]<=0,0,Tabla4[[#This Row],[TOTAL UF]]-Tabla4[[#This Row],[TOTAL SALUD]])","v":0},null,{"$f":"BDD!$N$4","v":37838.550000000003},{"$f":"Tabla4[[#This Row],[PACTO UF]]*Tabla4[[#This Row],[VALOR UF]]","v":0},"IMPUESTO UNICO",{"$f":"BDD!S58-Tabla4[[#This Row],[TOTAL AFP]]-Tabla4[[#This Row],[TOTAL SALUD]]-Tabla4[[#This Row],[TOTAL SEGURO CESANTIA]]-Tabla4[[#This Row],[TOTAL ADICIONAL]]","v":0},{"$f":"IF(Tabla4[[#This Row],[PASO DESC. UNIC.]]<=$AT$5,0,IF(Tabla4[[#This Row],[PASO DESC. UNIC.]]<=$AT$6,Tabla4[[#This Row],[PASO DESC. UNIC.]]*$AU$6-$AV$6,IF(Tabla4[[#This Row],[PASO DESC. UNIC.]]<=$AT$7,Tabla4[[#This Row],[PASO DESC. UNIC.]]*$AU$7-$AV$7,IF(Tabla4[[#This Row],[PASO DESC. UNIC.]]<=$AT$8,Tabla4[[#This Row],[PASO DESC. UNIC.]]*$AU$8-$AV$8,IF(Tabla4[[#This Row],[PASO DESC. UNIC.]]<=$AT$9,Tabla4[[#This Row],[PASO DESC. UNIC.]]*$AU$9-$AV$9,IF(Tabla4[[#This Row],[PASO DESC. UNIC.]]<=$AT$10,Tabla4[[#This Row],[PASO DESC. UNIC.]]*$AU$10-$AV$10,IF(Tabla4[[#This Row],[PASO DESC. UNIC.]]>=$AS$11,Tabla4[[#This Row],[PASO DESC. UNIC.]]*$AU$11-$AV$11)))))))","v":0},{"$f":"Tabla4[[#This Row],[TOTAL AFP]]+Tabla4[[#This Row],[TOTAL SALUD]]+Tabla4[[#This Row],[TOTAL SEGURO CESANTIA]]+Tabla4[[#This Row],[TOTAL ADICIONAL]]+Tabla4[[#This Row],[VALOR IMP U.]]+Tabla4[[#This Row],[VALOR OTRO 2]]+Tabla4[[#This Row],[VALOR OTRO 1]]","v":0},null,{"$f":"IF($BP$8 = \"SI\",IF(Tabla4[[#This Row],[TIPO CONTRATO]]=\"Indefinido\",BDD!S58*2.4%,IF(Tabla4[[#This Row],[TIPO CONTRATO]]=\"PLAZO FIJO\",BDD!S58*3%,0)),0)","v":0},null,null,null,null,null,null,{"$f":"BDD!S58*Tabla4[[#This Row],[% SIS]]","v":0},null,null,{"$f":"BDD!S58*Tabla4[[#This Row],[%MUTUAL]]","v":0}]
[null,null,null,null,null,null,null,null,null,null,53,{"$f":"IF(BDD!J59=0,\" \",BDD!J59)","v":" "},null,null,{"$f":"IF(BDD!S59<_TOPEIMPONIBLE,BDD!S59*Tabla4[[#This Row],[%AFP]],_TOPEIMPONIBLE*Tabla4[[#This Row],[%AFP]])","v":0},null,null,{"$f":"IF(BDD!S59<_TOPEIMPONIBLE,BDD!S59*Tabla4[[#This Row],[%SALUD]],_TOPEIMPONIBLE*Tabla4[[#This Row],[%SALUD]])","v":0},null,null,{"$f":"BDD!S59*Tabla4[[#This Row],[%SEGURO]]","v":0},null,{"$f":"IF(Tabla4[[#This Row],[TOTAL UF]]-Tabla4[[#This Row],[TOTAL SALUD]]<=0,0,Tabla4[[#This Row],[TOTAL UF]]-Tabla4[[#This Row],[TOTAL SALUD]])","v":0},null,{"$f":"BDD!$N$4","v":37838.550000000003},{"$f":"Tabla4[[#This Row],[PACTO UF]]*Tabla4[[#This Row],[VALOR UF]]","v":0},"IMPUESTO UNICO",{"$f":"BDD!S59-Tabla4[[#This Row],[TOTAL AFP]]-Tabla4[[#This Row],[TOTAL SALUD]]-Tabla4[[#This Row],[TOTAL SEGURO CESANTIA]]-Tabla4[[#This Row],[TOTAL ADICIONAL]]","v":0},{"$f":"IF(Tabla4[[#This Row],[PASO DESC. UNIC.]]<=$AT$5,0,IF(Tabla4[[#This Row],[PASO DESC. UNIC.]]<=$AT$6,Tabla4[[#This Row],[PASO DESC. UNIC.]]*$AU$6-$AV$6,IF(Tabla4[[#This Row],[PASO DESC. UNIC.]]<=$AT$7,Tabla4[[#This Row],[PASO DESC. UNIC.]]*$AU$7-$AV$7,IF(Tabla4[[#This Row],[PASO DESC. UNIC.]]<=$AT$8,Tabla4[[#This Row],[PASO DESC. UNIC.]]*$AU$8-$AV$8,IF(Tabla4[[#This Row],[PASO DESC. UNIC.]]<=$AT$9,Tabla4[[#This Row],[PASO DESC. UNIC.]]*$AU$9-$AV$9,IF(Tabla4[[#This Row],[PASO DESC. UNIC.]]<=$AT$10,Tabla4[[#This Row],[PASO DESC. UNIC.]]*$AU$10-$AV$10,IF(Tabla4[[#This Row],[PASO DESC. UNIC.]]>=$AS$11,Tabla4[[#This Row],[PASO DESC. UNIC.]]*$AU$11-$AV$11)))))))","v":0},{"$f":"Tabla4[[#This Row],[TOTAL AFP]]+Tabla4[[#This Row],[TOTAL SALUD]]+Tabla4[[#This Row],[TOTAL SEGURO CESANTIA]]+Tabla4[[#This Row],[TOTAL ADICIONAL]]+Tabla4[[#This Row],[VALOR IMP U.]]+Tabla4[[#This Row],[VALOR OTRO 2]]+Tabla4[[#This Row],[VALOR OTRO 1]]","v":0},null,{"$f":"IF($BP$8 = \"SI\",IF(Tabla4[[#This Row],[TIPO CONTRATO]]=\"Indefinido\",BDD!S59*2.4%,IF(Tabla4[[#This Row],[TIPO CONTRATO]]=\"PLAZO FIJO\",BDD!S59*3%,0)),0)","v":0},null,null,null,null,null,null,{"$f":"BDD!S59*Tabla4[[#This Row],[% SIS]]","v":0},null,null,{"$f":"BDD!S59*Tabla4[[#This Row],[%MUTUAL]]","v":0}]
[null,null,null,null,null,null,null,null,null,null,54,{"$f":"IF(BDD!J60=0,\" \",BDD!J60)","v":" "},null,null,{"$f":"IF(BDD!S60<_TOPEIMPONIBLE,BDD!S60*Tabla4[[#This Row],[%AFP]],_TOPEIMPONIBLE*Tabla4[[#This Row],[%AFP]])","v":0},null,null,{"$f":"IF(BDD!S60<_TOPEIMPONIBLE,BDD!S60*Tabla4[[#This Row],[%SALUD]],_TOPEIMPONIBLE*Tabla4[[#This Row],[%SALUD]])","v":0},null,null,{"$f":"BDD!S60*Tabla4[[#This Row],[%SEGURO]]","v":0},null,{"$f":"IF(Tabla4[[#This Row],[TOTAL UF]]-Tabla4[[#This Row],[TOTAL SALUD]]<=0,0,Tabla4[[#This Row],[TOTAL UF]]-Tabla4[[#This Row],[TOTAL SALUD]])","v":0},null,{"$f":"BDD!$N$4","v":37838.550000000003},{"$f":"Tabla4[[#This Row],[PACTO UF]]*Tabla4[[#This Row],[VALOR UF]]","v":0},"IMPUESTO UNICO",{"$f":"BDD!S60-Tabla4[[#This Row],[TOTAL AFP]]-Tabla4[[#This Row],[TOTAL SALUD]]-Tabla4[[#This Row],[TOTAL SEGURO CESANTIA]]-Tabla4[[#This Row],[TOTAL ADICIONAL]]","v":0},{"$f":"IF(Tabla4[[#This Row],[PASO DESC. UNIC.]]<=$AT$5,0,IF(Tabla4[[#This Row],[PASO DESC. UNIC.]]<=$AT$6,Tabla4[[#This Row],[PASO DESC. UNIC.]]*$AU$6-$AV$6,IF(Tabla4[[#This Row],[PASO DESC. UNIC.]]<=$AT$7,Tabla4[[#This Row],[PASO DESC. UNIC.]]*$AU$7-$AV$7,IF(Tabla4[[#This Row],[PASO DESC. UNIC.]]<=$AT$8,Tabla4[[#This Row],[PASO DESC. UNIC.]]*$AU$8-$AV$8,IF(Tabla4[[#This Row],[PASO DESC. UNIC.]]<=$AT$9,Tabla4[[#This Row],[PASO DESC. UNIC.]]*$AU$9-$AV$9,IF(Tabla4[[#This Row],[PASO DESC. UNIC.]]<=$AT$10,Tabla4[[#This Row],[PASO DESC. UNIC.]]*$AU$10-$AV$10,IF(Tabla4[[#This Row],[PASO DESC. UNIC.]]>=$AS$11,Tabla4[[#This Row],[PASO DESC. UNIC.]]*$AU$11-$AV$11)))))))","v":0},{"$f":"Tabla4[[#This Row],[TOTAL AFP]]+Tabla4[[#This Row],[TOTAL SALUD]]+Tabla4[[#This Row],[TOTAL SEGURO CESANTIA]]+Tabla4[[#This Row],[TOTAL ADICIONAL]]+Tabla4[[#This Row],[VALOR IMP U.]]+Tabla4[[#This Row],[VALOR OTRO 2]]+Tabla4[[#This Row],[VALOR OTRO 1]]","v":0},null,{"$f":"IF($BP$8 = \"SI\",IF(Tabla4[[#This Row],[TIPO CONTRATO]]=\"Indefinido\",BDD!S60*2.4%,IF(Tabla4[[#This Row],[TIPO CONTRATO]]=\"PLAZO FIJO\",BDD!S60*3%,0)),0)","v":0},null,null,null,null,null,null,{"$f":"BDD!S60*Tabla4[[#This Row],[% SIS]]","v":0},null,null,{"$f":"BDD!S60*Tabla4[[#This Row],[%MUTUAL]]","v":0}]
[null,null,null,null,null,null,null,null,null,null,55,{"$f":"IF(BDD!J61=0,\" \",BDD!J61)","v":" "},null,null,{"$f":"IF(BDD!S61<_TOPEIMPONIBLE,BDD!S61*Tabla4[[#This Row],[%AFP]],_TOPEIMPONIBLE*Tabla4[[#This Row],[%AFP]])","v":0},null,null,{"$f":"IF(BDD!S61<_TOPEIMPONIBLE,BDD!S61*Tabla4[[#This Row],[%SALUD]],_TOPEIMPONIBLE*Tabla4[[#This Row],[%SALUD]])","v":0},null,null,{"$f":"BDD!S61*Tabla4[[#This Row],[%SEGURO]]","v":0},null,{"$f":"IF(Tabla4[[#This Row],[TOTAL UF]]-Tabla4[[#This Row],[TOTAL SALUD]]<=0,0,Tabla4[[#This Row],[TOTAL UF]]-Tabla4[[#This Row],[TOTAL SALUD]])","v":0},null,{"$f":"BDD!$N$4","v":37838.550000000003},{"$f":"Tabla4[[#This Row],[PACTO UF]]*Tabla4[[#This Row],[VALOR UF]]","v":0},"IMPUESTO UNICO",{"$f":"BDD!S61-Tabla4[[#This Row],[TOTAL AFP]]-Tabla4[[#This Row],[TOTAL SALUD]]-Tabla4[[#This Row],[TOTAL SEGURO CESANTIA]]-Tabla4[[#This Row],[TOTAL ADICIONAL]]","v":0},{"$f":"IF(Tabla4[[#This Row],[PASO DESC. UNIC.]]<=$AT$5,0,IF(Tabla4[[#This Row],[PASO DESC. UNIC.]]<=$AT$6,Tabla4[[#This Row],[PASO DESC. UNIC.]]*$AU$6-$AV$6,IF(Tabla4[[#This Row],[PASO DESC. UNIC.]]<=$AT$7,Tabla4[[#This Row],[PASO DESC. UNIC.]]*$AU$7-$AV$7,IF(Tabla4[[#This Row],[PASO DESC. UNIC.]]<=$AT$8,Tabla4[[#This Row],[PASO DESC. UNIC.]]*$AU$8-$AV$8,IF(Tabla4[[#This Row],[PASO DESC. UNIC.]]<=$AT$9,Tabla4[[#This Row],[PASO DESC. UNIC.]]*$AU$9-$AV$9,IF(Tabla4[[#This Row],[PASO DESC. UNIC.]]<=$AT$10,Tabla4[[#This Row],[PASO DESC. UNIC.]]*$AU$10-$AV$10,IF(Tabla4[[#This Row],[PASO DESC. UNIC.]]>=$AS$11,Tabla4[[#This Row],[PASO DESC. UNIC.]]*$AU$11-$AV$11)))))))","v":0},{"$f":"Tabla4[[#This Row],[TOTAL AFP]]+Tabla4[[#This Row],[TOTAL SALUD]]+Tabla4[[#This Row],[TOTAL SEGURO CESANTIA]]+Tabla4[[#This Row],[TOTAL ADICIONAL]]+Tabla4[[#This Row],[VALOR IMP U.]]+Tabla4[[#This Row],[VALOR OTRO 2]]+Tabla4[[#This Row],[VALOR OTRO 1]]","v":0},null,{"$f":"IF($BP$8 = \"SI\",IF(Tabla4[[#This Row],[TIPO CONTRATO]]=\"Indefinido\",BDD!S61*2.4%,IF(Tabla4[[#This Row],[TIPO CONTRATO]]=\"PLAZO FIJO\",BDD!S61*3%,0)),0)","v":0},null,null,null,null,null,null,{"$f":"BDD!S61*Tabla4[[#This Row],[% SIS]]","v":0},null,null,{"$f":"BDD!S61*Tabla4[[#This Row],[%MUTUAL]]","v":0}]
[null,null,null,null,null,null,null,null,null,null,56,{"$f":"IF(BDD!J62=0,\" \",BDD!J62)","v":" "},null,null,{"$f":"IF(BDD!S62<_TOPEIMPONIBLE,BDD!S62*Tabla4[[#This Row],[%AFP]],_TOPEIMPONIBLE*Tabla4[[#This Row],[%AFP]])","v":0},null,null,{"$f":"IF(BDD!S62<_TOPEIMPONIBLE,BDD!S62*Tabla4[[#This Row],[%SALUD]],_TOPEIMPONIBLE*Tabla4[[#This Row],[%SALUD]])","v":0},null,null,{"$f":"BDD!S62*Tabla4[[#This Row],[%SEGURO]]","v":0},null,{"$f":"IF(Tabla4[[#This Row],[TOTAL UF]]-Tabla4[[#This Row],[TOTAL SALUD]]<=0,0,Tabla4[[#This Row],[TOTAL UF]]-Tabla4[[#This Row],[TOTAL SALUD]])","v":0},null,{"$f":"BDD!$N$4","v":37838.550000000003},{"$f":"Tabla4[[#This Row],[PACTO UF]]*Tabla4[[#This Row],[VALOR UF]]","v":0},"IMPUESTO UNICO",{"$f":"BDD!S62-Tabla4[[#This Row],[TOTAL AFP]]-Tabla4[[#This Row],[TOTAL SALUD]]-Tabla4[[#This Row],[TOTAL SEGURO CESANTIA]]-Tabla4[[#This Row],[TOTAL ADICIONAL]]","v":0},{"$f":"IF(Tabla4[[#This Row],[PASO DESC. UNIC.]]<=$AT$5,0,IF(Tabla4[[#This Row],[PASO DESC. UNIC.]]<=$AT$6,Tabla4[[#This Row],[PASO DESC. UNIC.]]*$AU$6-$AV$6,IF(Tabla4[[#This Row],[PASO DESC. UNIC.]]<=$AT$7,Tabla4[[#This Row],[PASO DESC. UNIC.]]*$AU$7-$AV$7,IF(Tabla4[[#This Row],[PASO DESC. UNIC.]]<=$AT$8,Tabla4[[#This Row],[PASO DESC. UNIC.]]*$AU$8-$AV$8,IF(Tabla4[[#This Row],[PASO DESC. UNIC.]]<=$AT$9,Tabla4[[#This Row],[PASO DESC. UNIC.]]*$AU$9-$AV$9,IF(Tabla4[[#This Row],[PASO DESC. UNIC.]]<=$AT$10,Tabla4[[#This Row],[PASO DESC. UNIC.]]*$AU$10-$AV$10,IF(Tabla4[[#This Row],[PASO DESC. UNIC.]]>=$AS$11,Tabla4[[#This Row],[PASO DESC. UNIC.]]*$AU$11-$AV$11)))))))","v":0},{"$f":"Tabla4[[#This Row],[TOTAL AFP]]+Tabla4[[#This Row],[TOTAL SALUD]]+Tabla4[[#This Row],[TOTAL SEGURO CESANTIA]]+Tabla4[[#This Row],[TOTAL ADICIONAL]]+Tabla4[[#This Row],[VALOR IMP U.]]+Tabla4[[#This Row],[VALOR OTRO 2]]+Tabla4[[#This Row],[VALOR OTRO 1]]","v":0},null,{"$f":"IF($BP$8 = \"SI\",IF(Tabla4[[#This Row],[TIPO CONTRATO]]=\"Indefinido\",BDD!S62*2.4%,IF(Tabla4[[#This Row],[TIPO CONTRATO]]=\"PLAZO FIJO\",BDD!S62*3%,0)),0)","v":0},null,null,null,null,null,null,{"$f":"BDD!S62*Tabla4[[#This Row],[% SIS]]","v":0},null,null,{"$f":"BDD!S62*Tabla4[[#This Row],[%MUTUAL]]","v":0}]
[null,null,null,null,null,null,null,null,null,null,57,{"$f":"IF(BDD!J63=0,\" \",BDD!J63)","v":" "},null,null,{"$f":"IF(BDD!S63<_TOPEIMPONIBLE,BDD!S63*Tabla4[[#This Row],[%AFP]],_TOPEIMPONIBLE*Tabla4[[#This Row],[%AFP]])","v":0},null,null,{"$f":"IF(BDD!S63<_TOPEIMPONIBLE,BDD!S63*Tabla4[[#This Row],[%SALUD]],_TOPEIMPONIBLE*Tabla4[[#This Row],[%SALUD]])","v":0},null,null,{"$f":"BDD!S63*Tabla4[[#This Row],[%SEGURO]]","v":0},null,{"$f":"IF(Tabla4[[#This Row],[TOTAL UF]]-Tabla4[[#This Row],[TOTAL SALUD]]<=0,0,Tabla4[[#This Row],[TOTAL UF]]-Tabla4[[#This Row],[TOTAL SALUD]])","v":0},null,{"$f":"BDD!$N$4","v":37838.550000000003},{"$f":"Tabla4[[#This Row],[PACTO UF]]*Tabla4[[#This Row],[VALOR UF]]","v":0},"IMPUESTO UNICO",{"$f":"BDD!S63-Tabla4[[#This Row],[TOTAL AFP]]-Tabla4[[#This Row],[TOTAL SALUD]]-Tabla4[[#This Row],[TOTAL SEGURO CESANTIA]]-Tabla4[[#This Row],[TOTAL ADICIONAL]]","v":0},{"$f":"IF(Tabla4[[#This Row],[PASO DESC. UNIC.]]<=$AT$5,0,IF(Tabla4[[#This Row],[PASO DESC. UNIC.]]<=$AT$6,Tabla4[[#This Row],[PASO DESC. UNIC.]]*$AU$6-$AV$6,IF(Tabla4[[#This Row],[PASO DESC. UNIC.]]<=$AT$7,Tabla4[[#This Row],[PASO DESC. UNIC.]]*$AU$7-$AV$7,IF(Tabla4[[#This Row],[PASO DESC. UNIC.]]<=$AT$8,Tabla4[[#This Row],[PASO DESC. UNIC.]]*$AU$8-$AV$8,IF(Tabla4[[#This Row],[PASO DESC. UNIC.]]<=$AT$9,Tabla4[[#This Row],[PASO DESC. UNIC.]]*$AU$9-$AV$9,IF(Tabla4[[#This Row],[PASO DESC. UNIC.]]<=$AT$10,Tabla4[[#This Row],[PASO DESC. UNIC.]]*$AU$10-$AV$10,IF(Tabla4[[#This Row],[PASO DESC. UNIC.]]>=$AS$11,Tabla4[[#This Row],[PASO DESC. UNIC.]]*$AU$11-$AV$11)))))))","v":0},{"$f":"Tabla4[[#This Row],[TOTAL AFP]]+Tabla4[[#This Row],[TOTAL SALUD]]+Tabla4[[#This Row],[TOTAL SEGURO CESANTIA]]+Tabla4[[#This Row],[TOTAL ADICIONAL]]+Tabla4[[#This Row],[VALOR IMP U.]]+Tabla4[[#This Row],[VALOR OTRO 2]]+Tabla4[[#This Row],[VALOR OTRO 1]]","v":0},null,{"$f":"IF($BP$8 = \"SI\",IF(Tabla4[[#This Row],[TIPO CONTRATO]]=\"Indefinido\",BDD!S63*2.4%,IF(Tabla4[[#This Row],[TIPO CONTRATO]]=\"PLAZO FIJO\",BDD!S63*3%,0)),0)","v":0},null,null,null,null,null,null,{"$f":"BDD!S63*Tabla4[[#This Row],[% SIS]]","v":0},null,null,{"$f":"BDD!S63*Tabla4[[#This Row],[%MUTUAL]]","v":0}]
[null,null,null,null,null,null,null,null,null,null,58,{"$f":"IF(BDD!J64=0,\" \",BDD!J64)","v":" "},null,null,{"$f":"IF(BDD!S64<_TOPEIMPONIBLE,BDD!S64*Tabla4[[#This Row],[%AFP]],_TOPEIMPONIBLE*Tabla4[[#This Row],[%AFP]])","v":0},null,null,{"$f":"IF(BDD!S64<_TOPEIMPONIBLE,BDD!S64*Tabla4[[#This Row],[%SALUD]],_TOPEIMPONIBLE*Tabla4[[#This Row],[%SALUD]])","v":0},null,null,{"$f":"BDD!S64*Tabla4[[#This Row],[%SEGURO]]","v":0},null,{"$f":"IF(Tabla4[[#This Row],[TOTAL UF]]-Tabla4[[#This Row],[TOTAL SALUD]]<=0,0,Tabla4[[#This Row],[TOTAL UF]]-Tabla4[[#This Row],[TOTAL SALUD]])","v":0},null,{"$f":"BDD!$N$4","v":37838.550000000003},{"$f":"Tabla4[[#This Row],[PACTO UF]]*Tabla4[[#This Row],[VALOR UF]]","v":0},"IMPUESTO UNICO",{"$f":"BDD!S64-Tabla4[[#This Row],[TOTAL AFP]]-Tabla4[[#This Row],[TOTAL SALUD]]-Tabla4[[#This Row],[TOTAL SEGURO CESANTIA]]-Tabla4[[#This Row],[TOTAL ADICIONAL]]","v":0},{"$f":"IF(Tabla4[[#This Row],[PASO DESC. UNIC.]]<=$AT$5,0,IF(Tabla4[[#This Row],[PASO DESC. UNIC.]]<=$AT$6,Tabla4[[#This Row],[PASO DESC. UNIC.]]*$AU$6-$AV$6,IF(Tabla4[[#This Row],[PASO DESC. UNIC.]]<=$AT$7,Tabla4[[#This Row],[PASO DESC. UNIC.]]*$AU$7-$AV$7,IF(Tabla4[[#This Row],[PASO DESC. UNIC.]]<=$AT$8,Tabla4[[#This Row],[PASO DESC. UNIC.]]*$AU$8-$AV$8,IF(Tabla4[[#This Row],[PASO DESC. UNIC.]]<=$AT$9,Tabla4[[#This Row],[PASO DESC. UNIC.]]*$AU$9-$AV$9,IF(Tabla4[[#This Row],[PASO DESC. UNIC.]]<=$AT$10,Tabla4[[#This Row],[PASO DESC. UNIC.]]*$AU$10-$AV$10,IF(Tabla4[[#This Row],[PASO DESC. UNIC.]]>=$AS$11,Tabla4[[#This Row],[PASO DESC. UNIC.]]*$AU$11-$AV$11)))))))","v":0},{"$f":"Tabla4[[#This Row],[TOTAL AFP]]+Tabla4[[#This Row],[TOTAL SALUD]]+Tabla4[[#This Row],[TOTAL SEGURO CESANTIA]]+Tabla4[[#This Row],[TOTAL ADICIONAL]]+Tabla4[[#This Row],[VALOR IMP U.]]+Tabla4[[#This Row],[VALOR OTRO 2]]+Tabla4[[#This Row],[VALOR OTRO 1]]","v":0},null,{"$f":"IF($BP$8 = \"SI\",IF(Tabla4[[#This Row],[TIPO CONTRATO]]=\"Indefinido\",BDD!S64*2.4%,IF(Tabla4[[#This Row],[TIPO CONTRATO]]=\"PLAZO FIJO\",BDD!S64*3%,0)),0)","v":0},null,null,null,null,null,null,{"$f":"BDD!S64*Tabla4[[#This Row],[% SIS]]","v":0},null,null,{"$f":"BDD!S64*Tabla4[[#This Row],[%MUTUAL]]","v":0}]
[null,null,null,null,null,null,null,null,null,null,59,{"$f":"IF(BDD!J65=0,\" \",BDD!J65)","v":" "},null,null,{"$f":"IF(BDD!S65<_TOPEIMPONIBLE,BDD!S65*Tabla4[[#This Row],[%AFP]],_TOPEIMPONIBLE*Tabla4[[#This Row],[%AFP]])","v":0},null,null,{"$f":"IF(BDD!S65<_TOPEIMPONIBLE,BDD!S65*Tabla4[[#This Row],[%SALUD]],_TOPEIMPONIBLE*Tabla4[[#This Row],[%SALUD]])","v":0},null,null,{"$f":"BDD!S65*Tabla4[[#This Row],[%SEGURO]]","v":0},null,{"$f":"IF(Tabla4[[#This Row],[TOTAL UF]]-Tabla4[[#This Row],[TOTAL SALUD]]<=0,0,Tabla4[[#This Row],[TOTAL UF]]-Tabla4[[#This Row],[TOTAL SALUD]])","v":0},null,{"$f":"BDD!$N$4","v":37838.550000000003},{"$f":"Tabla4[[#This Row],[PACTO UF]]*Tabla4[[#This Row],[VALOR UF]]","v":0},"IMPUESTO UNICO",{"$f":"BDD!S65-Tabla4[[#This Row],[TOTAL AFP]]-Tabla4[[#This Row],[TOTAL SALUD]]-Tabla4[[#This Row],[TOTAL SEGURO CESANTIA]]-Tabla4[[#This Row],[TOTAL ADICIONAL]]","v":0},{"$f":"IF(Tabla4[[#This Row],[PASO DESC. UNIC.]]<=$AT$5,0,IF(Tabla4[[#This Row],[PASO DESC. UNIC.]]<=$AT$6,Tabla4[[#This Row],[PASO DESC. UNIC.]]*$AU$6-$AV$6,IF(Tabla4[[#This Row],[PASO DESC. UNIC.]]<=$AT$7,Tabla4[[#This Row],[PASO DESC. UNIC.]]*$AU$7-$AV$7,IF(Tabla4[[#This Row],[PASO DESC. UNIC.]]<=$AT$8,Tabla4[[#This Row],[PASO DESC. UNIC.]]*$AU$8-$AV$8,IF(Tabla4[[#This Row],[PASO DESC. UNIC.]]<=$AT$9,Tabla4[[#This Row],[PASO DESC. UNIC.]]*$AU$9-$AV$9,IF(Tabla4[[#This Row],[PASO DESC. UNIC.]]<=$AT$10,Tabla4[[#This Row],[PASO DESC. UNIC.]]*$AU$10-$AV$10,IF(Tabla4[[#This Row],[PASO DESC. UNIC.]]>=$AS$11,Tabla4[[#This Row],[PASO DESC. UNIC.]]*$AU$11-$AV$11)))))))","v":0},{"$f":"Tabla4[[#This Row],[TOTAL AFP]]+Tabla4[[#This Row],[TOTAL SALUD]]+Tabla4[[#This Row],[TOTAL SEGURO CESANTIA]]+Tabla4[[#This Row],[TOTAL ADICIONAL]]+Tabla4[[#This Row],[VALOR IMP U.]]+Tabla4[[#This Row],[VALOR OTRO 2]]+Tabla4[[#This Row],[VALOR OTRO 1]]","v":0},null,{"$f":"IF($BP$8 = \"SI\",IF(Tabla4[[#This Row],[TIPO CONTRATO]]=\"Indefinido\",BDD!S65*2.4%,IF(Tabla4[[#This Row],[TIPO CONTRATO]]=\"PLAZO FIJO\",BDD!S65*3%,0)),0)","v":0},null,null,null,null,null,null,{"$f":"BDD!S65*Tabla4[[#This Row],[% SIS]]","v":0},null,null,{"$f":"BDD!S65*Tabla4[[#This Row],[%MUTUAL]]","v":0}]
[null,null,null,null,null,null,null,null,null,null,60,{"$f":"IF(BDD!J66=0,\" \",BDD!J66)","v":" "},null,null,{"$f":"IF(BDD!S66<_TOPEIMPONIBLE,BDD!S66*Tabla4[[#This Row],[%AFP]],_TOPEIMPONIBLE*Tabla4[[#This Row],[%AFP]])","v":0},null,null,{"$f":"IF(BDD!S66<_TOPEIMPONIBLE,BDD!S66*Tabla4[[#This Row],[%SALUD]],_TOPEIMPONIBLE*Tabla4[[#This Row],[%SALUD]])","v":0},null,null,{"$f":"BDD!S66*Tabla4[[#This Row],[%SEGURO]]","v":0},null,{"$f":"IF(Tabla4[[#This Row],[TOTAL UF]]-Tabla4[[#This Row],[TOTAL SALUD]]<=0,0,Tabla4[[#This Row],[TOTAL UF]]-Tabla4[[#This Row],[TOTAL SALUD]])","v":0},null,{"$f":"BDD!$N$4","v":37838.550000000003},{"$f":"Tabla4[[#This Row],[PACTO UF]]*Tabla4[[#This Row],[VALOR UF]]","v":0},"IMPUESTO UNICO",{"$f":"BDD!S66-Tabla4[[#This Row],[TOTAL AFP]]-Tabla4[[#This Row],[TOTAL SALUD]]-Tabla4[[#This Row],[TOTAL SEGURO CESANTIA]]-Tabla4[[#This Row],[TOTAL ADICIONAL]]","v":0},{"$f":"IF(Tabla4[[#This Row],[PASO DESC. UNIC.]]<=$AT$5,0,IF(Tabla4[[#This Row],[PASO DESC. UNIC.]]<=$AT$6,Tabla4[[#This Row],[PASO DESC. UNIC.]]*$AU$6-$AV$6,IF(Tabla4[[#This Row],[PASO DESC. UNIC.]]<=$AT$7,Tabla4[[#This Row],[PASO DESC. UNIC.]]*$AU$7-$AV$7,IF(Tabla4[[#This Row],[PASO DESC. UNIC.]]<=$AT$8,Tabla4[[#This Row],[PASO DESC. UNIC.]]*$AU$8-$AV$8,IF(Tabla4[[#This Row],[PASO DESC. UNIC.]]<=$AT$9,Tabla4[[#This Row],[PASO DESC. UNIC.]]*$AU$9-$AV$9,IF(Tabla4[[#This Row],[PASO DESC. UNIC.]]<=$AT$10,Tabla4[[#This Row],[PASO DESC. UNIC.]]*$AU$10-$AV$10,IF(Tabla4[[#This Row],[PASO DESC. UNIC.]]>=$AS$11,Tabla4[[#This Row],[PASO DESC. UNIC.]]*$AU$11-$AV$11)))))))","v":0},{"$f":"Tabla4[[#This Row],[TOTAL AFP]]+Tabla4[[#This Row],[TOTAL SALUD]]+Tabla4[[#This Row],[TOTAL SEGURO CESANTIA]]+Tabla4[[#This Row],[TOTAL ADICIONAL]]+Tabla4[[#This Row],[VALOR IMP U.]]+Tabla4[[#This Row],[VALOR OTRO 2]]+Tabla4[[#This Row],[VALOR OTRO 1]]","v":0},null,{"$f":"IF($BP$8 = \"SI\",IF(Tabla4[[#This Row],[TIPO CONTRATO]]=\"Indefinido\",BDD!S66*2.4%,IF(Tabla4[[#This Row],[TIPO CONTRATO]]=\"PLAZO FIJO\",BDD!S66*3%,0)),0)","v":0},null,null,null,null,null,null,{"$f":"BDD!S66*Tabla4[[#This Row],[% SIS]]","v":0},null,null,{"$f":"BDD!S66*Tabla4[[#This Row],[%MUTUAL]]","v":0}]
[null,null,null,null,null,null,null,null,null,null,61,{"$f":"IF(BDD!J67=0,\" \",BDD!J67)","v":" "},null,null,{"$f":"IF(BDD!S67<_TOPEIMPONIBLE,BDD!S67*Tabla4[[#This Row],[%AFP]],_TOPEIMPONIBLE*Tabla4[[#This Row],[%AFP]])","v":0},null,null,{"$f":"IF(BDD!S67<_TOPEIMPONIBLE,BDD!S67*Tabla4[[#This Row],[%SALUD]],_TOPEIMPONIBLE*Tabla4[[#This Row],[%SALUD]])","v":0},null,null,{"$f":"BDD!S67*Tabla4[[#This Row],[%SEGURO]]","v":0},null,{"$f":"IF(Tabla4[[#This Row],[TOTAL UF]]-Tabla4[[#This Row],[TOTAL SALUD]]<=0,0,Tabla4[[#This Row],[TOTAL UF]]-Tabla4[[#This Row],[TOTAL SALUD]])","v":0},null,{"$f":"BDD!$N$4","v":37838.550000000003},{"$f":"Tabla4[[#This Row],[PACTO UF]]*Tabla4[[#This Row],[VALOR UF]]","v":0},"IMPUESTO UNICO",{"$f":"BDD!S67-Tabla4[[#This Row],[TOTAL AFP]]-Tabla4[[#This Row],[TOTAL SALUD]]-Tabla4[[#This Row],[TOTAL SEGURO CESANTIA]]-Tabla4[[#This Row],[TOTAL ADICIONAL]]","v":0},{"$f":"IF(Tabla4[[#This Row],[PASO DESC. UNIC.]]<=$AT$5,0,IF(Tabla4[[#This Row],[PASO DESC. UNIC.]]<=$AT$6,Tabla4[[#This Row],[PASO DESC. UNIC.]]*$AU$6-$AV$6,IF(Tabla4[[#This Row],[PASO DESC. UNIC.]]<=$AT$7,Tabla4[[#This Row],[PASO DESC. UNIC.]]*$AU$7-$AV$7,IF(Tabla4[[#This Row],[PASO DESC. UNIC.]]<=$AT$8,Tabla4[[#This Row],[PASO DESC. UNIC.]]*$AU$8-$AV$8,IF(Tabla4[[#This Row],[PASO DESC. UNIC.]]<=$AT$9,Tabla4[[#This Row],[PASO DESC. UNIC.]]*$AU$9-$AV$9,IF(Tabla4[[#This Row],[PASO DESC. UNIC.]]<=$AT$10,Tabla4[[#This Row],[PASO DESC. UNIC.]]*$AU$10-$AV$10,IF(Tabla4[[#This Row],[PASO DESC. UNIC.]]>=$AS$11,Tabla4[[#This Row],[PASO DESC. UNIC.]]*$AU$11-$AV$11)))))))","v":0},{"$f":"Tabla4[[#This Row],[TOTAL AFP]]+Tabla4[[#This Row],[TOTAL SALUD]]+Tabla4[[#This Row],[TOTAL SEGURO CESANTIA]]+Tabla4[[#This Row],[TOTAL ADICIONAL]]+Tabla4[[#This Row],[VALOR IMP U.]]+Tabla4[[#This Row],[VALOR OTRO 2]]+Tabla4[[#This Row],[VALOR OTRO 1]]","v":0},null,{"$f":"IF($BP$8 = \"SI\",IF(Tabla4[[#This Row],[TIPO CONTRATO]]=\"Indefinido\",BDD!S67*2.4%,IF(Tabla4[[#This Row],[TIPO CONTRATO]]=\"PLAZO FIJO\",BDD!S67*3%,0)),0)","v":0},null,null,null,null,null,null,{"$f":"BDD!S67*Tabla4[[#This Row],[% SIS]]","v":0},null,null,{"$f":"BDD!S67*Tabla4[[#This Row],[%MUTUAL]]","v":0}]
[null,null,null,null,null,null,null,null,null,null,62,{"$f":"IF(BDD!J68=0,\" \",BDD!J68)","v":" "},null,null,{"$f":"IF(BDD!S68<_TOPEIMPONIBLE,BDD!S68*Tabla4[[#This Row],[%AFP]],_TOPEIMPONIBLE*Tabla4[[#This Row],[%AFP]])","v":0},null,null,{"$f":"IF(BDD!S68<_TOPEIMPONIBLE,BDD!S68*Tabla4[[#This Row],[%SALUD]],_TOPEIMPONIBLE*Tabla4[[#This Row],[%SALUD]])","v":0},null,null,{"$f":"BDD!S68*Tabla4[[#This Row],[%SEGURO]]","v":0},null,{"$f":"IF(Tabla4[[#This Row],[TOTAL UF]]-Tabla4[[#This Row],[TOTAL SALUD]]<=0,0,Tabla4[[#This Row],[TOTAL UF]]-Tabla4[[#This Row],[TOTAL SALUD]])","v":0},null,{"$f":"BDD!$N$4","v":37838.550000000003},{"$f":"Tabla4[[#This Row],[PACTO UF]]*Tabla4[[#This Row],[VALOR UF]]","v":0},"IMPUESTO UNICO",{"$f":"BDD!S68-Tabla4[[#This Row],[TOTAL AFP]]-Tabla4[[#This Row],[TOTAL SALUD]]-Tabla4[[#This Row],[TOTAL SEGURO CESANTIA]]-Tabla4[[#This Row],[TOTAL ADICIONAL]]","v":0},{"$f":"IF(Tabla4[[#This Row],[PASO DESC. UNIC.]]<=$AT$5,0,IF(Tabla4[[#This Row],[PASO DESC. UNIC.]]<=$AT$6,Tabla4[[#This Row],[PASO DESC. UNIC.]]*$AU$6-$AV$6,IF(Tabla4[[#This Row],[PASO DESC. UNIC.]]<=$AT$7,Tabla4[[#This Row],[PASO DESC. UNIC.]]*$AU$7-$AV$7,IF(Tabla4[[#This Row],[PASO DESC. UNIC.]]<=$AT$8,Tabla4[[#This Row],[PASO DESC. UNIC.]]*$AU$8-$AV$8,IF(Tabla4[[#This Row],[PASO DESC. UNIC.]]<=$AT$9,Tabla4[[#This Row],[PASO DESC. UNIC.]]*$AU$9-$AV$9,IF(Tabla4[[#This Row],[PASO DESC. UNIC.]]<=$AT$10,Tabla4[[#This Row],[PASO DESC. UNIC.]]*$AU$10-$AV$10,IF(Tabla4[[#This Row],[PASO DESC. UNIC.]]>=$AS$11,Tabla4[[#This Row],[PASO DESC. UNIC.]]*$AU$11-$AV$11)))))))","v":0},{"$f":"Tabla4[[#This Row],[TOTAL AFP]]+Tabla4[[#This Row],[TOTAL SALUD]]+Tabla4[[#This Row],[TOTAL SEGURO CESANTIA]]+Tabla4[[#This Row],[TOTAL ADICIONAL]]+Tabla4[[#This Row],[VALOR IMP U.]]+Tabla4[[#This Row],[VALOR OTRO 2]]+Tabla4[[#This Row],[VALOR OTRO 1]]","v":0},null,{"$f":"IF($BP$8 = \"SI\",IF(Tabla4[[#This Row],[TIPO CONTRATO]]=\"Indefinido\",BDD!S68*2.4%,IF(Tabla4[[#This Row],[TIPO CONTRATO]]=\"PLAZO FIJO\",BDD!S68*3%,0)),0)","v":0},null,null,null,null,null,null,{"$f":"BDD!S68*Tabla4[[#This Row],[% SIS]]","v":0},null,null,{"$f":"BDD!S68*Tabla4[[#This Row],[%MUTUAL]]","v":0}]
[null,null,null,null,null,null,null,null,null,null,63,{"$f":"IF(BDD!J69=0,\" \",BDD!J69)","v":" "},null,null,{"$f":"IF(BDD!S69<_TOPEIMPONIBLE,BDD!S69*Tabla4[[#This Row],[%AFP]],_TOPEIMPONIBLE*Tabla4[[#This Row],[%AFP]])","v":0},null,null,{"$f":"IF(BDD!S69<_TOPEIMPONIBLE,BDD!S69*Tabla4[[#This Row],[%SALUD]],_TOPEIMPONIBLE*Tabla4[[#This Row],[%SALUD]])","v":0},null,null,{"$f":"BDD!S69*Tabla4[[#This Row],[%SEGURO]]","v":0},null,{"$f":"IF(Tabla4[[#This Row],[TOTAL UF]]-Tabla4[[#This Row],[TOTAL SALUD]]<=0,0,Tabla4[[#This Row],[TOTAL UF]]-Tabla4[[#This Row],[TOTAL SALUD]])","v":0},null,{"$f":"BDD!$N$4","v":37838.550000000003},{"$f":"Tabla4[[#This Row],[PACTO UF]]*Tabla4[[#This Row],[VALOR UF]]","v":0},"IMPUESTO UNICO",{"$f":"BDD!S69-Tabla4[[#This Row],[TOTAL AFP]]-Tabla4[[#This Row],[TOTAL SALUD]]-Tabla4[[#This Row],[TOTAL SEGURO CESANTIA]]-Tabla4[[#This Row],[TOTAL ADICIONAL]]","v":0},{"$f":"IF(Tabla4[[#This Row],[PASO DESC. UNIC.]]<=$AT$5,0,IF(Tabla4[[#This Row],[PASO DESC. UNIC.]]<=$AT$6,Tabla4[[#This Row],[PASO DESC. UNIC.]]*$AU$6-$AV$6,IF(Tabla4[[#This Row],[PASO DESC. UNIC.]]<=$AT$7,Tabla4[[#This Row],[PASO DESC. UNIC.]]*$AU$7-$AV$7,IF(Tabla4[[#This Row],[PASO DESC. UNIC.]]<=$AT$8,Tabla4[[#This Row],[PASO DESC. UNIC.]]*$AU$8-$AV$8,IF(Tabla4[[#This Row],[PASO DESC. UNIC.]]<=$AT$9,Tabla4[[#This Row],[PASO DESC. UNIC.]]*$AU$9-$AV$9,IF(Tabla4[[#This Row],[PASO DESC. UNIC.]]<=$AT$10,Tabla4[[#This Row],[PASO DESC. UNIC.]]*$AU$10-$AV$10,IF(Tabla4[[#This Row],[PASO DESC. UNIC.]]>=$AS$11,Tabla4[[#This Row],[PASO DESC. UNIC.]]*$AU$11-$AV$11)))))))","v":0},{"$f":"Tabla4[[#This Row],[TOTAL AFP]]+Tabla4[[#This Row],[TOTAL SALUD]]+Tabla4[[#This Row],[TOTAL SEGURO CESANTIA]]+Tabla4[[#This Row],[TOTAL ADICIONAL]]+Tabla4[[#This Row],[VALOR IMP U.]]+Tabla4[[#This Row],[VALOR OTRO 2]]+Tabla4[[#This Row],[VALOR OTRO 1]]","v":0},null,{"$f":"IF($BP$8 = \"SI\",IF(Tabla4[[#This Row],[TIPO CONTRATO]]=\"Indefinido\",BDD!S69*2.4%,IF(Tabla4[[#This Row],[TIPO CONTRATO]]=\"PLAZO FIJO\",BDD!S69*3%,0)),0)","v":0},null,null,null,null,null,null,{"$f":"BDD!S69*Tabla4[[#This Row],[% SIS]]","v":0},null,null,{"$f":"BDD!S69*Tabla4[[#This Row],[%MUTUAL]]","v":0}]
[null,null,null,null,null,null,null,null,null,null,64,{"$f":"IF(BDD!J70=0,\" \",BDD!J70)","v":" "},null,null,{"$f":"IF(BDD!S70<_TOPEIMPONIBLE,BDD!S70*Tabla4[[#This Row],[%AFP]],_TOPEIMPONIBLE*Tabla4[[#This Row],[%AFP]])","v":0},null,null,{"$f":"IF(BDD!S70<_TOPEIMPONIBLE,BDD!S70*Tabla4[[#This Row],[%SALUD]],_TOPEIMPONIBLE*Tabla4[[#This Row],[%SALUD]])","v":0},null,null,{"$f":"BDD!S70*Tabla4[[#This Row],[%SEGURO]]","v":0},null,{"$f":"IF(Tabla4[[#This Row],[TOTAL UF]]-Tabla4[[#This Row],[TOTAL SALUD]]<=0,0,Tabla4[[#This Row],[TOTAL UF]]-Tabla4[[#This Row],[TOTAL SALUD]])","v":0},null,{"$f":"BDD!$N$4","v":37838.550000000003},{"$f":"Tabla4[[#This Row],[PACTO UF]]*Tabla4[[#This Row],[VALOR UF]]","v":0},"IMPUESTO UNICO",{"$f":"BDD!S70-Tabla4[[#This Row],[TOTAL AFP]]-Tabla4[[#This Row],[TOTAL SALUD]]-Tabla4[[#This Row],[TOTAL SEGURO CESANTIA]]-Tabla4[[#This Row],[TOTAL ADICIONAL]]","v":0},{"$f":"IF(Tabla4[[#This Row],[PASO DESC. UNIC.]]<=$AT$5,0,IF(Tabla4[[#This Row],[PASO DESC. UNIC.]]<=$AT$6,Tabla4[[#This Row],[PASO DESC. UNIC.]]*$AU$6-$AV$6,IF(Tabla4[[#This Row],[PASO DESC. UNIC.]]<=$AT$7,Tabla4[[#This Row],[PASO DESC. UNIC.]]*$AU$7-$AV$7,IF(Tabla4[[#This Row],[PASO DESC. UNIC.]]<=$AT$8,Tabla4[[#This Row],[PASO DESC. UNIC.]]*$AU$8-$AV$8,IF(Tabla4[[#This Row],[PASO DESC. UNIC.]]<=$AT$9,Tabla4[[#This Row],[PASO DESC. UNIC.]]*$AU$9-$AV$9,IF(Tabla4[[#This Row],[PASO DESC. UNIC.]]<=$AT$10,Tabla4[[#This Row],[PASO DESC. UNIC.]]*$AU$10-$AV$10,IF(Tabla4[[#This Row],[PASO DESC. UNIC.]]>=$AS$11,Tabla4[[#This Row],[PASO DESC. UNIC.]]*$AU$11-$AV$11)))))))","v":0},{"$f":"Tabla4[[#This Row],[TOTAL AFP]]+Tabla4[[#This Row],[TOTAL SALUD]]+Tabla4[[#This Row],[TOTAL SEGURO CESANTIA]]+Tabla4[[#This Row],[TOTAL ADICIONAL]]+Tabla4[[#This Row],[VALOR IMP U.]]+Tabla4[[#This Row],[VALOR OTRO 2]]+Tabla4[[#This Row],[VALOR OTRO 1]]","v":0},null,{"$f":"IF($BP$8 = \"SI\",IF(Tabla4[[#This Row],[TIPO CONTRATO]]=\"Indefinido\",BDD!S70*2.4%,IF(Tabla4[[#This Row],[TIPO CONTRATO]]=\"PLAZO FIJO\",BDD!S70*3%,0)),0)","v":0},null,null,null,null,null,null,{"$f":"BDD!S70*Tabla4[[#This Row],[% SIS]]","v":0},null,null,{"$f":"BDD!S70*Tabla4[[#This Row],[%MUTUAL]]","v":0}]
[null,null,null,null,null,null,null,null,null,null,65,{"$f":"IF(BDD!J71=0,\" \",BDD!J71)","v":" "},null,null,{"$f":"IF(BDD!S71<_TOPEIMPONIBLE,BDD!S71*Tabla4[[#This Row],[%AFP]],_TOPEIMPONIBLE*Tabla4[[#This Row],[%AFP]])","v":0},null,null,{"$f":"IF(BDD!S71<_TOPEIMPONIBLE,BDD!S71*Tabla4[[#This Row],[%SALUD]],_TOPEIMPONIBLE*Tabla4[[#This Row],[%SALUD]])","v":0},null,null,{"$f":"BDD!S71*Tabla4[[#This Row],[%SEGURO]]","v":0},null,{"$f":"IF(Tabla4[[#This Row],[TOTAL UF]]-Tabla4[[#This Row],[TOTAL SALUD]]<=0,0,Tabla4[[#This Row],[TOTAL UF]]-Tabla4[[#This Row],[TOTAL SALUD]])","v":0},null,{"$f":"BDD!$N$4","v":37838.550000000003},{"$f":"Tabla4[[#This Row],[PACTO UF]]*Tabla4[[#This Row],[VALOR UF]]","v":0},"IMPUESTO UNICO",{"$f":"BDD!S71-Tabla4[[#This Row],[TOTAL AFP]]-Tabla4[[#This Row],[TOTAL SALUD]]-Tabla4[[#This Row],[TOTAL SEGURO CESANTIA]]-Tabla4[[#This Row],[TOTAL ADICIONAL]]","v":0},{"$f":"IF(Tabla4[[#This Row],[PASO DESC. UNIC.]]<=$AT$5,0,IF(Tabla4[[#This Row],[PASO DESC. UNIC.]]<=$AT$6,Tabla4[[#This Row],[PASO DESC. UNIC.]]*$AU$6-$AV$6,IF(Tabla4[[#This Row],[PASO DESC. UNIC.]]<=$AT$7,Tabla4[[#This Row],[PASO DESC. UNIC.]]*$AU$7-$AV$7,IF(Tabla4[[#This Row],[PASO DESC. UNIC.]]<=$AT$8,Tabla4[[#This Row],[PASO DESC. UNIC.]]*$AU$8-$AV$8,IF(Tabla4[[#This Row],[PASO DESC. UNIC.]]<=$AT$9,Tabla4[[#This Row],[PASO DESC. UNIC.]]*$AU$9-$AV$9,IF(Tabla4[[#This Row],[PASO DESC. UNIC.]]<=$AT$10,Tabla4[[#This Row],[PASO DESC. UNIC.]]*$AU$10-$AV$10,IF(Tabla4[[#This Row],[PASO DESC. UNIC.]]>=$AS$11,Tabla4[[#This Row],[PASO DESC. UNIC.]]*$AU$11-$AV$11)))))))","v":0},{"$f":"Tabla4[[#This Row],[TOTAL AFP]]+Tabla4[[#This Row],[TOTAL SALUD]]+Tabla4[[#This Row],[TOTAL SEGURO CESANTIA]]+Tabla4[[#This Row],[TOTAL ADICIONAL]]+Tabla4[[#This Row],[VALOR IMP U.]]+Tabla4[[#This Row],[VALOR OTRO 2]]+Tabla4[[#This Row],[VALOR OTRO 1]]","v":0},null,{"$f":"IF($BP$8 = \"SI\",IF(Tabla4[[#This Row],[TIPO CONTRATO]]=\"Indefinido\",BDD!S71*2.4%,IF(Tabla4[[#This Row],[TIPO CONTRATO]]=\"PLAZO FIJO\",BDD!S71*3%,0)),0)","v":0},null,null,null,null,null,null,{"$f":"BDD!S71*Tabla4[[#This Row],[% SIS]]","v":0},null,null,{"$f":"BDD!S71*Tabla4[[#This Row],[%MUTUAL]]","v":0}]
[null,null,null,null,null,null,null,null,null,null,66,{"$f":"IF(BDD!J72=0,\" \",BDD!J72)","v":" "},null,null,{"$f":"IF(BDD!S72<_TOPEIMPONIBLE,BDD!S72*Tabla4[[#This Row],[%AFP]],_TOPEIMPONIBLE*Tabla4[[#This Row],[%AFP]])","v":0},null,null,{"$f":"IF(BDD!S72<_TOPEIMPONIBLE,BDD!S72*Tabla4[[#This Row],[%SALUD]],_TOPEIMPONIBLE*Tabla4[[#This Row],[%SALUD]])","v":0},null,null,{"$f":"BDD!S72*Tabla4[[#This Row],[%SEGURO]]","v":0},null,{"$f":"IF(Tabla4[[#This Row],[TOTAL UF]]-Tabla4[[#This Row],[TOTAL SALUD]]<=0,0,Tabla4[[#This Row],[TOTAL UF]]-Tabla4[[#This Row],[TOTAL SALUD]])","v":0},null,{"$f":"BDD!$N$4","v":37838.550000000003},{"$f":"Tabla4[[#This Row],[PACTO UF]]*Tabla4[[#This Row],[VALOR UF]]","v":0},"IMPUESTO UNICO",{"$f":"BDD!S72-Tabla4[[#This Row],[TOTAL AFP]]-Tabla4[[#This Row],[TOTAL SALUD]]-Tabla4[[#This Row],[TOTAL SEGURO CESANTIA]]-Tabla4[[#This Row],[TOTAL ADICIONAL]]","v":0},{"$f":"IF(Tabla4[[#This Row],[PASO DESC. UNIC.]]<=$AT$5,0,IF(Tabla4[[#This Row],[PASO DESC. UNIC.]]<=$AT$6,Tabla4[[#This Row],[PASO DESC. UNIC.]]*$AU$6-$AV$6,IF(Tabla4[[#This Row],[PASO DESC. UNIC.]]<=$AT$7,Tabla4[[#This Row],[PASO DESC. UNIC.]]*$AU$7-$AV$7,IF(Tabla4[[#This Row],[PASO DESC. UNIC.]]<=$AT$8,Tabla4[[#This Row],[PASO DESC. UNIC.]]*$AU$8-$AV$8,IF(Tabla4[[#This Row],[PASO DESC. UNIC.]]<=$AT$9,Tabla4[[#This Row],[PASO DESC. UNIC.]]*$AU$9-$AV$9,IF(Tabla4[[#This Row],[PASO DESC. UNIC.]]<=$AT$10,Tabla4[[#This Row],[PASO DESC. UNIC.]]*$AU$10-$AV$10,IF(Tabla4[[#This Row],[PASO DESC. UNIC.]]>=$AS$11,Tabla4[[#This Row],[PASO DESC. UNIC.]]*$AU$11-$AV$11)))))))","v":0},{"$f":"Tabla4[[#This Row],[TOTAL AFP]]+Tabla4[[#This Row],[TOTAL SALUD]]+Tabla4[[#This Row],[TOTAL SEGURO CESANTIA]]+Tabla4[[#This Row],[TOTAL ADICIONAL]]+Tabla4[[#This Row],[VALOR IMP U.]]+Tabla4[[#This Row],[VALOR OTRO 2]]+Tabla4[[#This Row],[VALOR OTRO 1]]","v":0},null,{"$f":"IF($BP$8 = \"SI\",IF(Tabla4[[#This Row],[TIPO CONTRATO]]=\"Indefinido\",BDD!S72*2.4%,IF(Tabla4[[#This Row],[TIPO CONTRATO]]=\"PLAZO FIJO\",BDD!S72*3%,0)),0)","v":0},null,null,null,null,null,null,{"$f":"BDD!S72*Tabla4[[#This Row],[% SIS]]","v":0},null,null,{"$f":"BDD!S72*Tabla4[[#This Row],[%MUTUAL]]","v":0}]
[null,null,null,null,null,null,null,null,null,null,67,{"$f":"IF(BDD!J73=0,\" \",BDD!J73)","v":" "},null,null,{"$f":"IF(BDD!S73<_TOPEIMPONIBLE,BDD!S73*Tabla4[[#This Row],[%AFP]],_TOPEIMPONIBLE*Tabla4[[#This Row],[%AFP]])","v":0},null,null,{"$f":"IF(BDD!S73<_TOPEIMPONIBLE,BDD!S73*Tabla4[[#This Row],[%SALUD]],_TOPEIMPONIBLE*Tabla4[[#This Row],[%SALUD]])","v":0},null,null,{"$f":"BDD!S73*Tabla4[[#This Row],[%SEGURO]]","v":0},null,{"$f":"IF(Tabla4[[#This Row],[TOTAL UF]]-Tabla4[[#This Row],[TOTAL SALUD]]<=0,0,Tabla4[[#This Row],[TOTAL UF]]-Tabla4[[#This Row],[TOTAL SALUD]])","v":0},null,{"$f":"BDD!$N$4","v":37838.550000000003},{"$f":"Tabla4[[#This Row],[PACTO UF]]*Tabla4[[#This Row],[VALOR UF]]","v":0},"IMPUESTO UNICO",{"$f":"BDD!S73-Tabla4[[#This Row],[TOTAL AFP]]-Tabla4[[#This Row],[TOTAL SALUD]]-Tabla4[[#This Row],[TOTAL SEGURO CESANTIA]]-Tabla4[[#This Row],[TOTAL ADICIONAL]]","v":0},{"$f":"IF(Tabla4[[#This Row],[PASO DESC. UNIC.]]<=$AT$5,0,IF(Tabla4[[#This Row],[PASO DESC. UNIC.]]<=$AT$6,Tabla4[[#This Row],[PASO DESC. UNIC.]]*$AU$6-$AV$6,IF(Tabla4[[#This Row],[PASO DESC. UNIC.]]<=$AT$7,Tabla4[[#This Row],[PASO DESC. UNIC.]]*$AU$7-$AV$7,IF(Tabla4[[#This Row],[PASO DESC. UNIC.]]<=$AT$8,Tabla4[[#This Row],[PASO DESC. UNIC.]]*$AU$8-$AV$8,IF(Tabla4[[#This Row],[PASO DESC. UNIC.]]<=$AT$9,Tabla4[[#This Row],[PASO DESC. UNIC.]]*$AU$9-$AV$9,IF(Tabla4[[#This Row],[PASO DESC. UNIC.]]<=$AT$10,Tabla4[[#This Row],[PASO DESC. UNIC.]]*$AU$10-$AV$10,IF(Tabla4[[#This Row],[PASO DESC. UNIC.]]>=$AS$11,Tabla4[[#This Row],[PASO DESC. UNIC.]]*$AU$11-$AV$11)))))))","v":0},{"$f":"Tabla4[[#This Row],[TOTAL AFP]]+Tabla4[[#This Row],[TOTAL SALUD]]+Tabla4[[#This Row],[TOTAL SEGURO CESANTIA]]+Tabla4[[#This Row],[TOTAL ADICIONAL]]+Tabla4[[#This Row],[VALOR IMP U.]]+Tabla4[[#This Row],[VALOR OTRO 2]]+Tabla4[[#This Row],[VALOR OTRO 1]]","v":0},null,{"$f":"IF($BP$8 = \"SI\",IF(Tabla4[[#This Row],[TIPO CONTRATO]]=\"Indefinido\",BDD!S73*2.4%,IF(Tabla4[[#This Row],[TIPO CONTRATO]]=\"PLAZO FIJO\",BDD!S73*3%,0)),0)","v":0},null,null,null,null,null,null,{"$f":"BDD!S73*Tabla4[[#This Row],[% SIS]]","v":0},null,null,{"$f":"BDD!S73*Tabla4[[#This Row],[%MUTUAL]]","v":0}]
[null,null,null,null,null,null,null,null,null,null,68,{"$f":"IF(BDD!J74=0,\" \",BDD!J74)","v":" "},null,null,{"$f":"IF(BDD!S74<_TOPEIMPONIBLE,BDD!S74*Tabla4[[#This Row],[%AFP]],_TOPEIMPONIBLE*Tabla4[[#This Row],[%AFP]])","v":0},null,null,{"$f":"IF(BDD!S74<_TOPEIMPONIBLE,BDD!S74*Tabla4[[#This Row],[%SALUD]],_TOPEIMPONIBLE*Tabla4[[#This Row],[%SALUD]])","v":0},null,null,{"$f":"BDD!S74*Tabla4[[#This Row],[%SEGURO]]","v":0},null,{"$f":"IF(Tabla4[[#This Row],[TOTAL UF]]-Tabla4[[#This Row],[TOTAL SALUD]]<=0,0,Tabla4[[#This Row],[TOTAL UF]]-Tabla4[[#This Row],[TOTAL SALUD]])","v":0},null,{"$f":"BDD!$N$4","v":37838.550000000003},{"$f":"Tabla4[[#This Row],[PACTO UF]]*Tabla4[[#This Row],[VALOR UF]]","v":0},"IMPUESTO UNICO",{"$f":"BDD!S74-Tabla4[[#This Row],[TOTAL AFP]]-Tabla4[[#This Row],[TOTAL SALUD]]-Tabla4[[#This Row],[TOTAL SEGURO CESANTIA]]-Tabla4[[#This Row],[TOTAL ADICIONAL]]","v":0},{"$f":"IF(Tabla4[[#This Row],[PASO DESC. UNIC.]]<=$AT$5,0,IF(Tabla4[[#This Row],[PASO DESC. UNIC.]]<=$AT$6,Tabla4[[#This Row],[PASO DESC. UNIC.]]*$AU$6-$AV$6,IF(Tabla4[[#This Row],[PASO DESC. UNIC.]]<=$AT$7,Tabla4[[#This Row],[PASO DESC. UNIC.]]*$AU$7-$AV$7,IF(Tabla4[[#This Row],[PASO DESC. UNIC.]]<=$AT$8,Tabla4[[#This Row],[PASO DESC. UNIC.]]*$AU$8-$AV$8,IF(Tabla4[[#This Row],[PASO DESC. UNIC.]]<=$AT$9,Tabla4[[#This Row],[PASO DESC. UNIC.]]*$AU$9-$AV$9,IF(Tabla4[[#This Row],[PASO DESC. UNIC.]]<=$AT$10,Tabla4[[#This Row],[PASO DESC. UNIC.]]*$AU$10-$AV$10,IF(Tabla4[[#This Row],[PASO DESC. UNIC.]]>=$AS$11,Tabla4[[#This Row],[PASO DESC. UNIC.]]*$AU$11-$AV$11)))))))","v":0},{"$f":"Tabla4[[#This Row],[TOTAL AFP]]+Tabla4[[#This Row],[TOTAL SALUD]]+Tabla4[[#This Row],[TOTAL SEGURO CESANTIA]]+Tabla4[[#This Row],[TOTAL ADICIONAL]]+Tabla4[[#This Row],[VALOR IMP U.]]+Tabla4[[#This Row],[VALOR OTRO 2]]+Tabla4[[#This Row],[VALOR OTRO 1]]","v":0},null,{"$f":"IF($BP$8 = \"SI\",IF(Tabla4[[#This Row],[TIPO CONTRATO]]=\"Indefinido\",BDD!S74*2.4%,IF(Tabla4[[#This Row],[TIPO CONTRATO]]=\"PLAZO FIJO\",BDD!S74*3%,0)),0)","v":0},null,null,null,null,null,null,{"$f":"BDD!S74*Tabla4[[#This Row],[% SIS]]","v":0},null,null,{"$f":"BDD!S74*Tabla4[[#This Row],[%MUTUAL]]","v":0}]
[null,null,null,null,null,null,null,null,null,null,69,{"$f":"IF(BDD!J75=0,\" \",BDD!J75)","v":" "},null,null,{"$f":"IF(BDD!S75<_TOPEIMPONIBLE,BDD!S75*Tabla4[[#This Row],[%AFP]],_TOPEIMPONIBLE*Tabla4[[#This Row],[%AFP]])","v":0},null,null,{"$f":"IF(BDD!S75<_TOPEIMPONIBLE,BDD!S75*Tabla4[[#This Row],[%SALUD]],_TOPEIMPONIBLE*Tabla4[[#This Row],[%SALUD]])","v":0},null,null,{"$f":"BDD!S75*Tabla4[[#This Row],[%SEGURO]]","v":0},null,{"$f":"IF(Tabla4[[#This Row],[TOTAL UF]]-Tabla4[[#This Row],[TOTAL SALUD]]<=0,0,Tabla4[[#This Row],[TOTAL UF]]-Tabla4[[#This Row],[TOTAL SALUD]])","v":0},null,{"$f":"BDD!$N$4","v":37838.550000000003},{"$f":"Tabla4[[#This Row],[PACTO UF]]*Tabla4[[#This Row],[VALOR UF]]","v":0},"IMPUESTO UNICO",{"$f":"BDD!S75-Tabla4[[#This Row],[TOTAL AFP]]-Tabla4[[#This Row],[TOTAL SALUD]]-Tabla4[[#This Row],[TOTAL SEGURO CESANTIA]]-Tabla4[[#This Row],[TOTAL ADICIONAL]]","v":0},{"$f":"IF(Tabla4[[#This Row],[PASO DESC. UNIC.]]<=$AT$5,0,IF(Tabla4[[#This Row],[PASO DESC. UNIC.]]<=$AT$6,Tabla4[[#This Row],[PASO DESC. UNIC.]]*$AU$6-$AV$6,IF(Tabla4[[#This Row],[PASO DESC. UNIC.]]<=$AT$7,Tabla4[[#This Row],[PASO DESC. UNIC.]]*$AU$7-$AV$7,IF(Tabla4[[#This Row],[PASO DESC. UNIC.]]<=$AT$8,Tabla4[[#This Row],[PASO DESC. UNIC.]]*$AU$8-$AV$8,IF(Tabla4[[#This Row],[PASO DESC. UNIC.]]<=$AT$9,Tabla4[[#This Row],[PASO DESC. UNIC.]]*$AU$9-$AV$9,IF(Tabla4[[#This Row],[PASO DESC. UNIC.]]<=$AT$10,Tabla4[[#This Row],[PASO DESC. UNIC.]]*$AU$10-$AV$10,IF(Tabla4[[#This Row],[PASO DESC. UNIC.]]>=$AS$11,Tabla4[[#This Row],[PASO DESC. UNIC.]]*$AU$11-$AV$11)))))))","v":0},{"$f":"Tabla4[[#This Row],[TOTAL AFP]]+Tabla4[[#This Row],[TOTAL SALUD]]+Tabla4[[#This Row],[TOTAL SEGURO CESANTIA]]+Tabla4[[#This Row],[TOTAL ADICIONAL]]+Tabla4[[#This Row],[VALOR IMP U.]]+Tabla4[[#This Row],[VALOR OTRO 2]]+Tabla4[[#This Row],[VALOR OTRO 1]]","v":0},null,{"$f":"IF($BP$8 = \"SI\",IF(Tabla4[[#This Row],[TIPO CONTRATO]]=\"Indefinido\",BDD!S75*2.4%,IF(Tabla4[[#This Row],[TIPO CONTRATO]]=\"PLAZO FIJO\",BDD!S75*3%,0)),0)","v":0},null,null,null,null,null,null,{"$f":"BDD!S75*Tabla4[[#This Row],[% SIS]]","v":0},null,null,{"$f":"BDD!S75*Tabla4[[#This Row],[%MUTUAL]]","v":0}]
[null,null,null,null,null,null,null,null,null,null,70,{"$f":"IF(BDD!J76=0,\" \",BDD!J76)","v":" "},null,null,{"$f":"IF(BDD!S76<_TOPEIMPONIBLE,BDD!S76*Tabla4[[#This Row],[%AFP]],_TOPEIMPONIBLE*Tabla4[[#This Row],[%AFP]])","v":0},null,null,{"$f":"IF(BDD!S76<_TOPEIMPONIBLE,BDD!S76*Tabla4[[#This Row],[%SALUD]],_TOPEIMPONIBLE*Tabla4[[#This Row],[%SALUD]])","v":0},null,null,{"$f":"BDD!S76*Tabla4[[#This Row],[%SEGURO]]","v":0},null,{"$f":"IF(Tabla4[[#This Row],[TOTAL UF]]-Tabla4[[#This Row],[TOTAL SALUD]]<=0,0,Tabla4[[#This Row],[TOTAL UF]]-Tabla4[[#This Row],[TOTAL SALUD]])","v":0},null,{"$f":"BDD!$N$4","v":37838.550000000003},{"$f":"Tabla4[[#This Row],[PACTO UF]]*Tabla4[[#This Row],[VALOR UF]]","v":0},"IMPUESTO UNICO",{"$f":"BDD!S76-Tabla4[[#This Row],[TOTAL AFP]]-Tabla4[[#This Row],[TOTAL SALUD]]-Tabla4[[#This Row],[TOTAL SEGURO CESANTIA]]-Tabla4[[#This Row],[TOTAL ADICIONAL]]","v":0},{"$f":"IF(Tabla4[[#This Row],[PASO DESC. UNIC.]]<=$AT$5,0,IF(Tabla4[[#This Row],[PASO DESC. UNIC.]]<=$AT$6,Tabla4[[#This Row],[PASO DESC. UNIC.]]*$AU$6-$AV$6,IF(Tabla4[[#This Row],[PASO DESC. UNIC.]]<=$AT$7,Tabla4[[#This Row],[PASO DESC. UNIC.]]*$AU$7-$AV$7,IF(Tabla4[[#This Row],[PASO DESC. UNIC.]]<=$AT$8,Tabla4[[#This Row],[PASO DESC. UNIC.]]*$AU$8-$AV$8,IF(Tabla4[[#This Row],[PASO DESC. UNIC.]]<=$AT$9,Tabla4[[#This Row],[PASO DESC. UNIC.]]*$AU$9-$AV$9,IF(Tabla4[[#This Row],[PASO DESC. UNIC.]]<=$AT$10,Tabla4[[#This Row],[PASO DESC. UNIC.]]*$AU$10-$AV$10,IF(Tabla4[[#This Row],[PASO DESC. UNIC.]]>=$AS$11,Tabla4[[#This Row],[PASO DESC. UNIC.]]*$AU$11-$AV$11)))))))","v":0},{"$f":"Tabla4[[#This Row],[TOTAL AFP]]+Tabla4[[#This Row],[TOTAL SALUD]]+Tabla4[[#This Row],[TOTAL SEGURO CESANTIA]]+Tabla4[[#This Row],[TOTAL ADICIONAL]]+Tabla4[[#This Row],[VALOR IMP U.]]+Tabla4[[#This Row],[VALOR OTRO 2]]+Tabla4[[#This Row],[VALOR OTRO 1]]","v":0},null,{"$f":"IF($BP$8 = \"SI\",IF(Tabla4[[#This Row],[TIPO CONTRATO]]=\"Indefinido\",BDD!S76*2.4%,IF(Tabla4[[#This Row],[TIPO CONTRATO]]=\"PLAZO FIJO\",BDD!S76*3%,0)),0)","v":0},null,null,null,null,null,null,{"$f":"BDD!S76*Tabla4[[#This Row],[% SIS]]","v":0},null,null,{"$f":"BDD!S76*Tabla4[[#This Row],[%MUTUAL]]","v":0}]
[null,null,null,null,null,null,null,null,null,null,71,{"$f":"IF(BDD!J77=0,\" \",BDD!J77)","v":" "},null,null,{"$f":"IF(BDD!S77<_TOPEIMPONIBLE,BDD!S77*Tabla4[[#This Row],[%AFP]],_TOPEIMPONIBLE*Tabla4[[#This Row],[%AFP]])","v":0},null,null,{"$f":"IF(BDD!S77<_TOPEIMPONIBLE,BDD!S77*Tabla4[[#This Row],[%SALUD]],_TOPEIMPONIBLE*Tabla4[[#This Row],[%SALUD]])","v":0},null,null,{"$f":"BDD!S77*Tabla4[[#This Row],[%SEGURO]]","v":0},null,{"$f":"IF(Tabla4[[#This Row],[TOTAL UF]]-Tabla4[[#This Row],[TOTAL SALUD]]<=0,0,Tabla4[[#This Row],[TOTAL UF]]-Tabla4[[#This Row],[TOTAL SALUD]])","v":0},null,{"$f":"BDD!$N$4","v":37838.550000000003},{"$f":"Tabla4[[#This Row],[PACTO UF]]*Tabla4[[#This Row],[VALOR UF]]","v":0},"IMPUESTO UNICO",{"$f":"BDD!S77-Tabla4[[#This Row],[TOTAL AFP]]-Tabla4[[#This Row],[TOTAL SALUD]]-Tabla4[[#This Row],[TOTAL SEGURO CESANTIA]]-Tabla4[[#This Row],[TOTAL ADICIONAL]]","v":0},{"$f":"IF(Tabla4[[#This Row],[PASO DESC. UNIC.]]<=$AT$5,0,IF(Tabla4[[#This Row],[PASO DESC. UNIC.]]<=$AT$6,Tabla4[[#This Row],[PASO DESC. UNIC.]]*$AU$6-$AV$6,IF(Tabla4[[#This Row],[PASO DESC. UNIC.]]<=$AT$7,Tabla4[[#This Row],[PASO DESC. UNIC.]]*$AU$7-$AV$7,IF(Tabla4[[#This Row],[PASO DESC. UNIC.]]<=$AT$8,Tabla4[[#This Row],[PASO DESC. UNIC.]]*$AU$8-$AV$8,IF(Tabla4[[#This Row],[PASO DESC. UNIC.]]<=$AT$9,Tabla4[[#This Row],[PASO DESC. UNIC.]]*$AU$9-$AV$9,IF(Tabla4[[#This Row],[PASO DESC. UNIC.]]<=$AT$10,Tabla4[[#This Row],[PASO DESC. UNIC.]]*$AU$10-$AV$10,IF(Tabla4[[#This Row],[PASO DESC. UNIC.]]>=$AS$11,Tabla4[[#This Row],[PASO DESC. UNIC.]]*$AU$11-$AV$11)))))))","v":0},{"$f":"Tabla4[[#This Row],[TOTAL AFP]]+Tabla4[[#This Row],[TOTAL SALUD]]+Tabla4[[#This Row],[TOTAL SEGURO CESANTIA]]+Tabla4[[#This Row],[TOTAL ADICIONAL]]+Tabla4[[#This Row],[VALOR IMP U.]]+Tabla4[[#This Row],[VALOR OTRO 2]]+Tabla4[[#This Row],[VALOR OTRO 1]]","v":0},null,{"$f":"IF($BP$8 = \"SI\",IF(Tabla4[[#This Row],[TIPO CONTRATO]]=\"Indefinido\",BDD!S77*2.4%,IF(Tabla4[[#This Row],[TIPO CONTRATO]]=\"PLAZO FIJO\",BDD!S77*3%,0)),0)","v":0},null,null,null,null,null,null,{"$f":"BDD!S77*Tabla4[[#This Row],[% SIS]]","v":0},null,null,{"$f":"BDD!S77*Tabla4[[#This Row],[%MUTUAL]]","v":0}]
[null,null,null,null,null,null,null,null,null,null,72,{"$f":"IF(BDD!J78=0,\" \",BDD!J78)","v":" "},null,null,{"$f":"IF(BDD!S78<_TOPEIMPONIBLE,BDD!S78*Tabla4[[#This Row],[%AFP]],_TOPEIMPONIBLE*Tabla4[[#This Row],[%AFP]])","v":0},null,null,{"$f":"IF(BDD!S78<_TOPEIMPONIBLE,BDD!S78*Tabla4[[#This Row],[%SALUD]],_TOPEIMPONIBLE*Tabla4[[#This Row],[%SALUD]])","v":0},null,null,{"$f":"BDD!S78*Tabla4[[#This Row],[%SEGURO]]","v":0},null,{"$f":"IF(Tabla4[[#This Row],[TOTAL UF]]-Tabla4[[#This Row],[TOTAL SALUD]]<=0,0,Tabla4[[#This Row],[TOTAL UF]]-Tabla4[[#This Row],[TOTAL SALUD]])","v":0},null,{"$f":"BDD!$N$4","v":37838.550000000003},{"$f":"Tabla4[[#This Row],[PACTO UF]]*Tabla4[[#This Row],[VALOR UF]]","v":0},"IMPUESTO UNICO",{"$f":"BDD!S78-Tabla4[[#This Row],[TOTAL AFP]]-Tabla4[[#This Row],[TOTAL SALUD]]-Tabla4[[#This Row],[TOTAL SEGURO CESANTIA]]-Tabla4[[#This Row],[TOTAL ADICIONAL]]","v":0},{"$f":"IF(Tabla4[[#This Row],[PASO DESC. UNIC.]]<=$AT$5,0,IF(Tabla4[[#This Row],[PASO DESC. UNIC.]]<=$AT$6,Tabla4[[#This Row],[PASO DESC. UNIC.]]*$AU$6-$AV$6,IF(Tabla4[[#This Row],[PASO DESC. UNIC.]]<=$AT$7,Tabla4[[#This Row],[PASO DESC. UNIC.]]*$AU$7-$AV$7,IF(Tabla4[[#This Row],[PASO DESC. UNIC.]]<=$AT$8,Tabla4[[#This Row],[PASO DESC. UNIC.]]*$AU$8-$AV$8,IF(Tabla4[[#This Row],[PASO DESC. UNIC.]]<=$AT$9,Tabla4[[#This Row],[PASO DESC. UNIC.]]*$AU$9-$AV$9,IF(Tabla4[[#This Row],[PASO DESC. UNIC.]]<=$AT$10,Tabla4[[#This Row],[PASO DESC. UNIC.]]*$AU$10-$AV$10,IF(Tabla4[[#This Row],[PASO DESC. UNIC.]]>=$AS$11,Tabla4[[#This Row],[PASO DESC. UNIC.]]*$AU$11-$AV$11)))))))","v":0},{"$f":"Tabla4[[#This Row],[TOTAL AFP]]+Tabla4[[#This Row],[TOTAL SALUD]]+Tabla4[[#This Row],[TOTAL SEGURO CESANTIA]]+Tabla4[[#This Row],[TOTAL ADICIONAL]]+Tabla4[[#This Row],[VALOR IMP U.]]+Tabla4[[#This Row],[VALOR OTRO 2]]+Tabla4[[#This Row],[VALOR OTRO 1]]","v":0},null,{"$f":"IF($BP$8 = \"SI\",IF(Tabla4[[#This Row],[TIPO CONTRATO]]=\"Indefinido\",BDD!S78*2.4%,IF(Tabla4[[#This Row],[TIPO CONTRATO]]=\"PLAZO FIJO\",BDD!S78*3%,0)),0)","v":0},null,null,null,null,null,null,{"$f":"BDD!S78*Tabla4[[#This Row],[% SIS]]","v":0},null,null,{"$f":"BDD!S78*Tabla4[[#This Row],[%MUTUAL]]","v":0}]
[null,null,null,null,null,null,null,null,null,null,73,{"$f":"IF(BDD!J79=0,\" \",BDD!J79)","v":" "},null,null,{"$f":"IF(BDD!S79<_TOPEIMPONIBLE,BDD!S79*Tabla4[[#This Row],[%AFP]],_TOPEIMPONIBLE*Tabla4[[#This Row],[%AFP]])","v":0},null,null,{"$f":"IF(BDD!S79<_TOPEIMPONIBLE,BDD!S79*Tabla4[[#This Row],[%SALUD]],_TOPEIMPONIBLE*Tabla4[[#This Row],[%SALUD]])","v":0},null,null,{"$f":"BDD!S79*Tabla4[[#This Row],[%SEGURO]]","v":0},null,{"$f":"IF(Tabla4[[#This Row],[TOTAL UF]]-Tabla4[[#This Row],[TOTAL SALUD]]<=0,0,Tabla4[[#This Row],[TOTAL UF]]-Tabla4[[#This Row],[TOTAL SALUD]])","v":0},null,{"$f":"BDD!$N$4","v":37838.550000000003},{"$f":"Tabla4[[#This Row],[PACTO UF]]*Tabla4[[#This Row],[VALOR UF]]","v":0},"IMPUESTO UNICO",{"$f":"BDD!S79-Tabla4[[#This Row],[TOTAL AFP]]-Tabla4[[#This Row],[TOTAL SALUD]]-Tabla4[[#This Row],[TOTAL SEGURO CESANTIA]]-Tabla4[[#This Row],[TOTAL ADICIONAL]]","v":0},{"$f":"IF(Tabla4[[#This Row],[PASO DESC. UNIC.]]<=$AT$5,0,IF(Tabla4[[#This Row],[PASO DESC. UNIC.]]<=$AT$6,Tabla4[[#This Row],[PASO DESC. UNIC.]]*$AU$6-$AV$6,IF(Tabla4[[#This Row],[PASO DESC. UNIC.]]<=$AT$7,Tabla4[[#This Row],[PASO DESC. UNIC.]]*$AU$7-$AV$7,IF(Tabla4[[#This Row],[PASO DESC. UNIC.]]<=$AT$8,Tabla4[[#This Row],[PASO DESC. UNIC.]]*$AU$8-$AV$8,IF(Tabla4[[#This Row],[PASO DESC. UNIC.]]<=$AT$9,Tabla4[[#This Row],[PASO DESC. UNIC.]]*$AU$9-$AV$9,IF(Tabla4[[#This Row],[PASO DESC. UNIC.]]<=$AT$10,Tabla4[[#This Row],[PASO DESC. UNIC.]]*$AU$10-$AV$10,IF(Tabla4[[#This Row],[PASO DESC. UNIC.]]>=$AS$11,Tabla4[[#This Row],[PASO DESC. UNIC.]]*$AU$11-$AV$11)))))))","v":0},{"$f":"Tabla4[[#This Row],[TOTAL AFP]]+Tabla4[[#This Row],[TOTAL SALUD]]+Tabla4[[#This Row],[TOTAL SEGURO CESANTIA]]+Tabla4[[#This Row],[TOTAL ADICIONAL]]+Tabla4[[#This Row],[VALOR IMP U.]]+Tabla4[[#This Row],[VALOR OTRO 2]]+Tabla4[[#This Row],[VALOR OTRO 1]]","v":0},null,{"$f":"IF($BP$8 = \"SI\",IF(Tabla4[[#This Row],[TIPO CONTRATO]]=\"Indefinido\",BDD!S79*2.4%,IF(Tabla4[[#This Row],[TIPO CONTRATO]]=\"PLAZO FIJO\",BDD!S79*3%,0)),0)","v":0},null,null,null,null,null,null,{"$f":"BDD!S79*Tabla4[[#This Row],[% SIS]]","v":0},null,null,{"$f":"BDD!S79*Tabla4[[#This Row],[%MUTUAL]]","v":0}]
[null,null,null,null,null,null,null,null,null,null,74,{"$f":"IF(BDD!J80=0,\" \",BDD!J80)","v":" "},null,null,{"$f":"IF(BDD!S80<_TOPEIMPONIBLE,BDD!S80*Tabla4[[#This Row],[%AFP]],_TOPEIMPONIBLE*Tabla4[[#This Row],[%AFP]])","v":0},null,null,{"$f":"IF(BDD!S80<_TOPEIMPONIBLE,BDD!S80*Tabla4[[#This Row],[%SALUD]],_TOPEIMPONIBLE*Tabla4[[#This Row],[%SALUD]])","v":0},null,null,{"$f":"BDD!S80*Tabla4[[#This Row],[%SEGURO]]","v":0},null,{"$f":"IF(Tabla4[[#This Row],[TOTAL UF]]-Tabla4[[#This Row],[TOTAL SALUD]]<=0,0,Tabla4[[#This Row],[TOTAL UF]]-Tabla4[[#This Row],[TOTAL SALUD]])","v":0},null,{"$f":"BDD!$N$4","v":37838.550000000003},{"$f":"Tabla4[[#This Row],[PACTO UF]]*Tabla4[[#This Row],[VALOR UF]]","v":0},"IMPUESTO UNICO",{"$f":"BDD!S80-Tabla4[[#This Row],[TOTAL AFP]]-Tabla4[[#This Row],[TOTAL SALUD]]-Tabla4[[#This Row],[TOTAL SEGURO CESANTIA]]-Tabla4[[#This Row],[TOTAL ADICIONAL]]","v":0},{"$f":"IF(Tabla4[[#This Row],[PASO DESC. UNIC.]]<=$AT$5,0,IF(Tabla4[[#This Row],[PASO DESC. UNIC.]]<=$AT$6,Tabla4[[#This Row],[PASO DESC. UNIC.]]*$AU$6-$AV$6,IF(Tabla4[[#This Row],[PASO DESC. UNIC.]]<=$AT$7,Tabla4[[#This Row],[PASO DESC. UNIC.]]*$AU$7-$AV$7,IF(Tabla4[[#This Row],[PASO DESC. UNIC.]]<=$AT$8,Tabla4[[#This Row],[PASO DESC. UNIC.]]*$AU$8-$AV$8,IF(Tabla4[[#This Row],[PASO DESC. UNIC.]]<=$AT$9,Tabla4[[#This Row],[PASO DESC. UNIC.]]*$AU$9-$AV$9,IF(Tabla4[[#This Row],[PASO DESC. UNIC.]]<=$AT$10,Tabla4[[#This Row],[PASO DESC. UNIC.]]*$AU$10-$AV$10,IF(Tabla4[[#This Row],[PASO DESC. UNIC.]]>=$AS$11,Tabla4[[#This Row],[PASO DESC. UNIC.]]*$AU$11-$AV$11)))))))","v":0},{"$f":"Tabla4[[#This Row],[TOTAL AFP]]+Tabla4[[#This Row],[TOTAL SALUD]]+Tabla4[[#This Row],[TOTAL SEGURO CESANTIA]]+Tabla4[[#This Row],[TOTAL ADICIONAL]]+Tabla4[[#This Row],[VALOR IMP U.]]+Tabla4[[#This Row],[VALOR OTRO 2]]+Tabla4[[#This Row],[VALOR OTRO 1]]","v":0},null,{"$f":"IF($BP$8 = \"SI\",IF(Tabla4[[#This Row],[TIPO CONTRATO]]=\"Indefinido\",BDD!S80*2.4%,IF(Tabla4[[#This Row],[TIPO CONTRATO]]=\"PLAZO FIJO\",BDD!S80*3%,0)),0)","v":0},null,null,null,null,null,null,{"$f":"BDD!S80*Tabla4[[#This Row],[% SIS]]","v":0},null,null,{"$f":"BDD!S80*Tabla4[[#This Row],[%MUTUAL]]","v":0}]
[null,null,null,null,null,null,null,null,null,null,75,{"$f":"IF(BDD!J81=0,\" \",BDD!J81)","v":" "},null,null,{"$f":"IF(BDD!S81<_TOPEIMPONIBLE,BDD!S81*Tabla4[[#This Row],[%AFP]],_TOPEIMPONIBLE*Tabla4[[#This Row],[%AFP]])","v":0},null,null,{"$f":"IF(BDD!S81<_TOPEIMPONIBLE,BDD!S81*Tabla4[[#This Row],[%SALUD]],_TOPEIMPONIBLE*Tabla4[[#This Row],[%SALUD]])","v":0},null,null,{"$f":"BDD!S81*Tabla4[[#This Row],[%SEGURO]]","v":0},null,{"$f":"IF(Tabla4[[#This Row],[TOTAL UF]]-Tabla4[[#This Row],[TOTAL SALUD]]<=0,0,Tabla4[[#This Row],[TOTAL UF]]-Tabla4[[#This Row],[TOTAL SALUD]])","v":0},null,{"$f":"BDD!$N$4","v":37838.550000000003},{"$f":"Tabla4[[#This Row],[PACTO UF]]*Tabla4[[#This Row],[VALOR UF]]","v":0},"IMPUESTO UNICO",{"$f":"BDD!S81-Tabla4[[#This Row],[TOTAL AFP]]-Tabla4[[#This Row],[TOTAL SALUD]]-Tabla4[[#This Row],[TOTAL SEGURO CESANTIA]]-Tabla4[[#This Row],[TOTAL ADICIONAL]]","v":0},{"$f":"IF(Tabla4[[#This Row],[PASO DESC. UNIC.]]<=$AT$5,0,IF(Tabla4[[#This Row],[PASO DESC. UNIC.]]<=$AT$6,Tabla4[[#This Row],[PASO DESC. UNIC.]]*$AU$6-$AV$6,IF(Tabla4[[#This Row],[PASO DESC. UNIC.]]<=$AT$7,Tabla4[[#This Row],[PASO DESC. UNIC.]]*$AU$7-$AV$7,IF(Tabla4[[#This Row],[PASO DESC. UNIC.]]<=$AT$8,Tabla4[[#This Row],[PASO DESC. UNIC.]]*$AU$8-$AV$8,IF(Tabla4[[#This Row],[PASO DESC. UNIC.]]<=$AT$9,Tabla4[[#This Row],[PASO DESC. UNIC.]]*$AU$9-$AV$9,IF(Tabla4[[#This Row],[PASO DESC. UNIC.]]<=$AT$10,Tabla4[[#This Row],[PASO DESC. UNIC.]]*$AU$10-$AV$10,IF(Tabla4[[#This Row],[PASO DESC. UNIC.]]>=$AS$11,Tabla4[[#This Row],[PASO DESC. UNIC.]]*$AU$11-$AV$11)))))))","v":0},{"$f":"Tabla4[[#This Row],[TOTAL AFP]]+Tabla4[[#This Row],[TOTAL SALUD]]+Tabla4[[#This Row],[TOTAL SEGURO CESANTIA]]+Tabla4[[#This Row],[TOTAL ADICIONAL]]+Tabla4[[#This Row],[VALOR IMP U.]]+Tabla4[[#This Row],[VALOR OTRO 2]]+Tabla4[[#This Row],[VALOR OTRO 1]]","v":0},null,{"$f":"IF($BP$8 = \"SI\",IF(Tabla4[[#This Row],[TIPO CONTRATO]]=\"Indefinido\",BDD!S81*2.4%,IF(Tabla4[[#This Row],[TIPO CONTRATO]]=\"PLAZO FIJO\",BDD!S81*3%,0)),0)","v":0},null,null,null,null,null,null,{"$f":"BDD!S81*Tabla4[[#This Row],[% SIS]]","v":0},null,null,{"$f":"BDD!S81*Tabla4[[#This Row],[%MUTUAL]]","v":0}]
[null,null,null,null,null,null,null,null,null,null,76,{"$f":"IF(BDD!J82=0,\" \",BDD!J82)","v":" "},null,null,{"$f":"IF(BDD!S82<_TOPEIMPONIBLE,BDD!S82*Tabla4[[#This Row],[%AFP]],_TOPEIMPONIBLE*Tabla4[[#This Row],[%AFP]])","v":0},null,null,{"$f":"IF(BDD!S82<_TOPEIMPONIBLE,BDD!S82*Tabla4[[#This Row],[%SALUD]],_TOPEIMPONIBLE*Tabla4[[#This Row],[%SALUD]])","v":0},null,null,{"$f":"BDD!S82*Tabla4[[#This Row],[%SEGURO]]","v":0},null,{"$f":"IF(Tabla4[[#This Row],[TOTAL UF]]-Tabla4[[#This Row],[TOTAL SALUD]]<=0,0,Tabla4[[#This Row],[TOTAL UF]]-Tabla4[[#This Row],[TOTAL SALUD]])","v":0},null,{"$f":"BDD!$N$4","v":37838.550000000003},{"$f":"Tabla4[[#This Row],[PACTO UF]]*Tabla4[[#This Row],[VALOR UF]]","v":0},"IMPUESTO UNICO",{"$f":"BDD!S82-Tabla4[[#This Row],[TOTAL AFP]]-Tabla4[[#This Row],[TOTAL SALUD]]-Tabla4[[#This Row],[TOTAL SEGURO CESANTIA]]-Tabla4[[#This Row],[TOTAL ADICIONAL]]","v":0},{"$f":"IF(Tabla4[[#This Row],[PASO DESC. UNIC.]]<=$AT$5,0,IF(Tabla4[[#This Row],[PASO DESC. UNIC.]]<=$AT$6,Tabla4[[#This Row],[PASO DESC. UNIC.]]*$AU$6-$AV$6,IF(Tabla4[[#This Row],[PASO DESC. UNIC.]]<=$AT$7,Tabla4[[#This Row],[PASO DESC. UNIC.]]*$AU$7-$AV$7,IF(Tabla4[[#This Row],[PASO DESC. UNIC.]]<=$AT$8,Tabla4[[#This Row],[PASO DESC. UNIC.]]*$AU$8-$AV$8,IF(Tabla4[[#This Row],[PASO DESC. UNIC.]]<=$AT$9,Tabla4[[#This Row],[PASO DESC. UNIC.]]*$AU$9-$AV$9,IF(Tabla4[[#This Row],[PASO DESC. UNIC.]]<=$AT$10,Tabla4[[#This Row],[PASO DESC. UNIC.]]*$AU$10-$AV$10,IF(Tabla4[[#This Row],[PASO DESC. UNIC.]]>=$AS$11,Tabla4[[#This Row],[PASO DESC. UNIC.]]*$AU$11-$AV$11)))))))","v":0},{"$f":"Tabla4[[#This Row],[TOTAL AFP]]+Tabla4[[#This Row],[TOTAL SALUD]]+Tabla4[[#This Row],[TOTAL SEGURO CESANTIA]]+Tabla4[[#This Row],[TOTAL ADICIONAL]]+Tabla4[[#This Row],[VALOR IMP U.]]+Tabla4[[#This Row],[VALOR OTRO 2]]+Tabla4[[#This Row],[VALOR OTRO 1]]","v":0},null,{"$f":"IF($BP$8 = \"SI\",IF(Tabla4[[#This Row],[TIPO CONTRATO]]=\"Indefinido\",BDD!S82*2.4%,IF(Tabla4[[#This Row],[TIPO CONTRATO]]=\"PLAZO FIJO\",BDD!S82*3%,0)),0)","v":0},null,null,null,null,null,null,{"$f":"BDD!S82*Tabla4[[#This Row],[% SIS]]","v":0},null,null,{"$f":"BDD!S82*Tabla4[[#This Row],[%MUTUAL]]","v":0}]
[null,null,null,null,null,null,null,null,null,null,77,{"$f":"IF(BDD!J83=0,\" \",BDD!J83)","v":" "},null,null,{"$f":"IF(BDD!S83<_TOPEIMPONIBLE,BDD!S83*Tabla4[[#This Row],[%AFP]],_TOPEIMPONIBLE*Tabla4[[#This Row],[%AFP]])","v":0},null,null,{"$f":"IF(BDD!S83<_TOPEIMPONIBLE,BDD!S83*Tabla4[[#This Row],[%SALUD]],_TOPEIMPONIBLE*Tabla4[[#This Row],[%SALUD]])","v":0},null,null,{"$f":"BDD!S83*Tabla4[[#This Row],[%SEGURO]]","v":0},null,{"$f":"IF(Tabla4[[#This Row],[TOTAL UF]]-Tabla4[[#This Row],[TOTAL SALUD]]<=0,0,Tabla4[[#This Row],[TOTAL UF]]-Tabla4[[#This Row],[TOTAL SALUD]])","v":0},null,{"$f":"BDD!$N$4","v":37838.550000000003},{"$f":"Tabla4[[#This Row],[PACTO UF]]*Tabla4[[#This Row],[VALOR UF]]","v":0},"IMPUESTO UNICO",{"$f":"BDD!S83-Tabla4[[#This Row],[TOTAL AFP]]-Tabla4[[#This Row],[TOTAL SALUD]]-Tabla4[[#This Row],[TOTAL SEGURO CESANTIA]]-Tabla4[[#This Row],[TOTAL ADICIONAL]]","v":0},{"$f":"IF(Tabla4[[#This Row],[PASO DESC. UNIC.]]<=$AT$5,0,IF(Tabla4[[#This Row],[PASO DESC. UNIC.]]<=$AT$6,Tabla4[[#This Row],[PASO DESC. UNIC.]]*$AU$6-$AV$6,IF(Tabla4[[#This Row],[PASO DESC. UNIC.]]<=$AT$7,Tabla4[[#This Row],[PASO DESC. UNIC.]]*$AU$7-$AV$7,IF(Tabla4[[#This Row],[PASO DESC. UNIC.]]<=$AT$8,Tabla4[[#This Row],[PASO DESC. UNIC.]]*$AU$8-$AV$8,IF(Tabla4[[#This Row],[PASO DESC. UNIC.]]<=$AT$9,Tabla4[[#This Row],[PASO DESC. UNIC.]]*$AU$9-$AV$9,IF(Tabla4[[#This Row],[PASO DESC. UNIC.]]<=$AT$10,Tabla4[[#This Row],[PASO DESC. UNIC.]]*$AU$10-$AV$10,IF(Tabla4[[#This Row],[PASO DESC. UNIC.]]>=$AS$11,Tabla4[[#This Row],[PASO DESC. UNIC.]]*$AU$11-$AV$11)))))))","v":0},{"$f":"Tabla4[[#This Row],[TOTAL AFP]]+Tabla4[[#This Row],[TOTAL SALUD]]+Tabla4[[#This Row],[TOTAL SEGURO CESANTIA]]+Tabla4[[#This Row],[TOTAL ADICIONAL]]+Tabla4[[#This Row],[VALOR IMP U.]]+Tabla4[[#This Row],[VALOR OTRO 2]]+Tabla4[[#This Row],[VALOR OTRO 1]]","v":0},null,{"$f":"IF($BP$8 = \"SI\",IF(Tabla4[[#This Row],[TIPO CONTRATO]]=\"Indefinido\",BDD!S83*2.4%,IF(Tabla4[[#This Row],[TIPO CONTRATO]]=\"PLAZO FIJO\",BDD!S83*3%,0)),0)","v":0},null,null,null,null,null,null,{"$f":"BDD!S83*Tabla4[[#This Row],[% SIS]]","v":0},null,null,{"$f":"BDD!S83*Tabla4[[#This Row],[%MUTUAL]]","v":0}]
[null,null,null,null,null,null,null,null,null,null,78,{"$f":"IF(BDD!J84=0,\" \",BDD!J84)","v":" "},null,null,{"$f":"IF(BDD!S84<_TOPEIMPONIBLE,BDD!S84*Tabla4[[#This Row],[%AFP]],_TOPEIMPONIBLE*Tabla4[[#This Row],[%AFP]])","v":0},null,null,{"$f":"IF(BDD!S84<_TOPEIMPONIBLE,BDD!S84*Tabla4[[#This Row],[%SALUD]],_TOPEIMPONIBLE*Tabla4[[#This Row],[%SALUD]])","v":0},null,null,{"$f":"BDD!S84*Tabla4[[#This Row],[%SEGURO]]","v":0},null,{"$f":"IF(Tabla4[[#This Row],[TOTAL UF]]-Tabla4[[#This Row],[TOTAL SALUD]]<=0,0,Tabla4[[#This Row],[TOTAL UF]]-Tabla4[[#This Row],[TOTAL SALUD]])","v":0},null,{"$f":"BDD!$N$4","v":37838.550000000003},{"$f":"Tabla4[[#This Row],[PACTO UF]]*Tabla4[[#This Row],[VALOR UF]]","v":0},"IMPUESTO UNICO",{"$f":"BDD!S84-Tabla4[[#This Row],[TOTAL AFP]]-Tabla4[[#This Row],[TOTAL SALUD]]-Tabla4[[#This Row],[TOTAL SEGURO CESANTIA]]-Tabla4[[#This Row],[TOTAL ADICIONAL]]","v":0},{"$f":"IF(Tabla4[[#This Row],[PASO DESC. UNIC.]]<=$AT$5,0,IF(Tabla4[[#This Row],[PASO DESC. UNIC.]]<=$AT$6,Tabla4[[#This Row],[PASO DESC. UNIC.]]*$AU$6-$AV$6,IF(Tabla4[[#This Row],[PASO DESC. UNIC.]]<=$AT$7,Tabla4[[#This Row],[PASO DESC. UNIC.]]*$AU$7-$AV$7,IF(Tabla4[[#This Row],[PASO DESC. UNIC.]]<=$AT$8,Tabla4[[#This Row],[PASO DESC. UNIC.]]*$AU$8-$AV$8,IF(Tabla4[[#This Row],[PASO DESC. UNIC.]]<=$AT$9,Tabla4[[#This Row],[PASO DESC. UNIC.]]*$AU$9-$AV$9,IF(Tabla4[[#This Row],[PASO DESC. UNIC.]]<=$AT$10,Tabla4[[#This Row],[PASO DESC. UNIC.]]*$AU$10-$AV$10,IF(Tabla4[[#This Row],[PASO DESC. UNIC.]]>=$AS$11,Tabla4[[#This Row],[PASO DESC. UNIC.]]*$AU$11-$AV$11)))))))","v":0},{"$f":"Tabla4[[#This Row],[TOTAL AFP]]+Tabla4[[#This Row],[TOTAL SALUD]]+Tabla4[[#This Row],[TOTAL SEGURO CESANTIA]]+Tabla4[[#This Row],[TOTAL ADICIONAL]]+Tabla4[[#This Row],[VALOR IMP U.]]+Tabla4[[#This Row],[VALOR OTRO 2]]+Tabla4[[#This Row],[VALOR OTRO 1]]","v":0},null,{"$f":"IF($BP$8 = \"SI\",IF(Tabla4[[#This Row],[TIPO CONTRATO]]=\"Indefinido\",BDD!S84*2.4%,IF(Tabla4[[#This Row],[TIPO CONTRATO]]=\"PLAZO FIJO\",BDD!S84*3%,0)),0)","v":0},null,null,null,null,null,null,{"$f":"BDD!S84*Tabla4[[#This Row],[% SIS]]","v":0},null,null,{"$f":"BDD!S84*Tabla4[[#This Row],[%MUTUAL]]","v":0}]
[null,null,null,null,null,null,null,null,null,null,79,{"$f":"IF(BDD!J85=0,\" \",BDD!J85)","v":" "},null,null,{"$f":"IF(BDD!S85<_TOPEIMPONIBLE,BDD!S85*Tabla4[[#This Row],[%AFP]],_TOPEIMPONIBLE*Tabla4[[#This Row],[%AFP]])","v":0},null,null,{"$f":"IF(BDD!S85<_TOPEIMPONIBLE,BDD!S85*Tabla4[[#This Row],[%SALUD]],_TOPEIMPONIBLE*Tabla4[[#This Row],[%SALUD]])","v":0},null,null,{"$f":"BDD!S85*Tabla4[[#This Row],[%SEGURO]]","v":0},null,{"$f":"IF(Tabla4[[#This Row],[TOTAL UF]]-Tabla4[[#This Row],[TOTAL SALUD]]<=0,0,Tabla4[[#This Row],[TOTAL UF]]-Tabla4[[#This Row],[TOTAL SALUD]])","v":0},null,{"$f":"BDD!$N$4","v":37838.550000000003},{"$f":"Tabla4[[#This Row],[PACTO UF]]*Tabla4[[#This Row],[VALOR UF]]","v":0},"IMPUESTO UNICO",{"$f":"BDD!S85-Tabla4[[#This Row],[TOTAL AFP]]-Tabla4[[#This Row],[TOTAL SALUD]]-Tabla4[[#This Row],[TOTAL SEGURO CESANTIA]]-Tabla4[[#This Row],[TOTAL ADICIONAL]]","v":0},{"$f":"IF(Tabla4[[#This Row],[PASO DESC. UNIC.]]<=$AT$5,0,IF(Tabla4[[#This Row],[PASO DESC. UNIC.]]<=$AT$6,Tabla4[[#This Row],[PASO DESC. UNIC.]]*$AU$6-$AV$6,IF(Tabla4[[#This Row],[PASO DESC. UNIC.]]<=$AT$7,Tabla4[[#This Row],[PASO DESC. UNIC.]]*$AU$7-$AV$7,IF(Tabla4[[#This Row],[PASO DESC. UNIC.]]<=$AT$8,Tabla4[[#This Row],[PASO DESC. UNIC.]]*$AU$8-$AV$8,IF(Tabla4[[#This Row],[PASO DESC. UNIC.]]<=$AT$9,Tabla4[[#This Row],[PASO DESC. UNIC.]]*$AU$9-$AV$9,IF(Tabla4[[#This Row],[PASO DESC. UNIC.]]<=$AT$10,Tabla4[[#This Row],[PASO DESC. UNIC.]]*$AU$10-$AV$10,IF(Tabla4[[#This Row],[PASO DESC. UNIC.]]>=$AS$11,Tabla4[[#This Row],[PASO DESC. UNIC.]]*$AU$11-$AV$11)))))))","v":0},{"$f":"Tabla4[[#This Row],[TOTAL AFP]]+Tabla4[[#This Row],[TOTAL SALUD]]+Tabla4[[#This Row],[TOTAL SEGURO CESANTIA]]+Tabla4[[#This Row],[TOTAL ADICIONAL]]+Tabla4[[#This Row],[VALOR IMP U.]]+Tabla4[[#This Row],[VALOR OTRO 2]]+Tabla4[[#This Row],[VALOR OTRO 1]]","v":0},null,{"$f":"IF($BP$8 = \"SI\",IF(Tabla4[[#This Row],[TIPO CONTRATO]]=\"Indefinido\",BDD!S85*2.4%,IF(Tabla4[[#This Row],[TIPO CONTRATO]]=\"PLAZO FIJO\",BDD!S85*3%,0)),0)","v":0},null,null,null,null,null,null,{"$f":"BDD!S85*Tabla4[[#This Row],[% SIS]]","v":0},null,null,{"$f":"BDD!S85*Tabla4[[#This Row],[%MUTUAL]]","v":0}]
[null,null,null,null,null,null,null,null,null,null,80,{"$f":"IF(BDD!J86=0,\" \",BDD!J86)","v":" "},null,null,{"$f":"IF(BDD!S86<_TOPEIMPONIBLE,BDD!S86*Tabla4[[#This Row],[%AFP]],_TOPEIMPONIBLE*Tabla4[[#This Row],[%AFP]])","v":0},null,null,{"$f":"IF(BDD!S86<_TOPEIMPONIBLE,BDD!S86*Tabla4[[#This Row],[%SALUD]],_TOPEIMPONIBLE*Tabla4[[#This Row],[%SALUD]])","v":0},null,null,{"$f":"BDD!S86*Tabla4[[#This Row],[%SEGURO]]","v":0},null,{"$f":"IF(Tabla4[[#This Row],[TOTAL UF]]-Tabla4[[#This Row],[TOTAL SALUD]]<=0,0,Tabla4[[#This Row],[TOTAL UF]]-Tabla4[[#This Row],[TOTAL SALUD]])","v":0},null,{"$f":"BDD!$N$4","v":37838.550000000003},{"$f":"Tabla4[[#This Row],[PACTO UF]]*Tabla4[[#This Row],[VALOR UF]]","v":0},"IMPUESTO UNICO",{"$f":"BDD!S86-Tabla4[[#This Row],[TOTAL AFP]]-Tabla4[[#This Row],[TOTAL SALUD]]-Tabla4[[#This Row],[TOTAL SEGURO CESANTIA]]-Tabla4[[#This Row],[TOTAL ADICIONAL]]","v":0},{"$f":"IF(Tabla4[[#This Row],[PASO DESC. UNIC.]]<=$AT$5,0,IF(Tabla4[[#This Row],[PASO DESC. UNIC.]]<=$AT$6,Tabla4[[#This Row],[PASO DESC. UNIC.]]*$AU$6-$AV$6,IF(Tabla4[[#This Row],[PASO DESC. UNIC.]]<=$AT$7,Tabla4[[#This Row],[PASO DESC. UNIC.]]*$AU$7-$AV$7,IF(Tabla4[[#This Row],[PASO DESC. UNIC.]]<=$AT$8,Tabla4[[#This Row],[PASO DESC. UNIC.]]*$AU$8-$AV$8,IF(Tabla4[[#This Row],[PASO DESC. UNIC.]]<=$AT$9,Tabla4[[#This Row],[PASO DESC. UNIC.]]*$AU$9-$AV$9,IF(Tabla4[[#This Row],[PASO DESC. UNIC.]]<=$AT$10,Tabla4[[#This Row],[PASO DESC. UNIC.]]*$AU$10-$AV$10,IF(Tabla4[[#This Row],[PASO DESC. UNIC.]]>=$AS$11,Tabla4[[#This Row],[PASO DESC. UNIC.]]*$AU$11-$AV$11)))))))","v":0},{"$f":"Tabla4[[#This Row],[TOTAL AFP]]+Tabla4[[#This Row],[TOTAL SALUD]]+Tabla4[[#This Row],[TOTAL SEGURO CESANTIA]]+Tabla4[[#This Row],[TOTAL ADICIONAL]]+Tabla4[[#This Row],[VALOR IMP U.]]+Tabla4[[#This Row],[VALOR OTRO 2]]+Tabla4[[#This Row],[VALOR OTRO 1]]","v":0},null,{"$f":"IF($BP$8 = \"SI\",IF(Tabla4[[#This Row],[TIPO CONTRATO]]=\"Indefinido\",BDD!S86*2.4%,IF(Tabla4[[#This Row],[TIPO CONTRATO]]=\"PLAZO FIJO\",BDD!S86*3%,0)),0)","v":0},null,null,null,null,null,null,{"$f":"BDD!S86*Tabla4[[#This Row],[% SIS]]","v":0},null,null,{"$f":"BDD!S86*Tabla4[[#This Row],[%MUTUAL]]","v":0}]
[null,null,null,null,null,null,null,null,null,null,81,{"$f":"IF(BDD!J87=0,\" \",BDD!J87)","v":" "},null,null,{"$f":"IF(BDD!S87<_TOPEIMPONIBLE,BDD!S87*Tabla4[[#This Row],[%AFP]],_TOPEIMPONIBLE*Tabla4[[#This Row],[%AFP]])","v":0},null,null,{"$f":"IF(BDD!S87<_TOPEIMPONIBLE,BDD!S87*Tabla4[[#This Row],[%SALUD]],_TOPEIMPONIBLE*Tabla4[[#This Row],[%SALUD]])","v":0},null,null,{"$f":"BDD!S87*Tabla4[[#This Row],[%SEGURO]]","v":0},null,{"$f":"IF(Tabla4[[#This Row],[TOTAL UF]]-Tabla4[[#This Row],[TOTAL SALUD]]<=0,0,Tabla4[[#This Row],[TOTAL UF]]-Tabla4[[#This Row],[TOTAL SALUD]])","v":0},null,{"$f":"BDD!$N$4","v":37838.550000000003},{"$f":"Tabla4[[#This Row],[PACTO UF]]*Tabla4[[#This Row],[VALOR UF]]","v":0},"IMPUESTO UNICO",{"$f":"BDD!S87-Tabla4[[#This Row],[TOTAL AFP]]-Tabla4[[#This Row],[TOTAL SALUD]]-Tabla4[[#This Row],[TOTAL SEGURO CESANTIA]]-Tabla4[[#This Row],[TOTAL ADICIONAL]]","v":0},{"$f":"IF(Tabla4[[#This Row],[PASO DESC. UNIC.]]<=$AT$5,0,IF(Tabla4[[#This Row],[PASO DESC. UNIC.]]<=$AT$6,Tabla4[[#This Row],[PASO DESC. UNIC.]]*$AU$6-$AV$6,IF(Tabla4[[#This Row],[PASO DESC. UNIC.]]<=$AT$7,Tabla4[[#This Row],[PASO DESC. UNIC.]]*$AU$7-$AV$7,IF(Tabla4[[#This Row],[PASO DESC. UNIC.]]<=$AT$8,Tabla4[[#This Row],[PASO DESC. UNIC.]]*$AU$8-$AV$8,IF(Tabla4[[#This Row],[PASO DESC. UNIC.]]<=$AT$9,Tabla4[[#This Row],[PASO DESC. UNIC.]]*$AU$9-$AV$9,IF(Tabla4[[#This Row],[PASO DESC. UNIC.]]<=$AT$10,Tabla4[[#This Row],[PASO DESC. UNIC.]]*$AU$10-$AV$10,IF(Tabla4[[#This Row],[PASO DESC. UNIC.]]>=$AS$11,Tabla4[[#This Row],[PASO DESC. UNIC.]]*$AU$11-$AV$11)))))))","v":0},{"$f":"Tabla4[[#This Row],[TOTAL AFP]]+Tabla4[[#This Row],[TOTAL SALUD]]+Tabla4[[#This Row],[TOTAL SEGURO CESANTIA]]+Tabla4[[#This Row],[TOTAL ADICIONAL]]+Tabla4[[#This Row],[VALOR IMP U.]]+Tabla4[[#This Row],[VALOR OTRO 2]]+Tabla4[[#This Row],[VALOR OTRO 1]]","v":0},null,{"$f":"IF($BP$8 = \"SI\",IF(Tabla4[[#This Row],[TIPO CONTRATO]]=\"Indefinido\",BDD!S87*2.4%,IF(Tabla4[[#This Row],[TIPO CONTRATO]]=\"PLAZO FIJO\",BDD!S87*3%,0)),0)","v":0},null,null,null,null,null,null,{"$f":"BDD!S87*Tabla4[[#This Row],[% SIS]]","v":0},null,null,{"$f":"BDD!S87*Tabla4[[#This Row],[%MUTUAL]]","v":0}]
[null,null,null,null,null,null,null,null,null,null,82,{"$f":"IF(BDD!J88=0,\" \",BDD!J88)","v":" "},null,null,{"$f":"IF(BDD!S88<_TOPEIMPONIBLE,BDD!S88*Tabla4[[#This Row],[%AFP]],_TOPEIMPONIBLE*Tabla4[[#This Row],[%AFP]])","v":0},null,null,{"$f":"IF(BDD!S88<_TOPEIMPONIBLE,BDD!S88*Tabla4[[#This Row],[%SALUD]],_TOPEIMPONIBLE*Tabla4[[#This Row],[%SALUD]])","v":0},null,null,{"$f":"BDD!S88*Tabla4[[#This Row],[%SEGURO]]","v":0},null,{"$f":"IF(Tabla4[[#This Row],[TOTAL UF]]-Tabla4[[#This Row],[TOTAL SALUD]]<=0,0,Tabla4[[#This Row],[TOTAL UF]]-Tabla4[[#This Row],[TOTAL SALUD]])","v":0},null,{"$f":"BDD!$N$4","v":37838.550000000003},{"$f":"Tabla4[[#This Row],[PACTO UF]]*Tabla4[[#This Row],[VALOR UF]]","v":0},"IMPUESTO UNICO",{"$f":"BDD!S88-Tabla4[[#This Row],[TOTAL AFP]]-Tabla4[[#This Row],[TOTAL SALUD]]-Tabla4[[#This Row],[TOTAL SEGURO CESANTIA]]-Tabla4[[#This Row],[TOTAL ADICIONAL]]","v":0},{"$f":"IF(Tabla4[[#This Row],[PASO DESC. UNIC.]]<=$AT$5,0,IF(Tabla4[[#This Row],[PASO DESC. UNIC.]]<=$AT$6,Tabla4[[#This Row],[PASO DESC. UNIC.]]*$AU$6-$AV$6,IF(Tabla4[[#This Row],[PASO DESC. UNIC.]]<=$AT$7,Tabla4[[#This Row],[PASO DESC. UNIC.]]*$AU$7-$AV$7,IF(Tabla4[[#This Row],[PASO DESC. UNIC.]]<=$AT$8,Tabla4[[#This Row],[PASO DESC. UNIC.]]*$AU$8-$AV$8,IF(Tabla4[[#This Row],[PASO DESC. UNIC.]]<=$AT$9,Tabla4[[#This Row],[PASO DESC. UNIC.]]*$AU$9-$AV$9,IF(Tabla4[[#This Row],[PASO DESC. UNIC.]]<=$AT$10,Tabla4[[#This Row],[PASO DESC. UNIC.]]*$AU$10-$AV$10,IF(Tabla4[[#This Row],[PASO DESC. UNIC.]]>=$AS$11,Tabla4[[#This Row],[PASO DESC. UNIC.]]*$AU$11-$AV$11)))))))","v":0},{"$f":"Tabla4[[#This Row],[TOTAL AFP]]+Tabla4[[#This Row],[TOTAL SALUD]]+Tabla4[[#This Row],[TOTAL SEGURO CESANTIA]]+Tabla4[[#This Row],[TOTAL ADICIONAL]]+Tabla4[[#This Row],[VALOR IMP U.]]+Tabla4[[#This Row],[VALOR OTRO 2]]+Tabla4[[#This Row],[VALOR OTRO 1]]","v":0},null,{"$f":"IF($BP$8 = \"SI\",IF(Tabla4[[#This Row],[TIPO CONTRATO]]=\"Indefinido\",BDD!S88*2.4%,IF(Tabla4[[#This Row],[TIPO CONTRATO]]=\"PLAZO FIJO\",BDD!S88*3%,0)),0)","v":0},null,null,null,null,null,null,{"$f":"BDD!S88*Tabla4[[#This Row],[% SIS]]","v":0},null,null,{"$f":"BDD!S88*Tabla4[[#This Row],[%MUTUAL]]","v":0}]
[null,null,null,null,null,null,null,null,null,null,83,{"$f":"IF(BDD!J89=0,\" \",BDD!J89)","v":" "},null,null,{"$f":"IF(BDD!S89<_TOPEIMPONIBLE,BDD!S89*Tabla4[[#This Row],[%AFP]],_TOPEIMPONIBLE*Tabla4[[#This Row],[%AFP]])","v":0},null,null,{"$f":"IF(BDD!S89<_TOPEIMPONIBLE,BDD!S89*Tabla4[[#This Row],[%SALUD]],_TOPEIMPONIBLE*Tabla4[[#This Row],[%SALUD]])","v":0},null,null,{"$f":"BDD!S89*Tabla4[[#This Row],[%SEGURO]]","v":0},null,{"$f":"IF(Tabla4[[#This Row],[TOTAL UF]]-Tabla4[[#This Row],[TOTAL SALUD]]<=0,0,Tabla4[[#This Row],[TOTAL UF]]-Tabla4[[#This Row],[TOTAL SALUD]])","v":0},null,{"$f":"BDD!$N$4","v":37838.550000000003},{"$f":"Tabla4[[#This Row],[PACTO UF]]*Tabla4[[#This Row],[VALOR UF]]","v":0},"IMPUESTO UNICO",{"$f":"BDD!S89-Tabla4[[#This Row],[TOTAL AFP]]-Tabla4[[#This Row],[TOTAL SALUD]]-Tabla4[[#This Row],[TOTAL SEGURO CESANTIA]]-Tabla4[[#This Row],[TOTAL ADICIONAL]]","v":0},{"$f":"IF(Tabla4[[#This Row],[PASO DESC. UNIC.]]<=$AT$5,0,IF(Tabla4[[#This Row],[PASO DESC. UNIC.]]<=$AT$6,Tabla4[[#This Row],[PASO DESC. UNIC.]]*$AU$6-$AV$6,IF(Tabla4[[#This Row],[PASO DESC. UNIC.]]<=$AT$7,Tabla4[[#This Row],[PASO DESC. UNIC.]]*$AU$7-$AV$7,IF(Tabla4[[#This Row],[PASO DESC. UNIC.]]<=$AT$8,Tabla4[[#This Row],[PASO DESC. UNIC.]]*$AU$8-$AV$8,IF(Tabla4[[#This Row],[PASO DESC. UNIC.]]<=$AT$9,Tabla4[[#This Row],[PASO DESC. UNIC.]]*$AU$9-$AV$9,IF(Tabla4[[#This Row],[PASO DESC. UNIC.]]<=$AT$10,Tabla4[[#This Row],[PASO DESC. UNIC.]]*$AU$10-$AV$10,IF(Tabla4[[#This Row],[PASO DESC. UNIC.]]>=$AS$11,Tabla4[[#This Row],[PASO DESC. UNIC.]]*$AU$11-$AV$11)))))))","v":0},{"$f":"Tabla4[[#This Row],[TOTAL AFP]]+Tabla4[[#This Row],[TOTAL SALUD]]+Tabla4[[#This Row],[TOTAL SEGURO CESANTIA]]+Tabla4[[#This Row],[TOTAL ADICIONAL]]+Tabla4[[#This Row],[VALOR IMP U.]]+Tabla4[[#This Row],[VALOR OTRO 2]]+Tabla4[[#This Row],[VALOR OTRO 1]]","v":0},null,{"$f":"IF($BP$8 = \"SI\",IF(Tabla4[[#This Row],[TIPO CONTRATO]]=\"Indefinido\",BDD!S89*2.4%,IF(Tabla4[[#This Row],[TIPO CONTRATO]]=\"PLAZO FIJO\",BDD!S89*3%,0)),0)","v":0},null,null,null,null,null,null,{"$f":"BDD!S89*Tabla4[[#This Row],[% SIS]]","v":0},null,null,{"$f":"BDD!S89*Tabla4[[#This Row],[%MUTUAL]]","v":0}]
[null,null,null,null,null,null,null,null,null,null,84,{"$f":"IF(BDD!J90=0,\" \",BDD!J90)","v":" "},null,null,{"$f":"IF(BDD!S90<_TOPEIMPONIBLE,BDD!S90*Tabla4[[#This Row],[%AFP]],_TOPEIMPONIBLE*Tabla4[[#This Row],[%AFP]])","v":0},null,null,{"$f":"IF(BDD!S90<_TOPEIMPONIBLE,BDD!S90*Tabla4[[#This Row],[%SALUD]],_TOPEIMPONIBLE*Tabla4[[#This Row],[%SALUD]])","v":0},null,null,{"$f":"BDD!S90*Tabla4[[#This Row],[%SEGURO]]","v":0},null,{"$f":"IF(Tabla4[[#This Row],[TOTAL UF]]-Tabla4[[#This Row],[TOTAL SALUD]]<=0,0,Tabla4[[#This Row],[TOTAL UF]]-Tabla4[[#This Row],[TOTAL SALUD]])","v":0},null,{"$f":"BDD!$N$4","v":37838.550000000003},{"$f":"Tabla4[[#This Row],[PACTO UF]]*Tabla4[[#This Row],[VALOR UF]]","v":0},"IMPUESTO UNICO",{"$f":"BDD!S90-Tabla4[[#This Row],[TOTAL AFP]]-Tabla4[[#This Row],[TOTAL SALUD]]-Tabla4[[#This Row],[TOTAL SEGURO CESANTIA]]-Tabla4[[#This Row],[TOTAL ADICIONAL]]","v":0},{"$f":"IF(Tabla4[[#This Row],[PASO DESC. UNIC.]]<=$AT$5,0,IF(Tabla4[[#This Row],[PASO DESC. UNIC.]]<=$AT$6,Tabla4[[#This Row],[PASO DESC. UNIC.]]*$AU$6-$AV$6,IF(Tabla4[[#This Row],[PASO DESC. UNIC.]]<=$AT$7,Tabla4[[#This Row],[PASO DESC. UNIC.]]*$AU$7-$AV$7,IF(Tabla4[[#This Row],[PASO DESC. UNIC.]]<=$AT$8,Tabla4[[#This Row],[PASO DESC. UNIC.]]*$AU$8-$AV$8,IF(Tabla4[[#This Row],[PASO DESC. UNIC.]]<=$AT$9,Tabla4[[#This Row],[PASO DESC. UNIC.]]*$AU$9-$AV$9,IF(Tabla4[[#This Row],[PASO DESC. UNIC.]]<=$AT$10,Tabla4[[#This Row],[PASO DESC. UNIC.]]*$AU$10-$AV$10,IF(Tabla4[[#This Row],[PASO DESC. UNIC.]]>=$AS$11,Tabla4[[#This Row],[PASO DESC. UNIC.]]*$AU$11-$AV$11)))))))","v":0},{"$f":"Tabla4[[#This Row],[TOTAL AFP]]+Tabla4[[#This Row],[TOTAL SALUD]]+Tabla4[[#This Row],[TOTAL SEGURO CESANTIA]]+Tabla4[[#This Row],[TOTAL ADICIONAL]]+Tabla4[[#This Row],[VALOR IMP U.]]+Tabla4[[#This Row],[VALOR OTRO 2]]+Tabla4[[#This Row],[VALOR OTRO 1]]","v":0},null,{"$f":"IF($BP$8 = \"SI\",IF(Tabla4[[#This Row],[TIPO CONTRATO]]=\"Indefinido\",BDD!S90*2.4%,IF(Tabla4[[#This Row],[TIPO CONTRATO]]=\"PLAZO FIJO\",BDD!S90*3%,0)),0)","v":0},null,null,null,null,null,null,{"$f":"BDD!S90*Tabla4[[#This Row],[% SIS]]","v":0},null,null,{"$f":"BDD!S90*Tabla4[[#This Row],[%MUTUAL]]","v":0}]
[null,null,null,null,null,null,null,null,null,null,85,{"$f":"IF(BDD!J91=0,\" \",BDD!J91)","v":" "},null,null,{"$f":"IF(BDD!S91<_TOPEIMPONIBLE,BDD!S91*Tabla4[[#This Row],[%AFP]],_TOPEIMPONIBLE*Tabla4[[#This Row],[%AFP]])","v":0},null,null,{"$f":"IF(BDD!S91<_TOPEIMPONIBLE,BDD!S91*Tabla4[[#This Row],[%SALUD]],_TOPEIMPONIBLE*Tabla4[[#This Row],[%SALUD]])","v":0},null,null,{"$f":"BDD!S91*Tabla4[[#This Row],[%SEGURO]]","v":0},null,{"$f":"IF(Tabla4[[#This Row],[TOTAL UF]]-Tabla4[[#This Row],[TOTAL SALUD]]<=0,0,Tabla4[[#This Row],[TOTAL UF]]-Tabla4[[#This Row],[TOTAL SALUD]])","v":0},null,{"$f":"BDD!$N$4","v":37838.550000000003},{"$f":"Tabla4[[#This Row],[PACTO UF]]*Tabla4[[#This Row],[VALOR UF]]","v":0},"IMPUESTO UNICO",{"$f":"BDD!S91-Tabla4[[#This Row],[TOTAL AFP]]-Tabla4[[#This Row],[TOTAL SALUD]]-Tabla4[[#This Row],[TOTAL SEGURO CESANTIA]]-Tabla4[[#This Row],[TOTAL ADICIONAL]]","v":0},{"$f":"IF(Tabla4[[#This Row],[PASO DESC. UNIC.]]<=$AT$5,0,IF(Tabla4[[#This Row],[PASO DESC. UNIC.]]<=$AT$6,Tabla4[[#This Row],[PASO DESC. UNIC.]]*$AU$6-$AV$6,IF(Tabla4[[#This Row],[PASO DESC. UNIC.]]<=$AT$7,Tabla4[[#This Row],[PASO DESC. UNIC.]]*$AU$7-$AV$7,IF(Tabla4[[#This Row],[PASO DESC. UNIC.]]<=$AT$8,Tabla4[[#This Row],[PASO DESC. UNIC.]]*$AU$8-$AV$8,IF(Tabla4[[#This Row],[PASO DESC. UNIC.]]<=$AT$9,Tabla4[[#This Row],[PASO DESC. UNIC.]]*$AU$9-$AV$9,IF(Tabla4[[#This Row],[PASO DESC. UNIC.]]<=$AT$10,Tabla4[[#This Row],[PASO DESC. UNIC.]]*$AU$10-$AV$10,IF(Tabla4[[#This Row],[PASO DESC. UNIC.]]>=$AS$11,Tabla4[[#This Row],[PASO DESC. UNIC.]]*$AU$11-$AV$11)))))))","v":0},{"$f":"Tabla4[[#This Row],[TOTAL AFP]]+Tabla4[[#This Row],[TOTAL SALUD]]+Tabla4[[#This Row],[TOTAL SEGURO CESANTIA]]+Tabla4[[#This Row],[TOTAL ADICIONAL]]+Tabla4[[#This Row],[VALOR IMP U.]]+Tabla4[[#This Row],[VALOR OTRO 2]]+Tabla4[[#This Row],[VALOR OTRO 1]]","v":0},null,{"$f":"IF($BP$8 = \"SI\",IF(Tabla4[[#This Row],[TIPO CONTRATO]]=\"Indefinido\",BDD!S91*2.4%,IF(Tabla4[[#This Row],[TIPO CONTRATO]]=\"PLAZO FIJO\",BDD!S91*3%,0)),0)","v":0},null,null,null,null,null,null,{"$f":"BDD!S91*Tabla4[[#This Row],[% SIS]]","v":0},null,null,{"$f":"BDD!S91*Tabla4[[#This Row],[%MUTUAL]]","v":0}]
[null,null,null,null,null,null,null,null,null,null,86,{"$f":"IF(BDD!J92=0,\" \",BDD!J92)","v":" "},null,null,{"$f":"IF(BDD!S92<_TOPEIMPONIBLE,BDD!S92*Tabla4[[#This Row],[%AFP]],_TOPEIMPONIBLE*Tabla4[[#This Row],[%AFP]])","v":0},null,null,{"$f":"IF(BDD!S92<_TOPEIMPONIBLE,BDD!S92*Tabla4[[#This Row],[%SALUD]],_TOPEIMPONIBLE*Tabla4[[#This Row],[%SALUD]])","v":0},null,null,{"$f":"BDD!S92*Tabla4[[#This Row],[%SEGURO]]","v":0},null,{"$f":"IF(Tabla4[[#This Row],[TOTAL UF]]-Tabla4[[#This Row],[TOTAL SALUD]]<=0,0,Tabla4[[#This Row],[TOTAL UF]]-Tabla4[[#This Row],[TOTAL SALUD]])","v":0},null,{"$f":"BDD!$N$4","v":37838.550000000003},{"$f":"Tabla4[[#This Row],[PACTO UF]]*Tabla4[[#This Row],[VALOR UF]]","v":0},"IMPUESTO UNICO",{"$f":"BDD!S92-Tabla4[[#This Row],[TOTAL AFP]]-Tabla4[[#This Row],[TOTAL SALUD]]-Tabla4[[#This Row],[TOTAL SEGURO CESANTIA]]-Tabla4[[#This Row],[TOTAL ADICIONAL]]","v":0},{"$f":"IF(Tabla4[[#This Row],[PASO DESC. UNIC.]]<=$AT$5,0,IF(Tabla4[[#This Row],[PASO DESC. UNIC.]]<=$AT$6,Tabla4[[#This Row],[PASO DESC. UNIC.]]*$AU$6-$AV$6,IF(Tabla4[[#This Row],[PASO DESC. UNIC.]]<=$AT$7,Tabla4[[#This Row],[PASO DESC. UNIC.]]*$AU$7-$AV$7,IF(Tabla4[[#This Row],[PASO DESC. UNIC.]]<=$AT$8,Tabla4[[#This Row],[PASO DESC. UNIC.]]*$AU$8-$AV$8,IF(Tabla4[[#This Row],[PASO DESC. UNIC.]]<=$AT$9,Tabla4[[#This Row],[PASO DESC. UNIC.]]*$AU$9-$AV$9,IF(Tabla4[[#This Row],[PASO DESC. UNIC.]]<=$AT$10,Tabla4[[#This Row],[PASO DESC. UNIC.]]*$AU$10-$AV$10,IF(Tabla4[[#This Row],[PASO DESC. UNIC.]]>=$AS$11,Tabla4[[#This Row],[PASO DESC. UNIC.]]*$AU$11-$AV$11)))))))","v":0},{"$f":"Tabla4[[#This Row],[TOTAL AFP]]+Tabla4[[#This Row],[TOTAL SALUD]]+Tabla4[[#This Row],[TOTAL SEGURO CESANTIA]]+Tabla4[[#This Row],[TOTAL ADICIONAL]]+Tabla4[[#This Row],[VALOR IMP U.]]+Tabla4[[#This Row],[VALOR OTRO 2]]+Tabla4[[#This Row],[VALOR OTRO 1]]","v":0},null,{"$f":"IF($BP$8 = \"SI\",IF(Tabla4[[#This Row],[TIPO CONTRATO]]=\"Indefinido\",BDD!S92*2.4%,IF(Tabla4[[#This Row],[TIPO CONTRATO]]=\"PLAZO FIJO\",BDD!S92*3%,0)),0)","v":0},null,null,null,null,null,null,{"$f":"BDD!S92*Tabla4[[#This Row],[% SIS]]","v":0},null,null,{"$f":"BDD!S92*Tabla4[[#This Row],[%MUTUAL]]","v":0}]
[null,null,null,null,null,null,null,null,null,null,87,{"$f":"IF(BDD!J93=0,\" \",BDD!J93)","v":" "},null,null,{"$f":"IF(BDD!S93<_TOPEIMPONIBLE,BDD!S93*Tabla4[[#This Row],[%AFP]],_TOPEIMPONIBLE*Tabla4[[#This Row],[%AFP]])","v":0},null,null,{"$f":"IF(BDD!S93<_TOPEIMPONIBLE,BDD!S93*Tabla4[[#This Row],[%SALUD]],_TOPEIMPONIBLE*Tabla4[[#This Row],[%SALUD]])","v":0},null,null,{"$f":"BDD!S93*Tabla4[[#This Row],[%SEGURO]]","v":0},null,{"$f":"IF(Tabla4[[#This Row],[TOTAL UF]]-Tabla4[[#This Row],[TOTAL SALUD]]<=0,0,Tabla4[[#This Row],[TOTAL UF]]-Tabla4[[#This Row],[TOTAL SALUD]])","v":0},null,{"$f":"BDD!$N$4","v":37838.550000000003},{"$f":"Tabla4[[#This Row],[PACTO UF]]*Tabla4[[#This Row],[VALOR UF]]","v":0},"IMPUESTO UNICO",{"$f":"BDD!S93-Tabla4[[#This Row],[TOTAL AFP]]-Tabla4[[#This Row],[TOTAL SALUD]]-Tabla4[[#This Row],[TOTAL SEGURO CESANTIA]]-Tabla4[[#This Row],[TOTAL ADICIONAL]]","v":0},{"$f":"IF(Tabla4[[#This Row],[PASO DESC. UNIC.]]<=$AT$5,0,IF(Tabla4[[#This Row],[PASO DESC. UNIC.]]<=$AT$6,Tabla4[[#This Row],[PASO DESC. UNIC.]]*$AU$6-$AV$6,IF(Tabla4[[#This Row],[PASO DESC. UNIC.]]<=$AT$7,Tabla4[[#This Row],[PASO DESC. UNIC.]]*$AU$7-$AV$7,IF(Tabla4[[#This Row],[PASO DESC. UNIC.]]<=$AT$8,Tabla4[[#This Row],[PASO DESC. UNIC.]]*$AU$8-$AV$8,IF(Tabla4[[#This Row],[PASO DESC. UNIC.]]<=$AT$9,Tabla4[[#This Row],[PASO DESC. UNIC.]]*$AU$9-$AV$9,IF(Tabla4[[#This Row],[PASO DESC. UNIC.]]<=$AT$10,Tabla4[[#This Row],[PASO DESC. UNIC.]]*$AU$10-$AV$10,IF(Tabla4[[#This Row],[PASO DESC. UNIC.]]>=$AS$11,Tabla4[[#This Row],[PASO DESC. UNIC.]]*$AU$11-$AV$11)))))))","v":0},{"$f":"Tabla4[[#This Row],[TOTAL AFP]]+Tabla4[[#This Row],[TOTAL SALUD]]+Tabla4[[#This Row],[TOTAL SEGURO CESANTIA]]+Tabla4[[#This Row],[TOTAL ADICIONAL]]+Tabla4[[#This Row],[VALOR IMP U.]]+Tabla4[[#This Row],[VALOR OTRO 2]]+Tabla4[[#This Row],[VALOR OTRO 1]]","v":0},null,{"$f":"IF($BP$8 = \"SI\",IF(Tabla4[[#This Row],[TIPO CONTRATO]]=\"Indefinido\",BDD!S93*2.4%,IF(Tabla4[[#This Row],[TIPO CONTRATO]]=\"PLAZO FIJO\",BDD!S93*3%,0)),0)","v":0},null,null,null,null,null,null,{"$f":"BDD!S93*Tabla4[[#This Row],[% SIS]]","v":0},null,null,{"$f":"BDD!S93*Tabla4[[#This Row],[%MUTUAL]]","v":0}]
[null,null,null,null,null,null,null,null,null,null,88,{"$f":"IF(BDD!J94=0,\" \",BDD!J94)","v":" "},null,null,{"$f":"IF(BDD!S94<_TOPEIMPONIBLE,BDD!S94*Tabla4[[#This Row],[%AFP]],_TOPEIMPONIBLE*Tabla4[[#This Row],[%AFP]])","v":0},null,null,{"$f":"IF(BDD!S94<_TOPEIMPONIBLE,BDD!S94*Tabla4[[#This Row],[%SALUD]],_TOPEIMPONIBLE*Tabla4[[#This Row],[%SALUD]])","v":0},null,null,{"$f":"BDD!S94*Tabla4[[#This Row],[%SEGURO]]","v":0},null,{"$f":"IF(Tabla4[[#This Row],[TOTAL UF]]-Tabla4[[#This Row],[TOTAL SALUD]]<=0,0,Tabla4[[#This Row],[TOTAL UF]]-Tabla4[[#This Row],[TOTAL SALUD]])","v":0},null,{"$f":"BDD!$N$4","v":37838.550000000003},{"$f":"Tabla4[[#This Row],[PACTO UF]]*Tabla4[[#This Row],[VALOR UF]]","v":0},"IMPUESTO UNICO",{"$f":"BDD!S94-Tabla4[[#This Row],[TOTAL AFP]]-Tabla4[[#This Row],[TOTAL SALUD]]-Tabla4[[#This Row],[TOTAL SEGURO CESANTIA]]-Tabla4[[#This Row],[TOTAL ADICIONAL]]","v":0},{"$f":"IF(Tabla4[[#This Row],[PASO DESC. UNIC.]]<=$AT$5,0,IF(Tabla4[[#This Row],[PASO DESC. UNIC.]]<=$AT$6,Tabla4[[#This Row],[PASO DESC. UNIC.]]*$AU$6-$AV$6,IF(Tabla4[[#This Row],[PASO DESC. UNIC.]]<=$AT$7,Tabla4[[#This Row],[PASO DESC. UNIC.]]*$AU$7-$AV$7,IF(Tabla4[[#This Row],[PASO DESC. UNIC.]]<=$AT$8,Tabla4[[#This Row],[PASO DESC. UNIC.]]*$AU$8-$AV$8,IF(Tabla4[[#This Row],[PASO DESC. UNIC.]]<=$AT$9,Tabla4[[#This Row],[PASO DESC. UNIC.]]*$AU$9-$AV$9,IF(Tabla4[[#This Row],[PASO DESC. UNIC.]]<=$AT$10,Tabla4[[#This Row],[PASO DESC. UNIC.]]*$AU$10-$AV$10,IF(Tabla4[[#This Row],[PASO DESC. UNIC.]]>=$AS$11,Tabla4[[#This Row],[PASO DESC. UNIC.]]*$AU$11-$AV$11)))))))","v":0},{"$f":"Tabla4[[#This Row],[TOTAL AFP]]+Tabla4[[#This Row],[TOTAL SALUD]]+Tabla4[[#This Row],[TOTAL SEGURO CESANTIA]]+Tabla4[[#This Row],[TOTAL ADICIONAL]]+Tabla4[[#This Row],[VALOR IMP U.]]+Tabla4[[#This Row],[VALOR OTRO 2]]+Tabla4[[#This Row],[VALOR OTRO 1]]","v":0},null,{"$f":"IF($BP$8 = \"SI\",IF(Tabla4[[#This Row],[TIPO CONTRATO]]=\"Indefinido\",BDD!S94*2.4%,IF(Tabla4[[#This Row],[TIPO CONTRATO]]=\"PLAZO FIJO\",BDD!S94*3%,0)),0)","v":0},null,null,null,null,null,null,{"$f":"BDD!S94*Tabla4[[#This Row],[% SIS]]","v":0},null,null,{"$f":"BDD!S94*Tabla4[[#This Row],[%MUTUAL]]","v":0}]
[null,null,null,null,null,null,null,null,null,null,89,{"$f":"IF(BDD!J95=0,\" \",BDD!J95)","v":" "},null,null,{"$f":"IF(BDD!S95<_TOPEIMPONIBLE,BDD!S95*Tabla4[[#This Row],[%AFP]],_TOPEIMPONIBLE*Tabla4[[#This Row],[%AFP]])","v":0},null,null,{"$f":"IF(BDD!S95<_TOPEIMPONIBLE,BDD!S95*Tabla4[[#This Row],[%SALUD]],_TOPEIMPONIBLE*Tabla4[[#This Row],[%SALUD]])","v":0},null,null,{"$f":"BDD!S95*Tabla4[[#This Row],[%SEGURO]]","v":0},null,{"$f":"IF(Tabla4[[#This Row],[TOTAL UF]]-Tabla4[[#This Row],[TOTAL SALUD]]<=0,0,Tabla4[[#This Row],[TOTAL UF]]-Tabla4[[#This Row],[TOTAL SALUD]])","v":0},null,{"$f":"BDD!$N$4","v":37838.550000000003},{"$f":"Tabla4[[#This Row],[PACTO UF]]*Tabla4[[#This Row],[VALOR UF]]","v":0},"IMPUESTO UNICO",{"$f":"BDD!S95-Tabla4[[#This Row],[TOTAL AFP]]-Tabla4[[#This Row],[TOTAL SALUD]]-Tabla4[[#This Row],[TOTAL SEGURO CESANTIA]]-Tabla4[[#This Row],[TOTAL ADICIONAL]]","v":0},{"$f":"IF(Tabla4[[#This Row],[PASO DESC. UNIC.]]<=$AT$5,0,IF(Tabla4[[#This Row],[PASO DESC. UNIC.]]<=$AT$6,Tabla4[[#This Row],[PASO DESC. UNIC.]]*$AU$6-$AV$6,IF(Tabla4[[#This Row],[PASO DESC. UNIC.]]<=$AT$7,Tabla4[[#This Row],[PASO DESC. UNIC.]]*$AU$7-$AV$7,IF(Tabla4[[#This Row],[PASO DESC. UNIC.]]<=$AT$8,Tabla4[[#This Row],[PASO DESC. UNIC.]]*$AU$8-$AV$8,IF(Tabla4[[#This Row],[PASO DESC. UNIC.]]<=$AT$9,Tabla4[[#This Row],[PASO DESC. UNIC.]]*$AU$9-$AV$9,IF(Tabla4[[#This Row],[PASO DESC. UNIC.]]<=$AT$10,Tabla4[[#This Row],[PASO DESC. UNIC.]]*$AU$10-$AV$10,IF(Tabla4[[#This Row],[PASO DESC. UNIC.]]>=$AS$11,Tabla4[[#This Row],[PASO DESC. UNIC.]]*$AU$11-$AV$11)))))))","v":0},{"$f":"Tabla4[[#This Row],[TOTAL AFP]]+Tabla4[[#This Row],[TOTAL SALUD]]+Tabla4[[#This Row],[TOTAL SEGURO CESANTIA]]+Tabla4[[#This Row],[TOTAL ADICIONAL]]+Tabla4[[#This Row],[VALOR IMP U.]]+Tabla4[[#This Row],[VALOR OTRO 2]]+Tabla4[[#This Row],[VALOR OTRO 1]]","v":0},null,{"$f":"IF($BP$8 = \"SI\",IF(Tabla4[[#This Row],[TIPO CONTRATO]]=\"Indefinido\",BDD!S95*2.4%,IF(Tabla4[[#This Row],[TIPO CONTRATO]]=\"PLAZO FIJO\",BDD!S95*3%,0)),0)","v":0},null,null,null,null,null,null,{"$f":"BDD!S95*Tabla4[[#This Row],[% SIS]]","v":0},null,null,{"$f":"BDD!S95*Tabla4[[#This Row],[%MUTUAL]]","v":0}]
[null,null,null,null,null,null,null,null,null,null,90,{"$f":"IF(BDD!J96=0,\" \",BDD!J96)","v":" "},null,null,{"$f":"IF(BDD!S96<_TOPEIMPONIBLE,BDD!S96*Tabla4[[#This Row],[%AFP]],_TOPEIMPONIBLE*Tabla4[[#This Row],[%AFP]])","v":0},null,null,{"$f":"IF(BDD!S96<_TOPEIMPONIBLE,BDD!S96*Tabla4[[#This Row],[%SALUD]],_TOPEIMPONIBLE*Tabla4[[#This Row],[%SALUD]])","v":0},null,null,{"$f":"BDD!S96*Tabla4[[#This Row],[%SEGURO]]","v":0},null,{"$f":"IF(Tabla4[[#This Row],[TOTAL UF]]-Tabla4[[#This Row],[TOTAL SALUD]]<=0,0,Tabla4[[#This Row],[TOTAL UF]]-Tabla4[[#This Row],[TOTAL SALUD]])","v":0},null,{"$f":"BDD!$N$4","v":37838.550000000003},{"$f":"Tabla4[[#This Row],[PACTO UF]]*Tabla4[[#This Row],[VALOR UF]]","v":0},"IMPUESTO UNICO",{"$f":"BDD!S96-Tabla4[[#This Row],[TOTAL AFP]]-Tabla4[[#This Row],[TOTAL SALUD]]-Tabla4[[#This Row],[TOTAL SEGURO CESANTIA]]-Tabla4[[#This Row],[TOTAL ADICIONAL]]","v":0},{"$f":"IF(Tabla4[[#This Row],[PASO DESC. UNIC.]]<=$AT$5,0,IF(Tabla4[[#This Row],[PASO DESC. UNIC.]]<=$AT$6,Tabla4[[#This Row],[PASO DESC. UNIC.]]*$AU$6-$AV$6,IF(Tabla4[[#This Row],[PASO DESC. UNIC.]]<=$AT$7,Tabla4[[#This Row],[PASO DESC. UNIC.]]*$AU$7-$AV$7,IF(Tabla4[[#This Row],[PASO DESC. UNIC.]]<=$AT$8,Tabla4[[#This Row],[PASO DESC. UNIC.]]*$AU$8-$AV$8,IF(Tabla4[[#This Row],[PASO DESC. UNIC.]]<=$AT$9,Tabla4[[#This Row],[PASO DESC. UNIC.]]*$AU$9-$AV$9,IF(Tabla4[[#This Row],[PASO DESC. UNIC.]]<=$AT$10,Tabla4[[#This Row],[PASO DESC. UNIC.]]*$AU$10-$AV$10,IF(Tabla4[[#This Row],[PASO DESC. UNIC.]]>=$AS$11,Tabla4[[#This Row],[PASO DESC. UNIC.]]*$AU$11-$AV$11)))))))","v":0},{"$f":"Tabla4[[#This Row],[TOTAL AFP]]+Tabla4[[#This Row],[TOTAL SALUD]]+Tabla4[[#This Row],[TOTAL SEGURO CESANTIA]]+Tabla4[[#This Row],[TOTAL ADICIONAL]]+Tabla4[[#This Row],[VALOR IMP U.]]+Tabla4[[#This Row],[VALOR OTRO 2]]+Tabla4[[#This Row],[VALOR OTRO 1]]","v":0},null,{"$f":"IF($BP$8 = \"SI\",IF(Tabla4[[#This Row],[TIPO CONTRATO]]=\"Indefinido\",BDD!S96*2.4%,IF(Tabla4[[#This Row],[TIPO CONTRATO]]=\"PLAZO FIJO\",BDD!S96*3%,0)),0)","v":0},null,null,null,null,null,null,{"$f":"BDD!S96*Tabla4[[#This Row],[% SIS]]","v":0},null,null,{"$f":"BDD!S96*Tabla4[[#This Row],[%MUTUAL]]","v":0}]
[null,null,null,null,null,null,null,null,null,null,91,{"$f":"IF(BDD!J97=0,\" \",BDD!J97)","v":" "},null,null,{"$f":"IF(BDD!S97<_TOPEIMPONIBLE,BDD!S97*Tabla4[[#This Row],[%AFP]],_TOPEIMPONIBLE*Tabla4[[#This Row],[%AFP]])","v":0},null,null,{"$f":"IF(BDD!S97<_TOPEIMPONIBLE,BDD!S97*Tabla4[[#This Row],[%SALUD]],_TOPEIMPONIBLE*Tabla4[[#This Row],[%SALUD]])","v":0},null,null,{"$f":"BDD!S97*Tabla4[[#This Row],[%SEGURO]]","v":0},null,{"$f":"IF(Tabla4[[#This Row],[TOTAL UF]]-Tabla4[[#This Row],[TOTAL SALUD]]<=0,0,Tabla4[[#This Row],[TOTAL UF]]-Tabla4[[#This Row],[TOTAL SALUD]])","v":0},null,{"$f":"BDD!$N$4","v":37838.550000000003},{"$f":"Tabla4[[#This Row],[PACTO UF]]*Tabla4[[#This Row],[VALOR UF]]","v":0},"IMPUESTO UNICO",{"$f":"BDD!S97-Tabla4[[#This Row],[TOTAL AFP]]-Tabla4[[#This Row],[TOTAL SALUD]]-Tabla4[[#This Row],[TOTAL SEGURO CESANTIA]]-Tabla4[[#This Row],[TOTAL ADICIONAL]]","v":0},{"$f":"IF(Tabla4[[#This Row],[PASO DESC. UNIC.]]<=$AT$5,0,IF(Tabla4[[#This Row],[PASO DESC. UNIC.]]<=$AT$6,Tabla4[[#This Row],[PASO DESC. UNIC.]]*$AU$6-$AV$6,IF(Tabla4[[#This Row],[PASO DESC. UNIC.]]<=$AT$7,Tabla4[[#This Row],[PASO DESC. UNIC.]]*$AU$7-$AV$7,IF(Tabla4[[#This Row],[PASO DESC. UNIC.]]<=$AT$8,Tabla4[[#This Row],[PASO DESC. UNIC.]]*$AU$8-$AV$8,IF(Tabla4[[#This Row],[PASO DESC. UNIC.]]<=$AT$9,Tabla4[[#This Row],[PASO DESC. UNIC.]]*$AU$9-$AV$9,IF(Tabla4[[#This Row],[PASO DESC. UNIC.]]<=$AT$10,Tabla4[[#This Row],[PASO DESC. UNIC.]]*$AU$10-$AV$10,IF(Tabla4[[#This Row],[PASO DESC. UNIC.]]>=$AS$11,Tabla4[[#This Row],[PASO DESC. UNIC.]]*$AU$11-$AV$11)))))))","v":0},{"$f":"Tabla4[[#This Row],[TOTAL AFP]]+Tabla4[[#This Row],[TOTAL SALUD]]+Tabla4[[#This Row],[TOTAL SEGURO CESANTIA]]+Tabla4[[#This Row],[TOTAL ADICIONAL]]+Tabla4[[#This Row],[VALOR IMP U.]]+Tabla4[[#This Row],[VALOR OTRO 2]]+Tabla4[[#This Row],[VALOR OTRO 1]]","v":0},null,{"$f":"IF($BP$8 = \"SI\",IF(Tabla4[[#This Row],[TIPO CONTRATO]]=\"Indefinido\",BDD!S97*2.4%,IF(Tabla4[[#This Row],[TIPO CONTRATO]]=\"PLAZO FIJO\",BDD!S97*3%,0)),0)","v":0},null,null,null,null,null,null,{"$f":"BDD!S97*Tabla4[[#This Row],[% SIS]]","v":0},null,null,{"$f":"BDD!S97*Tabla4[[#This Row],[%MUTUAL]]","v":0}]
[null,null,null,null,null,null,null,null,null,null,92,{"$f":"IF(BDD!J98=0,\" \",BDD!J98)","v":" "},null,null,{"$f":"IF(BDD!S98<_TOPEIMPONIBLE,BDD!S98*Tabla4[[#This Row],[%AFP]],_TOPEIMPONIBLE*Tabla4[[#This Row],[%AFP]])","v":0},null,null,{"$f":"IF(BDD!S98<_TOPEIMPONIBLE,BDD!S98*Tabla4[[#This Row],[%SALUD]],_TOPEIMPONIBLE*Tabla4[[#This Row],[%SALUD]])","v":0},null,null,{"$f":"BDD!S98*Tabla4[[#This Row],[%SEGURO]]","v":0},null,{"$f":"IF(Tabla4[[#This Row],[TOTAL UF]]-Tabla4[[#This Row],[TOTAL SALUD]]<=0,0,Tabla4[[#This Row],[TOTAL UF]]-Tabla4[[#This Row],[TOTAL SALUD]])","v":0},null,{"$f":"BDD!$N$4","v":37838.550000000003},{"$f":"Tabla4[[#This Row],[PACTO UF]]*Tabla4[[#This Row],[VALOR UF]]","v":0},"IMPUESTO UNICO",{"$f":"BDD!S98-Tabla4[[#This Row],[TOTAL AFP]]-Tabla4[[#This Row],[TOTAL SALUD]]-Tabla4[[#This Row],[TOTAL SEGURO CESANTIA]]-Tabla4[[#This Row],[TOTAL ADICIONAL]]","v":0},{"$f":"IF(Tabla4[[#This Row],[PASO DESC. UNIC.]]<=$AT$5,0,IF(Tabla4[[#This Row],[PASO DESC. UNIC.]]<=$AT$6,Tabla4[[#This Row],[PASO DESC. UNIC.]]*$AU$6-$AV$6,IF(Tabla4[[#This Row],[PASO DESC. UNIC.]]<=$AT$7,Tabla4[[#This Row],[PASO DESC. UNIC.]]*$AU$7-$AV$7,IF(Tabla4[[#This Row],[PASO DESC. UNIC.]]<=$AT$8,Tabla4[[#This Row],[PASO DESC. UNIC.]]*$AU$8-$AV$8,IF(Tabla4[[#This Row],[PASO DESC. UNIC.]]<=$AT$9,Tabla4[[#This Row],[PASO DESC. UNIC.]]*$AU$9-$AV$9,IF(Tabla4[[#This Row],[PASO DESC. UNIC.]]<=$AT$10,Tabla4[[#This Row],[PASO DESC. UNIC.]]*$AU$10-$AV$10,IF(Tabla4[[#This Row],[PASO DESC. UNIC.]]>=$AS$11,Tabla4[[#This Row],[PASO DESC. UNIC.]]*$AU$11-$AV$11)))))))","v":0},{"$f":"Tabla4[[#This Row],[TOTAL AFP]]+Tabla4[[#This Row],[TOTAL SALUD]]+Tabla4[[#This Row],[TOTAL SEGURO CESANTIA]]+Tabla4[[#This Row],[TOTAL ADICIONAL]]+Tabla4[[#This Row],[VALOR IMP U.]]+Tabla4[[#This Row],[VALOR OTRO 2]]+Tabla4[[#This Row],[VALOR OTRO 1]]","v":0},null,{"$f":"IF($BP$8 = \"SI\",IF(Tabla4[[#This Row],[TIPO CONTRATO]]=\"Indefinido\",BDD!S98*2.4%,IF(Tabla4[[#This Row],[TIPO CONTRATO]]=\"PLAZO FIJO\",BDD!S98*3%,0)),0)","v":0},null,null,null,null,null,null,{"$f":"BDD!S98*Tabla4[[#This Row],[% SIS]]","v":0},null,null,{"$f":"BDD!S98*Tabla4[[#This Row],[%MUTUAL]]","v":0}]
[null,null,null,null,null,null,null,null,null,null,93,{"$f":"IF(BDD!J99=0,\" \",BDD!J99)","v":" "},null,null,{"$f":"IF(BDD!S99<_TOPEIMPONIBLE,BDD!S99*Tabla4[[#This Row],[%AFP]],_TOPEIMPONIBLE*Tabla4[[#This Row],[%AFP]])","v":0},null,null,{"$f":"IF(BDD!S99<_TOPEIMPONIBLE,BDD!S99*Tabla4[[#This Row],[%SALUD]],_TOPEIMPONIBLE*Tabla4[[#This Row],[%SALUD]])","v":0},null,null,{"$f":"BDD!S99*Tabla4[[#This Row],[%SEGURO]]","v":0},null,{"$f":"IF(Tabla4[[#This Row],[TOTAL UF]]-Tabla4[[#This Row],[TOTAL SALUD]]<=0,0,Tabla4[[#This Row],[TOTAL UF]]-Tabla4[[#This Row],[TOTAL SALUD]])","v":0},null,{"$f":"BDD!$N$4","v":37838.550000000003},{"$f":"Tabla4[[#This Row],[PACTO UF]]*Tabla4[[#This Row],[VALOR UF]]","v":0},"IMPUESTO UNICO",{"$f":"BDD!S99-Tabla4[[#This Row],[TOTAL AFP]]-Tabla4[[#This Row],[TOTAL SALUD]]-Tabla4[[#This Row],[TOTAL SEGURO CESANTIA]]-Tabla4[[#This Row],[TOTAL ADICIONAL]]","v":0},{"$f":"IF(Tabla4[[#This Row],[PASO DESC. UNIC.]]<=$AT$5,0,IF(Tabla4[[#This Row],[PASO DESC. UNIC.]]<=$AT$6,Tabla4[[#This Row],[PASO DESC. UNIC.]]*$AU$6-$AV$6,IF(Tabla4[[#This Row],[PASO DESC. UNIC.]]<=$AT$7,Tabla4[[#This Row],[PASO DESC. UNIC.]]*$AU$7-$AV$7,IF(Tabla4[[#This Row],[PASO DESC. UNIC.]]<=$AT$8,Tabla4[[#This Row],[PASO DESC. UNIC.]]*$AU$8-$AV$8,IF(Tabla4[[#This Row],[PASO DESC. UNIC.]]<=$AT$9,Tabla4[[#This Row],[PASO DESC. UNIC.]]*$AU$9-$AV$9,IF(Tabla4[[#This Row],[PASO DESC. UNIC.]]<=$AT$10,Tabla4[[#This Row],[PASO DESC. UNIC.]]*$AU$10-$AV$10,IF(Tabla4[[#This Row],[PASO DESC. UNIC.]]>=$AS$11,Tabla4[[#This Row],[PASO DESC. UNIC.]]*$AU$11-$AV$11)))))))","v":0},{"$f":"Tabla4[[#This Row],[TOTAL AFP]]+Tabla4[[#This Row],[TOTAL SALUD]]+Tabla4[[#This Row],[TOTAL SEGURO CESANTIA]]+Tabla4[[#This Row],[TOTAL ADICIONAL]]+Tabla4[[#This Row],[VALOR IMP U.]]+Tabla4[[#This Row],[VALOR OTRO 2]]+Tabla4[[#This Row],[VALOR OTRO 1]]","v":0},null,{"$f":"IF($BP$8 = \"SI\",IF(Tabla4[[#This Row],[TIPO CONTRATO]]=\"Indefinido\",BDD!S99*2.4%,IF(Tabla4[[#This Row],[TIPO CONTRATO]]=\"PLAZO FIJO\",BDD!S99*3%,0)),0)","v":0},null,null,null,null,null,null,{"$f":"BDD!S99*Tabla4[[#This Row],[% SIS]]","v":0},null,null,{"$f":"BDD!S99*Tabla4[[#This Row],[%MUTUAL]]","v":0}]
[null,null,null,null,null,null,null,null,null,null,94,{"$f":"IF(BDD!J100=0,\" \",BDD!J100)","v":" "},null,null,{"$f":"IF(BDD!S100<_TOPEIMPONIBLE,BDD!S100*Tabla4[[#This Row],[%AFP]],_TOPEIMPONIBLE*Tabla4[[#This Row],[%AFP]])","v":0},null,null,{"$f":"IF(BDD!S100<_TOPEIMPONIBLE,BDD!S100*Tabla4[[#This Row],[%SALUD]],_TOPEIMPONIBLE*Tabla4[[#This Row],[%SALUD]])","v":0},null,null,{"$f":"BDD!S100*Tabla4[[#This Row],[%SEGURO]]","v":0},null,{"$f":"IF(Tabla4[[#This Row],[TOTAL UF]]-Tabla4[[#This Row],[TOTAL SALUD]]<=0,0,Tabla4[[#This Row],[TOTAL UF]]-Tabla4[[#This Row],[TOTAL SALUD]])","v":0},null,{"$f":"BDD!$N$4","v":37838.550000000003},{"$f":"Tabla4[[#This Row],[PACTO UF]]*Tabla4[[#This Row],[VALOR UF]]","v":0},"IMPUESTO UNICO",{"$f":"BDD!S100-Tabla4[[#This Row],[TOTAL AFP]]-Tabla4[[#This Row],[TOTAL SALUD]]-Tabla4[[#This Row],[TOTAL SEGURO CESANTIA]]-Tabla4[[#This Row],[TOTAL ADICIONAL]]","v":0},{"$f":"IF(Tabla4[[#This Row],[PASO DESC. UNIC.]]<=$AT$5,0,IF(Tabla4[[#This Row],[PASO DESC. UNIC.]]<=$AT$6,Tabla4[[#This Row],[PASO DESC. UNIC.]]*$AU$6-$AV$6,IF(Tabla4[[#This Row],[PASO DESC. UNIC.]]<=$AT$7,Tabla4[[#This Row],[PASO DESC. UNIC.]]*$AU$7-$AV$7,IF(Tabla4[[#This Row],[PASO DESC. UNIC.]]<=$AT$8,Tabla4[[#This Row],[PASO DESC. UNIC.]]*$AU$8-$AV$8,IF(Tabla4[[#This Row],[PASO DESC. UNIC.]]<=$AT$9,Tabla4[[#This Row],[PASO DESC. UNIC.]]*$AU$9-$AV$9,IF(Tabla4[[#This Row],[PASO DESC. UNIC.]]<=$AT$10,Tabla4[[#This Row],[PASO DESC. UNIC.]]*$AU$10-$AV$10,IF(Tabla4[[#This Row],[PASO DESC. UNIC.]]>=$AS$11,Tabla4[[#This Row],[PASO DESC. UNIC.]]*$AU$11-$AV$11)))))))","v":0},{"$f":"Tabla4[[#This Row],[TOTAL AFP]]+Tabla4[[#This Row],[TOTAL SALUD]]+Tabla4[[#This Row],[TOTAL SEGURO CESANTIA]]+Tabla4[[#This Row],[TOTAL ADICIONAL]]+Tabla4[[#This Row],[VALOR IMP U.]]+Tabla4[[#This Row],[VALOR OTRO 2]]+Tabla4[[#This Row],[VALOR OTRO 1]]","v":0},null,{"$f":"IF($BP$8 = \"SI\",IF(Tabla4[[#This Row],[TIPO CONTRATO]]=\"Indefinido\",BDD!S100*2.4%,IF(Tabla4[[#This Row],[TIPO CONTRATO]]=\"PLAZO FIJO\",BDD!S100*3%,0)),0)","v":0},null,null,null,null,null,null,{"$f":"BDD!S100*Tabla4[[#This Row],[% SIS]]","v":0},null,null,{"$f":"BDD!S100*Tabla4[[#This Row],[%MUTUAL]]","v":0}]
[null,null,null,null,null,null,null,null,null,null,95,{"$f":"IF(BDD!J101=0,\" \",BDD!J101)","v":" "},null,null,{"$f":"IF(BDD!S101<_TOPEIMPONIBLE,BDD!S101*Tabla4[[#This Row],[%AFP]],_TOPEIMPONIBLE*Tabla4[[#This Row],[%AFP]])","v":0},null,null,{"$f":"IF(BDD!S101<_TOPEIMPONIBLE,BDD!S101*Tabla4[[#This Row],[%SALUD]],_TOPEIMPONIBLE*Tabla4[[#This Row],[%SALUD]])","v":0},null,null,{"$f":"BDD!S101*Tabla4[[#This Row],[%SEGURO]]","v":0},null,{"$f":"IF(Tabla4[[#This Row],[TOTAL UF]]-Tabla4[[#This Row],[TOTAL SALUD]]<=0,0,Tabla4[[#This Row],[TOTAL UF]]-Tabla4[[#This Row],[TOTAL SALUD]])","v":0},null,{"$f":"BDD!$N$4","v":37838.550000000003},{"$f":"Tabla4[[#This Row],[PACTO UF]]*Tabla4[[#This Row],[VALOR UF]]","v":0},"IMPUESTO UNICO",{"$f":"BDD!S101-Tabla4[[#This Row],[TOTAL AFP]]-Tabla4[[#This Row],[TOTAL SALUD]]-Tabla4[[#This Row],[TOTAL SEGURO CESANTIA]]-Tabla4[[#This Row],[TOTAL ADICIONAL]]","v":0},{"$f":"IF(Tabla4[[#This Row],[PASO DESC. UNIC.]]<=$AT$5,0,IF(Tabla4[[#This Row],[PASO DESC. UNIC.]]<=$AT$6,Tabla4[[#This Row],[PASO DESC. UNIC.]]*$AU$6-$AV$6,IF(Tabla4[[#This Row],[PASO DESC. UNIC.]]<=$AT$7,Tabla4[[#This Row],[PASO DESC. UNIC.]]*$AU$7-$AV$7,IF(Tabla4[[#This Row],[PASO DESC. UNIC.]]<=$AT$8,Tabla4[[#This Row],[PASO DESC. UNIC.]]*$AU$8-$AV$8,IF(Tabla4[[#This Row],[PASO DESC. UNIC.]]<=$AT$9,Tabla4[[#This Row],[PASO DESC. UNIC.]]*$AU$9-$AV$9,IF(Tabla4[[#This Row],[PASO DESC. UNIC.]]<=$AT$10,Tabla4[[#This Row],[PASO DESC. UNIC.]]*$AU$10-$AV$10,IF(Tabla4[[#This Row],[PASO DESC. UNIC.]]>=$AS$11,Tabla4[[#This Row],[PASO DESC. UNIC.]]*$AU$11-$AV$11)))))))","v":0},{"$f":"Tabla4[[#This Row],[TOTAL AFP]]+Tabla4[[#This Row],[TOTAL SALUD]]+Tabla4[[#This Row],[TOTAL SEGURO CESANTIA]]+Tabla4[[#This Row],[TOTAL ADICIONAL]]+Tabla4[[#This Row],[VALOR IMP U.]]+Tabla4[[#This Row],[VALOR OTRO 2]]+Tabla4[[#This Row],[VALOR OTRO 1]]","v":0},null,{"$f":"IF($BP$8 = \"SI\",IF(Tabla4[[#This Row],[TIPO CONTRATO]]=\"Indefinido\",BDD!S101*2.4%,IF(Tabla4[[#This Row],[TIPO CONTRATO]]=\"PLAZO FIJO\",BDD!S101*3%,0)),0)","v":0},null,null,null,null,null,null,{"$f":"BDD!S101*Tabla4[[#This Row],[% SIS]]","v":0},null,null,{"$f":"BDD!S101*Tabla4[[#This Row],[%MUTUAL]]","v":0}]
[null,null,null,null,null,null,null,null,null,null,96,{"$f":"IF(BDD!J102=0,\" \",BDD!J102)","v":" "},null,null,{"$f":"IF(BDD!S102<_TOPEIMPONIBLE,BDD!S102*Tabla4[[#This Row],[%AFP]],_TOPEIMPONIBLE*Tabla4[[#This Row],[%AFP]])","v":0},null,null,{"$f":"IF(BDD!S102<_TOPEIMPONIBLE,BDD!S102*Tabla4[[#This Row],[%SALUD]],_TOPEIMPONIBLE*Tabla4[[#This Row],[%SALUD]])","v":0},null,null,{"$f":"BDD!S102*Tabla4[[#This Row],[%SEGURO]]","v":0},null,{"$f":"IF(Tabla4[[#This Row],[TOTAL UF]]-Tabla4[[#This Row],[TOTAL SALUD]]<=0,0,Tabla4[[#This Row],[TOTAL UF]]-Tabla4[[#This Row],[TOTAL SALUD]])","v":0},null,{"$f":"BDD!$N$4","v":37838.550000000003},{"$f":"Tabla4[[#This Row],[PACTO UF]]*Tabla4[[#This Row],[VALOR UF]]","v":0},"IMPUESTO UNICO",{"$f":"BDD!S102-Tabla4[[#This Row],[TOTAL AFP]]-Tabla4[[#This Row],[TOTAL SALUD]]-Tabla4[[#This Row],[TOTAL SEGURO CESANTIA]]-Tabla4[[#This Row],[TOTAL ADICIONAL]]","v":0},{"$f":"IF(Tabla4[[#This Row],[PASO DESC. UNIC.]]<=$AT$5,0,IF(Tabla4[[#This Row],[PASO DESC. UNIC.]]<=$AT$6,Tabla4[[#This Row],[PASO DESC. UNIC.]]*$AU$6-$AV$6,IF(Tabla4[[#This Row],[PASO DESC. UNIC.]]<=$AT$7,Tabla4[[#This Row],[PASO DESC. UNIC.]]*$AU$7-$AV$7,IF(Tabla4[[#This Row],[PASO DESC. UNIC.]]<=$AT$8,Tabla4[[#This Row],[PASO DESC. UNIC.]]*$AU$8-$AV$8,IF(Tabla4[[#This Row],[PASO DESC. UNIC.]]<=$AT$9,Tabla4[[#This Row],[PASO DESC. UNIC.]]*$AU$9-$AV$9,IF(Tabla4[[#This Row],[PASO DESC. UNIC.]]<=$AT$10,Tabla4[[#This Row],[PASO DESC. UNIC.]]*$AU$10-$AV$10,IF(Tabla4[[#This Row],[PASO DESC. UNIC.]]>=$AS$11,Tabla4[[#This Row],[PASO DESC. UNIC.]]*$AU$11-$AV$11)))))))","v":0},{"$f":"Tabla4[[#This Row],[TOTAL AFP]]+Tabla4[[#This Row],[TOTAL SALUD]]+Tabla4[[#This Row],[TOTAL SEGURO CESANTIA]]+Tabla4[[#This Row],[TOTAL ADICIONAL]]+Tabla4[[#This Row],[VALOR IMP U.]]+Tabla4[[#This Row],[VALOR OTRO 2]]+Tabla4[[#This Row],[VALOR OTRO 1]]","v":0},null,{"$f":"IF($BP$8 = \"SI\",IF(Tabla4[[#This Row],[TIPO CONTRATO]]=\"Indefinido\",BDD!S102*2.4%,IF(Tabla4[[#This Row],[TIPO CONTRATO]]=\"PLAZO FIJO\",BDD!S102*3%,0)),0)","v":0},null,null,null,null,null,null,{"$f":"BDD!S102*Tabla4[[#This Row],[% SIS]]","v":0},null,null,{"$f":"BDD!S102*Tabla4[[#This Row],[%MUTUAL]]","v":0}]
[null,null,null,null,null,null,null,null,null,null,97,{"$f":"IF(BDD!J103=0,\" \",BDD!J103)","v":" "},null,null,{"$f":"IF(BDD!S103<_TOPEIMPONIBLE,BDD!S103*Tabla4[[#This Row],[%AFP]],_TOPEIMPONIBLE*Tabla4[[#This Row],[%AFP]])","v":0},null,null,{"$f":"IF(BDD!S103<_TOPEIMPONIBLE,BDD!S103*Tabla4[[#This Row],[%SALUD]],_TOPEIMPONIBLE*Tabla4[[#This Row],[%SALUD]])","v":0},null,null,{"$f":"BDD!S103*Tabla4[[#This Row],[%SEGURO]]","v":0},null,{"$f":"IF(Tabla4[[#This Row],[TOTAL UF]]-Tabla4[[#This Row],[TOTAL SALUD]]<=0,0,Tabla4[[#This Row],[TOTAL UF]]-Tabla4[[#This Row],[TOTAL SALUD]])","v":0},null,{"$f":"BDD!$N$4","v":37838.550000000003},{"$f":"Tabla4[[#This Row],[PACTO UF]]*Tabla4[[#This Row],[VALOR UF]]","v":0},"IMPUESTO UNICO",{"$f":"BDD!S103-Tabla4[[#This Row],[TOTAL AFP]]-Tabla4[[#This Row],[TOTAL SALUD]]-Tabla4[[#This Row],[TOTAL SEGURO CESANTIA]]-Tabla4[[#This Row],[TOTAL ADICIONAL]]","v":0},{"$f":"IF(Tabla4[[#This Row],[PASO DESC. UNIC.]]<=$AT$5,0,IF(Tabla4[[#This Row],[PASO DESC. UNIC.]]<=$AT$6,Tabla4[[#This Row],[PASO DESC. UNIC.]]*$AU$6-$AV$6,IF(Tabla4[[#This Row],[PASO DESC. UNIC.]]<=$AT$7,Tabla4[[#This Row],[PASO DESC. UNIC.]]*$AU$7-$AV$7,IF(Tabla4[[#This Row],[PASO DESC. UNIC.]]<=$AT$8,Tabla4[[#This Row],[PASO DESC. UNIC.]]*$AU$8-$AV$8,IF(Tabla4[[#This Row],[PASO DESC. UNIC.]]<=$AT$9,Tabla4[[#This Row],[PASO DESC. UNIC.]]*$AU$9-$AV$9,IF(Tabla4[[#This Row],[PASO DESC. UNIC.]]<=$AT$10,Tabla4[[#This Row],[PASO DESC. UNIC.]]*$AU$10-$AV$10,IF(Tabla4[[#This Row],[PASO DESC. UNIC.]]>=$AS$11,Tabla4[[#This Row],[PASO DESC. UNIC.]]*$AU$11-$AV$11)))))))","v":0},{"$f":"Tabla4[[#This Row],[TOTAL AFP]]+Tabla4[[#This Row],[TOTAL SALUD]]+Tabla4[[#This Row],[TOTAL SEGURO CESANTIA]]+Tabla4[[#This Row],[TOTAL ADICIONAL]]+Tabla4[[#This Row],[VALOR IMP U.]]+Tabla4[[#This Row],[VALOR OTRO 2]]+Tabla4[[#This Row],[VALOR OTRO 1]]","v":0},null,{"$f":"IF($BP$8 = \"SI\",IF(Tabla4[[#This Row],[TIPO CONTRATO]]=\"Indefinido\",BDD!S103*2.4%,IF(Tabla4[[#This Row],[TIPO CONTRATO]]=\"PLAZO FIJO\",BDD!S103*3%,0)),0)","v":0},null,null,null,null,null,null,{"$f":"BDD!S103*Tabla4[[#This Row],[% SIS]]","v":0},null,null,{"$f":"BDD!S103*Tabla4[[#This Row],[%MUTUAL]]","v":0}]
[null,null,null,null,null,null,null,null,null,null,98,{"$f":"IF(BDD!J104=0,\" \",BDD!J104)","v":" "},null,null,{"$f":"IF(BDD!S104<_TOPEIMPONIBLE,BDD!S104*Tabla4[[#This Row],[%AFP]],_TOPEIMPONIBLE*Tabla4[[#This Row],[%AFP]])","v":0},null,null,{"$f":"IF(BDD!S104<_TOPEIMPONIBLE,BDD!S104*Tabla4[[#This Row],[%SALUD]],_TOPEIMPONIBLE*Tabla4[[#This Row],[%SALUD]])","v":0},null,null,{"$f":"BDD!S104*Tabla4[[#This Row],[%SEGURO]]","v":0},null,{"$f":"IF(Tabla4[[#This Row],[TOTAL UF]]-Tabla4[[#This Row],[TOTAL SALUD]]<=0,0,Tabla4[[#This Row],[TOTAL UF]]-Tabla4[[#This Row],[TOTAL SALUD]])","v":0},null,{"$f":"BDD!$N$4","v":37838.550000000003},{"$f":"Tabla4[[#This Row],[PACTO UF]]*Tabla4[[#This Row],[VALOR UF]]","v":0},"IMPUESTO UNICO",{"$f":"BDD!S104-Tabla4[[#This Row],[TOTAL AFP]]-Tabla4[[#This Row],[TOTAL SALUD]]-Tabla4[[#This Row],[TOTAL SEGURO CESANTIA]]-Tabla4[[#This Row],[TOTAL ADICIONAL]]","v":0},{"$f":"IF(Tabla4[[#This Row],[PASO DESC. UNIC.]]<=$AT$5,0,IF(Tabla4[[#This Row],[PASO DESC. UNIC.]]<=$AT$6,Tabla4[[#This Row],[PASO DESC. UNIC.]]*$AU$6-$AV$6,IF(Tabla4[[#This Row],[PASO DESC. UNIC.]]<=$AT$7,Tabla4[[#This Row],[PASO DESC. UNIC.]]*$AU$7-$AV$7,IF(Tabla4[[#This Row],[PASO DESC. UNIC.]]<=$AT$8,Tabla4[[#This Row],[PASO DESC. UNIC.]]*$AU$8-$AV$8,IF(Tabla4[[#This Row],[PASO DESC. UNIC.]]<=$AT$9,Tabla4[[#This Row],[PASO DESC. UNIC.]]*$AU$9-$AV$9,IF(Tabla4[[#This Row],[PASO DESC. UNIC.]]<=$AT$10,Tabla4[[#This Row],[PASO DESC. UNIC.]]*$AU$10-$AV$10,IF(Tabla4[[#This Row],[PASO DESC. UNIC.]]>=$AS$11,Tabla4[[#This Row],[PASO DESC. UNIC.]]*$AU$11-$AV$11)))))))","v":0},{"$f":"Tabla4[[#This Row],[TOTAL AFP]]+Tabla4[[#This Row],[TOTAL SALUD]]+Tabla4[[#This Row],[TOTAL SEGURO CESANTIA]]+Tabla4[[#This Row],[TOTAL ADICIONAL]]+Tabla4[[#This Row],[VALOR IMP U.]]+Tabla4[[#This Row],[VALOR OTRO 2]]+Tabla4[[#This Row],[VALOR OTRO 1]]","v":0},null,{"$f":"IF($BP$8 = \"SI\",IF(Tabla4[[#This Row],[TIPO CONTRATO]]=\"Indefinido\",BDD!S104*2.4%,IF(Tabla4[[#This Row],[TIPO CONTRATO]]=\"PLAZO FIJO\",BDD!S104*3%,0)),0)","v":0},null,null,null,null,null,null,{"$f":"BDD!S104*Tabla4[[#This Row],[% SIS]]","v":0},null,null,{"$f":"BDD!S104*Tabla4[[#This Row],[%MUTUAL]]","v":0}]
[null,null,null,null,null,null,null,null,null,null,99,{"$f":"IF(BDD!J105=0,\" \",BDD!J105)","v":" "},null,null,{"$f":"IF(BDD!S105<_TOPEIMPONIBLE,BDD!S105*Tabla4[[#This Row],[%AFP]],_TOPEIMPONIBLE*Tabla4[[#This Row],[%AFP]])","v":0},null,null,{"$f":"IF(BDD!S105<_TOPEIMPONIBLE,BDD!S105*Tabla4[[#This Row],[%SALUD]],_TOPEIMPONIBLE*Tabla4[[#This Row],[%SALUD]])","v":0},null,null,{"$f":"BDD!S105*Tabla4[[#This Row],[%SEGURO]]","v":0},null,{"$f":"IF(Tabla4[[#This Row],[TOTAL UF]]-Tabla4[[#This Row],[TOTAL SALUD]]<=0,0,Tabla4[[#This Row],[TOTAL UF]]-Tabla4[[#This Row],[TOTAL SALUD]])","v":0},null,{"$f":"BDD!$N$4","v":37838.550000000003},{"$f":"Tabla4[[#This Row],[PACTO UF]]*Tabla4[[#This Row],[VALOR UF]]","v":0},"IMPUESTO UNICO",{"$f":"BDD!S105-Tabla4[[#This Row],[TOTAL AFP]]-Tabla4[[#This Row],[TOTAL SALUD]]-Tabla4[[#This Row],[TOTAL SEGURO CESANTIA]]-Tabla4[[#This Row],[TOTAL ADICIONAL]]","v":0},{"$f":"IF(Tabla4[[#This Row],[PASO DESC. UNIC.]]<=$AT$5,0,IF(Tabla4[[#This Row],[PASO DESC. UNIC.]]<=$AT$6,Tabla4[[#This Row],[PASO DESC. UNIC.]]*$AU$6-$AV$6,IF(Tabla4[[#This Row],[PASO DESC. UNIC.]]<=$AT$7,Tabla4[[#This Row],[PASO DESC. UNIC.]]*$AU$7-$AV$7,IF(Tabla4[[#This Row],[PASO DESC. UNIC.]]<=$AT$8,Tabla4[[#This Row],[PASO DESC. UNIC.]]*$AU$8-$AV$8,IF(Tabla4[[#This Row],[PASO DESC. UNIC.]]<=$AT$9,Tabla4[[#This Row],[PASO DESC. UNIC.]]*$AU$9-$AV$9,IF(Tabla4[[#This Row],[PASO DESC. UNIC.]]<=$AT$10,Tabla4[[#This Row],[PASO DESC. UNIC.]]*$AU$10-$AV$10,IF(Tabla4[[#This Row],[PASO DESC. UNIC.]]>=$AS$11,Tabla4[[#This Row],[PASO DESC. UNIC.]]*$AU$11-$AV$11)))))))","v":0},{"$f":"Tabla4[[#This Row],[TOTAL AFP]]+Tabla4[[#This Row],[TOTAL SALUD]]+Tabla4[[#This Row],[TOTAL SEGURO CESANTIA]]+Tabla4[[#This Row],[TOTAL ADICIONAL]]+Tabla4[[#This Row],[VALOR IMP U.]]+Tabla4[[#This Row],[VALOR OTRO 2]]+Tabla4[[#This Row],[VALOR OTRO 1]]","v":0},null,{"$f":"IF($BP$8 = \"SI\",IF(Tabla4[[#This Row],[TIPO CONTRATO]]=\"Indefinido\",BDD!S105*2.4%,IF(Tabla4[[#This Row],[TIPO CONTRATO]]=\"PLAZO FIJO\",BDD!S105*3%,0)),0)","v":0},null,null,null,null,null,null,{"$f":"BDD!S105*Tabla4[[#This Row],[% SIS]]","v":0},null,null,{"$f":"BDD!S105*Tabla4[[#This Row],[%MUTUAL]]","v":0}]
[null,null,null,null,null,null,null,null,null,null,100,{"$f":"IF(BDD!J106=0,\" \",BDD!J106)","v":" "},null,null,{"$f":"IF(BDD!S106<_TOPEIMPONIBLE,BDD!S106*Tabla4[[#This Row],[%AFP]],_TOPEIMPONIBLE*Tabla4[[#This Row],[%AFP]])","v":0},null,null,{"$f":"IF(BDD!S106<_TOPEIMPONIBLE,BDD!S106*Tabla4[[#This Row],[%SALUD]],_TOPEIMPONIBLE*Tabla4[[#This Row],[%SALUD]])","v":0},null,null,{"$f":"BDD!S106*Tabla4[[#This Row],[%SEGURO]]","v":0},null,{"$f":"IF(Tabla4[[#This Row],[TOTAL UF]]-Tabla4[[#This Row],[TOTAL SALUD]]<=0,0,Tabla4[[#This Row],[TOTAL UF]]-Tabla4[[#This Row],[TOTAL SALUD]])","v":0},null,{"$f":"BDD!$N$4","v":37838.550000000003},{"$f":"Tabla4[[#This Row],[PACTO UF]]*Tabla4[[#This Row],[VALOR UF]]","v":0},"IMPUESTO UNICO",{"$f":"BDD!S106-Tabla4[[#This Row],[TOTAL AFP]]-Tabla4[[#This Row],[TOTAL SALUD]]-Tabla4[[#This Row],[TOTAL SEGURO CESANTIA]]-Tabla4[[#This Row],[TOTAL ADICIONAL]]","v":0},{"$f":"IF(Tabla4[[#This Row],[PASO DESC. UNIC.]]<=$AT$5,0,IF(Tabla4[[#This Row],[PASO DESC. UNIC.]]<=$AT$6,Tabla4[[#This Row],[PASO DESC. UNIC.]]*$AU$6-$AV$6,IF(Tabla4[[#This Row],[PASO DESC. UNIC.]]<=$AT$7,Tabla4[[#This Row],[PASO DESC. UNIC.]]*$AU$7-$AV$7,IF(Tabla4[[#This Row],[PASO DESC. UNIC.]]<=$AT$8,Tabla4[[#This Row],[PASO DESC. UNIC.]]*$AU$8-$AV$8,IF(Tabla4[[#This Row],[PASO DESC. UNIC.]]<=$AT$9,Tabla4[[#This Row],[PASO DESC. UNIC.]]*$AU$9-$AV$9,IF(Tabla4[[#This Row],[PASO DESC. UNIC.]]<=$AT$10,Tabla4[[#This Row],[PASO DESC. UNIC.]]*$AU$10-$AV$10,IF(Tabla4[[#This Row],[PASO DESC. UNIC.]]>=$AS$11,Tabla4[[#This Row],[PASO DESC. UNIC.]]*$AU$11-$AV$11)))))))","v":0},{"$f":"Tabla4[[#This Row],[TOTAL AFP]]+Tabla4[[#This Row],[TOTAL SALUD]]+Tabla4[[#This Row],[TOTAL SEGURO CESANTIA]]+Tabla4[[#This Row],[TOTAL ADICIONAL]]+Tabla4[[#This Row],[VALOR IMP U.]]+Tabla4[[#This Row],[VALOR OTRO 2]]+Tabla4[[#This Row],[VALOR OTRO 1]]","v":0},null,{"$f":"IF($BP$8 = \"SI\",IF(Tabla4[[#This Row],[TIPO CONTRATO]]=\"Indefinido\",BDD!S106*2.4%,IF(Tabla4[[#This Row],[TIPO CONTRATO]]=\"PLAZO FIJO\",BDD!S106*3%,0)),0)","v":0},null,null,null,null,null,null,{"$f":"BDD!S106*Tabla4[[#This Row],[% SIS]]","v":0},null,null,{"$f":"BDD!S106*Tabla4[[#This Row],[%MUTUAL]]","v":0}]
[null,null,null,null,null,null,null,null,null,null,101,{"$f":"IF(BDD!J107=0,\" \",BDD!J107)","v":" "},null,null,{"$f":"IF(BDD!S107<_TOPEIMPONIBLE,BDD!S107*Tabla4[[#This Row],[%AFP]],_TOPEIMPONIBLE*Tabla4[[#This Row],[%AFP]])","v":0},null,null,{"$f":"IF(BDD!S107<_TOPEIMPONIBLE,BDD!S107*Tabla4[[#This Row],[%SALUD]],_TOPEIMPONIBLE*Tabla4[[#This Row],[%SALUD]])","v":0},null,null,{"$f":"BDD!S107*Tabla4[[#This Row],[%SEGURO]]","v":0},null,{"$f":"IF(Tabla4[[#This Row],[TOTAL UF]]-Tabla4[[#This Row],[TOTAL SALUD]]<=0,0,Tabla4[[#This Row],[TOTAL UF]]-Tabla4[[#This Row],[TOTAL SALUD]])","v":0},null,{"$f":"BDD!$N$4","v":37838.550000000003},{"$f":"Tabla4[[#This Row],[PACTO UF]]*Tabla4[[#This Row],[VALOR UF]]","v":0},"IMPUESTO UNICO",{"$f":"BDD!S107-Tabla4[[#This Row],[TOTAL AFP]]-Tabla4[[#This Row],[TOTAL SALUD]]-Tabla4[[#This Row],[TOTAL SEGURO CESANTIA]]-Tabla4[[#This Row],[TOTAL ADICIONAL]]","v":0},{"$f":"IF(Tabla4[[#This Row],[PASO DESC. UNIC.]]<=$AT$5,0,IF(Tabla4[[#This Row],[PASO DESC. UNIC.]]<=$AT$6,Tabla4[[#This Row],[PASO DESC. UNIC.]]*$AU$6-$AV$6,IF(Tabla4[[#This Row],[PASO DESC. UNIC.]]<=$AT$7,Tabla4[[#This Row],[PASO DESC. UNIC.]]*$AU$7-$AV$7,IF(Tabla4[[#This Row],[PASO DESC. UNIC.]]<=$AT$8,Tabla4[[#This Row],[PASO DESC. UNIC.]]*$AU$8-$AV$8,IF(Tabla4[[#This Row],[PASO DESC. UNIC.]]<=$AT$9,Tabla4[[#This Row],[PASO DESC. UNIC.]]*$AU$9-$AV$9,IF(Tabla4[[#This Row],[PASO DESC. UNIC.]]<=$AT$10,Tabla4[[#This Row],[PASO DESC. UNIC.]]*$AU$10-$AV$10,IF(Tabla4[[#This Row],[PASO DESC. UNIC.]]>=$AS$11,Tabla4[[#This Row],[PASO DESC. UNIC.]]*$AU$11-$AV$11)))))))","v":0},{"$f":"Tabla4[[#This Row],[TOTAL AFP]]+Tabla4[[#This Row],[TOTAL SALUD]]+Tabla4[[#This Row],[TOTAL SEGURO CESANTIA]]+Tabla4[[#This Row],[TOTAL ADICIONAL]]+Tabla4[[#This Row],[VALOR IMP U.]]+Tabla4[[#This Row],[VALOR OTRO 2]]+Tabla4[[#This Row],[VALOR OTRO 1]]","v":0},null,{"$f":"IF($BP$8 = \"SI\",IF(Tabla4[[#This Row],[TIPO CONTRATO]]=\"Indefinido\",BDD!S107*2.4%,IF(Tabla4[[#This Row],[TIPO CONTRATO]]=\"PLAZO FIJO\",BDD!S107*3%,0)),0)","v":0},null,null,null,null,null,null,{"$f":"BDD!S107*Tabla4[[#This Row],[% SIS]]","v":0},null,null,{"$f":"BDD!S107*Tabla4[[#This Row],[%MUTUAL]]","v":0}]
[null,null,null,null,null,null,null,null,null,null,102,{"$f":"IF(BDD!J108=0,\" \",BDD!J108)","v":" "},null,null,{"$f":"IF(BDD!S108<_TOPEIMPONIBLE,BDD!S108*Tabla4[[#This Row],[%AFP]],_TOPEIMPONIBLE*Tabla4[[#This Row],[%AFP]])","v":0},null,null,{"$f":"IF(BDD!S108<_TOPEIMPONIBLE,BDD!S108*Tabla4[[#This Row],[%SALUD]],_TOPEIMPONIBLE*Tabla4[[#This Row],[%SALUD]])","v":0},null,null,{"$f":"BDD!S108*Tabla4[[#This Row],[%SEGURO]]","v":0},null,{"$f":"IF(Tabla4[[#This Row],[TOTAL UF]]-Tabla4[[#This Row],[TOTAL SALUD]]<=0,0,Tabla4[[#This Row],[TOTAL UF]]-Tabla4[[#This Row],[TOTAL SALUD]])","v":0},null,{"$f":"BDD!$N$4","v":37838.550000000003},{"$f":"Tabla4[[#This Row],[PACTO UF]]*Tabla4[[#This Row],[VALOR UF]]","v":0},"IMPUESTO UNICO",{"$f":"BDD!S108-Tabla4[[#This Row],[TOTAL AFP]]-Tabla4[[#This Row],[TOTAL SALUD]]-Tabla4[[#This Row],[TOTAL SEGURO CESANTIA]]-Tabla4[[#This Row],[TOTAL ADICIONAL]]","v":0},{"$f":"IF(Tabla4[[#This Row],[PASO DESC. UNIC.]]<=$AT$5,0,IF(Tabla4[[#This Row],[PASO DESC. UNIC.]]<=$AT$6,Tabla4[[#This Row],[PASO DESC. UNIC.]]*$AU$6-$AV$6,IF(Tabla4[[#This Row],[PASO DESC. UNIC.]]<=$AT$7,Tabla4[[#This Row],[PASO DESC. UNIC.]]*$AU$7-$AV$7,IF(Tabla4[[#This Row],[PASO DESC. UNIC.]]<=$AT$8,Tabla4[[#This Row],[PASO DESC. UNIC.]]*$AU$8-$AV$8,IF(Tabla4[[#This Row],[PASO DESC. UNIC.]]<=$AT$9,Tabla4[[#This Row],[PASO DESC. UNIC.]]*$AU$9-$AV$9,IF(Tabla4[[#This Row],[PASO DESC. UNIC.]]<=$AT$10,Tabla4[[#This Row],[PASO DESC. UNIC.]]*$AU$10-$AV$10,IF(Tabla4[[#This Row],[PASO DESC. UNIC.]]>=$AS$11,Tabla4[[#This Row],[PASO DESC. UNIC.]]*$AU$11-$AV$11)))))))","v":0},{"$f":"Tabla4[[#This Row],[TOTAL AFP]]+Tabla4[[#This Row],[TOTAL SALUD]]+Tabla4[[#This Row],[TOTAL SEGURO CESANTIA]]+Tabla4[[#This Row],[TOTAL ADICIONAL]]+Tabla4[[#This Row],[VALOR IMP U.]]+Tabla4[[#This Row],[VALOR OTRO 2]]+Tabla4[[#This Row],[VALOR OTRO 1]]","v":0},null,{"$f":"IF($BP$8 = \"SI\",IF(Tabla4[[#This Row],[TIPO CONTRATO]]=\"Indefinido\",BDD!S108*2.4%,IF(Tabla4[[#This Row],[TIPO CONTRATO]]=\"PLAZO FIJO\",BDD!S108*3%,0)),0)","v":0},null,null,null,null,null,null,{"$f":"BDD!S108*Tabla4[[#This Row],[% SIS]]","v":0},null,null,{"$f":"BDD!S108*Tabla4[[#This Row],[%MUTUAL]]","v":0}]
[null,null,null,null,null,null,null,null,null,null,103,{"$f":"IF(BDD!J109=0,\" \",BDD!J109)","v":" "},null,null,{"$f":"IF(BDD!S109<_TOPEIMPONIBLE,BDD!S109*Tabla4[[#This Row],[%AFP]],_TOPEIMPONIBLE*Tabla4[[#This Row],[%AFP]])","v":0},null,null,{"$f":"IF(BDD!S109<_TOPEIMPONIBLE,BDD!S109*Tabla4[[#This Row],[%SALUD]],_TOPEIMPONIBLE*Tabla4[[#This Row],[%SALUD]])","v":0},null,null,{"$f":"BDD!S109*Tabla4[[#This Row],[%SEGURO]]","v":0},null,{"$f":"IF(Tabla4[[#This Row],[TOTAL UF]]-Tabla4[[#This Row],[TOTAL SALUD]]<=0,0,Tabla4[[#This Row],[TOTAL UF]]-Tabla4[[#This Row],[TOTAL SALUD]])","v":0},null,{"$f":"BDD!$N$4","v":37838.550000000003},{"$f":"Tabla4[[#This Row],[PACTO UF]]*Tabla4[[#This Row],[VALOR UF]]","v":0},"IMPUESTO UNICO",{"$f":"BDD!S109-Tabla4[[#This Row],[TOTAL AFP]]-Tabla4[[#This Row],[TOTAL SALUD]]-Tabla4[[#This Row],[TOTAL SEGURO CESANTIA]]-Tabla4[[#This Row],[TOTAL ADICIONAL]]","v":0},{"$f":"IF(Tabla4[[#This Row],[PASO DESC. UNIC.]]<=$AT$5,0,IF(Tabla4[[#This Row],[PASO DESC. UNIC.]]<=$AT$6,Tabla4[[#This Row],[PASO DESC. UNIC.]]*$AU$6-$AV$6,IF(Tabla4[[#This Row],[PASO DESC. UNIC.]]<=$AT$7,Tabla4[[#This Row],[PASO DESC. UNIC.]]*$AU$7-$AV$7,IF(Tabla4[[#This Row],[PASO DESC. UNIC.]]<=$AT$8,Tabla4[[#This Row],[PASO DESC. UNIC.]]*$AU$8-$AV$8,IF(Tabla4[[#This Row],[PASO DESC. UNIC.]]<=$AT$9,Tabla4[[#This Row],[PASO DESC. UNIC.]]*$AU$9-$AV$9,IF(Tabla4[[#This Row],[PASO DESC. UNIC.]]<=$AT$10,Tabla4[[#This Row],[PASO DESC. UNIC.]]*$AU$10-$AV$10,IF(Tabla4[[#This Row],[PASO DESC. UNIC.]]>=$AS$11,Tabla4[[#This Row],[PASO DESC. UNIC.]]*$AU$11-$AV$11)))))))","v":0},{"$f":"Tabla4[[#This Row],[TOTAL AFP]]+Tabla4[[#This Row],[TOTAL SALUD]]+Tabla4[[#This Row],[TOTAL SEGURO CESANTIA]]+Tabla4[[#This Row],[TOTAL ADICIONAL]]+Tabla4[[#This Row],[VALOR IMP U.]]+Tabla4[[#This Row],[VALOR OTRO 2]]+Tabla4[[#This Row],[VALOR OTRO 1]]","v":0},null,{"$f":"IF($BP$8 = \"SI\",IF(Tabla4[[#This Row],[TIPO CONTRATO]]=\"Indefinido\",BDD!S109*2.4%,IF(Tabla4[[#This Row],[TIPO CONTRATO]]=\"PLAZO FIJO\",BDD!S109*3%,0)),0)","v":0},null,null,null,null,null,null,{"$f":"BDD!S109*Tabla4[[#This Row],[% SIS]]","v":0},null,null,{"$f":"BDD!S109*Tabla4[[#This Row],[%MUTUAL]]","v":0}]
[null,null,null,null,null,null,null,null,null,null,104,{"$f":"IF(BDD!J110=0,\" \",BDD!J110)","v":" "},null,null,{"$f":"IF(BDD!S110<_TOPEIMPONIBLE,BDD!S110*Tabla4[[#This Row],[%AFP]],_TOPEIMPONIBLE*Tabla4[[#This Row],[%AFP]])","v":0},null,null,{"$f":"IF(BDD!S110<_TOPEIMPONIBLE,BDD!S110*Tabla4[[#This Row],[%SALUD]],_TOPEIMPONIBLE*Tabla4[[#This Row],[%SALUD]])","v":0},null,null,{"$f":"BDD!S110*Tabla4[[#This Row],[%SEGURO]]","v":0},null,{"$f":"IF(Tabla4[[#This Row],[TOTAL UF]]-Tabla4[[#This Row],[TOTAL SALUD]]<=0,0,Tabla4[[#This Row],[TOTAL UF]]-Tabla4[[#This Row],[TOTAL SALUD]])","v":0},null,{"$f":"BDD!$N$4","v":37838.550000000003},{"$f":"Tabla4[[#This Row],[PACTO UF]]*Tabla4[[#This Row],[VALOR UF]]","v":0},"IMPUESTO UNICO",{"$f":"BDD!S110-Tabla4[[#This Row],[TOTAL AFP]]-Tabla4[[#This Row],[TOTAL SALUD]]-Tabla4[[#This Row],[TOTAL SEGURO CESANTIA]]-Tabla4[[#This Row],[TOTAL ADICIONAL]]","v":0},{"$f":"IF(Tabla4[[#This Row],[PASO DESC. UNIC.]]<=$AT$5,0,IF(Tabla4[[#This Row],[PASO DESC. UNIC.]]<=$AT$6,Tabla4[[#This Row],[PASO DESC. UNIC.]]*$AU$6-$AV$6,IF(Tabla4[[#This Row],[PASO DESC. UNIC.]]<=$AT$7,Tabla4[[#This Row],[PASO DESC. UNIC.]]*$AU$7-$AV$7,IF(Tabla4[[#This Row],[PASO DESC. UNIC.]]<=$AT$8,Tabla4[[#This Row],[PASO DESC. UNIC.]]*$AU$8-$AV$8,IF(Tabla4[[#This Row],[PASO DESC. UNIC.]]<=$AT$9,Tabla4[[#This Row],[PASO DESC. UNIC.]]*$AU$9-$AV$9,IF(Tabla4[[#This Row],[PASO DESC. UNIC.]]<=$AT$10,Tabla4[[#This Row],[PASO DESC. UNIC.]]*$AU$10-$AV$10,IF(Tabla4[[#This Row],[PASO DESC. UNIC.]]>=$AS$11,Tabla4[[#This Row],[PASO DESC. UNIC.]]*$AU$11-$AV$11)))))))","v":0},{"$f":"Tabla4[[#This Row],[TOTAL AFP]]+Tabla4[[#This Row],[TOTAL SALUD]]+Tabla4[[#This Row],[TOTAL SEGURO CESANTIA]]+Tabla4[[#This Row],[TOTAL ADICIONAL]]+Tabla4[[#This Row],[VALOR IMP U.]]+Tabla4[[#This Row],[VALOR OTRO 2]]+Tabla4[[#This Row],[VALOR OTRO 1]]","v":0},null,{"$f":"IF($BP$8 = \"SI\",IF(Tabla4[[#This Row],[TIPO CONTRATO]]=\"Indefinido\",BDD!S110*2.4%,IF(Tabla4[[#This Row],[TIPO CONTRATO]]=\"PLAZO FIJO\",BDD!S110*3%,0)),0)","v":0},null,null,null,null,null,null,{"$f":"BDD!S110*Tabla4[[#This Row],[% SIS]]","v":0},null,null,{"$f":"BDD!S110*Tabla4[[#This Row],[%MUTUAL]]","v":0}]
[null,null,null,null,null,null,null,null,null,null,105,{"$f":"IF(BDD!J111=0,\" \",BDD!J111)","v":" "},null,null,{"$f":"IF(BDD!S111<_TOPEIMPONIBLE,BDD!S111*Tabla4[[#This Row],[%AFP]],_TOPEIMPONIBLE*Tabla4[[#This Row],[%AFP]])","v":0},null,null,{"$f":"IF(BDD!S111<_TOPEIMPONIBLE,BDD!S111*Tabla4[[#This Row],[%SALUD]],_TOPEIMPONIBLE*Tabla4[[#This Row],[%SALUD]])","v":0},null,null,{"$f":"BDD!S111*Tabla4[[#This Row],[%SEGURO]]","v":0},null,{"$f":"IF(Tabla4[[#This Row],[TOTAL UF]]-Tabla4[[#This Row],[TOTAL SALUD]]<=0,0,Tabla4[[#This Row],[TOTAL UF]]-Tabla4[[#This Row],[TOTAL SALUD]])","v":0},null,{"$f":"BDD!$N$4","v":37838.550000000003},{"$f":"Tabla4[[#This Row],[PACTO UF]]*Tabla4[[#This Row],[VALOR UF]]","v":0},"IMPUESTO UNICO",{"$f":"BDD!S111-Tabla4[[#This Row],[TOTAL AFP]]-Tabla4[[#This Row],[TOTAL SALUD]]-Tabla4[[#This Row],[TOTAL SEGURO CESANTIA]]-Tabla4[[#This Row],[TOTAL ADICIONAL]]","v":0},{"$f":"IF(Tabla4[[#This Row],[PASO DESC. UNIC.]]<=$AT$5,0,IF(Tabla4[[#This Row],[PASO DESC. UNIC.]]<=$AT$6,Tabla4[[#This Row],[PASO DESC. UNIC.]]*$AU$6-$AV$6,IF(Tabla4[[#This Row],[PASO DESC. UNIC.]]<=$AT$7,Tabla4[[#This Row],[PASO DESC. UNIC.]]*$AU$7-$AV$7,IF(Tabla4[[#This Row],[PASO DESC. UNIC.]]<=$AT$8,Tabla4[[#This Row],[PASO DESC. UNIC.]]*$AU$8-$AV$8,IF(Tabla4[[#This Row],[PASO DESC. UNIC.]]<=$AT$9,Tabla4[[#This Row],[PASO DESC. UNIC.]]*$AU$9-$AV$9,IF(Tabla4[[#This Row],[PASO DESC. UNIC.]]<=$AT$10,Tabla4[[#This Row],[PASO DESC. UNIC.]]*$AU$10-$AV$10,IF(Tabla4[[#This Row],[PASO DESC. UNIC.]]>=$AS$11,Tabla4[[#This Row],[PASO DESC. UNIC.]]*$AU$11-$AV$11)))))))","v":0},{"$f":"Tabla4[[#This Row],[TOTAL AFP]]+Tabla4[[#This Row],[TOTAL SALUD]]+Tabla4[[#This Row],[TOTAL SEGURO CESANTIA]]+Tabla4[[#This Row],[TOTAL ADICIONAL]]+Tabla4[[#This Row],[VALOR IMP U.]]+Tabla4[[#This Row],[VALOR OTRO 2]]+Tabla4[[#This Row],[VALOR OTRO 1]]","v":0},null,{"$f":"IF($BP$8 = \"SI\",IF(Tabla4[[#This Row],[TIPO CONTRATO]]=\"Indefinido\",BDD!S111*2.4%,IF(Tabla4[[#This Row],[TIPO CONTRATO]]=\"PLAZO FIJO\",BDD!S111*3%,0)),0)","v":0},null,null,null,null,null,null,{"$f":"BDD!S111*Tabla4[[#This Row],[% SIS]]","v":0},null,null,{"$f":"BDD!S111*Tabla4[[#This Row],[%MUTUAL]]","v":0}]
[null,null,null,null,null,null,null,null,null,null,106,{"$f":"IF(BDD!J112=0,\" \",BDD!J112)","v":" "},null,null,{"$f":"IF(BDD!S112<_TOPEIMPONIBLE,BDD!S112*Tabla4[[#This Row],[%AFP]],_TOPEIMPONIBLE*Tabla4[[#This Row],[%AFP]])","v":0},null,null,{"$f":"IF(BDD!S112<_TOPEIMPONIBLE,BDD!S112*Tabla4[[#This Row],[%SALUD]],_TOPEIMPONIBLE*Tabla4[[#This Row],[%SALUD]])","v":0},null,null,{"$f":"BDD!S112*Tabla4[[#This Row],[%SEGURO]]","v":0},null,{"$f":"IF(Tabla4[[#This Row],[TOTAL UF]]-Tabla4[[#This Row],[TOTAL SALUD]]<=0,0,Tabla4[[#This Row],[TOTAL UF]]-Tabla4[[#This Row],[TOTAL SALUD]])","v":0},null,{"$f":"BDD!$N$4","v":37838.550000000003},{"$f":"Tabla4[[#This Row],[PACTO UF]]*Tabla4[[#This Row],[VALOR UF]]","v":0},"IMPUESTO UNICO",{"$f":"BDD!S112-Tabla4[[#This Row],[TOTAL AFP]]-Tabla4[[#This Row],[TOTAL SALUD]]-Tabla4[[#This Row],[TOTAL SEGURO CESANTIA]]-Tabla4[[#This Row],[TOTAL ADICIONAL]]","v":0},{"$f":"IF(Tabla4[[#This Row],[PASO DESC. UNIC.]]<=$AT$5,0,IF(Tabla4[[#This Row],[PASO DESC. UNIC.]]<=$AT$6,Tabla4[[#This Row],[PASO DESC. UNIC.]]*$AU$6-$AV$6,IF(Tabla4[[#This Row],[PASO DESC. UNIC.]]<=$AT$7,Tabla4[[#This Row],[PASO DESC. UNIC.]]*$AU$7-$AV$7,IF(Tabla4[[#This Row],[PASO DESC. UNIC.]]<=$AT$8,Tabla4[[#This Row],[PASO DESC. UNIC.]]*$AU$8-$AV$8,IF(Tabla4[[#This Row],[PASO DESC. UNIC.]]<=$AT$9,Tabla4[[#This Row],[PASO DESC. UNIC.]]*$AU$9-$AV$9,IF(Tabla4[[#This Row],[PASO DESC. UNIC.]]<=$AT$10,Tabla4[[#This Row],[PASO DESC. UNIC.]]*$AU$10-$AV$10,IF(Tabla4[[#This Row],[PASO DESC. UNIC.]]>=$AS$11,Tabla4[[#This Row],[PASO DESC. UNIC.]]*$AU$11-$AV$11)))))))","v":0},{"$f":"Tabla4[[#This Row],[TOTAL AFP]]+Tabla4[[#This Row],[TOTAL SALUD]]+Tabla4[[#This Row],[TOTAL SEGURO CESANTIA]]+Tabla4[[#This Row],[TOTAL ADICIONAL]]+Tabla4[[#This Row],[VALOR IMP U.]]+Tabla4[[#This Row],[VALOR OTRO 2]]+Tabla4[[#This Row],[VALOR OTRO 1]]","v":0},null,{"$f":"IF($BP$8 = \"SI\",IF(Tabla4[[#This Row],[TIPO CONTRATO]]=\"Indefinido\",BDD!S112*2.4%,IF(Tabla4[[#This Row],[TIPO CONTRATO]]=\"PLAZO FIJO\",BDD!S112*3%,0)),0)","v":0},null,null,null,null,null,null,{"$f":"BDD!S112*Tabla4[[#This Row],[% SIS]]","v":0},null,null,{"$f":"BDD!S112*Tabla4[[#This Row],[%MUTUAL]]","v":0}]
[null,null,null,null,null,null,null,null,null,null,107,{"$f":"IF(BDD!J113=0,\" \",BDD!J113)","v":" "},null,null,{"$f":"IF(BDD!S113<_TOPEIMPONIBLE,BDD!S113*Tabla4[[#This Row],[%AFP]],_TOPEIMPONIBLE*Tabla4[[#This Row],[%AFP]])","v":0},null,null,{"$f":"IF(BDD!S113<_TOPEIMPONIBLE,BDD!S113*Tabla4[[#This Row],[%SALUD]],_TOPEIMPONIBLE*Tabla4[[#This Row],[%SALUD]])","v":0},null,null,{"$f":"BDD!S113*Tabla4[[#This Row],[%SEGURO]]","v":0},null,{"$f":"IF(Tabla4[[#This Row],[TOTAL UF]]-Tabla4[[#This Row],[TOTAL SALUD]]<=0,0,Tabla4[[#This Row],[TOTAL UF]]-Tabla4[[#This Row],[TOTAL SALUD]])","v":0},null,{"$f":"BDD!$N$4","v":37838.550000000003},{"$f":"Tabla4[[#This Row],[PACTO UF]]*Tabla4[[#This Row],[VALOR UF]]","v":0},"IMPUESTO UNICO",{"$f":"BDD!S113-Tabla4[[#This Row],[TOTAL AFP]]-Tabla4[[#This Row],[TOTAL SALUD]]-Tabla4[[#This Row],[TOTAL SEGURO CESANTIA]]-Tabla4[[#This Row],[TOTAL ADICIONAL]]","v":0},{"$f":"IF(Tabla4[[#This Row],[PASO DESC. UNIC.]]<=$AT$5,0,IF(Tabla4[[#This Row],[PASO DESC. UNIC.]]<=$AT$6,Tabla4[[#This Row],[PASO DESC. UNIC.]]*$AU$6-$AV$6,IF(Tabla4[[#This Row],[PASO DESC. UNIC.]]<=$AT$7,Tabla4[[#This Row],[PASO DESC. UNIC.]]*$AU$7-$AV$7,IF(Tabla4[[#This Row],[PASO DESC. UNIC.]]<=$AT$8,Tabla4[[#This Row],[PASO DESC. UNIC.]]*$AU$8-$AV$8,IF(Tabla4[[#This Row],[PASO DESC. UNIC.]]<=$AT$9,Tabla4[[#This Row],[PASO DESC. UNIC.]]*$AU$9-$AV$9,IF(Tabla4[[#This Row],[PASO DESC. UNIC.]]<=$AT$10,Tabla4[[#This Row],[PASO DESC. UNIC.]]*$AU$10-$AV$10,IF(Tabla4[[#This Row],[PASO DESC. UNIC.]]>=$AS$11,Tabla4[[#This Row],[PASO DESC. UNIC.]]*$AU$11-$AV$11)))))))","v":0},{"$f":"Tabla4[[#This Row],[TOTAL AFP]]+Tabla4[[#This Row],[TOTAL SALUD]]+Tabla4[[#This Row],[TOTAL SEGURO CESANTIA]]+Tabla4[[#This Row],[TOTAL ADICIONAL]]+Tabla4[[#This Row],[VALOR IMP U.]]+Tabla4[[#This Row],[VALOR OTRO 2]]+Tabla4[[#This Row],[VALOR OTRO 1]]","v":0},null,{"$f":"IF($BP$8 = \"SI\",IF(Tabla4[[#This Row],[TIPO CONTRATO]]=\"Indefinido\",BDD!S113*2.4%,IF(Tabla4[[#This Row],[TIPO CONTRATO]]=\"PLAZO FIJO\",BDD!S113*3%,0)),0)","v":0},null,null,null,null,null,null,{"$f":"BDD!S113*Tabla4[[#This Row],[% SIS]]","v":0},null,null,{"$f":"BDD!S113*Tabla4[[#This Row],[%MUTUAL]]","v":0}]
[null,null,null,null,null,null,null,null,null,null,108,{"$f":"IF(BDD!J114=0,\" \",BDD!J114)","v":" "},null,null,{"$f":"IF(BDD!S114<_TOPEIMPONIBLE,BDD!S114*Tabla4[[#This Row],[%AFP]],_TOPEIMPONIBLE*Tabla4[[#This Row],[%AFP]])","v":0},null,null,{"$f":"IF(BDD!S114<_TOPEIMPONIBLE,BDD!S114*Tabla4[[#This Row],[%SALUD]],_TOPEIMPONIBLE*Tabla4[[#This Row],[%SALUD]])","v":0},null,null,{"$f":"BDD!S114*Tabla4[[#This Row],[%SEGURO]]","v":0},null,{"$f":"IF(Tabla4[[#This Row],[TOTAL UF]]-Tabla4[[#This Row],[TOTAL SALUD]]<=0,0,Tabla4[[#This Row],[TOTAL UF]]-Tabla4[[#This Row],[TOTAL SALUD]])","v":0},null,{"$f":"BDD!$N$4","v":37838.550000000003},{"$f":"Tabla4[[#This Row],[PACTO UF]]*Tabla4[[#This Row],[VALOR UF]]","v":0},"IMPUESTO UNICO",{"$f":"BDD!S114-Tabla4[[#This Row],[TOTAL AFP]]-Tabla4[[#This Row],[TOTAL SALUD]]-Tabla4[[#This Row],[TOTAL SEGURO CESANTIA]]-Tabla4[[#This Row],[TOTAL ADICIONAL]]","v":0},{"$f":"IF(Tabla4[[#This Row],[PASO DESC. UNIC.]]<=$AT$5,0,IF(Tabla4[[#This Row],[PASO DESC. UNIC.]]<=$AT$6,Tabla4[[#This Row],[PASO DESC. UNIC.]]*$AU$6-$AV$6,IF(Tabla4[[#This Row],[PASO DESC. UNIC.]]<=$AT$7,Tabla4[[#This Row],[PASO DESC. UNIC.]]*$AU$7-$AV$7,IF(Tabla4[[#This Row],[PASO DESC. UNIC.]]<=$AT$8,Tabla4[[#This Row],[PASO DESC. UNIC.]]*$AU$8-$AV$8,IF(Tabla4[[#This Row],[PASO DESC. UNIC.]]<=$AT$9,Tabla4[[#This Row],[PASO DESC. UNIC.]]*$AU$9-$AV$9,IF(Tabla4[[#This Row],[PASO DESC. UNIC.]]<=$AT$10,Tabla4[[#This Row],[PASO DESC. UNIC.]]*$AU$10-$AV$10,IF(Tabla4[[#This Row],[PASO DESC. UNIC.]]>=$AS$11,Tabla4[[#This Row],[PASO DESC. UNIC.]]*$AU$11-$AV$11)))))))","v":0},{"$f":"Tabla4[[#This Row],[TOTAL AFP]]+Tabla4[[#This Row],[TOTAL SALUD]]+Tabla4[[#This Row],[TOTAL SEGURO CESANTIA]]+Tabla4[[#This Row],[TOTAL ADICIONAL]]+Tabla4[[#This Row],[VALOR IMP U.]]+Tabla4[[#This Row],[VALOR OTRO 2]]+Tabla4[[#This Row],[VALOR OTRO 1]]","v":0},null,{"$f":"IF($BP$8 = \"SI\",IF(Tabla4[[#This Row],[TIPO CONTRATO]]=\"Indefinido\",BDD!S114*2.4%,IF(Tabla4[[#This Row],[TIPO CONTRATO]]=\"PLAZO FIJO\",BDD!S114*3%,0)),0)","v":0},null,null,null,null,null,null,{"$f":"BDD!S114*Tabla4[[#This Row],[% SIS]]","v":0},null,null,{"$f":"BDD!S114*Tabla4[[#This Row],[%MUTUAL]]","v":0}]
[null,null,null,null,null,null,null,null,null,null,109,{"$f":"IF(BDD!J115=0,\" \",BDD!J115)","v":" "},null,null,{"$f":"IF(BDD!S115<_TOPEIMPONIBLE,BDD!S115*Tabla4[[#This Row],[%AFP]],_TOPEIMPONIBLE*Tabla4[[#This Row],[%AFP]])","v":0},null,null,{"$f":"IF(BDD!S115<_TOPEIMPONIBLE,BDD!S115*Tabla4[[#This Row],[%SALUD]],_TOPEIMPONIBLE*Tabla4[[#This Row],[%SALUD]])","v":0},null,null,{"$f":"BDD!S115*Tabla4[[#This Row],[%SEGURO]]","v":0},null,{"$f":"IF(Tabla4[[#This Row],[TOTAL UF]]-Tabla4[[#This Row],[TOTAL SALUD]]<=0,0,Tabla4[[#This Row],[TOTAL UF]]-Tabla4[[#This Row],[TOTAL SALUD]])","v":0},null,{"$f":"BDD!$N$4","v":37838.550000000003},{"$f":"Tabla4[[#This Row],[PACTO UF]]*Tabla4[[#This Row],[VALOR UF]]","v":0},"IMPUESTO UNICO",{"$f":"BDD!S115-Tabla4[[#This Row],[TOTAL AFP]]-Tabla4[[#This Row],[TOTAL SALUD]]-Tabla4[[#This Row],[TOTAL SEGURO CESANTIA]]-Tabla4[[#This Row],[TOTAL ADICIONAL]]","v":0},{"$f":"IF(Tabla4[[#This Row],[PASO DESC. UNIC.]]<=$AT$5,0,IF(Tabla4[[#This Row],[PASO DESC. UNIC.]]<=$AT$6,Tabla4[[#This Row],[PASO DESC. UNIC.]]*$AU$6-$AV$6,IF(Tabla4[[#This Row],[PASO DESC. UNIC.]]<=$AT$7,Tabla4[[#This Row],[PASO DESC. UNIC.]]*$AU$7-$AV$7,IF(Tabla4[[#This Row],[PASO DESC. UNIC.]]<=$AT$8,Tabla4[[#This Row],[PASO DESC. UNIC.]]*$AU$8-$AV$8,IF(Tabla4[[#This Row],[PASO DESC. UNIC.]]<=$AT$9,Tabla4[[#This Row],[PASO DESC. UNIC.]]*$AU$9-$AV$9,IF(Tabla4[[#This Row],[PASO DESC. UNIC.]]<=$AT$10,Tabla4[[#This Row],[PASO DESC. UNIC.]]*$AU$10-$AV$10,IF(Tabla4[[#This Row],[PASO DESC. UNIC.]]>=$AS$11,Tabla4[[#This Row],[PASO DESC. UNIC.]]*$AU$11-$AV$11)))))))","v":0},{"$f":"Tabla4[[#This Row],[TOTAL AFP]]+Tabla4[[#This Row],[TOTAL SALUD]]+Tabla4[[#This Row],[TOTAL SEGURO CESANTIA]]+Tabla4[[#This Row],[TOTAL ADICIONAL]]+Tabla4[[#This Row],[VALOR IMP U.]]+Tabla4[[#This Row],[VALOR OTRO 2]]+Tabla4[[#This Row],[VALOR OTRO 1]]","v":0},null,{"$f":"IF($BP$8 = \"SI\",IF(Tabla4[[#This Row],[TIPO CONTRATO]]=\"Indefinido\",BDD!S115*2.4%,IF(Tabla4[[#This Row],[TIPO CONTRATO]]=\"PLAZO FIJO\",BDD!S115*3%,0)),0)","v":0},null,null,null,null,null,null,{"$f":"BDD!S115*Tabla4[[#This Row],[% SIS]]","v":0},null,null,{"$f":"BDD!S115*Tabla4[[#This Row],[%MUTUAL]]","v":0}]
[null,null,null,null,null,null,null,null,null,null,110,{"$f":"IF(BDD!J116=0,\" \",BDD!J116)","v":" "},null,null,{"$f":"IF(BDD!S116<_TOPEIMPONIBLE,BDD!S116*Tabla4[[#This Row],[%AFP]],_TOPEIMPONIBLE*Tabla4[[#This Row],[%AFP]])","v":0},null,null,{"$f":"IF(BDD!S116<_TOPEIMPONIBLE,BDD!S116*Tabla4[[#This Row],[%SALUD]],_TOPEIMPONIBLE*Tabla4[[#This Row],[%SALUD]])","v":0},null,null,{"$f":"BDD!S116*Tabla4[[#This Row],[%SEGURO]]","v":0},null,{"$f":"IF(Tabla4[[#This Row],[TOTAL UF]]-Tabla4[[#This Row],[TOTAL SALUD]]<=0,0,Tabla4[[#This Row],[TOTAL UF]]-Tabla4[[#This Row],[TOTAL SALUD]])","v":0},null,{"$f":"BDD!$N$4","v":37838.550000000003},{"$f":"Tabla4[[#This Row],[PACTO UF]]*Tabla4[[#This Row],[VALOR UF]]","v":0},"IMPUESTO UNICO",{"$f":"BDD!S116-Tabla4[[#This Row],[TOTAL AFP]]-Tabla4[[#This Row],[TOTAL SALUD]]-Tabla4[[#This Row],[TOTAL SEGURO CESANTIA]]-Tabla4[[#This Row],[TOTAL ADICIONAL]]","v":0},{"$f":"IF(Tabla4[[#This Row],[PASO DESC. UNIC.]]<=$AT$5,0,IF(Tabla4[[#This Row],[PASO DESC. UNIC.]]<=$AT$6,Tabla4[[#This Row],[PASO DESC. UNIC.]]*$AU$6-$AV$6,IF(Tabla4[[#This Row],[PASO DESC. UNIC.]]<=$AT$7,Tabla4[[#This Row],[PASO DESC. UNIC.]]*$AU$7-$AV$7,IF(Tabla4[[#This Row],[PASO DESC. UNIC.]]<=$AT$8,Tabla4[[#This Row],[PASO DESC. UNIC.]]*$AU$8-$AV$8,IF(Tabla4[[#This Row],[PASO DESC. UNIC.]]<=$AT$9,Tabla4[[#This Row],[PASO DESC. UNIC.]]*$AU$9-$AV$9,IF(Tabla4[[#This Row],[PASO DESC. UNIC.]]<=$AT$10,Tabla4[[#This Row],[PASO DESC. UNIC.]]*$AU$10-$AV$10,IF(Tabla4[[#This Row],[PASO DESC. UNIC.]]>=$AS$11,Tabla4[[#This Row],[PASO DESC. UNIC.]]*$AU$11-$AV$11)))))))","v":0},{"$f":"Tabla4[[#This Row],[TOTAL AFP]]+Tabla4[[#This Row],[TOTAL SALUD]]+Tabla4[[#This Row],[TOTAL SEGURO CESANTIA]]+Tabla4[[#This Row],[TOTAL ADICIONAL]]+Tabla4[[#This Row],[VALOR IMP U.]]+Tabla4[[#This Row],[VALOR OTRO 2]]+Tabla4[[#This Row],[VALOR OTRO 1]]","v":0},null,{"$f":"IF($BP$8 = \"SI\",IF(Tabla4[[#This Row],[TIPO CONTRATO]]=\"Indefinido\",BDD!S116*2.4%,IF(Tabla4[[#This Row],[TIPO CONTRATO]]=\"PLAZO FIJO\",BDD!S116*3%,0)),0)","v":0},null,null,null,null,null,null,{"$f":"BDD!S116*Tabla4[[#This Row],[% SIS]]","v":0},null,null,{"$f":"BDD!S116*Tabla4[[#This Row],[%MUTUAL]]","v":0}]
[null,null,null,null,null,null,null,null,null,null,111,{"$f":"IF(BDD!J117=0,\" \",BDD!J117)","v":" "},null,null,{"$f":"IF(BDD!S117<_TOPEIMPONIBLE,BDD!S117*Tabla4[[#This Row],[%AFP]],_TOPEIMPONIBLE*Tabla4[[#This Row],[%AFP]])","v":0},null,null,{"$f":"IF(BDD!S117<_TOPEIMPONIBLE,BDD!S117*Tabla4[[#This Row],[%SALUD]],_TOPEIMPONIBLE*Tabla4[[#This Row],[%SALUD]])","v":0},null,null,{"$f":"BDD!S117*Tabla4[[#This Row],[%SEGURO]]","v":0},null,{"$f":"IF(Tabla4[[#This Row],[TOTAL UF]]-Tabla4[[#This Row],[TOTAL SALUD]]<=0,0,Tabla4[[#This Row],[TOTAL UF]]-Tabla4[[#This Row],[TOTAL SALUD]])","v":0},null,{"$f":"BDD!$N$4","v":37838.550000000003},{"$f":"Tabla4[[#This Row],[PACTO UF]]*Tabla4[[#This Row],[VALOR UF]]","v":0},"IMPUESTO UNICO",{"$f":"BDD!S117-Tabla4[[#This Row],[TOTAL AFP]]-Tabla4[[#This Row],[TOTAL SALUD]]-Tabla4[[#This Row],[TOTAL SEGURO CESANTIA]]-Tabla4[[#This Row],[TOTAL ADICIONAL]]","v":0},{"$f":"IF(Tabla4[[#This Row],[PASO DESC. UNIC.]]<=$AT$5,0,IF(Tabla4[[#This Row],[PASO DESC. UNIC.]]<=$AT$6,Tabla4[[#This Row],[PASO DESC. UNIC.]]*$AU$6-$AV$6,IF(Tabla4[[#This Row],[PASO DESC. UNIC.]]<=$AT$7,Tabla4[[#This Row],[PASO DESC. UNIC.]]*$AU$7-$AV$7,IF(Tabla4[[#This Row],[PASO DESC. UNIC.]]<=$AT$8,Tabla4[[#This Row],[PASO DESC. UNIC.]]*$AU$8-$AV$8,IF(Tabla4[[#This Row],[PASO DESC. UNIC.]]<=$AT$9,Tabla4[[#This Row],[PASO DESC. UNIC.]]*$AU$9-$AV$9,IF(Tabla4[[#This Row],[PASO DESC. UNIC.]]<=$AT$10,Tabla4[[#This Row],[PASO DESC. UNIC.]]*$AU$10-$AV$10,IF(Tabla4[[#This Row],[PASO DESC. UNIC.]]>=$AS$11,Tabla4[[#This Row],[PASO DESC. UNIC.]]*$AU$11-$AV$11)))))))","v":0},{"$f":"Tabla4[[#This Row],[TOTAL AFP]]+Tabla4[[#This Row],[TOTAL SALUD]]+Tabla4[[#This Row],[TOTAL SEGURO CESANTIA]]+Tabla4[[#This Row],[TOTAL ADICIONAL]]+Tabla4[[#This Row],[VALOR IMP U.]]+Tabla4[[#This Row],[VALOR OTRO 2]]+Tabla4[[#This Row],[VALOR OTRO 1]]","v":0},null,{"$f":"IF($BP$8 = \"SI\",IF(Tabla4[[#This Row],[TIPO CONTRATO]]=\"Indefinido\",BDD!S117*2.4%,IF(Tabla4[[#This Row],[TIPO CONTRATO]]=\"PLAZO FIJO\",BDD!S117*3%,0)),0)","v":0},null,null,null,null,null,null,{"$f":"BDD!S117*Tabla4[[#This Row],[% SIS]]","v":0},null,null,{"$f":"BDD!S117*Tabla4[[#This Row],[%MUTUAL]]","v":0}]
[null,null,null,null,null,null,null,null,null,null,112,{"$f":"IF(BDD!J118=0,\" \",BDD!J118)","v":" "},null,null,{"$f":"IF(BDD!S118<_TOPEIMPONIBLE,BDD!S118*Tabla4[[#This Row],[%AFP]],_TOPEIMPONIBLE*Tabla4[[#This Row],[%AFP]])","v":0},null,null,{"$f":"IF(BDD!S118<_TOPEIMPONIBLE,BDD!S118*Tabla4[[#This Row],[%SALUD]],_TOPEIMPONIBLE*Tabla4[[#This Row],[%SALUD]])","v":0},null,null,{"$f":"BDD!S118*Tabla4[[#This Row],[%SEGURO]]","v":0},null,{"$f":"IF(Tabla4[[#This Row],[TOTAL UF]]-Tabla4[[#This Row],[TOTAL SALUD]]<=0,0,Tabla4[[#This Row],[TOTAL UF]]-Tabla4[[#This Row],[TOTAL SALUD]])","v":0},null,{"$f":"BDD!$N$4","v":37838.550000000003},{"$f":"Tabla4[[#This Row],[PACTO UF]]*Tabla4[[#This Row],[VALOR UF]]","v":0},"IMPUESTO UNICO",{"$f":"BDD!S118-Tabla4[[#This Row],[TOTAL AFP]]-Tabla4[[#This Row],[TOTAL SALUD]]-Tabla4[[#This Row],[TOTAL SEGURO CESANTIA]]-Tabla4[[#This Row],[TOTAL ADICIONAL]]","v":0},{"$f":"IF(Tabla4[[#This Row],[PASO DESC. UNIC.]]<=$AT$5,0,IF(Tabla4[[#This Row],[PASO DESC. UNIC.]]<=$AT$6,Tabla4[[#This Row],[PASO DESC. UNIC.]]*$AU$6-$AV$6,IF(Tabla4[[#This Row],[PASO DESC. UNIC.]]<=$AT$7,Tabla4[[#This Row],[PASO DESC. UNIC.]]*$AU$7-$AV$7,IF(Tabla4[[#This Row],[PASO DESC. UNIC.]]<=$AT$8,Tabla4[[#This Row],[PASO DESC. UNIC.]]*$AU$8-$AV$8,IF(Tabla4[[#This Row],[PASO DESC. UNIC.]]<=$AT$9,Tabla4[[#This Row],[PASO DESC. UNIC.]]*$AU$9-$AV$9,IF(Tabla4[[#This Row],[PASO DESC. UNIC.]]<=$AT$10,Tabla4[[#This Row],[PASO DESC. UNIC.]]*$AU$10-$AV$10,IF(Tabla4[[#This Row],[PASO DESC. UNIC.]]>=$AS$11,Tabla4[[#This Row],[PASO DESC. UNIC.]]*$AU$11-$AV$11)))))))","v":0},{"$f":"Tabla4[[#This Row],[TOTAL AFP]]+Tabla4[[#This Row],[TOTAL SALUD]]+Tabla4[[#This Row],[TOTAL SEGURO CESANTIA]]+Tabla4[[#This Row],[TOTAL ADICIONAL]]+Tabla4[[#This Row],[VALOR IMP U.]]+Tabla4[[#This Row],[VALOR OTRO 2]]+Tabla4[[#This Row],[VALOR OTRO 1]]","v":0},null,{"$f":"IF($BP$8 = \"SI\",IF(Tabla4[[#This Row],[TIPO CONTRATO]]=\"Indefinido\",BDD!S118*2.4%,IF(Tabla4[[#This Row],[TIPO CONTRATO]]=\"PLAZO FIJO\",BDD!S118*3%,0)),0)","v":0},null,null,null,null,null,null,{"$f":"BDD!S118*Tabla4[[#This Row],[% SIS]]","v":0},null,null,{"$f":"BDD!S118*Tabla4[[#This Row],[%MUTUAL]]","v":0}]
[null,null,null,null,null,null,null,null,null,null,113,{"$f":"IF(BDD!J119=0,\" \",BDD!J119)","v":" "},null,null,{"$f":"IF(BDD!S119<_TOPEIMPONIBLE,BDD!S119*Tabla4[[#This Row],[%AFP]],_TOPEIMPONIBLE*Tabla4[[#This Row],[%AFP]])","v":0},null,null,{"$f":"IF(BDD!S119<_TOPEIMPONIBLE,BDD!S119*Tabla4[[#This Row],[%SALUD]],_TOPEIMPONIBLE*Tabla4[[#This Row],[%SALUD]])","v":0},null,null,{"$f":"BDD!S119*Tabla4[[#This Row],[%SEGURO]]","v":0},null,{"$f":"IF(Tabla4[[#This Row],[TOTAL UF]]-Tabla4[[#This Row],[TOTAL SALUD]]<=0,0,Tabla4[[#This Row],[TOTAL UF]]-Tabla4[[#This Row],[TOTAL SALUD]])","v":0},null,{"$f":"BDD!$N$4","v":37838.550000000003},{"$f":"Tabla4[[#This Row],[PACTO UF]]*Tabla4[[#This Row],[VALOR UF]]","v":0},"IMPUESTO UNICO",{"$f":"BDD!S119-Tabla4[[#This Row],[TOTAL AFP]]-Tabla4[[#This Row],[TOTAL SALUD]]-Tabla4[[#This Row],[TOTAL SEGURO CESANTIA]]-Tabla4[[#This Row],[TOTAL ADICIONAL]]","v":0},{"$f":"IF(Tabla4[[#This Row],[PASO DESC. UNIC.]]<=$AT$5,0,IF(Tabla4[[#This Row],[PASO DESC. UNIC.]]<=$AT$6,Tabla4[[#This Row],[PASO DESC. UNIC.]]*$AU$6-$AV$6,IF(Tabla4[[#This Row],[PASO DESC. UNIC.]]<=$AT$7,Tabla4[[#This Row],[PASO DESC. UNIC.]]*$AU$7-$AV$7,IF(Tabla4[[#This Row],[PASO DESC. UNIC.]]<=$AT$8,Tabla4[[#This Row],[PASO DESC. UNIC.]]*$AU$8-$AV$8,IF(Tabla4[[#This Row],[PASO DESC. UNIC.]]<=$AT$9,Tabla4[[#This Row],[PASO DESC. UNIC.]]*$AU$9-$AV$9,IF(Tabla4[[#This Row],[PASO DESC. UNIC.]]<=$AT$10,Tabla4[[#This Row],[PASO DESC. UNIC.]]*$AU$10-$AV$10,IF(Tabla4[[#This Row],[PASO DESC. UNIC.]]>=$AS$11,Tabla4[[#This Row],[PASO DESC. UNIC.]]*$AU$11-$AV$11)))))))","v":0},{"$f":"Tabla4[[#This Row],[TOTAL AFP]]+Tabla4[[#This Row],[TOTAL SALUD]]+Tabla4[[#This Row],[TOTAL SEGURO CESANTIA]]+Tabla4[[#This Row],[TOTAL ADICIONAL]]+Tabla4[[#This Row],[VALOR IMP U.]]+Tabla4[[#This Row],[VALOR OTRO 2]]+Tabla4[[#This Row],[VALOR OTRO 1]]","v":0},null,{"$f":"IF($BP$8 = \"SI\",IF(Tabla4[[#This Row],[TIPO CONTRATO]]=\"Indefinido\",BDD!S119*2.4%,IF(Tabla4[[#This Row],[TIPO CONTRATO]]=\"PLAZO FIJO\",BDD!S119*3%,0)),0)","v":0},null,null,null,null,null,null,{"$f":"BDD!S119*Tabla4[[#This Row],[% SIS]]","v":0},null,null,{"$f":"BDD!S119*Tabla4[[#This Row],[%MUTUAL]]","v":0}]
[null,null,null,null,null,null,null,null,null,null,114,{"$f":"IF(BDD!J120=0,\" \",BDD!J120)","v":" "},null,null,{"$f":"IF(BDD!S120<_TOPEIMPONIBLE,BDD!S120*Tabla4[[#This Row],[%AFP]],_TOPEIMPONIBLE*Tabla4[[#This Row],[%AFP]])","v":0},null,null,{"$f":"IF(BDD!S120<_TOPEIMPONIBLE,BDD!S120*Tabla4[[#This Row],[%SALUD]],_TOPEIMPONIBLE*Tabla4[[#This Row],[%SALUD]])","v":0},null,null,{"$f":"BDD!S120*Tabla4[[#This Row],[%SEGURO]]","v":0},null,{"$f":"IF(Tabla4[[#This Row],[TOTAL UF]]-Tabla4[[#This Row],[TOTAL SALUD]]<=0,0,Tabla4[[#This Row],[TOTAL UF]]-Tabla4[[#This Row],[TOTAL SALUD]])","v":0},null,{"$f":"BDD!$N$4","v":37838.550000000003},{"$f":"Tabla4[[#This Row],[PACTO UF]]*Tabla4[[#This Row],[VALOR UF]]","v":0},"IMPUESTO UNICO",{"$f":"BDD!S120-Tabla4[[#This Row],[TOTAL AFP]]-Tabla4[[#This Row],[TOTAL SALUD]]-Tabla4[[#This Row],[TOTAL SEGURO CESANTIA]]-Tabla4[[#This Row],[TOTAL ADICIONAL]]","v":0},{"$f":"IF(Tabla4[[#This Row],[PASO DESC. UNIC.]]<=$AT$5,0,IF(Tabla4[[#This Row],[PASO DESC. UNIC.]]<=$AT$6,Tabla4[[#This Row],[PASO DESC. UNIC.]]*$AU$6-$AV$6,IF(Tabla4[[#This Row],[PASO DESC. UNIC.]]<=$AT$7,Tabla4[[#This Row],[PASO DESC. UNIC.]]*$AU$7-$AV$7,IF(Tabla4[[#This Row],[PASO DESC. UNIC.]]<=$AT$8,Tabla4[[#This Row],[PASO DESC. UNIC.]]*$AU$8-$AV$8,IF(Tabla4[[#This Row],[PASO DESC. UNIC.]]<=$AT$9,Tabla4[[#This Row],[PASO DESC. UNIC.]]*$AU$9-$AV$9,IF(Tabla4[[#This Row],[PASO DESC. UNIC.]]<=$AT$10,Tabla4[[#This Row],[PASO DESC. UNIC.]]*$AU$10-$AV$10,IF(Tabla4[[#This Row],[PASO DESC. UNIC.]]>=$AS$11,Tabla4[[#This Row],[PASO DESC. UNIC.]]*$AU$11-$AV$11)))))))","v":0},{"$f":"Tabla4[[#This Row],[TOTAL AFP]]+Tabla4[[#This Row],[TOTAL SALUD]]+Tabla4[[#This Row],[TOTAL SEGURO CESANTIA]]+Tabla4[[#This Row],[TOTAL ADICIONAL]]+Tabla4[[#This Row],[VALOR IMP U.]]+Tabla4[[#This Row],[VALOR OTRO 2]]+Tabla4[[#This Row],[VALOR OTRO 1]]","v":0},null,{"$f":"IF($BP$8 = \"SI\",IF(Tabla4[[#This Row],[TIPO CONTRATO]]=\"Indefinido\",BDD!S120*2.4%,IF(Tabla4[[#This Row],[TIPO CONTRATO]]=\"PLAZO FIJO\",BDD!S120*3%,0)),0)","v":0},null,null,null,null,null,null,{"$f":"BDD!S120*Tabla4[[#This Row],[% SIS]]","v":0},null,null,{"$f":"BDD!S120*Tabla4[[#This Row],[%MUTUAL]]","v":0}]
[null,null,null,null,null,null,null,null,null,null,115,{"$f":"IF(BDD!J121=0,\" \",BDD!J121)","v":" "},null,null,{"$f":"IF(BDD!S121<_TOPEIMPONIBLE,BDD!S121*Tabla4[[#This Row],[%AFP]],_TOPEIMPONIBLE*Tabla4[[#This Row],[%AFP]])","v":0},null,null,{"$f":"IF(BDD!S121<_TOPEIMPONIBLE,BDD!S121*Tabla4[[#This Row],[%SALUD]],_TOPEIMPONIBLE*Tabla4[[#This Row],[%SALUD]])","v":0},null,null,{"$f":"BDD!S121*Tabla4[[#This Row],[%SEGURO]]","v":0},null,{"$f":"IF(Tabla4[[#This Row],[TOTAL UF]]-Tabla4[[#This Row],[TOTAL SALUD]]<=0,0,Tabla4[[#This Row],[TOTAL UF]]-Tabla4[[#This Row],[TOTAL SALUD]])","v":0},null,{"$f":"BDD!$N$4","v":37838.550000000003},{"$f":"Tabla4[[#This Row],[PACTO UF]]*Tabla4[[#This Row],[VALOR UF]]","v":0},"IMPUESTO UNICO",{"$f":"BDD!S121-Tabla4[[#This Row],[TOTAL AFP]]-Tabla4[[#This Row],[TOTAL SALUD]]-Tabla4[[#This Row],[TOTAL SEGURO CESANTIA]]-Tabla4[[#This Row],[TOTAL ADICIONAL]]","v":0},{"$f":"IF(Tabla4[[#This Row],[PASO DESC. UNIC.]]<=$AT$5,0,IF(Tabla4[[#This Row],[PASO DESC. UNIC.]]<=$AT$6,Tabla4[[#This Row],[PASO DESC. UNIC.]]*$AU$6-$AV$6,IF(Tabla4[[#This Row],[PASO DESC. UNIC.]]<=$AT$7,Tabla4[[#This Row],[PASO DESC. UNIC.]]*$AU$7-$AV$7,IF(Tabla4[[#This Row],[PASO DESC. UNIC.]]<=$AT$8,Tabla4[[#This Row],[PASO DESC. UNIC.]]*$AU$8-$AV$8,IF(Tabla4[[#This Row],[PASO DESC. UNIC.]]<=$AT$9,Tabla4[[#This Row],[PASO DESC. UNIC.]]*$AU$9-$AV$9,IF(Tabla4[[#This Row],[PASO DESC. UNIC.]]<=$AT$10,Tabla4[[#This Row],[PASO DESC. UNIC.]]*$AU$10-$AV$10,IF(Tabla4[[#This Row],[PASO DESC. UNIC.]]>=$AS$11,Tabla4[[#This Row],[PASO DESC. UNIC.]]*$AU$11-$AV$11)))))))","v":0},{"$f":"Tabla4[[#This Row],[TOTAL AFP]]+Tabla4[[#This Row],[TOTAL SALUD]]+Tabla4[[#This Row],[TOTAL SEGURO CESANTIA]]+Tabla4[[#This Row],[TOTAL ADICIONAL]]+Tabla4[[#This Row],[VALOR IMP U.]]+Tabla4[[#This Row],[VALOR OTRO 2]]+Tabla4[[#This Row],[VALOR OTRO 1]]","v":0},null,{"$f":"IF($BP$8 = \"SI\",IF(Tabla4[[#This Row],[TIPO CONTRATO]]=\"Indefinido\",BDD!S121*2.4%,IF(Tabla4[[#This Row],[TIPO CONTRATO]]=\"PLAZO FIJO\",BDD!S121*3%,0)),0)","v":0},null,null,null,null,null,null,{"$f":"BDD!S121*Tabla4[[#This Row],[% SIS]]","v":0},null,null,{"$f":"BDD!S121*Tabla4[[#This Row],[%MUTUAL]]","v":0}]
[null,null,null,null,null,null,null,null,null,null,116,{"$f":"IF(BDD!J122=0,\" \",BDD!J122)","v":" "},null,null,{"$f":"IF(BDD!S122<_TOPEIMPONIBLE,BDD!S122*Tabla4[[#This Row],[%AFP]],_TOPEIMPONIBLE*Tabla4[[#This Row],[%AFP]])","v":0},null,null,{"$f":"IF(BDD!S122<_TOPEIMPONIBLE,BDD!S122*Tabla4[[#This Row],[%SALUD]],_TOPEIMPONIBLE*Tabla4[[#This Row],[%SALUD]])","v":0},null,null,{"$f":"BDD!S122*Tabla4[[#This Row],[%SEGURO]]","v":0},null,{"$f":"IF(Tabla4[[#This Row],[TOTAL UF]]-Tabla4[[#This Row],[TOTAL SALUD]]<=0,0,Tabla4[[#This Row],[TOTAL UF]]-Tabla4[[#This Row],[TOTAL SALUD]])","v":0},null,{"$f":"BDD!$N$4","v":37838.550000000003},{"$f":"Tabla4[[#This Row],[PACTO UF]]*Tabla4[[#This Row],[VALOR UF]]","v":0},"IMPUESTO UNICO",{"$f":"BDD!S122-Tabla4[[#This Row],[TOTAL AFP]]-Tabla4[[#This Row],[TOTAL SALUD]]-Tabla4[[#This Row],[TOTAL SEGURO CESANTIA]]-Tabla4[[#This Row],[TOTAL ADICIONAL]]","v":0},{"$f":"IF(Tabla4[[#This Row],[PASO DESC. UNIC.]]<=$AT$5,0,IF(Tabla4[[#This Row],[PASO DESC. UNIC.]]<=$AT$6,Tabla4[[#This Row],[PASO DESC. UNIC.]]*$AU$6-$AV$6,IF(Tabla4[[#This Row],[PASO DESC. UNIC.]]<=$AT$7,Tabla4[[#This Row],[PASO DESC. UNIC.]]*$AU$7-$AV$7,IF(Tabla4[[#This Row],[PASO DESC. UNIC.]]<=$AT$8,Tabla4[[#This Row],[PASO DESC. UNIC.]]*$AU$8-$AV$8,IF(Tabla4[[#This Row],[PASO DESC. UNIC.]]<=$AT$9,Tabla4[[#This Row],[PASO DESC. UNIC.]]*$AU$9-$AV$9,IF(Tabla4[[#This Row],[PASO DESC. UNIC.]]<=$AT$10,Tabla4[[#This Row],[PASO DESC. UNIC.]]*$AU$10-$AV$10,IF(Tabla4[[#This Row],[PASO DESC. UNIC.]]>=$AS$11,Tabla4[[#This Row],[PASO DESC. UNIC.]]*$AU$11-$AV$11)))))))","v":0},{"$f":"Tabla4[[#This Row],[TOTAL AFP]]+Tabla4[[#This Row],[TOTAL SALUD]]+Tabla4[[#This Row],[TOTAL SEGURO CESANTIA]]+Tabla4[[#This Row],[TOTAL ADICIONAL]]+Tabla4[[#This Row],[VALOR IMP U.]]+Tabla4[[#This Row],[VALOR OTRO 2]]+Tabla4[[#This Row],[VALOR OTRO 1]]","v":0},null,{"$f":"IF($BP$8 = \"SI\",IF(Tabla4[[#This Row],[TIPO CONTRATO]]=\"Indefinido\",BDD!S122*2.4%,IF(Tabla4[[#This Row],[TIPO CONTRATO]]=\"PLAZO FIJO\",BDD!S122*3%,0)),0)","v":0},null,null,null,null,null,null,{"$f":"BDD!S122*Tabla4[[#This Row],[% SIS]]","v":0},null,null,{"$f":"BDD!S122*Tabla4[[#This Row],[%MUTUAL]]","v":0}]
[null,null,null,null,null,null,null,null,null,null,117,{"$f":"IF(BDD!J123=0,\" \",BDD!J123)","v":" "},null,null,{"$f":"IF(BDD!S123<_TOPEIMPONIBLE,BDD!S123*Tabla4[[#This Row],[%AFP]],_TOPEIMPONIBLE*Tabla4[[#This Row],[%AFP]])","v":0},null,null,{"$f":"IF(BDD!S123<_TOPEIMPONIBLE,BDD!S123*Tabla4[[#This Row],[%SALUD]],_TOPEIMPONIBLE*Tabla4[[#This Row],[%SALUD]])","v":0},null,null,{"$f":"BDD!S123*Tabla4[[#This Row],[%SEGURO]]","v":0},null,{"$f":"IF(Tabla4[[#This Row],[TOTAL UF]]-Tabla4[[#This Row],[TOTAL SALUD]]<=0,0,Tabla4[[#This Row],[TOTAL UF]]-Tabla4[[#This Row],[TOTAL SALUD]])","v":0},null,{"$f":"BDD!$N$4","v":37838.550000000003},{"$f":"Tabla4[[#This Row],[PACTO UF]]*Tabla4[[#This Row],[VALOR UF]]","v":0},"IMPUESTO UNICO",{"$f":"BDD!S123-Tabla4[[#This Row],[TOTAL AFP]]-Tabla4[[#This Row],[TOTAL SALUD]]-Tabla4[[#This Row],[TOTAL SEGURO CESANTIA]]-Tabla4[[#This Row],[TOTAL ADICIONAL]]","v":0},{"$f":"IF(Tabla4[[#This Row],[PASO DESC. UNIC.]]<=$AT$5,0,IF(Tabla4[[#This Row],[PASO DESC. UNIC.]]<=$AT$6,Tabla4[[#This Row],[PASO DESC. UNIC.]]*$AU$6-$AV$6,IF(Tabla4[[#This Row],[PASO DESC. UNIC.]]<=$AT$7,Tabla4[[#This Row],[PASO DESC. UNIC.]]*$AU$7-$AV$7,IF(Tabla4[[#This Row],[PASO DESC. UNIC.]]<=$AT$8,Tabla4[[#This Row],[PASO DESC. UNIC.]]*$AU$8-$AV$8,IF(Tabla4[[#This Row],[PASO DESC. UNIC.]]<=$AT$9,Tabla4[[#This Row],[PASO DESC. UNIC.]]*$AU$9-$AV$9,IF(Tabla4[[#This Row],[PASO DESC. UNIC.]]<=$AT$10,Tabla4[[#This Row],[PASO DESC. UNIC.]]*$AU$10-$AV$10,IF(Tabla4[[#This Row],[PASO DESC. UNIC.]]>=$AS$11,Tabla4[[#This Row],[PASO DESC. UNIC.]]*$AU$11-$AV$11)))))))","v":0},{"$f":"Tabla4[[#This Row],[TOTAL AFP]]+Tabla4[[#This Row],[TOTAL SALUD]]+Tabla4[[#This Row],[TOTAL SEGURO CESANTIA]]+Tabla4[[#This Row],[TOTAL ADICIONAL]]+Tabla4[[#This Row],[VALOR IMP U.]]+Tabla4[[#This Row],[VALOR OTRO 2]]+Tabla4[[#This Row],[VALOR OTRO 1]]","v":0},null,{"$f":"IF($BP$8 = \"SI\",IF(Tabla4[[#This Row],[TIPO CONTRATO]]=\"Indefinido\",BDD!S123*2.4%,IF(Tabla4[[#This Row],[TIPO CONTRATO]]=\"PLAZO FIJO\",BDD!S123*3%,0)),0)","v":0},null,null,null,null,null,null,{"$f":"BDD!S123*Tabla4[[#This Row],[% SIS]]","v":0},null,null,{"$f":"BDD!S123*Tabla4[[#This Row],[%MUTUAL]]","v":0}]
[null,null,null,null,null,null,null,null,null,null,118,{"$f":"IF(BDD!J124=0,\" \",BDD!J124)","v":" "},null,null,{"$f":"IF(BDD!S124<_TOPEIMPONIBLE,BDD!S124*Tabla4[[#This Row],[%AFP]],_TOPEIMPONIBLE*Tabla4[[#This Row],[%AFP]])","v":0},null,null,{"$f":"IF(BDD!S124<_TOPEIMPONIBLE,BDD!S124*Tabla4[[#This Row],[%SALUD]],_TOPEIMPONIBLE*Tabla4[[#This Row],[%SALUD]])","v":0},null,null,{"$f":"BDD!S124*Tabla4[[#This Row],[%SEGURO]]","v":0},null,{"$f":"IF(Tabla4[[#This Row],[TOTAL UF]]-Tabla4[[#This Row],[TOTAL SALUD]]<=0,0,Tabla4[[#This Row],[TOTAL UF]]-Tabla4[[#This Row],[TOTAL SALUD]])","v":0},null,{"$f":"BDD!$N$4","v":37838.550000000003},{"$f":"Tabla4[[#This Row],[PACTO UF]]*Tabla4[[#This Row],[VALOR UF]]","v":0},"IMPUESTO UNICO",{"$f":"BDD!S124-Tabla4[[#This Row],[TOTAL AFP]]-Tabla4[[#This Row],[TOTAL SALUD]]-Tabla4[[#This Row],[TOTAL SEGURO CESANTIA]]-Tabla4[[#This Row],[TOTAL ADICIONAL]]","v":0},{"$f":"IF(Tabla4[[#This Row],[PASO DESC. UNIC.]]<=$AT$5,0,IF(Tabla4[[#This Row],[PASO DESC. UNIC.]]<=$AT$6,Tabla4[[#This Row],[PASO DESC. UNIC.]]*$AU$6-$AV$6,IF(Tabla4[[#This Row],[PASO DESC. UNIC.]]<=$AT$7,Tabla4[[#This Row],[PASO DESC. UNIC.]]*$AU$7-$AV$7,IF(Tabla4[[#This Row],[PASO DESC. UNIC.]]<=$AT$8,Tabla4[[#This Row],[PASO DESC. UNIC.]]*$AU$8-$AV$8,IF(Tabla4[[#This Row],[PASO DESC. UNIC.]]<=$AT$9,Tabla4[[#This Row],[PASO DESC. UNIC.]]*$AU$9-$AV$9,IF(Tabla4[[#This Row],[PASO DESC. UNIC.]]<=$AT$10,Tabla4[[#This Row],[PASO DESC. UNIC.]]*$AU$10-$AV$10,IF(Tabla4[[#This Row],[PASO DESC. UNIC.]]>=$AS$11,Tabla4[[#This Row],[PASO DESC. UNIC.]]*$AU$11-$AV$11)))))))","v":0},{"$f":"Tabla4[[#This Row],[TOTAL AFP]]+Tabla4[[#This Row],[TOTAL SALUD]]+Tabla4[[#This Row],[TOTAL SEGURO CESANTIA]]+Tabla4[[#This Row],[TOTAL ADICIONAL]]+Tabla4[[#This Row],[VALOR IMP U.]]+Tabla4[[#This Row],[VALOR OTRO 2]]+Tabla4[[#This Row],[VALOR OTRO 1]]","v":0},null,{"$f":"IF($BP$8 = \"SI\",IF(Tabla4[[#This Row],[TIPO CONTRATO]]=\"Indefinido\",BDD!S124*2.4%,IF(Tabla4[[#This Row],[TIPO CONTRATO]]=\"PLAZO FIJO\",BDD!S124*3%,0)),0)","v":0},null,null,null,null,null,null,{"$f":"BDD!S124*Tabla4[[#This Row],[% SIS]]","v":0},null,null,{"$f":"BDD!S124*Tabla4[[#This Row],[%MUTUAL]]","v":0}]
[null,null,null,null,null,null,null,null,null,null,119,{"$f":"IF(BDD!J125=0,\" \",BDD!J125)","v":" "},null,null,{"$f":"IF(BDD!S125<_TOPEIMPONIBLE,BDD!S125*Tabla4[[#This Row],[%AFP]],_TOPEIMPONIBLE*Tabla4[[#This Row],[%AFP]])","v":0},null,null,{"$f":"IF(BDD!S125<_TOPEIMPONIBLE,BDD!S125*Tabla4[[#This Row],[%SALUD]],_TOPEIMPONIBLE*Tabla4[[#This Row],[%SALUD]])","v":0},null,null,{"$f":"BDD!S125*Tabla4[[#This Row],[%SEGURO]]","v":0},null,{"$f":"IF(Tabla4[[#This Row],[TOTAL UF]]-Tabla4[[#This Row],[TOTAL SALUD]]<=0,0,Tabla4[[#This Row],[TOTAL UF]]-Tabla4[[#This Row],[TOTAL SALUD]])","v":0},null,{"$f":"BDD!$N$4","v":37838.550000000003},{"$f":"Tabla4[[#This Row],[PACTO UF]]*Tabla4[[#This Row],[VALOR UF]]","v":0},"IMPUESTO UNICO",{"$f":"BDD!S125-Tabla4[[#This Row],[TOTAL AFP]]-Tabla4[[#This Row],[TOTAL SALUD]]-Tabla4[[#This Row],[TOTAL SEGURO CESANTIA]]-Tabla4[[#This Row],[TOTAL ADICIONAL]]","v":0},{"$f":"IF(Tabla4[[#This Row],[PASO DESC. UNIC.]]<=$AT$5,0,IF(Tabla4[[#This Row],[PASO DESC. UNIC.]]<=$AT$6,Tabla4[[#This Row],[PASO DESC. UNIC.]]*$AU$6-$AV$6,IF(Tabla4[[#This Row],[PASO DESC. UNIC.]]<=$AT$7,Tabla4[[#This Row],[PASO DESC. UNIC.]]*$AU$7-$AV$7,IF(Tabla4[[#This Row],[PASO DESC. UNIC.]]<=$AT$8,Tabla4[[#This Row],[PASO DESC. UNIC.]]*$AU$8-$AV$8,IF(Tabla4[[#This Row],[PASO DESC. UNIC.]]<=$AT$9,Tabla4[[#This Row],[PASO DESC. UNIC.]]*$AU$9-$AV$9,IF(Tabla4[[#This Row],[PASO DESC. UNIC.]]<=$AT$10,Tabla4[[#This Row],[PASO DESC. UNIC.]]*$AU$10-$AV$10,IF(Tabla4[[#This Row],[PASO DESC. UNIC.]]>=$AS$11,Tabla4[[#This Row],[PASO DESC. UNIC.]]*$AU$11-$AV$11)))))))","v":0},{"$f":"Tabla4[[#This Row],[TOTAL AFP]]+Tabla4[[#This Row],[TOTAL SALUD]]+Tabla4[[#This Row],[TOTAL SEGURO CESANTIA]]+Tabla4[[#This Row],[TOTAL ADICIONAL]]+Tabla4[[#This Row],[VALOR IMP U.]]+Tabla4[[#This Row],[VALOR OTRO 2]]+Tabla4[[#This Row],[VALOR OTRO 1]]","v":0},null,{"$f":"IF($BP$8 = \"SI\",IF(Tabla4[[#This Row],[TIPO CONTRATO]]=\"Indefinido\",BDD!S125*2.4%,IF(Tabla4[[#This Row],[TIPO CONTRATO]]=\"PLAZO FIJO\",BDD!S125*3%,0)),0)","v":0},null,null,null,null,null,null,{"$f":"BDD!S125*Tabla4[[#This Row],[% SIS]]","v":0},null,null,{"$f":"BDD!S125*Tabla4[[#This Row],[%MUTUAL]]","v":0}]
[null,null,null,null,null,null,null,null,null,null,120,{"$f":"IF(BDD!J126=0,\" \",BDD!J126)","v":" "},null,null,{"$f":"IF(BDD!S126<_TOPEIMPONIBLE,BDD!S126*Tabla4[[#This Row],[%AFP]],_TOPEIMPONIBLE*Tabla4[[#This Row],[%AFP]])","v":0},null,null,{"$f":"IF(BDD!S126<_TOPEIMPONIBLE,BDD!S126*Tabla4[[#This Row],[%SALUD]],_TOPEIMPONIBLE*Tabla4[[#This Row],[%SALUD]])","v":0},null,null,{"$f":"BDD!S126*Tabla4[[#This Row],[%SEGURO]]","v":0},null,{"$f":"IF(Tabla4[[#This Row],[TOTAL UF]]-Tabla4[[#This Row],[TOTAL SALUD]]<=0,0,Tabla4[[#This Row],[TOTAL UF]]-Tabla4[[#This Row],[TOTAL SALUD]])","v":0},null,{"$f":"BDD!$N$4","v":37838.550000000003},{"$f":"Tabla4[[#This Row],[PACTO UF]]*Tabla4[[#This Row],[VALOR UF]]","v":0},"IMPUESTO UNICO",{"$f":"BDD!S126-Tabla4[[#This Row],[TOTAL AFP]]-Tabla4[[#This Row],[TOTAL SALUD]]-Tabla4[[#This Row],[TOTAL SEGURO CESANTIA]]-Tabla4[[#This Row],[TOTAL ADICIONAL]]","v":0},{"$f":"IF(Tabla4[[#This Row],[PASO DESC. UNIC.]]<=$AT$5,0,IF(Tabla4[[#This Row],[PASO DESC. UNIC.]]<=$AT$6,Tabla4[[#This Row],[PASO DESC. UNIC.]]*$AU$6-$AV$6,IF(Tabla4[[#This Row],[PASO DESC. UNIC.]]<=$AT$7,Tabla4[[#This Row],[PASO DESC. UNIC.]]*$AU$7-$AV$7,IF(Tabla4[[#This Row],[PASO DESC. UNIC.]]<=$AT$8,Tabla4[[#This Row],[PASO DESC. UNIC.]]*$AU$8-$AV$8,IF(Tabla4[[#This Row],[PASO DESC. UNIC.]]<=$AT$9,Tabla4[[#This Row],[PASO DESC. UNIC.]]*$AU$9-$AV$9,IF(Tabla4[[#This Row],[PASO DESC. UNIC.]]<=$AT$10,Tabla4[[#This Row],[PASO DESC. UNIC.]]*$AU$10-$AV$10,IF(Tabla4[[#This Row],[PASO DESC. UNIC.]]>=$AS$11,Tabla4[[#This Row],[PASO DESC. UNIC.]]*$AU$11-$AV$11)))))))","v":0},{"$f":"Tabla4[[#This Row],[TOTAL AFP]]+Tabla4[[#This Row],[TOTAL SALUD]]+Tabla4[[#This Row],[TOTAL SEGURO CESANTIA]]+Tabla4[[#This Row],[TOTAL ADICIONAL]]+Tabla4[[#This Row],[VALOR IMP U.]]+Tabla4[[#This Row],[VALOR OTRO 2]]+Tabla4[[#This Row],[VALOR OTRO 1]]","v":0},null,{"$f":"IF($BP$8 = \"SI\",IF(Tabla4[[#This Row],[TIPO CONTRATO]]=\"Indefinido\",BDD!S126*2.4%,IF(Tabla4[[#This Row],[TIPO CONTRATO]]=\"PLAZO FIJO\",BDD!S126*3%,0)),0)","v":0},null,null,null,null,null,null,{"$f":"BDD!S126*Tabla4[[#This Row],[% SIS]]","v":0},null,null,{"$f":"BDD!S126*Tabla4[[#This Row],[%MUTUAL]]","v":0}]
[null,null,null,null,null,null,null,null,null,null,121,{"$f":"IF(BDD!J127=0,\" \",BDD!J127)","v":" "},null,null,{"$f":"IF(BDD!S127<_TOPEIMPONIBLE,BDD!S127*Tabla4[[#This Row],[%AFP]],_TOPEIMPONIBLE*Tabla4[[#This Row],[%AFP]])","v":0},null,null,{"$f":"IF(BDD!S127<_TOPEIMPONIBLE,BDD!S127*Tabla4[[#This Row],[%SALUD]],_TOPEIMPONIBLE*Tabla4[[#This Row],[%SALUD]])","v":0},null,null,{"$f":"BDD!S127*Tabla4[[#This Row],[%SEGURO]]","v":0},null,{"$f":"IF(Tabla4[[#This Row],[TOTAL UF]]-Tabla4[[#This Row],[TOTAL SALUD]]<=0,0,Tabla4[[#This Row],[TOTAL UF]]-Tabla4[[#This Row],[TOTAL SALUD]])","v":0},null,{"$f":"BDD!$N$4","v":37838.550000000003},{"$f":"Tabla4[[#This Row],[PACTO UF]]*Tabla4[[#This Row],[VALOR UF]]","v":0},"IMPUESTO UNICO",{"$f":"BDD!S127-Tabla4[[#This Row],[TOTAL AFP]]-Tabla4[[#This Row],[TOTAL SALUD]]-Tabla4[[#This Row],[TOTAL SEGURO CESANTIA]]-Tabla4[[#This Row],[TOTAL ADICIONAL]]","v":0},{"$f":"IF(Tabla4[[#This Row],[PASO DESC. UNIC.]]<=$AT$5,0,IF(Tabla4[[#This Row],[PASO DESC. UNIC.]]<=$AT$6,Tabla4[[#This Row],[PASO DESC. UNIC.]]*$AU$6-$AV$6,IF(Tabla4[[#This Row],[PASO DESC. UNIC.]]<=$AT$7,Tabla4[[#This Row],[PASO DESC. UNIC.]]*$AU$7-$AV$7,IF(Tabla4[[#This Row],[PASO DESC. UNIC.]]<=$AT$8,Tabla4[[#This Row],[PASO DESC. UNIC.]]*$AU$8-$AV$8,IF(Tabla4[[#This Row],[PASO DESC. UNIC.]]<=$AT$9,Tabla4[[#This Row],[PASO DESC. UNIC.]]*$AU$9-$AV$9,IF(Tabla4[[#This Row],[PASO DESC. UNIC.]]<=$AT$10,Tabla4[[#This Row],[PASO DESC. UNIC.]]*$AU$10-$AV$10,IF(Tabla4[[#This Row],[PASO DESC. UNIC.]]>=$AS$11,Tabla4[[#This Row],[PASO DESC. UNIC.]]*$AU$11-$AV$11)))))))","v":0},{"$f":"Tabla4[[#This Row],[TOTAL AFP]]+Tabla4[[#This Row],[TOTAL SALUD]]+Tabla4[[#This Row],[TOTAL SEGURO CESANTIA]]+Tabla4[[#This Row],[TOTAL ADICIONAL]]+Tabla4[[#This Row],[VALOR IMP U.]]+Tabla4[[#This Row],[VALOR OTRO 2]]+Tabla4[[#This Row],[VALOR OTRO 1]]","v":0},null,{"$f":"IF($BP$8 = \"SI\",IF(Tabla4[[#This Row],[TIPO CONTRATO]]=\"Indefinido\",BDD!S127*2.4%,IF(Tabla4[[#This Row],[TIPO CONTRATO]]=\"PLAZO FIJO\",BDD!S127*3%,0)),0)","v":0},null,null,null,null,null,null,{"$f":"BDD!S127*Tabla4[[#This Row],[% SIS]]","v":0},null,null,{"$f":"BDD!S127*Tabla4[[#This Row],[%MUTUAL]]","v":0}]
[null,null,null,null,null,null,null,null,null,null,122,{"$f":"IF(BDD!J128=0,\" \",BDD!J128)","v":" "},null,null,{"$f":"IF(BDD!S128<_TOPEIMPONIBLE,BDD!S128*Tabla4[[#This Row],[%AFP]],_TOPEIMPONIBLE*Tabla4[[#This Row],[%AFP]])","v":0},null,null,{"$f":"IF(BDD!S128<_TOPEIMPONIBLE,BDD!S128*Tabla4[[#This Row],[%SALUD]],_TOPEIMPONIBLE*Tabla4[[#This Row],[%SALUD]])","v":0},null,null,{"$f":"BDD!S128*Tabla4[[#This Row],[%SEGURO]]","v":0},null,{"$f":"IF(Tabla4[[#This Row],[TOTAL UF]]-Tabla4[[#This Row],[TOTAL SALUD]]<=0,0,Tabla4[[#This Row],[TOTAL UF]]-Tabla4[[#This Row],[TOTAL SALUD]])","v":0},null,{"$f":"BDD!$N$4","v":37838.550000000003},{"$f":"Tabla4[[#This Row],[PACTO UF]]*Tabla4[[#This Row],[VALOR UF]]","v":0},"IMPUESTO UNICO",{"$f":"BDD!S128-Tabla4[[#This Row],[TOTAL AFP]]-Tabla4[[#This Row],[TOTAL SALUD]]-Tabla4[[#This Row],[TOTAL SEGURO CESANTIA]]-Tabla4[[#This Row],[TOTAL ADICIONAL]]","v":0},{"$f":"IF(Tabla4[[#This Row],[PASO DESC. UNIC.]]<=$AT$5,0,IF(Tabla4[[#This Row],[PASO DESC. UNIC.]]<=$AT$6,Tabla4[[#This Row],[PASO DESC. UNIC.]]*$AU$6-$AV$6,IF(Tabla4[[#This Row],[PASO DESC. UNIC.]]<=$AT$7,Tabla4[[#This Row],[PASO DESC. UNIC.]]*$AU$7-$AV$7,IF(Tabla4[[#This Row],[PASO DESC. UNIC.]]<=$AT$8,Tabla4[[#This Row],[PASO DESC. UNIC.]]*$AU$8-$AV$8,IF(Tabla4[[#This Row],[PASO DESC. UNIC.]]<=$AT$9,Tabla4[[#This Row],[PASO DESC. UNIC.]]*$AU$9-$AV$9,IF(Tabla4[[#This Row],[PASO DESC. UNIC.]]<=$AT$10,Tabla4[[#This Row],[PASO DESC. UNIC.]]*$AU$10-$AV$10,IF(Tabla4[[#This Row],[PASO DESC. UNIC.]]>=$AS$11,Tabla4[[#This Row],[PASO DESC. UNIC.]]*$AU$11-$AV$11)))))))","v":0},{"$f":"Tabla4[[#This Row],[TOTAL AFP]]+Tabla4[[#This Row],[TOTAL SALUD]]+Tabla4[[#This Row],[TOTAL SEGURO CESANTIA]]+Tabla4[[#This Row],[TOTAL ADICIONAL]]+Tabla4[[#This Row],[VALOR IMP U.]]+Tabla4[[#This Row],[VALOR OTRO 2]]+Tabla4[[#This Row],[VALOR OTRO 1]]","v":0},null,{"$f":"IF($BP$8 = \"SI\",IF(Tabla4[[#This Row],[TIPO CONTRATO]]=\"Indefinido\",BDD!S128*2.4%,IF(Tabla4[[#This Row],[TIPO CONTRATO]]=\"PLAZO FIJO\",BDD!S128*3%,0)),0)","v":0},null,null,null,null,null,null,{"$f":"BDD!S128*Tabla4[[#This Row],[% SIS]]","v":0},null,null,{"$f":"BDD!S128*Tabla4[[#This Row],[%MUTUAL]]","v":0}]
[null,null,null,null,null,null,null,null,null,null,123,{"$f":"IF(BDD!J129=0,\" \",BDD!J129)","v":" "},null,null,{"$f":"IF(BDD!S129<_TOPEIMPONIBLE,BDD!S129*Tabla4[[#This Row],[%AFP]],_TOPEIMPONIBLE*Tabla4[[#This Row],[%AFP]])","v":0},null,null,{"$f":"IF(BDD!S129<_TOPEIMPONIBLE,BDD!S129*Tabla4[[#This Row],[%SALUD]],_TOPEIMPONIBLE*Tabla4[[#This Row],[%SALUD]])","v":0},null,null,{"$f":"BDD!S129*Tabla4[[#This Row],[%SEGURO]]","v":0},null,{"$f":"IF(Tabla4[[#This Row],[TOTAL UF]]-Tabla4[[#This Row],[TOTAL SALUD]]<=0,0,Tabla4[[#This Row],[TOTAL UF]]-Tabla4[[#This Row],[TOTAL SALUD]])","v":0},null,{"$f":"BDD!$N$4","v":37838.550000000003},{"$f":"Tabla4[[#This Row],[PACTO UF]]*Tabla4[[#This Row],[VALOR UF]]","v":0},"IMPUESTO UNICO",{"$f":"BDD!S129-Tabla4[[#This Row],[TOTAL AFP]]-Tabla4[[#This Row],[TOTAL SALUD]]-Tabla4[[#This Row],[TOTAL SEGURO CESANTIA]]-Tabla4[[#This Row],[TOTAL ADICIONAL]]","v":0},{"$f":"IF(Tabla4[[#This Row],[PASO DESC. UNIC.]]<=$AT$5,0,IF(Tabla4[[#This Row],[PASO DESC. UNIC.]]<=$AT$6,Tabla4[[#This Row],[PASO DESC. UNIC.]]*$AU$6-$AV$6,IF(Tabla4[[#This Row],[PASO DESC. UNIC.]]<=$AT$7,Tabla4[[#This Row],[PASO DESC. UNIC.]]*$AU$7-$AV$7,IF(Tabla4[[#This Row],[PASO DESC. UNIC.]]<=$AT$8,Tabla4[[#This Row],[PASO DESC. UNIC.]]*$AU$8-$AV$8,IF(Tabla4[[#This Row],[PASO DESC. UNIC.]]<=$AT$9,Tabla4[[#This Row],[PASO DESC. UNIC.]]*$AU$9-$AV$9,IF(Tabla4[[#This Row],[PASO DESC. UNIC.]]<=$AT$10,Tabla4[[#This Row],[PASO DESC. UNIC.]]*$AU$10-$AV$10,IF(Tabla4[[#This Row],[PASO DESC. UNIC.]]>=$AS$11,Tabla4[[#This Row],[PASO DESC. UNIC.]]*$AU$11-$AV$11)))))))","v":0},{"$f":"Tabla4[[#This Row],[TOTAL AFP]]+Tabla4[[#This Row],[TOTAL SALUD]]+Tabla4[[#This Row],[TOTAL SEGURO CESANTIA]]+Tabla4[[#This Row],[TOTAL ADICIONAL]]+Tabla4[[#This Row],[VALOR IMP U.]]+Tabla4[[#This Row],[VALOR OTRO 2]]+Tabla4[[#This Row],[VALOR OTRO 1]]","v":0},null,{"$f":"IF($BP$8 = \"SI\",IF(Tabla4[[#This Row],[TIPO CONTRATO]]=\"Indefinido\",BDD!S129*2.4%,IF(Tabla4[[#This Row],[TIPO CONTRATO]]=\"PLAZO FIJO\",BDD!S129*3%,0)),0)","v":0},null,null,null,null,null,null,{"$f":"BDD!S129*Tabla4[[#This Row],[% SIS]]","v":0},null,null,{"$f":"BDD!S129*Tabla4[[#This Row],[%MUTUAL]]","v":0}]
[null,null,null,null,null,null,null,null,null,null,124,{"$f":"IF(BDD!J130=0,\" \",BDD!J130)","v":" "},null,null,{"$f":"IF(BDD!S130<_TOPEIMPONIBLE,BDD!S130*Tabla4[[#This Row],[%AFP]],_TOPEIMPONIBLE*Tabla4[[#This Row],[%AFP]])","v":0},null,null,{"$f":"IF(BDD!S130<_TOPEIMPONIBLE,BDD!S130*Tabla4[[#This Row],[%SALUD]],_TOPEIMPONIBLE*Tabla4[[#This Row],[%SALUD]])","v":0},null,null,{"$f":"BDD!S130*Tabla4[[#This Row],[%SEGURO]]","v":0},null,{"$f":"IF(Tabla4[[#This Row],[TOTAL UF]]-Tabla4[[#This Row],[TOTAL SALUD]]<=0,0,Tabla4[[#This Row],[TOTAL UF]]-Tabla4[[#This Row],[TOTAL SALUD]])","v":0},null,{"$f":"BDD!$N$4","v":37838.550000000003},{"$f":"Tabla4[[#This Row],[PACTO UF]]*Tabla4[[#This Row],[VALOR UF]]","v":0},"IMPUESTO UNICO",{"$f":"BDD!S130-Tabla4[[#This Row],[TOTAL AFP]]-Tabla4[[#This Row],[TOTAL SALUD]]-Tabla4[[#This Row],[TOTAL SEGURO CESANTIA]]-Tabla4[[#This Row],[TOTAL ADICIONAL]]","v":0},{"$f":"IF(Tabla4[[#This Row],[PASO DESC. UNIC.]]<=$AT$5,0,IF(Tabla4[[#This Row],[PASO DESC. UNIC.]]<=$AT$6,Tabla4[[#This Row],[PASO DESC. UNIC.]]*$AU$6-$AV$6,IF(Tabla4[[#This Row],[PASO DESC. UNIC.]]<=$AT$7,Tabla4[[#This Row],[PASO DESC. UNIC.]]*$AU$7-$AV$7,IF(Tabla4[[#This Row],[PASO DESC. UNIC.]]<=$AT$8,Tabla4[[#This Row],[PASO DESC. UNIC.]]*$AU$8-$AV$8,IF(Tabla4[[#This Row],[PASO DESC. UNIC.]]<=$AT$9,Tabla4[[#This Row],[PASO DESC. UNIC.]]*$AU$9-$AV$9,IF(Tabla4[[#This Row],[PASO DESC. UNIC.]]<=$AT$10,Tabla4[[#This Row],[PASO DESC. UNIC.]]*$AU$10-$AV$10,IF(Tabla4[[#This Row],[PASO DESC. UNIC.]]>=$AS$11,Tabla4[[#This Row],[PASO DESC. UNIC.]]*$AU$11-$AV$11)))))))","v":0},{"$f":"Tabla4[[#This Row],[TOTAL AFP]]+Tabla4[[#This Row],[TOTAL SALUD]]+Tabla4[[#This Row],[TOTAL SEGURO CESANTIA]]+Tabla4[[#This Row],[TOTAL ADICIONAL]]+Tabla4[[#This Row],[VALOR IMP U.]]+Tabla4[[#This Row],[VALOR OTRO 2]]+Tabla4[[#This Row],[VALOR OTRO 1]]","v":0},null,{"$f":"IF($BP$8 = \"SI\",IF(Tabla4[[#This Row],[TIPO CONTRATO]]=\"Indefinido\",BDD!S130*2.4%,IF(Tabla4[[#This Row],[TIPO CONTRATO]]=\"PLAZO FIJO\",BDD!S130*3%,0)),0)","v":0},null,null,null,null,null,null,{"$f":"BDD!S130*Tabla4[[#This Row],[% SIS]]","v":0},null,null,{"$f":"BDD!S130*Tabla4[[#This Row],[%MUTUAL]]","v":0}]
[null,null,null,null,null,null,null,null,null,null,125,{"$f":"IF(BDD!J131=0,\" \",BDD!J131)","v":" "},null,null,{"$f":"IF(BDD!S131<_TOPEIMPONIBLE,BDD!S131*Tabla4[[#This Row],[%AFP]],_TOPEIMPONIBLE*Tabla4[[#This Row],[%AFP]])","v":0},null,null,{"$f":"IF(BDD!S131<_TOPEIMPONIBLE,BDD!S131*Tabla4[[#This Row],[%SALUD]],_TOPEIMPONIBLE*Tabla4[[#This Row],[%SALUD]])","v":0},null,null,{"$f":"BDD!S131*Tabla4[[#This Row],[%SEGURO]]","v":0},null,{"$f":"IF(Tabla4[[#This Row],[TOTAL UF]]-Tabla4[[#This Row],[TOTAL SALUD]]<=0,0,Tabla4[[#This Row],[TOTAL UF]]-Tabla4[[#This Row],[TOTAL SALUD]])","v":0},null,{"$f":"BDD!$N$4","v":37838.550000000003},{"$f":"Tabla4[[#This Row],[PACTO UF]]*Tabla4[[#This Row],[VALOR UF]]","v":0},"IMPUESTO UNICO",{"$f":"BDD!S131-Tabla4[[#This Row],[TOTAL AFP]]-Tabla4[[#This Row],[TOTAL SALUD]]-Tabla4[[#This Row],[TOTAL SEGURO CESANTIA]]-Tabla4[[#This Row],[TOTAL ADICIONAL]]","v":0},{"$f":"IF(Tabla4[[#This Row],[PASO DESC. UNIC.]]<=$AT$5,0,IF(Tabla4[[#This Row],[PASO DESC. UNIC.]]<=$AT$6,Tabla4[[#This Row],[PASO DESC. UNIC.]]*$AU$6-$AV$6,IF(Tabla4[[#This Row],[PASO DESC. UNIC.]]<=$AT$7,Tabla4[[#This Row],[PASO DESC. UNIC.]]*$AU$7-$AV$7,IF(Tabla4[[#This Row],[PASO DESC. UNIC.]]<=$AT$8,Tabla4[[#This Row],[PASO DESC. UNIC.]]*$AU$8-$AV$8,IF(Tabla4[[#This Row],[PASO DESC. UNIC.]]<=$AT$9,Tabla4[[#This Row],[PASO DESC. UNIC.]]*$AU$9-$AV$9,IF(Tabla4[[#This Row],[PASO DESC. UNIC.]]<=$AT$10,Tabla4[[#This Row],[PASO DESC. UNIC.]]*$AU$10-$AV$10,IF(Tabla4[[#This Row],[PASO DESC. UNIC.]]>=$AS$11,Tabla4[[#This Row],[PASO DESC. UNIC.]]*$AU$11-$AV$11)))))))","v":0},{"$f":"Tabla4[[#This Row],[TOTAL AFP]]+Tabla4[[#This Row],[TOTAL SALUD]]+Tabla4[[#This Row],[TOTAL SEGURO CESANTIA]]+Tabla4[[#This Row],[TOTAL ADICIONAL]]+Tabla4[[#This Row],[VALOR IMP U.]]+Tabla4[[#This Row],[VALOR OTRO 2]]+Tabla4[[#This Row],[VALOR OTRO 1]]","v":0},null,{"$f":"IF($BP$8 = \"SI\",IF(Tabla4[[#This Row],[TIPO CONTRATO]]=\"Indefinido\",BDD!S131*2.4%,IF(Tabla4[[#This Row],[TIPO CONTRATO]]=\"PLAZO FIJO\",BDD!S131*3%,0)),0)","v":0},null,null,null,null,null,null,{"$f":"BDD!S131*Tabla4[[#This Row],[% SIS]]","v":0},null,null,{"$f":"BDD!S131*Tabla4[[#This Row],[%MUTUAL]]","v":0}]
[null,null,null,null,null,null,null,null,null,null,126,{"$f":"IF(BDD!J132=0,\" \",BDD!J132)","v":" "},null,null,{"$f":"IF(BDD!S132<_TOPEIMPONIBLE,BDD!S132*Tabla4[[#This Row],[%AFP]],_TOPEIMPONIBLE*Tabla4[[#This Row],[%AFP]])","v":0},null,null,{"$f":"IF(BDD!S132<_TOPEIMPONIBLE,BDD!S132*Tabla4[[#This Row],[%SALUD]],_TOPEIMPONIBLE*Tabla4[[#This Row],[%SALUD]])","v":0},null,null,{"$f":"BDD!S132*Tabla4[[#This Row],[%SEGURO]]","v":0},null,{"$f":"IF(Tabla4[[#This Row],[TOTAL UF]]-Tabla4[[#This Row],[TOTAL SALUD]]<=0,0,Tabla4[[#This Row],[TOTAL UF]]-Tabla4[[#This Row],[TOTAL SALUD]])","v":0},null,{"$f":"BDD!$N$4","v":37838.550000000003},{"$f":"Tabla4[[#This Row],[PACTO UF]]*Tabla4[[#This Row],[VALOR UF]]","v":0},"IMPUESTO UNICO",{"$f":"BDD!S132-Tabla4[[#This Row],[TOTAL AFP]]-Tabla4[[#This Row],[TOTAL SALUD]]-Tabla4[[#This Row],[TOTAL SEGURO CESANTIA]]-Tabla4[[#This Row],[TOTAL ADICIONAL]]","v":0},{"$f":"IF(Tabla4[[#This Row],[PASO DESC. UNIC.]]<=$AT$5,0,IF(Tabla4[[#This Row],[PASO DESC. UNIC.]]<=$AT$6,Tabla4[[#This Row],[PASO DESC. UNIC.]]*$AU$6-$AV$6,IF(Tabla4[[#This Row],[PASO DESC. UNIC.]]<=$AT$7,Tabla4[[#This Row],[PASO DESC. UNIC.]]*$AU$7-$AV$7,IF(Tabla4[[#This Row],[PASO DESC. UNIC.]]<=$AT$8,Tabla4[[#This Row],[PASO DESC. UNIC.]]*$AU$8-$AV$8,IF(Tabla4[[#This Row],[PASO DESC. UNIC.]]<=$AT$9,Tabla4[[#This Row],[PASO DESC. UNIC.]]*$AU$9-$AV$9,IF(Tabla4[[#This Row],[PASO DESC. UNIC.]]<=$AT$10,Tabla4[[#This Row],[PASO DESC. UNIC.]]*$AU$10-$AV$10,IF(Tabla4[[#This Row],[PASO DESC. UNIC.]]>=$AS$11,Tabla4[[#This Row],[PASO DESC. UNIC.]]*$AU$11-$AV$11)))))))","v":0},{"$f":"Tabla4[[#This Row],[TOTAL AFP]]+Tabla4[[#This Row],[TOTAL SALUD]]+Tabla4[[#This Row],[TOTAL SEGURO CESANTIA]]+Tabla4[[#This Row],[TOTAL ADICIONAL]]+Tabla4[[#This Row],[VALOR IMP U.]]+Tabla4[[#This Row],[VALOR OTRO 2]]+Tabla4[[#This Row],[VALOR OTRO 1]]","v":0},null,{"$f":"IF($BP$8 = \"SI\",IF(Tabla4[[#This Row],[TIPO CONTRATO]]=\"Indefinido\",BDD!S132*2.4%,IF(Tabla4[[#This Row],[TIPO CONTRATO]]=\"PLAZO FIJO\",BDD!S132*3%,0)),0)","v":0},null,null,null,null,null,null,{"$f":"BDD!S132*Tabla4[[#This Row],[% SIS]]","v":0},null,null,{"$f":"BDD!S132*Tabla4[[#This Row],[%MUTUAL]]","v":0}]
[null,null,null,null,null,null,null,null,null,null,127,{"$f":"IF(BDD!J133=0,\" \",BDD!J133)","v":" "},null,null,{"$f":"IF(BDD!S133<_TOPEIMPONIBLE,BDD!S133*Tabla4[[#This Row],[%AFP]],_TOPEIMPONIBLE*Tabla4[[#This Row],[%AFP]])","v":0},null,null,{"$f":"IF(BDD!S133<_TOPEIMPONIBLE,BDD!S133*Tabla4[[#This Row],[%SALUD]],_TOPEIMPONIBLE*Tabla4[[#This Row],[%SALUD]])","v":0},null,null,{"$f":"BDD!S133*Tabla4[[#This Row],[%SEGURO]]","v":0},null,{"$f":"IF(Tabla4[[#This Row],[TOTAL UF]]-Tabla4[[#This Row],[TOTAL SALUD]]<=0,0,Tabla4[[#This Row],[TOTAL UF]]-Tabla4[[#This Row],[TOTAL SALUD]])","v":0},null,{"$f":"BDD!$N$4","v":37838.550000000003},{"$f":"Tabla4[[#This Row],[PACTO UF]]*Tabla4[[#This Row],[VALOR UF]]","v":0},"IMPUESTO UNICO",{"$f":"BDD!S133-Tabla4[[#This Row],[TOTAL AFP]]-Tabla4[[#This Row],[TOTAL SALUD]]-Tabla4[[#This Row],[TOTAL SEGURO CESANTIA]]-Tabla4[[#This Row],[TOTAL ADICIONAL]]","v":0},{"$f":"IF(Tabla4[[#This Row],[PASO DESC. UNIC.]]<=$AT$5,0,IF(Tabla4[[#This Row],[PASO DESC. UNIC.]]<=$AT$6,Tabla4[[#This Row],[PASO DESC. UNIC.]]*$AU$6-$AV$6,IF(Tabla4[[#This Row],[PASO DESC. UNIC.]]<=$AT$7,Tabla4[[#This Row],[PASO DESC. UNIC.]]*$AU$7-$AV$7,IF(Tabla4[[#This Row],[PASO DESC. UNIC.]]<=$AT$8,Tabla4[[#This Row],[PASO DESC. UNIC.]]*$AU$8-$AV$8,IF(Tabla4[[#This Row],[PASO DESC. UNIC.]]<=$AT$9,Tabla4[[#This Row],[PASO DESC. UNIC.]]*$AU$9-$AV$9,IF(Tabla4[[#This Row],[PASO DESC. UNIC.]]<=$AT$10,Tabla4[[#This Row],[PASO DESC. UNIC.]]*$AU$10-$AV$10,IF(Tabla4[[#This Row],[PASO DESC. UNIC.]]>=$AS$11,Tabla4[[#This Row],[PASO DESC. UNIC.]]*$AU$11-$AV$11)))))))","v":0},{"$f":"Tabla4[[#This Row],[TOTAL AFP]]+Tabla4[[#This Row],[TOTAL SALUD]]+Tabla4[[#This Row],[TOTAL SEGURO CESANTIA]]+Tabla4[[#This Row],[TOTAL ADICIONAL]]+Tabla4[[#This Row],[VALOR IMP U.]]+Tabla4[[#This Row],[VALOR OTRO 2]]+Tabla4[[#This Row],[VALOR OTRO 1]]","v":0},null,{"$f":"IF($BP$8 = \"SI\",IF(Tabla4[[#This Row],[TIPO CONTRATO]]=\"Indefinido\",BDD!S133*2.4%,IF(Tabla4[[#This Row],[TIPO CONTRATO]]=\"PLAZO FIJO\",BDD!S133*3%,0)),0)","v":0},null,null,null,null,null,null,{"$f":"BDD!S133*Tabla4[[#This Row],[% SIS]]","v":0},null,null,{"$f":"BDD!S133*Tabla4[[#This Row],[%MUTUAL]]","v":0}]
[null,null,null,null,null,null,null,null,null,null,128,{"$f":"IF(BDD!J134=0,\" \",BDD!J134)","v":" "},null,null,{"$f":"IF(BDD!S134<_TOPEIMPONIBLE,BDD!S134*Tabla4[[#This Row],[%AFP]],_TOPEIMPONIBLE*Tabla4[[#This Row],[%AFP]])","v":0},null,null,{"$f":"IF(BDD!S134<_TOPEIMPONIBLE,BDD!S134*Tabla4[[#This Row],[%SALUD]],_TOPEIMPONIBLE*Tabla4[[#This Row],[%SALUD]])","v":0},null,null,{"$f":"BDD!S134*Tabla4[[#This Row],[%SEGURO]]","v":0},null,{"$f":"IF(Tabla4[[#This Row],[TOTAL UF]]-Tabla4[[#This Row],[TOTAL SALUD]]<=0,0,Tabla4[[#This Row],[TOTAL UF]]-Tabla4[[#This Row],[TOTAL SALUD]])","v":0},null,{"$f":"BDD!$N$4","v":37838.550000000003},{"$f":"Tabla4[[#This Row],[PACTO UF]]*Tabla4[[#This Row],[VALOR UF]]","v":0},"IMPUESTO UNICO",{"$f":"BDD!S134-Tabla4[[#This Row],[TOTAL AFP]]-Tabla4[[#This Row],[TOTAL SALUD]]-Tabla4[[#This Row],[TOTAL SEGURO CESANTIA]]-Tabla4[[#This Row],[TOTAL ADICIONAL]]","v":0},{"$f":"IF(Tabla4[[#This Row],[PASO DESC. UNIC.]]<=$AT$5,0,IF(Tabla4[[#This Row],[PASO DESC. UNIC.]]<=$AT$6,Tabla4[[#This Row],[PASO DESC. UNIC.]]*$AU$6-$AV$6,IF(Tabla4[[#This Row],[PASO DESC. UNIC.]]<=$AT$7,Tabla4[[#This Row],[PASO DESC. UNIC.]]*$AU$7-$AV$7,IF(Tabla4[[#This Row],[PASO DESC. UNIC.]]<=$AT$8,Tabla4[[#This Row],[PASO DESC. UNIC.]]*$AU$8-$AV$8,IF(Tabla4[[#This Row],[PASO DESC. UNIC.]]<=$AT$9,Tabla4[[#This Row],[PASO DESC. UNIC.]]*$AU$9-$AV$9,IF(Tabla4[[#This Row],[PASO DESC. UNIC.]]<=$AT$10,Tabla4[[#This Row],[PASO DESC. UNIC.]]*$AU$10-$AV$10,IF(Tabla4[[#This Row],[PASO DESC. UNIC.]]>=$AS$11,Tabla4[[#This Row],[PASO DESC. UNIC.]]*$AU$11-$AV$11)))))))","v":0},{"$f":"Tabla4[[#This Row],[TOTAL AFP]]+Tabla4[[#This Row],[TOTAL SALUD]]+Tabla4[[#This Row],[TOTAL SEGURO CESANTIA]]+Tabla4[[#This Row],[TOTAL ADICIONAL]]+Tabla4[[#This Row],[VALOR IMP U.]]+Tabla4[[#This Row],[VALOR OTRO 2]]+Tabla4[[#This Row],[VALOR OTRO 1]]","v":0},null,{"$f":"IF($BP$8 = \"SI\",IF(Tabla4[[#This Row],[TIPO CONTRATO]]=\"Indefinido\",BDD!S134*2.4%,IF(Tabla4[[#This Row],[TIPO CONTRATO]]=\"PLAZO FIJO\",BDD!S134*3%,0)),0)","v":0},null,null,null,null,null,null,{"$f":"BDD!S134*Tabla4[[#This Row],[% SIS]]","v":0},null,null,{"$f":"BDD!S134*Tabla4[[#This Row],[%MUTUAL]]","v":0}]
[null,null,null,null,null,null,null,null,null,null,129,{"$f":"IF(BDD!J135=0,\" \",BDD!J135)","v":" "},null,null,{"$f":"IF(BDD!S135<_TOPEIMPONIBLE,BDD!S135*Tabla4[[#This Row],[%AFP]],_TOPEIMPONIBLE*Tabla4[[#This Row],[%AFP]])","v":0},null,null,{"$f":"IF(BDD!S135<_TOPEIMPONIBLE,BDD!S135*Tabla4[[#This Row],[%SALUD]],_TOPEIMPONIBLE*Tabla4[[#This Row],[%SALUD]])","v":0},null,null,{"$f":"BDD!S135*Tabla4[[#This Row],[%SEGURO]]","v":0},null,{"$f":"IF(Tabla4[[#This Row],[TOTAL UF]]-Tabla4[[#This Row],[TOTAL SALUD]]<=0,0,Tabla4[[#This Row],[TOTAL UF]]-Tabla4[[#This Row],[TOTAL SALUD]])","v":0},null,{"$f":"BDD!$N$4","v":37838.550000000003},{"$f":"Tabla4[[#This Row],[PACTO UF]]*Tabla4[[#This Row],[VALOR UF]]","v":0},"IMPUESTO UNICO",{"$f":"BDD!S135-Tabla4[[#This Row],[TOTAL AFP]]-Tabla4[[#This Row],[TOTAL SALUD]]-Tabla4[[#This Row],[TOTAL SEGURO CESANTIA]]-Tabla4[[#This Row],[TOTAL ADICIONAL]]","v":0},{"$f":"IF(Tabla4[[#This Row],[PASO DESC. UNIC.]]<=$AT$5,0,IF(Tabla4[[#This Row],[PASO DESC. UNIC.]]<=$AT$6,Tabla4[[#This Row],[PASO DESC. UNIC.]]*$AU$6-$AV$6,IF(Tabla4[[#This Row],[PASO DESC. UNIC.]]<=$AT$7,Tabla4[[#This Row],[PASO DESC. UNIC.]]*$AU$7-$AV$7,IF(Tabla4[[#This Row],[PASO DESC. UNIC.]]<=$AT$8,Tabla4[[#This Row],[PASO DESC. UNIC.]]*$AU$8-$AV$8,IF(Tabla4[[#This Row],[PASO DESC. UNIC.]]<=$AT$9,Tabla4[[#This Row],[PASO DESC. UNIC.]]*$AU$9-$AV$9,IF(Tabla4[[#This Row],[PASO DESC. UNIC.]]<=$AT$10,Tabla4[[#This Row],[PASO DESC. UNIC.]]*$AU$10-$AV$10,IF(Tabla4[[#This Row],[PASO DESC. UNIC.]]>=$AS$11,Tabla4[[#This Row],[PASO DESC. UNIC.]]*$AU$11-$AV$11)))))))","v":0},{"$f":"Tabla4[[#This Row],[TOTAL AFP]]+Tabla4[[#This Row],[TOTAL SALUD]]+Tabla4[[#This Row],[TOTAL SEGURO CESANTIA]]+Tabla4[[#This Row],[TOTAL ADICIONAL]]+Tabla4[[#This Row],[VALOR IMP U.]]+Tabla4[[#This Row],[VALOR OTRO 2]]+Tabla4[[#This Row],[VALOR OTRO 1]]","v":0},null,{"$f":"IF($BP$8 = \"SI\",IF(Tabla4[[#This Row],[TIPO CONTRATO]]=\"Indefinido\",BDD!S135*2.4%,IF(Tabla4[[#This Row],[TIPO CONTRATO]]=\"PLAZO FIJO\",BDD!S135*3%,0)),0)","v":0},null,null,null,null,null,null,{"$f":"BDD!S135*Tabla4[[#This Row],[% SIS]]","v":0},null,null,{"$f":"BDD!S135*Tabla4[[#This Row],[%MUTUAL]]","v":0}]
[null,null,null,null,null,null,null,null,null,null,130,{"$f":"IF(BDD!J136=0,\" \",BDD!J136)","v":" "},null,null,{"$f":"IF(BDD!S136<_TOPEIMPONIBLE,BDD!S136*Tabla4[[#This Row],[%AFP]],_TOPEIMPONIBLE*Tabla4[[#This Row],[%AFP]])","v":0},null,null,{"$f":"IF(BDD!S136<_TOPEIMPONIBLE,BDD!S136*Tabla4[[#This Row],[%SALUD]],_TOPEIMPONIBLE*Tabla4[[#This Row],[%SALUD]])","v":0},null,null,{"$f":"BDD!S136*Tabla4[[#This Row],[%SEGURO]]","v":0},null,{"$f":"IF(Tabla4[[#This Row],[TOTAL UF]]-Tabla4[[#This Row],[TOTAL SALUD]]<=0,0,Tabla4[[#This Row],[TOTAL UF]]-Tabla4[[#This Row],[TOTAL SALUD]])","v":0},null,{"$f":"BDD!$N$4","v":37838.550000000003},{"$f":"Tabla4[[#This Row],[PACTO UF]]*Tabla4[[#This Row],[VALOR UF]]","v":0},"IMPUESTO UNICO",{"$f":"BDD!S136-Tabla4[[#This Row],[TOTAL AFP]]-Tabla4[[#This Row],[TOTAL SALUD]]-Tabla4[[#This Row],[TOTAL SEGURO CESANTIA]]-Tabla4[[#This Row],[TOTAL ADICIONAL]]","v":0},{"$f":"IF(Tabla4[[#This Row],[PASO DESC. UNIC.]]<=$AT$5,0,IF(Tabla4[[#This Row],[PASO DESC. UNIC.]]<=$AT$6,Tabla4[[#This Row],[PASO DESC. UNIC.]]*$AU$6-$AV$6,IF(Tabla4[[#This Row],[PASO DESC. UNIC.]]<=$AT$7,Tabla4[[#This Row],[PASO DESC. UNIC.]]*$AU$7-$AV$7,IF(Tabla4[[#This Row],[PASO DESC. UNIC.]]<=$AT$8,Tabla4[[#This Row],[PASO DESC. UNIC.]]*$AU$8-$AV$8,IF(Tabla4[[#This Row],[PASO DESC. UNIC.]]<=$AT$9,Tabla4[[#This Row],[PASO DESC. UNIC.]]*$AU$9-$AV$9,IF(Tabla4[[#This Row],[PASO DESC. UNIC.]]<=$AT$10,Tabla4[[#This Row],[PASO DESC. UNIC.]]*$AU$10-$AV$10,IF(Tabla4[[#This Row],[PASO DESC. UNIC.]]>=$AS$11,Tabla4[[#This Row],[PASO DESC. UNIC.]]*$AU$11-$AV$11)))))))","v":0},{"$f":"Tabla4[[#This Row],[TOTAL AFP]]+Tabla4[[#This Row],[TOTAL SALUD]]+Tabla4[[#This Row],[TOTAL SEGURO CESANTIA]]+Tabla4[[#This Row],[TOTAL ADICIONAL]]+Tabla4[[#This Row],[VALOR IMP U.]]+Tabla4[[#This Row],[VALOR OTRO 2]]+Tabla4[[#This Row],[VALOR OTRO 1]]","v":0},null,{"$f":"IF($BP$8 = \"SI\",IF(Tabla4[[#This Row],[TIPO CONTRATO]]=\"Indefinido\",BDD!S136*2.4%,IF(Tabla4[[#This Row],[TIPO CONTRATO]]=\"PLAZO FIJO\",BDD!S136*3%,0)),0)","v":0},null,null,null,null,null,null,{"$f":"BDD!S136*Tabla4[[#This Row],[% SIS]]","v":0},null,null,{"$f":"BDD!S136*Tabla4[[#This Row],[%MUTUAL]]","v":0}]
[null,null,null,null,null,null,null,null,null,null,131,{"$f":"IF(BDD!J137=0,\" \",BDD!J137)","v":" "},null,null,{"$f":"IF(BDD!S137<_TOPEIMPONIBLE,BDD!S137*Tabla4[[#This Row],[%AFP]],_TOPEIMPONIBLE*Tabla4[[#This Row],[%AFP]])","v":0},null,null,{"$f":"IF(BDD!S137<_TOPEIMPONIBLE,BDD!S137*Tabla4[[#This Row],[%SALUD]],_TOPEIMPONIBLE*Tabla4[[#This Row],[%SALUD]])","v":0},null,null,{"$f":"BDD!S137*Tabla4[[#This Row],[%SEGURO]]","v":0},null,{"$f":"IF(Tabla4[[#This Row],[TOTAL UF]]-Tabla4[[#This Row],[TOTAL SALUD]]<=0,0,Tabla4[[#This Row],[TOTAL UF]]-Tabla4[[#This Row],[TOTAL SALUD]])","v":0},null,{"$f":"BDD!$N$4","v":37838.550000000003},{"$f":"Tabla4[[#This Row],[PACTO UF]]*Tabla4[[#This Row],[VALOR UF]]","v":0},"IMPUESTO UNICO",{"$f":"BDD!S137-Tabla4[[#This Row],[TOTAL AFP]]-Tabla4[[#This Row],[TOTAL SALUD]]-Tabla4[[#This Row],[TOTAL SEGURO CESANTIA]]-Tabla4[[#This Row],[TOTAL ADICIONAL]]","v":0},{"$f":"IF(Tabla4[[#This Row],[PASO DESC. UNIC.]]<=$AT$5,0,IF(Tabla4[[#This Row],[PASO DESC. UNIC.]]<=$AT$6,Tabla4[[#This Row],[PASO DESC. UNIC.]]*$AU$6-$AV$6,IF(Tabla4[[#This Row],[PASO DESC. UNIC.]]<=$AT$7,Tabla4[[#This Row],[PASO DESC. UNIC.]]*$AU$7-$AV$7,IF(Tabla4[[#This Row],[PASO DESC. UNIC.]]<=$AT$8,Tabla4[[#This Row],[PASO DESC. UNIC.]]*$AU$8-$AV$8,IF(Tabla4[[#This Row],[PASO DESC. UNIC.]]<=$AT$9,Tabla4[[#This Row],[PASO DESC. UNIC.]]*$AU$9-$AV$9,IF(Tabla4[[#This Row],[PASO DESC. UNIC.]]<=$AT$10,Tabla4[[#This Row],[PASO DESC. UNIC.]]*$AU$10-$AV$10,IF(Tabla4[[#This Row],[PASO DESC. UNIC.]]>=$AS$11,Tabla4[[#This Row],[PASO DESC. UNIC.]]*$AU$11-$AV$11)))))))","v":0},{"$f":"Tabla4[[#This Row],[TOTAL AFP]]+Tabla4[[#This Row],[TOTAL SALUD]]+Tabla4[[#This Row],[TOTAL SEGURO CESANTIA]]+Tabla4[[#This Row],[TOTAL ADICIONAL]]+Tabla4[[#This Row],[VALOR IMP U.]]+Tabla4[[#This Row],[VALOR OTRO 2]]+Tabla4[[#This Row],[VALOR OTRO 1]]","v":0},null,{"$f":"IF($BP$8 = \"SI\",IF(Tabla4[[#This Row],[TIPO CONTRATO]]=\"Indefinido\",BDD!S137*2.4%,IF(Tabla4[[#This Row],[TIPO CONTRATO]]=\"PLAZO FIJO\",BDD!S137*3%,0)),0)","v":0},null,null,null,null,null,null,{"$f":"BDD!S137*Tabla4[[#This Row],[% SIS]]","v":0},null,null,{"$f":"BDD!S137*Tabla4[[#This Row],[%MUTUAL]]","v":0}]
[null,null,null,null,null,null,null,null,null,null,132,{"$f":"IF(BDD!J138=0,\" \",BDD!J138)","v":" "},null,null,{"$f":"IF(BDD!S138<_TOPEIMPONIBLE,BDD!S138*Tabla4[[#This Row],[%AFP]],_TOPEIMPONIBLE*Tabla4[[#This Row],[%AFP]])","v":0},null,null,{"$f":"IF(BDD!S138<_TOPEIMPONIBLE,BDD!S138*Tabla4[[#This Row],[%SALUD]],_TOPEIMPONIBLE*Tabla4[[#This Row],[%SALUD]])","v":0},null,null,{"$f":"BDD!S138*Tabla4[[#This Row],[%SEGURO]]","v":0},null,{"$f":"IF(Tabla4[[#This Row],[TOTAL UF]]-Tabla4[[#This Row],[TOTAL SALUD]]<=0,0,Tabla4[[#This Row],[TOTAL UF]]-Tabla4[[#This Row],[TOTAL SALUD]])","v":0},null,{"$f":"BDD!$N$4","v":37838.550000000003},{"$f":"Tabla4[[#This Row],[PACTO UF]]*Tabla4[[#This Row],[VALOR UF]]","v":0},"IMPUESTO UNICO",{"$f":"BDD!S138-Tabla4[[#This Row],[TOTAL AFP]]-Tabla4[[#This Row],[TOTAL SALUD]]-Tabla4[[#This Row],[TOTAL SEGURO CESANTIA]]-Tabla4[[#This Row],[TOTAL ADICIONAL]]","v":0},{"$f":"IF(Tabla4[[#This Row],[PASO DESC. UNIC.]]<=$AT$5,0,IF(Tabla4[[#This Row],[PASO DESC. UNIC.]]<=$AT$6,Tabla4[[#This Row],[PASO DESC. UNIC.]]*$AU$6-$AV$6,IF(Tabla4[[#This Row],[PASO DESC. UNIC.]]<=$AT$7,Tabla4[[#This Row],[PASO DESC. UNIC.]]*$AU$7-$AV$7,IF(Tabla4[[#This Row],[PASO DESC. UNIC.]]<=$AT$8,Tabla4[[#This Row],[PASO DESC. UNIC.]]*$AU$8-$AV$8,IF(Tabla4[[#This Row],[PASO DESC. UNIC.]]<=$AT$9,Tabla4[[#This Row],[PASO DESC. UNIC.]]*$AU$9-$AV$9,IF(Tabla4[[#This Row],[PASO DESC. UNIC.]]<=$AT$10,Tabla4[[#This Row],[PASO DESC. UNIC.]]*$AU$10-$AV$10,IF(Tabla4[[#This Row],[PASO DESC. UNIC.]]>=$AS$11,Tabla4[[#This Row],[PASO DESC. UNIC.]]*$AU$11-$AV$11)))))))","v":0},{"$f":"Tabla4[[#This Row],[TOTAL AFP]]+Tabla4[[#This Row],[TOTAL SALUD]]+Tabla4[[#This Row],[TOTAL SEGURO CESANTIA]]+Tabla4[[#This Row],[TOTAL ADICIONAL]]+Tabla4[[#This Row],[VALOR IMP U.]]+Tabla4[[#This Row],[VALOR OTRO 2]]+Tabla4[[#This Row],[VALOR OTRO 1]]","v":0},null,{"$f":"IF($BP$8 = \"SI\",IF(Tabla4[[#This Row],[TIPO CONTRATO]]=\"Indefinido\",BDD!S138*2.4%,IF(Tabla4[[#This Row],[TIPO CONTRATO]]=\"PLAZO FIJO\",BDD!S138*3%,0)),0)","v":0},null,null,null,null,null,null,{"$f":"BDD!S138*Tabla4[[#This Row],[% SIS]]","v":0},null,null,{"$f":"BDD!S138*Tabla4[[#This Row],[%MUTUAL]]","v":0}]
[null,null,null,null,null,null,null,null,null,null,133,{"$f":"IF(BDD!J139=0,\" \",BDD!J139)","v":" "},null,null,{"$f":"IF(BDD!S139<_TOPEIMPONIBLE,BDD!S139*Tabla4[[#This Row],[%AFP]],_TOPEIMPONIBLE*Tabla4[[#This Row],[%AFP]])","v":0},null,null,{"$f":"IF(BDD!S139<_TOPEIMPONIBLE,BDD!S139*Tabla4[[#This Row],[%SALUD]],_TOPEIMPONIBLE*Tabla4[[#This Row],[%SALUD]])","v":0},null,null,{"$f":"BDD!S139*Tabla4[[#This Row],[%SEGURO]]","v":0},null,{"$f":"IF(Tabla4[[#This Row],[TOTAL UF]]-Tabla4[[#This Row],[TOTAL SALUD]]<=0,0,Tabla4[[#This Row],[TOTAL UF]]-Tabla4[[#This Row],[TOTAL SALUD]])","v":0},null,{"$f":"BDD!$N$4","v":37838.550000000003},{"$f":"Tabla4[[#This Row],[PACTO UF]]*Tabla4[[#This Row],[VALOR UF]]","v":0},"IMPUESTO UNICO",{"$f":"BDD!S139-Tabla4[[#This Row],[TOTAL AFP]]-Tabla4[[#This Row],[TOTAL SALUD]]-Tabla4[[#This Row],[TOTAL SEGURO CESANTIA]]-Tabla4[[#This Row],[TOTAL ADICIONAL]]","v":0},{"$f":"IF(Tabla4[[#This Row],[PASO DESC. UNIC.]]<=$AT$5,0,IF(Tabla4[[#This Row],[PASO DESC. UNIC.]]<=$AT$6,Tabla4[[#This Row],[PASO DESC. UNIC.]]*$AU$6-$AV$6,IF(Tabla4[[#This Row],[PASO DESC. UNIC.]]<=$AT$7,Tabla4[[#This Row],[PASO DESC. UNIC.]]*$AU$7-$AV$7,IF(Tabla4[[#This Row],[PASO DESC. UNIC.]]<=$AT$8,Tabla4[[#This Row],[PASO DESC. UNIC.]]*$AU$8-$AV$8,IF(Tabla4[[#This Row],[PASO DESC. UNIC.]]<=$AT$9,Tabla4[[#This Row],[PASO DESC. UNIC.]]*$AU$9-$AV$9,IF(Tabla4[[#This Row],[PASO DESC. UNIC.]]<=$AT$10,Tabla4[[#This Row],[PASO DESC. UNIC.]]*$AU$10-$AV$10,IF(Tabla4[[#This Row],[PASO DESC. UNIC.]]>=$AS$11,Tabla4[[#This Row],[PASO DESC. UNIC.]]*$AU$11-$AV$11)))))))","v":0},{"$f":"Tabla4[[#This Row],[TOTAL AFP]]+Tabla4[[#This Row],[TOTAL SALUD]]+Tabla4[[#This Row],[TOTAL SEGURO CESANTIA]]+Tabla4[[#This Row],[TOTAL ADICIONAL]]+Tabla4[[#This Row],[VALOR IMP U.]]+Tabla4[[#This Row],[VALOR OTRO 2]]+Tabla4[[#This Row],[VALOR OTRO 1]]","v":0},null,{"$f":"IF($BP$8 = \"SI\",IF(Tabla4[[#This Row],[TIPO CONTRATO]]=\"Indefinido\",BDD!S139*2.4%,IF(Tabla4[[#This Row],[TIPO CONTRATO]]=\"PLAZO FIJO\",BDD!S139*3%,0)),0)","v":0},null,null,null,null,null,null,{"$f":"BDD!S139*Tabla4[[#This Row],[% SIS]]","v":0},null,null,{"$f":"BDD!S139*Tabla4[[#This Row],[%MUTUAL]]","v":0}]
[null,null,null,null,null,null,null,null,null,null,134,{"$f":"IF(BDD!J140=0,\" \",BDD!J140)","v":" "},null,null,{"$f":"IF(BDD!S140<_TOPEIMPONIBLE,BDD!S140*Tabla4[[#This Row],[%AFP]],_TOPEIMPONIBLE*Tabla4[[#This Row],[%AFP]])","v":0},null,null,{"$f":"IF(BDD!S140<_TOPEIMPONIBLE,BDD!S140*Tabla4[[#This Row],[%SALUD]],_TOPEIMPONIBLE*Tabla4[[#This Row],[%SALUD]])","v":0},null,null,{"$f":"BDD!S140*Tabla4[[#This Row],[%SEGURO]]","v":0},null,{"$f":"IF(Tabla4[[#This Row],[TOTAL UF]]-Tabla4[[#This Row],[TOTAL SALUD]]<=0,0,Tabla4[[#This Row],[TOTAL UF]]-Tabla4[[#This Row],[TOTAL SALUD]])","v":0},null,{"$f":"BDD!$N$4","v":37838.550000000003},{"$f":"Tabla4[[#This Row],[PACTO UF]]*Tabla4[[#This Row],[VALOR UF]]","v":0},"IMPUESTO UNICO",{"$f":"BDD!S140-Tabla4[[#This Row],[TOTAL AFP]]-Tabla4[[#This Row],[TOTAL SALUD]]-Tabla4[[#This Row],[TOTAL SEGURO CESANTIA]]-Tabla4[[#This Row],[TOTAL ADICIONAL]]","v":0},{"$f":"IF(Tabla4[[#This Row],[PASO DESC. UNIC.]]<=$AT$5,0,IF(Tabla4[[#This Row],[PASO DESC. UNIC.]]<=$AT$6,Tabla4[[#This Row],[PASO DESC. UNIC.]]*$AU$6-$AV$6,IF(Tabla4[[#This Row],[PASO DESC. UNIC.]]<=$AT$7,Tabla4[[#This Row],[PASO DESC. UNIC.]]*$AU$7-$AV$7,IF(Tabla4[[#This Row],[PASO DESC. UNIC.]]<=$AT$8,Tabla4[[#This Row],[PASO DESC. UNIC.]]*$AU$8-$AV$8,IF(Tabla4[[#This Row],[PASO DESC. UNIC.]]<=$AT$9,Tabla4[[#This Row],[PASO DESC. UNIC.]]*$AU$9-$AV$9,IF(Tabla4[[#This Row],[PASO DESC. UNIC.]]<=$AT$10,Tabla4[[#This Row],[PASO DESC. UNIC.]]*$AU$10-$AV$10,IF(Tabla4[[#This Row],[PASO DESC. UNIC.]]>=$AS$11,Tabla4[[#This Row],[PASO DESC. UNIC.]]*$AU$11-$AV$11)))))))","v":0},{"$f":"Tabla4[[#This Row],[TOTAL AFP]]+Tabla4[[#This Row],[TOTAL SALUD]]+Tabla4[[#This Row],[TOTAL SEGURO CESANTIA]]+Tabla4[[#This Row],[TOTAL ADICIONAL]]+Tabla4[[#This Row],[VALOR IMP U.]]+Tabla4[[#This Row],[VALOR OTRO 2]]+Tabla4[[#This Row],[VALOR OTRO 1]]","v":0},null,{"$f":"IF($BP$8 = \"SI\",IF(Tabla4[[#This Row],[TIPO CONTRATO]]=\"Indefinido\",BDD!S140*2.4%,IF(Tabla4[[#This Row],[TIPO CONTRATO]]=\"PLAZO FIJO\",BDD!S140*3%,0)),0)","v":0},null,null,null,null,null,null,{"$f":"BDD!S140*Tabla4[[#This Row],[% SIS]]","v":0},null,null,{"$f":"BDD!S140*Tabla4[[#This Row],[%MUTUAL]]","v":0}]
[null,null,null,null,null,null,null,null,null,null,135,{"$f":"IF(BDD!J141=0,\" \",BDD!J141)","v":" "},null,null,{"$f":"IF(BDD!S141<_TOPEIMPONIBLE,BDD!S141*Tabla4[[#This Row],[%AFP]],_TOPEIMPONIBLE*Tabla4[[#This Row],[%AFP]])","v":0},null,null,{"$f":"IF(BDD!S141<_TOPEIMPONIBLE,BDD!S141*Tabla4[[#This Row],[%SALUD]],_TOPEIMPONIBLE*Tabla4[[#This Row],[%SALUD]])","v":0},null,null,{"$f":"BDD!S141*Tabla4[[#This Row],[%SEGURO]]","v":0},null,{"$f":"IF(Tabla4[[#This Row],[TOTAL UF]]-Tabla4[[#This Row],[TOTAL SALUD]]<=0,0,Tabla4[[#This Row],[TOTAL UF]]-Tabla4[[#This Row],[TOTAL SALUD]])","v":0},null,{"$f":"BDD!$N$4","v":37838.550000000003},{"$f":"Tabla4[[#This Row],[PACTO UF]]*Tabla4[[#This Row],[VALOR UF]]","v":0},"IMPUESTO UNICO",{"$f":"BDD!S141-Tabla4[[#This Row],[TOTAL AFP]]-Tabla4[[#This Row],[TOTAL SALUD]]-Tabla4[[#This Row],[TOTAL SEGURO CESANTIA]]-Tabla4[[#This Row],[TOTAL ADICIONAL]]","v":0},{"$f":"IF(Tabla4[[#This Row],[PASO DESC. UNIC.]]<=$AT$5,0,IF(Tabla4[[#This Row],[PASO DESC. UNIC.]]<=$AT$6,Tabla4[[#This Row],[PASO DESC. UNIC.]]*$AU$6-$AV$6,IF(Tabla4[[#This Row],[PASO DESC. UNIC.]]<=$AT$7,Tabla4[[#This Row],[PASO DESC. UNIC.]]*$AU$7-$AV$7,IF(Tabla4[[#This Row],[PASO DESC. UNIC.]]<=$AT$8,Tabla4[[#This Row],[PASO DESC. UNIC.]]*$AU$8-$AV$8,IF(Tabla4[[#This Row],[PASO DESC. UNIC.]]<=$AT$9,Tabla4[[#This Row],[PASO DESC. UNIC.]]*$AU$9-$AV$9,IF(Tabla4[[#This Row],[PASO DESC. UNIC.]]<=$AT$10,Tabla4[[#This Row],[PASO DESC. UNIC.]]*$AU$10-$AV$10,IF(Tabla4[[#This Row],[PASO DESC. UNIC.]]>=$AS$11,Tabla4[[#This Row],[PASO DESC. UNIC.]]*$AU$11-$AV$11)))))))","v":0},{"$f":"Tabla4[[#This Row],[TOTAL AFP]]+Tabla4[[#This Row],[TOTAL SALUD]]+Tabla4[[#This Row],[TOTAL SEGURO CESANTIA]]+Tabla4[[#This Row],[TOTAL ADICIONAL]]+Tabla4[[#This Row],[VALOR IMP U.]]+Tabla4[[#This Row],[VALOR OTRO 2]]+Tabla4[[#This Row],[VALOR OTRO 1]]","v":0},null,{"$f":"IF($BP$8 = \"SI\",IF(Tabla4[[#This Row],[TIPO CONTRATO]]=\"Indefinido\",BDD!S141*2.4%,IF(Tabla4[[#This Row],[TIPO CONTRATO]]=\"PLAZO FIJO\",BDD!S141*3%,0)),0)","v":0},null,null,null,null,null,null,{"$f":"BDD!S141*Tabla4[[#This Row],[% SIS]]","v":0},null,null,{"$f":"BDD!S141*Tabla4[[#This Row],[%MUTUAL]]","v":0}]
[null,null,null,null,null,null,null,null,null,null,136,{"$f":"IF(BDD!J142=0,\" \",BDD!J142)","v":" "},null,null,{"$f":"IF(BDD!S142<_TOPEIMPONIBLE,BDD!S142*Tabla4[[#This Row],[%AFP]],_TOPEIMPONIBLE*Tabla4[[#This Row],[%AFP]])","v":0},null,null,{"$f":"IF(BDD!S142<_TOPEIMPONIBLE,BDD!S142*Tabla4[[#This Row],[%SALUD]],_TOPEIMPONIBLE*Tabla4[[#This Row],[%SALUD]])","v":0},null,null,{"$f":"BDD!S142*Tabla4[[#This Row],[%SEGURO]]","v":0},null,{"$f":"IF(Tabla4[[#This Row],[TOTAL UF]]-Tabla4[[#This Row],[TOTAL SALUD]]<=0,0,Tabla4[[#This Row],[TOTAL UF]]-Tabla4[[#This Row],[TOTAL SALUD]])","v":0},null,{"$f":"BDD!$N$4","v":37838.550000000003},{"$f":"Tabla4[[#This Row],[PACTO UF]]*Tabla4[[#This Row],[VALOR UF]]","v":0},"IMPUESTO UNICO",{"$f":"BDD!S142-Tabla4[[#This Row],[TOTAL AFP]]-Tabla4[[#This Row],[TOTAL SALUD]]-Tabla4[[#This Row],[TOTAL SEGURO CESANTIA]]-Tabla4[[#This Row],[TOTAL ADICIONAL]]","v":0},{"$f":"IF(Tabla4[[#This Row],[PASO DESC. UNIC.]]<=$AT$5,0,IF(Tabla4[[#This Row],[PASO DESC. UNIC.]]<=$AT$6,Tabla4[[#This Row],[PASO DESC. UNIC.]]*$AU$6-$AV$6,IF(Tabla4[[#This Row],[PASO DESC. UNIC.]]<=$AT$7,Tabla4[[#This Row],[PASO DESC. UNIC.]]*$AU$7-$AV$7,IF(Tabla4[[#This Row],[PASO DESC. UNIC.]]<=$AT$8,Tabla4[[#This Row],[PASO DESC. UNIC.]]*$AU$8-$AV$8,IF(Tabla4[[#This Row],[PASO DESC. UNIC.]]<=$AT$9,Tabla4[[#This Row],[PASO DESC. UNIC.]]*$AU$9-$AV$9,IF(Tabla4[[#This Row],[PASO DESC. UNIC.]]<=$AT$10,Tabla4[[#This Row],[PASO DESC. UNIC.]]*$AU$10-$AV$10,IF(Tabla4[[#This Row],[PASO DESC. UNIC.]]>=$AS$11,Tabla4[[#This Row],[PASO DESC. UNIC.]]*$AU$11-$AV$11)))))))","v":0},{"$f":"Tabla4[[#This Row],[TOTAL AFP]]+Tabla4[[#This Row],[TOTAL SALUD]]+Tabla4[[#This Row],[TOTAL SEGURO CESANTIA]]+Tabla4[[#This Row],[TOTAL ADICIONAL]]+Tabla4[[#This Row],[VALOR IMP U.]]+Tabla4[[#This Row],[VALOR OTRO 2]]+Tabla4[[#This Row],[VALOR OTRO 1]]","v":0},null,{"$f":"IF($BP$8 = \"SI\",IF(Tabla4[[#This Row],[TIPO CONTRATO]]=\"Indefinido\",BDD!S142*2.4%,IF(Tabla4[[#This Row],[TIPO CONTRATO]]=\"PLAZO FIJO\",BDD!S142*3%,0)),0)","v":0},null,null,null,null,null,null,{"$f":"BDD!S142*Tabla4[[#This Row],[% SIS]]","v":0},null,null,{"$f":"BDD!S142*Tabla4[[#This Row],[%MUTUAL]]","v":0}]
[null,null,null,null,null,null,null,null,null,null,137,{"$f":"IF(BDD!J143=0,\" \",BDD!J143)","v":" "},null,null,{"$f":"IF(BDD!S143<_TOPEIMPONIBLE,BDD!S143*Tabla4[[#This Row],[%AFP]],_TOPEIMPONIBLE*Tabla4[[#This Row],[%AFP]])","v":0},null,null,{"$f":"IF(BDD!S143<_TOPEIMPONIBLE,BDD!S143*Tabla4[[#This Row],[%SALUD]],_TOPEIMPONIBLE*Tabla4[[#This Row],[%SALUD]])","v":0},null,null,{"$f":"BDD!S143*Tabla4[[#This Row],[%SEGURO]]","v":0},null,{"$f":"IF(Tabla4[[#This Row],[TOTAL UF]]-Tabla4[[#This Row],[TOTAL SALUD]]<=0,0,Tabla4[[#This Row],[TOTAL UF]]-Tabla4[[#This Row],[TOTAL SALUD]])","v":0},null,{"$f":"BDD!$N$4","v":37838.550000000003},{"$f":"Tabla4[[#This Row],[PACTO UF]]*Tabla4[[#This Row],[VALOR UF]]","v":0},"IMPUESTO UNICO",{"$f":"BDD!S143-Tabla4[[#This Row],[TOTAL AFP]]-Tabla4[[#This Row],[TOTAL SALUD]]-Tabla4[[#This Row],[TOTAL SEGURO CESANTIA]]-Tabla4[[#This Row],[TOTAL ADICIONAL]]","v":0},{"$f":"IF(Tabla4[[#This Row],[PASO DESC. UNIC.]]<=$AT$5,0,IF(Tabla4[[#This Row],[PASO DESC. UNIC.]]<=$AT$6,Tabla4[[#This Row],[PASO DESC. UNIC.]]*$AU$6-$AV$6,IF(Tabla4[[#This Row],[PASO DESC. UNIC.]]<=$AT$7,Tabla4[[#This Row],[PASO DESC. UNIC.]]*$AU$7-$AV$7,IF(Tabla4[[#This Row],[PASO DESC. UNIC.]]<=$AT$8,Tabla4[[#This Row],[PASO DESC. UNIC.]]*$AU$8-$AV$8,IF(Tabla4[[#This Row],[PASO DESC. UNIC.]]<=$AT$9,Tabla4[[#This Row],[PASO DESC. UNIC.]]*$AU$9-$AV$9,IF(Tabla4[[#This Row],[PASO DESC. UNIC.]]<=$AT$10,Tabla4[[#This Row],[PASO DESC. UNIC.]]*$AU$10-$AV$10,IF(Tabla4[[#This Row],[PASO DESC. UNIC.]]>=$AS$11,Tabla4[[#This Row],[PASO DESC. UNIC.]]*$AU$11-$AV$11)))))))","v":0},{"$f":"Tabla4[[#This Row],[TOTAL AFP]]+Tabla4[[#This Row],[TOTAL SALUD]]+Tabla4[[#This Row],[TOTAL SEGURO CESANTIA]]+Tabla4[[#This Row],[TOTAL ADICIONAL]]+Tabla4[[#This Row],[VALOR IMP U.]]+Tabla4[[#This Row],[VALOR OTRO 2]]+Tabla4[[#This Row],[VALOR OTRO 1]]","v":0},null,{"$f":"IF($BP$8 = \"SI\",IF(Tabla4[[#This Row],[TIPO CONTRATO]]=\"Indefinido\",BDD!S143*2.4%,IF(Tabla4[[#This Row],[TIPO CONTRATO]]=\"PLAZO FIJO\",BDD!S143*3%,0)),0)","v":0},null,null,null,null,null,null,{"$f":"BDD!S143*Tabla4[[#This Row],[% SIS]]","v":0},null,null,{"$f":"BDD!S143*Tabla4[[#This Row],[%MUTUAL]]","v":0}]
[null,null,null,null,null,null,null,null,null,null,138,{"$f":"IF(BDD!J144=0,\" \",BDD!J144)","v":" "},null,null,{"$f":"IF(BDD!S144<_TOPEIMPONIBLE,BDD!S144*Tabla4[[#This Row],[%AFP]],_TOPEIMPONIBLE*Tabla4[[#This Row],[%AFP]])","v":0},null,null,{"$f":"IF(BDD!S144<_TOPEIMPONIBLE,BDD!S144*Tabla4[[#This Row],[%SALUD]],_TOPEIMPONIBLE*Tabla4[[#This Row],[%SALUD]])","v":0},null,null,{"$f":"BDD!S144*Tabla4[[#This Row],[%SEGURO]]","v":0},null,{"$f":"IF(Tabla4[[#This Row],[TOTAL UF]]-Tabla4[[#This Row],[TOTAL SALUD]]<=0,0,Tabla4[[#This Row],[TOTAL UF]]-Tabla4[[#This Row],[TOTAL SALUD]])","v":0},null,{"$f":"BDD!$N$4","v":37838.550000000003},{"$f":"Tabla4[[#This Row],[PACTO UF]]*Tabla4[[#This Row],[VALOR UF]]","v":0},"IMPUESTO UNICO",{"$f":"BDD!S144-Tabla4[[#This Row],[TOTAL AFP]]-Tabla4[[#This Row],[TOTAL SALUD]]-Tabla4[[#This Row],[TOTAL SEGURO CESANTIA]]-Tabla4[[#This Row],[TOTAL ADICIONAL]]","v":0},{"$f":"IF(Tabla4[[#This Row],[PASO DESC. UNIC.]]<=$AT$5,0,IF(Tabla4[[#This Row],[PASO DESC. UNIC.]]<=$AT$6,Tabla4[[#This Row],[PASO DESC. UNIC.]]*$AU$6-$AV$6,IF(Tabla4[[#This Row],[PASO DESC. UNIC.]]<=$AT$7,Tabla4[[#This Row],[PASO DESC. UNIC.]]*$AU$7-$AV$7,IF(Tabla4[[#This Row],[PASO DESC. UNIC.]]<=$AT$8,Tabla4[[#This Row],[PASO DESC. UNIC.]]*$AU$8-$AV$8,IF(Tabla4[[#This Row],[PASO DESC. UNIC.]]<=$AT$9,Tabla4[[#This Row],[PASO DESC. UNIC.]]*$AU$9-$AV$9,IF(Tabla4[[#This Row],[PASO DESC. UNIC.]]<=$AT$10,Tabla4[[#This Row],[PASO DESC. UNIC.]]*$AU$10-$AV$10,IF(Tabla4[[#This Row],[PASO DESC. UNIC.]]>=$AS$11,Tabla4[[#This Row],[PASO DESC. UNIC.]]*$AU$11-$AV$11)))))))","v":0},{"$f":"Tabla4[[#This Row],[TOTAL AFP]]+Tabla4[[#This Row],[TOTAL SALUD]]+Tabla4[[#This Row],[TOTAL SEGURO CESANTIA]]+Tabla4[[#This Row],[TOTAL ADICIONAL]]+Tabla4[[#This Row],[VALOR IMP U.]]+Tabla4[[#This Row],[VALOR OTRO 2]]+Tabla4[[#This Row],[VALOR OTRO 1]]","v":0},null,{"$f":"IF($BP$8 = \"SI\",IF(Tabla4[[#This Row],[TIPO CONTRATO]]=\"Indefinido\",BDD!S144*2.4%,IF(Tabla4[[#This Row],[TIPO CONTRATO]]=\"PLAZO FIJO\",BDD!S144*3%,0)),0)","v":0},null,null,null,null,null,null,{"$f":"BDD!S144*Tabla4[[#This Row],[% SIS]]","v":0},null,null,{"$f":"BDD!S144*Tabla4[[#This Row],[%MUTUAL]]","v":0}]
[null,null,null,null,null,null,null,null,null,null,139,{"$f":"IF(BDD!J145=0,\" \",BDD!J145)","v":" "},null,null,{"$f":"IF(BDD!S145<_TOPEIMPONIBLE,BDD!S145*Tabla4[[#This Row],[%AFP]],_TOPEIMPONIBLE*Tabla4[[#This Row],[%AFP]])","v":0},null,null,{"$f":"IF(BDD!S145<_TOPEIMPONIBLE,BDD!S145*Tabla4[[#This Row],[%SALUD]],_TOPEIMPONIBLE*Tabla4[[#This Row],[%SALUD]])","v":0},null,null,{"$f":"BDD!S145*Tabla4[[#This Row],[%SEGURO]]","v":0},null,{"$f":"IF(Tabla4[[#This Row],[TOTAL UF]]-Tabla4[[#This Row],[TOTAL SALUD]]<=0,0,Tabla4[[#This Row],[TOTAL UF]]-Tabla4[[#This Row],[TOTAL SALUD]])","v":0},null,{"$f":"BDD!$N$4","v":37838.550000000003},{"$f":"Tabla4[[#This Row],[PACTO UF]]*Tabla4[[#This Row],[VALOR UF]]","v":0},"IMPUESTO UNICO",{"$f":"BDD!S145-Tabla4[[#This Row],[TOTAL AFP]]-Tabla4[[#This Row],[TOTAL SALUD]]-Tabla4[[#This Row],[TOTAL SEGURO CESANTIA]]-Tabla4[[#This Row],[TOTAL ADICIONAL]]","v":0},{"$f":"IF(Tabla4[[#This Row],[PASO DESC. UNIC.]]<=$AT$5,0,IF(Tabla4[[#This Row],[PASO DESC. UNIC.]]<=$AT$6,Tabla4[[#This Row],[PASO DESC. UNIC.]]*$AU$6-$AV$6,IF(Tabla4[[#This Row],[PASO DESC. UNIC.]]<=$AT$7,Tabla4[[#This Row],[PASO DESC. UNIC.]]*$AU$7-$AV$7,IF(Tabla4[[#This Row],[PASO DESC. UNIC.]]<=$AT$8,Tabla4[[#This Row],[PASO DESC. UNIC.]]*$AU$8-$AV$8,IF(Tabla4[[#This Row],[PASO DESC. UNIC.]]<=$AT$9,Tabla4[[#This Row],[PASO DESC. UNIC.]]*$AU$9-$AV$9,IF(Tabla4[[#This Row],[PASO DESC. UNIC.]]<=$AT$10,Tabla4[[#This Row],[PASO DESC. UNIC.]]*$AU$10-$AV$10,IF(Tabla4[[#This Row],[PASO DESC. UNIC.]]>=$AS$11,Tabla4[[#This Row],[PASO DESC. UNIC.]]*$AU$11-$AV$11)))))))","v":0},{"$f":"Tabla4[[#This Row],[TOTAL AFP]]+Tabla4[[#This Row],[TOTAL SALUD]]+Tabla4[[#This Row],[TOTAL SEGURO CESANTIA]]+Tabla4[[#This Row],[TOTAL ADICIONAL]]+Tabla4[[#This Row],[VALOR IMP U.]]+Tabla4[[#This Row],[VALOR OTRO 2]]+Tabla4[[#This Row],[VALOR OTRO 1]]","v":0},null,{"$f":"IF($BP$8 = \"SI\",IF(Tabla4[[#This Row],[TIPO CONTRATO]]=\"Indefinido\",BDD!S145*2.4%,IF(Tabla4[[#This Row],[TIPO CONTRATO]]=\"PLAZO FIJO\",BDD!S145*3%,0)),0)","v":0},null,null,null,null,null,null,{"$f":"BDD!S145*Tabla4[[#This Row],[% SIS]]","v":0},null,null,{"$f":"BDD!S145*Tabla4[[#This Row],[%MUTUAL]]","v":0}]
[null,null,null,null,null,null,null,null,null,null,140,{"$f":"IF(BDD!J146=0,\" \",BDD!J146)","v":" "},null,null,{"$f":"IF(BDD!S146<_TOPEIMPONIBLE,BDD!S146*Tabla4[[#This Row],[%AFP]],_TOPEIMPONIBLE*Tabla4[[#This Row],[%AFP]])","v":0},null,null,{"$f":"IF(BDD!S146<_TOPEIMPONIBLE,BDD!S146*Tabla4[[#This Row],[%SALUD]],_TOPEIMPONIBLE*Tabla4[[#This Row],[%SALUD]])","v":0},null,null,{"$f":"BDD!S146*Tabla4[[#This Row],[%SEGURO]]","v":0},null,{"$f":"IF(Tabla4[[#This Row],[TOTAL UF]]-Tabla4[[#This Row],[TOTAL SALUD]]<=0,0,Tabla4[[#This Row],[TOTAL UF]]-Tabla4[[#This Row],[TOTAL SALUD]])","v":0},null,{"$f":"BDD!$N$4","v":37838.550000000003},{"$f":"Tabla4[[#This Row],[PACTO UF]]*Tabla4[[#This Row],[VALOR UF]]","v":0},"IMPUESTO UNICO",{"$f":"BDD!S146-Tabla4[[#This Row],[TOTAL AFP]]-Tabla4[[#This Row],[TOTAL SALUD]]-Tabla4[[#This Row],[TOTAL SEGURO CESANTIA]]-Tabla4[[#This Row],[TOTAL ADICIONAL]]","v":0},{"$f":"IF(Tabla4[[#This Row],[PASO DESC. UNIC.]]<=$AT$5,0,IF(Tabla4[[#This Row],[PASO DESC. UNIC.]]<=$AT$6,Tabla4[[#This Row],[PASO DESC. UNIC.]]*$AU$6-$AV$6,IF(Tabla4[[#This Row],[PASO DESC. UNIC.]]<=$AT$7,Tabla4[[#This Row],[PASO DESC. UNIC.]]*$AU$7-$AV$7,IF(Tabla4[[#This Row],[PASO DESC. UNIC.]]<=$AT$8,Tabla4[[#This Row],[PASO DESC. UNIC.]]*$AU$8-$AV$8,IF(Tabla4[[#This Row],[PASO DESC. UNIC.]]<=$AT$9,Tabla4[[#This Row],[PASO DESC. UNIC.]]*$AU$9-$AV$9,IF(Tabla4[[#This Row],[PASO DESC. UNIC.]]<=$AT$10,Tabla4[[#This Row],[PASO DESC. UNIC.]]*$AU$10-$AV$10,IF(Tabla4[[#This Row],[PASO DESC. UNIC.]]>=$AS$11,Tabla4[[#This Row],[PASO DESC. UNIC.]]*$AU$11-$AV$11)))))))","v":0},{"$f":"Tabla4[[#This Row],[TOTAL AFP]]+Tabla4[[#This Row],[TOTAL SALUD]]+Tabla4[[#This Row],[TOTAL SEGURO CESANTIA]]+Tabla4[[#This Row],[TOTAL ADICIONAL]]+Tabla4[[#This Row],[VALOR IMP U.]]+Tabla4[[#This Row],[VALOR OTRO 2]]+Tabla4[[#This Row],[VALOR OTRO 1]]","v":0},null,{"$f":"IF($BP$8 = \"SI\",IF(Tabla4[[#This Row],[TIPO CONTRATO]]=\"Indefinido\",BDD!S146*2.4%,IF(Tabla4[[#This Row],[TIPO CONTRATO]]=\"PLAZO FIJO\",BDD!S146*3%,0)),0)","v":0},null,null,null,null,null,null,{"$f":"BDD!S146*Tabla4[[#This Row],[% SIS]]","v":0},null,null,{"$f":"BDD!S146*Tabla4[[#This Row],[%MUTUAL]]","v":0}]
[null,null,null,null,null,null,null,null,null,null,141,{"$f":"IF(BDD!J147=0,\" \",BDD!J147)","v":" "},null,null,{"$f":"IF(BDD!S147<_TOPEIMPONIBLE,BDD!S147*Tabla4[[#This Row],[%AFP]],_TOPEIMPONIBLE*Tabla4[[#This Row],[%AFP]])","v":0},null,null,{"$f":"IF(BDD!S147<_TOPEIMPONIBLE,BDD!S147*Tabla4[[#This Row],[%SALUD]],_TOPEIMPONIBLE*Tabla4[[#This Row],[%SALUD]])","v":0},null,null,{"$f":"BDD!S147*Tabla4[[#This Row],[%SEGURO]]","v":0},null,{"$f":"IF(Tabla4[[#This Row],[TOTAL UF]]-Tabla4[[#This Row],[TOTAL SALUD]]<=0,0,Tabla4[[#This Row],[TOTAL UF]]-Tabla4[[#This Row],[TOTAL SALUD]])","v":0},null,{"$f":"BDD!$N$4","v":37838.550000000003},{"$f":"Tabla4[[#This Row],[PACTO UF]]*Tabla4[[#This Row],[VALOR UF]]","v":0},"IMPUESTO UNICO",{"$f":"BDD!S147-Tabla4[[#This Row],[TOTAL AFP]]-Tabla4[[#This Row],[TOTAL SALUD]]-Tabla4[[#This Row],[TOTAL SEGURO CESANTIA]]-Tabla4[[#This Row],[TOTAL ADICIONAL]]","v":0},{"$f":"IF(Tabla4[[#This Row],[PASO DESC. UNIC.]]<=$AT$5,0,IF(Tabla4[[#This Row],[PASO DESC. UNIC.]]<=$AT$6,Tabla4[[#This Row],[PASO DESC. UNIC.]]*$AU$6-$AV$6,IF(Tabla4[[#This Row],[PASO DESC. UNIC.]]<=$AT$7,Tabla4[[#This Row],[PASO DESC. UNIC.]]*$AU$7-$AV$7,IF(Tabla4[[#This Row],[PASO DESC. UNIC.]]<=$AT$8,Tabla4[[#This Row],[PASO DESC. UNIC.]]*$AU$8-$AV$8,IF(Tabla4[[#This Row],[PASO DESC. UNIC.]]<=$AT$9,Tabla4[[#This Row],[PASO DESC. UNIC.]]*$AU$9-$AV$9,IF(Tabla4[[#This Row],[PASO DESC. UNIC.]]<=$AT$10,Tabla4[[#This Row],[PASO DESC. UNIC.]]*$AU$10-$AV$10,IF(Tabla4[[#This Row],[PASO DESC. UNIC.]]>=$AS$11,Tabla4[[#This Row],[PASO DESC. UNIC.]]*$AU$11-$AV$11)))))))","v":0},{"$f":"Tabla4[[#This Row],[TOTAL AFP]]+Tabla4[[#This Row],[TOTAL SALUD]]+Tabla4[[#This Row],[TOTAL SEGURO CESANTIA]]+Tabla4[[#This Row],[TOTAL ADICIONAL]]+Tabla4[[#This Row],[VALOR IMP U.]]+Tabla4[[#This Row],[VALOR OTRO 2]]+Tabla4[[#This Row],[VALOR OTRO 1]]","v":0},null,{"$f":"IF($BP$8 = \"SI\",IF(Tabla4[[#This Row],[TIPO CONTRATO]]=\"Indefinido\",BDD!S147*2.4%,IF(Tabla4[[#This Row],[TIPO CONTRATO]]=\"PLAZO FIJO\",BDD!S147*3%,0)),0)","v":0},null,null,null,null,null,null,{"$f":"BDD!S147*Tabla4[[#This Row],[% SIS]]","v":0},null,null,{"$f":"BDD!S147*Tabla4[[#This Row],[%MUTUAL]]","v":0}]
[null,null,null,null,null,null,null,null,null,null,142,{"$f":"IF(BDD!J148=0,\" \",BDD!J148)","v":" "},null,null,{"$f":"IF(BDD!S148<_TOPEIMPONIBLE,BDD!S148*Tabla4[[#This Row],[%AFP]],_TOPEIMPONIBLE*Tabla4[[#This Row],[%AFP]])","v":0},null,null,{"$f":"IF(BDD!S148<_TOPEIMPONIBLE,BDD!S148*Tabla4[[#This Row],[%SALUD]],_TOPEIMPONIBLE*Tabla4[[#This Row],[%SALUD]])","v":0},null,null,{"$f":"BDD!S148*Tabla4[[#This Row],[%SEGURO]]","v":0},null,{"$f":"IF(Tabla4[[#This Row],[TOTAL UF]]-Tabla4[[#This Row],[TOTAL SALUD]]<=0,0,Tabla4[[#This Row],[TOTAL UF]]-Tabla4[[#This Row],[TOTAL SALUD]])","v":0},null,{"$f":"BDD!$N$4","v":37838.550000000003},{"$f":"Tabla4[[#This Row],[PACTO UF]]*Tabla4[[#This Row],[VALOR UF]]","v":0},"IMPUESTO UNICO",{"$f":"BDD!S148-Tabla4[[#This Row],[TOTAL AFP]]-Tabla4[[#This Row],[TOTAL SALUD]]-Tabla4[[#This Row],[TOTAL SEGURO CESANTIA]]-Tabla4[[#This Row],[TOTAL ADICIONAL]]","v":0},{"$f":"IF(Tabla4[[#This Row],[PASO DESC. UNIC.]]<=$AT$5,0,IF(Tabla4[[#This Row],[PASO DESC. UNIC.]]<=$AT$6,Tabla4[[#This Row],[PASO DESC. UNIC.]]*$AU$6-$AV$6,IF(Tabla4[[#This Row],[PASO DESC. UNIC.]]<=$AT$7,Tabla4[[#This Row],[PASO DESC. UNIC.]]*$AU$7-$AV$7,IF(Tabla4[[#This Row],[PASO DESC. UNIC.]]<=$AT$8,Tabla4[[#This Row],[PASO DESC. UNIC.]]*$AU$8-$AV$8,IF(Tabla4[[#This Row],[PASO DESC. UNIC.]]<=$AT$9,Tabla4[[#This Row],[PASO DESC. UNIC.]]*$AU$9-$AV$9,IF(Tabla4[[#This Row],[PASO DESC. UNIC.]]<=$AT$10,Tabla4[[#This Row],[PASO DESC. UNIC.]]*$AU$10-$AV$10,IF(Tabla4[[#This Row],[PASO DESC. UNIC.]]>=$AS$11,Tabla4[[#This Row],[PASO DESC. UNIC.]]*$AU$11-$AV$11)))))))","v":0},{"$f":"Tabla4[[#This Row],[TOTAL AFP]]+Tabla4[[#This Row],[TOTAL SALUD]]+Tabla4[[#This Row],[TOTAL SEGURO CESANTIA]]+Tabla4[[#This Row],[TOTAL ADICIONAL]]+Tabla4[[#This Row],[VALOR IMP U.]]+Tabla4[[#This Row],[VALOR OTRO 2]]+Tabla4[[#This Row],[VALOR OTRO 1]]","v":0},null,{"$f":"IF($BP$8 = \"SI\",IF(Tabla4[[#This Row],[TIPO CONTRATO]]=\"Indefinido\",BDD!S148*2.4%,IF(Tabla4[[#This Row],[TIPO CONTRATO]]=\"PLAZO FIJO\",BDD!S148*3%,0)),0)","v":0},null,null,null,null,null,null,{"$f":"BDD!S148*Tabla4[[#This Row],[% SIS]]","v":0},null,null,{"$f":"BDD!S148*Tabla4[[#This Row],[%MUTUAL]]","v":0}]
[null,null,null,null,null,null,null,null,null,null,143,{"$f":"IF(BDD!J149=0,\" \",BDD!J149)","v":" "},null,null,{"$f":"IF(BDD!S149<_TOPEIMPONIBLE,BDD!S149*Tabla4[[#This Row],[%AFP]],_TOPEIMPONIBLE*Tabla4[[#This Row],[%AFP]])","v":0},null,null,{"$f":"IF(BDD!S149<_TOPEIMPONIBLE,BDD!S149*Tabla4[[#This Row],[%SALUD]],_TOPEIMPONIBLE*Tabla4[[#This Row],[%SALUD]])","v":0},null,null,{"$f":"BDD!S149*Tabla4[[#This Row],[%SEGURO]]","v":0},null,{"$f":"IF(Tabla4[[#This Row],[TOTAL UF]]-Tabla4[[#This Row],[TOTAL SALUD]]<=0,0,Tabla4[[#This Row],[TOTAL UF]]-Tabla4[[#This Row],[TOTAL SALUD]])","v":0},null,{"$f":"BDD!$N$4","v":37838.550000000003},{"$f":"Tabla4[[#This Row],[PACTO UF]]*Tabla4[[#This Row],[VALOR UF]]","v":0},"IMPUESTO UNICO",{"$f":"BDD!S149-Tabla4[[#This Row],[TOTAL AFP]]-Tabla4[[#This Row],[TOTAL SALUD]]-Tabla4[[#This Row],[TOTAL SEGURO CESANTIA]]-Tabla4[[#This Row],[TOTAL ADICIONAL]]","v":0},{"$f":"IF(Tabla4[[#This Row],[PASO DESC. UNIC.]]<=$AT$5,0,IF(Tabla4[[#This Row],[PASO DESC. UNIC.]]<=$AT$6,Tabla4[[#This Row],[PASO DESC. UNIC.]]*$AU$6-$AV$6,IF(Tabla4[[#This Row],[PASO DESC. UNIC.]]<=$AT$7,Tabla4[[#This Row],[PASO DESC. UNIC.]]*$AU$7-$AV$7,IF(Tabla4[[#This Row],[PASO DESC. UNIC.]]<=$AT$8,Tabla4[[#This Row],[PASO DESC. UNIC.]]*$AU$8-$AV$8,IF(Tabla4[[#This Row],[PASO DESC. UNIC.]]<=$AT$9,Tabla4[[#This Row],[PASO DESC. UNIC.]]*$AU$9-$AV$9,IF(Tabla4[[#This Row],[PASO DESC. UNIC.]]<=$AT$10,Tabla4[[#This Row],[PASO DESC. UNIC.]]*$AU$10-$AV$10,IF(Tabla4[[#This Row],[PASO DESC. UNIC.]]>=$AS$11,Tabla4[[#This Row],[PASO DESC. UNIC.]]*$AU$11-$AV$11)))))))","v":0},{"$f":"Tabla4[[#This Row],[TOTAL AFP]]+Tabla4[[#This Row],[TOTAL SALUD]]+Tabla4[[#This Row],[TOTAL SEGURO CESANTIA]]+Tabla4[[#This Row],[TOTAL ADICIONAL]]+Tabla4[[#This Row],[VALOR IMP U.]]+Tabla4[[#This Row],[VALOR OTRO 2]]+Tabla4[[#This Row],[VALOR OTRO 1]]","v":0},null,{"$f":"IF($BP$8 = \"SI\",IF(Tabla4[[#This Row],[TIPO CONTRATO]]=\"Indefinido\",BDD!S149*2.4%,IF(Tabla4[[#This Row],[TIPO CONTRATO]]=\"PLAZO FIJO\",BDD!S149*3%,0)),0)","v":0},null,null,null,null,null,null,{"$f":"BDD!S149*Tabla4[[#This Row],[% SIS]]","v":0},null,null,{"$f":"BDD!S149*Tabla4[[#This Row],[%MUTUAL]]","v":0}]
[null,null,null,null,null,null,null,null,null,null,144,{"$f":"IF(BDD!J150=0,\" \",BDD!J150)","v":" "},null,null,{"$f":"IF(BDD!S150<_TOPEIMPONIBLE,BDD!S150*Tabla4[[#This Row],[%AFP]],_TOPEIMPONIBLE*Tabla4[[#This Row],[%AFP]])","v":0},null,null,{"$f":"IF(BDD!S150<_TOPEIMPONIBLE,BDD!S150*Tabla4[[#This Row],[%SALUD]],_TOPEIMPONIBLE*Tabla4[[#This Row],[%SALUD]])","v":0},null,null,{"$f":"BDD!S150*Tabla4[[#This Row],[%SEGURO]]","v":0},null,{"$f":"IF(Tabla4[[#This Row],[TOTAL UF]]-Tabla4[[#This Row],[TOTAL SALUD]]<=0,0,Tabla4[[#This Row],[TOTAL UF]]-Tabla4[[#This Row],[TOTAL SALUD]])","v":0},null,{"$f":"BDD!$N$4","v":37838.550000000003},{"$f":"Tabla4[[#This Row],[PACTO UF]]*Tabla4[[#This Row],[VALOR UF]]","v":0},"IMPUESTO UNICO",{"$f":"BDD!S150-Tabla4[[#This Row],[TOTAL AFP]]-Tabla4[[#This Row],[TOTAL SALUD]]-Tabla4[[#This Row],[TOTAL SEGURO CESANTIA]]-Tabla4[[#This Row],[TOTAL ADICIONAL]]","v":0},{"$f":"IF(Tabla4[[#This Row],[PASO DESC. UNIC.]]<=$AT$5,0,IF(Tabla4[[#This Row],[PASO DESC. UNIC.]]<=$AT$6,Tabla4[[#This Row],[PASO DESC. UNIC.]]*$AU$6-$AV$6,IF(Tabla4[[#This Row],[PASO DESC. UNIC.]]<=$AT$7,Tabla4[[#This Row],[PASO DESC. UNIC.]]*$AU$7-$AV$7,IF(Tabla4[[#This Row],[PASO DESC. UNIC.]]<=$AT$8,Tabla4[[#This Row],[PASO DESC. UNIC.]]*$AU$8-$AV$8,IF(Tabla4[[#This Row],[PASO DESC. UNIC.]]<=$AT$9,Tabla4[[#This Row],[PASO DESC. UNIC.]]*$AU$9-$AV$9,IF(Tabla4[[#This Row],[PASO DESC. UNIC.]]<=$AT$10,Tabla4[[#This Row],[PASO DESC. UNIC.]]*$AU$10-$AV$10,IF(Tabla4[[#This Row],[PASO DESC. UNIC.]]>=$AS$11,Tabla4[[#This Row],[PASO DESC. UNIC.]]*$AU$11-$AV$11)))))))","v":0},{"$f":"Tabla4[[#This Row],[TOTAL AFP]]+Tabla4[[#This Row],[TOTAL SALUD]]+Tabla4[[#This Row],[TOTAL SEGURO CESANTIA]]+Tabla4[[#This Row],[TOTAL ADICIONAL]]+Tabla4[[#This Row],[VALOR IMP U.]]+Tabla4[[#This Row],[VALOR OTRO 2]]+Tabla4[[#This Row],[VALOR OTRO 1]]","v":0},null,{"$f":"IF($BP$8 = \"SI\",IF(Tabla4[[#This Row],[TIPO CONTRATO]]=\"Indefinido\",BDD!S150*2.4%,IF(Tabla4[[#This Row],[TIPO CONTRATO]]=\"PLAZO FIJO\",BDD!S150*3%,0)),0)","v":0},null,null,null,null,null,null,{"$f":"BDD!S150*Tabla4[[#This Row],[% SIS]]","v":0},null,null,{"$f":"BDD!S150*Tabla4[[#This Row],[%MUTUAL]]","v":0}]
[null,null,null,null,null,null,null,null,null,null,145,{"$f":"IF(BDD!J151=0,\" \",BDD!J151)","v":" "},null,null,{"$f":"IF(BDD!S151<_TOPEIMPONIBLE,BDD!S151*Tabla4[[#This Row],[%AFP]],_TOPEIMPONIBLE*Tabla4[[#This Row],[%AFP]])","v":0},null,null,{"$f":"IF(BDD!S151<_TOPEIMPONIBLE,BDD!S151*Tabla4[[#This Row],[%SALUD]],_TOPEIMPONIBLE*Tabla4[[#This Row],[%SALUD]])","v":0},null,null,{"$f":"BDD!S151*Tabla4[[#This Row],[%SEGURO]]","v":0},null,{"$f":"IF(Tabla4[[#This Row],[TOTAL UF]]-Tabla4[[#This Row],[TOTAL SALUD]]<=0,0,Tabla4[[#This Row],[TOTAL UF]]-Tabla4[[#This Row],[TOTAL SALUD]])","v":0},null,{"$f":"BDD!$N$4","v":37838.550000000003},{"$f":"Tabla4[[#This Row],[PACTO UF]]*Tabla4[[#This Row],[VALOR UF]]","v":0},"IMPUESTO UNICO",{"$f":"BDD!S151-Tabla4[[#This Row],[TOTAL AFP]]-Tabla4[[#This Row],[TOTAL SALUD]]-Tabla4[[#This Row],[TOTAL SEGURO CESANTIA]]-Tabla4[[#This Row],[TOTAL ADICIONAL]]","v":0},{"$f":"IF(Tabla4[[#This Row],[PASO DESC. UNIC.]]<=$AT$5,0,IF(Tabla4[[#This Row],[PASO DESC. UNIC.]]<=$AT$6,Tabla4[[#This Row],[PASO DESC. UNIC.]]*$AU$6-$AV$6,IF(Tabla4[[#This Row],[PASO DESC. UNIC.]]<=$AT$7,Tabla4[[#This Row],[PASO DESC. UNIC.]]*$AU$7-$AV$7,IF(Tabla4[[#This Row],[PASO DESC. UNIC.]]<=$AT$8,Tabla4[[#This Row],[PASO DESC. UNIC.]]*$AU$8-$AV$8,IF(Tabla4[[#This Row],[PASO DESC. UNIC.]]<=$AT$9,Tabla4[[#This Row],[PASO DESC. UNIC.]]*$AU$9-$AV$9,IF(Tabla4[[#This Row],[PASO DESC. UNIC.]]<=$AT$10,Tabla4[[#This Row],[PASO DESC. UNIC.]]*$AU$10-$AV$10,IF(Tabla4[[#This Row],[PASO DESC. UNIC.]]>=$AS$11,Tabla4[[#This Row],[PASO DESC. UNIC.]]*$AU$11-$AV$11)))))))","v":0},{"$f":"Tabla4[[#This Row],[TOTAL AFP]]+Tabla4[[#This Row],[TOTAL SALUD]]+Tabla4[[#This Row],[TOTAL SEGURO CESANTIA]]+Tabla4[[#This Row],[TOTAL ADICIONAL]]+Tabla4[[#This Row],[VALOR IMP U.]]+Tabla4[[#This Row],[VALOR OTRO 2]]+Tabla4[[#This Row],[VALOR OTRO 1]]","v":0},null,{"$f":"IF($BP$8 = \"SI\",IF(Tabla4[[#This Row],[TIPO CONTRATO]]=\"Indefinido\",BDD!S151*2.4%,IF(Tabla4[[#This Row],[TIPO CONTRATO]]=\"PLAZO FIJO\",BDD!S151*3%,0)),0)","v":0},null,null,null,null,null,null,{"$f":"BDD!S151*Tabla4[[#This Row],[% SIS]]","v":0},null,null,{"$f":"BDD!S151*Tabla4[[#This Row],[%MUTUAL]]","v":0}]
[null,null,null,null,null,null,null,null,null,null,146,{"$f":"IF(BDD!J152=0,\" \",BDD!J152)","v":" "},null,null,{"$f":"IF(BDD!S152<_TOPEIMPONIBLE,BDD!S152*Tabla4[[#This Row],[%AFP]],_TOPEIMPONIBLE*Tabla4[[#This Row],[%AFP]])","v":0},null,null,{"$f":"IF(BDD!S152<_TOPEIMPONIBLE,BDD!S152*Tabla4[[#This Row],[%SALUD]],_TOPEIMPONIBLE*Tabla4[[#This Row],[%SALUD]])","v":0},null,null,{"$f":"BDD!S152*Tabla4[[#This Row],[%SEGURO]]","v":0},null,{"$f":"IF(Tabla4[[#This Row],[TOTAL UF]]-Tabla4[[#This Row],[TOTAL SALUD]]<=0,0,Tabla4[[#This Row],[TOTAL UF]]-Tabla4[[#This Row],[TOTAL SALUD]])","v":0},null,{"$f":"BDD!$N$4","v":37838.550000000003},{"$f":"Tabla4[[#This Row],[PACTO UF]]*Tabla4[[#This Row],[VALOR UF]]","v":0},"IMPUESTO UNICO",{"$f":"BDD!S152-Tabla4[[#This Row],[TOTAL AFP]]-Tabla4[[#This Row],[TOTAL SALUD]]-Tabla4[[#This Row],[TOTAL SEGURO CESANTIA]]-Tabla4[[#This Row],[TOTAL ADICIONAL]]","v":0},{"$f":"IF(Tabla4[[#This Row],[PASO DESC. UNIC.]]<=$AT$5,0,IF(Tabla4[[#This Row],[PASO DESC. UNIC.]]<=$AT$6,Tabla4[[#This Row],[PASO DESC. UNIC.]]*$AU$6-$AV$6,IF(Tabla4[[#This Row],[PASO DESC. UNIC.]]<=$AT$7,Tabla4[[#This Row],[PASO DESC. UNIC.]]*$AU$7-$AV$7,IF(Tabla4[[#This Row],[PASO DESC. UNIC.]]<=$AT$8,Tabla4[[#This Row],[PASO DESC. UNIC.]]*$AU$8-$AV$8,IF(Tabla4[[#This Row],[PASO DESC. UNIC.]]<=$AT$9,Tabla4[[#This Row],[PASO DESC. UNIC.]]*$AU$9-$AV$9,IF(Tabla4[[#This Row],[PASO DESC. UNIC.]]<=$AT$10,Tabla4[[#This Row],[PASO DESC. UNIC.]]*$AU$10-$AV$10,IF(Tabla4[[#This Row],[PASO DESC. UNIC.]]>=$AS$11,Tabla4[[#This Row],[PASO DESC. UNIC.]]*$AU$11-$AV$11)))))))","v":0},{"$f":"Tabla4[[#This Row],[TOTAL AFP]]+Tabla4[[#This Row],[TOTAL SALUD]]+Tabla4[[#This Row],[TOTAL SEGURO CESANTIA]]+Tabla4[[#This Row],[TOTAL ADICIONAL]]+Tabla4[[#This Row],[VALOR IMP U.]]+Tabla4[[#This Row],[VALOR OTRO 2]]+Tabla4[[#This Row],[VALOR OTRO 1]]","v":0},null,{"$f":"IF($BP$8 = \"SI\",IF(Tabla4[[#This Row],[TIPO CONTRATO]]=\"Indefinido\",BDD!S152*2.4%,IF(Tabla4[[#This Row],[TIPO CONTRATO]]=\"PLAZO FIJO\",BDD!S152*3%,0)),0)","v":0},null,null,null,null,null,null,{"$f":"BDD!S152*Tabla4[[#This Row],[% SIS]]","v":0},null,null,{"$f":"BDD!S152*Tabla4[[#This Row],[%MUTUAL]]","v":0}]
[null,null,null,null,null,null,null,null,null,null,147,{"$f":"IF(BDD!J153=0,\" \",BDD!J153)","v":" "},null,null,{"$f":"IF(BDD!S153<_TOPEIMPONIBLE,BDD!S153*Tabla4[[#This Row],[%AFP]],_TOPEIMPONIBLE*Tabla4[[#This Row],[%AFP]])","v":0},null,null,{"$f":"IF(BDD!S153<_TOPEIMPONIBLE,BDD!S153*Tabla4[[#This Row],[%SALUD]],_TOPEIMPONIBLE*Tabla4[[#This Row],[%SALUD]])","v":0},null,null,{"$f":"BDD!S153*Tabla4[[#This Row],[%SEGURO]]","v":0},null,{"$f":"IF(Tabla4[[#This Row],[TOTAL UF]]-Tabla4[[#This Row],[TOTAL SALUD]]<=0,0,Tabla4[[#This Row],[TOTAL UF]]-Tabla4[[#This Row],[TOTAL SALUD]])","v":0},null,{"$f":"BDD!$N$4","v":37838.550000000003},{"$f":"Tabla4[[#This Row],[PACTO UF]]*Tabla4[[#This Row],[VALOR UF]]","v":0},"IMPUESTO UNICO",{"$f":"BDD!S153-Tabla4[[#This Row],[TOTAL AFP]]-Tabla4[[#This Row],[TOTAL SALUD]]-Tabla4[[#This Row],[TOTAL SEGURO CESANTIA]]-Tabla4[[#This Row],[TOTAL ADICIONAL]]","v":0},{"$f":"IF(Tabla4[[#This Row],[PASO DESC. UNIC.]]<=$AT$5,0,IF(Tabla4[[#This Row],[PASO DESC. UNIC.]]<=$AT$6,Tabla4[[#This Row],[PASO DESC. UNIC.]]*$AU$6-$AV$6,IF(Tabla4[[#This Row],[PASO DESC. UNIC.]]<=$AT$7,Tabla4[[#This Row],[PASO DESC. UNIC.]]*$AU$7-$AV$7,IF(Tabla4[[#This Row],[PASO DESC. UNIC.]]<=$AT$8,Tabla4[[#This Row],[PASO DESC. UNIC.]]*$AU$8-$AV$8,IF(Tabla4[[#This Row],[PASO DESC. UNIC.]]<=$AT$9,Tabla4[[#This Row],[PASO DESC. UNIC.]]*$AU$9-$AV$9,IF(Tabla4[[#This Row],[PASO DESC. UNIC.]]<=$AT$10,Tabla4[[#This Row],[PASO DESC. UNIC.]]*$AU$10-$AV$10,IF(Tabla4[[#This Row],[PASO DESC. UNIC.]]>=$AS$11,Tabla4[[#This Row],[PASO DESC. UNIC.]]*$AU$11-$AV$11)))))))","v":0},{"$f":"Tabla4[[#This Row],[TOTAL AFP]]+Tabla4[[#This Row],[TOTAL SALUD]]+Tabla4[[#This Row],[TOTAL SEGURO CESANTIA]]+Tabla4[[#This Row],[TOTAL ADICIONAL]]+Tabla4[[#This Row],[VALOR IMP U.]]+Tabla4[[#This Row],[VALOR OTRO 2]]+Tabla4[[#This Row],[VALOR OTRO 1]]","v":0},null,{"$f":"IF($BP$8 = \"SI\",IF(Tabla4[[#This Row],[TIPO CONTRATO]]=\"Indefinido\",BDD!S153*2.4%,IF(Tabla4[[#This Row],[TIPO CONTRATO]]=\"PLAZO FIJO\",BDD!S153*3%,0)),0)","v":0},null,null,null,null,null,null,{"$f":"BDD!S153*Tabla4[[#This Row],[% SIS]]","v":0},null,null,{"$f":"BDD!S153*Tabla4[[#This Row],[%MUTUAL]]","v":0}]
[null,null,null,null,null,null,null,null,null,null,148,{"$f":"IF(BDD!J154=0,\" \",BDD!J154)","v":" "},null,null,{"$f":"IF(BDD!S154<_TOPEIMPONIBLE,BDD!S154*Tabla4[[#This Row],[%AFP]],_TOPEIMPONIBLE*Tabla4[[#This Row],[%AFP]])","v":0},null,null,{"$f":"IF(BDD!S154<_TOPEIMPONIBLE,BDD!S154*Tabla4[[#This Row],[%SALUD]],_TOPEIMPONIBLE*Tabla4[[#This Row],[%SALUD]])","v":0},null,null,{"$f":"BDD!S154*Tabla4[[#This Row],[%SEGURO]]","v":0},null,{"$f":"IF(Tabla4[[#This Row],[TOTAL UF]]-Tabla4[[#This Row],[TOTAL SALUD]]<=0,0,Tabla4[[#This Row],[TOTAL UF]]-Tabla4[[#This Row],[TOTAL SALUD]])","v":0},null,{"$f":"BDD!$N$4","v":37838.550000000003},{"$f":"Tabla4[[#This Row],[PACTO UF]]*Tabla4[[#This Row],[VALOR UF]]","v":0},"IMPUESTO UNICO",{"$f":"BDD!S154-Tabla4[[#This Row],[TOTAL AFP]]-Tabla4[[#This Row],[TOTAL SALUD]]-Tabla4[[#This Row],[TOTAL SEGURO CESANTIA]]-Tabla4[[#This Row],[TOTAL ADICIONAL]]","v":0},{"$f":"IF(Tabla4[[#This Row],[PASO DESC. UNIC.]]<=$AT$5,0,IF(Tabla4[[#This Row],[PASO DESC. UNIC.]]<=$AT$6,Tabla4[[#This Row],[PASO DESC. UNIC.]]*$AU$6-$AV$6,IF(Tabla4[[#This Row],[PASO DESC. UNIC.]]<=$AT$7,Tabla4[[#This Row],[PASO DESC. UNIC.]]*$AU$7-$AV$7,IF(Tabla4[[#This Row],[PASO DESC. UNIC.]]<=$AT$8,Tabla4[[#This Row],[PASO DESC. UNIC.]]*$AU$8-$AV$8,IF(Tabla4[[#This Row],[PASO DESC. UNIC.]]<=$AT$9,Tabla4[[#This Row],[PASO DESC. UNIC.]]*$AU$9-$AV$9,IF(Tabla4[[#This Row],[PASO DESC. UNIC.]]<=$AT$10,Tabla4[[#This Row],[PASO DESC. UNIC.]]*$AU$10-$AV$10,IF(Tabla4[[#This Row],[PASO DESC. UNIC.]]>=$AS$11,Tabla4[[#This Row],[PASO DESC. UNIC.]]*$AU$11-$AV$11)))))))","v":0},{"$f":"Tabla4[[#This Row],[TOTAL AFP]]+Tabla4[[#This Row],[TOTAL SALUD]]+Tabla4[[#This Row],[TOTAL SEGURO CESANTIA]]+Tabla4[[#This Row],[TOTAL ADICIONAL]]+Tabla4[[#This Row],[VALOR IMP U.]]+Tabla4[[#This Row],[VALOR OTRO 2]]+Tabla4[[#This Row],[VALOR OTRO 1]]","v":0},null,{"$f":"IF($BP$8 = \"SI\",IF(Tabla4[[#This Row],[TIPO CONTRATO]]=\"Indefinido\",BDD!S154*2.4%,IF(Tabla4[[#This Row],[TIPO CONTRATO]]=\"PLAZO FIJO\",BDD!S154*3%,0)),0)","v":0},null,null,null,null,null,null,{"$f":"BDD!S154*Tabla4[[#This Row],[% SIS]]","v":0},null,null,{"$f":"BDD!S154*Tabla4[[#This Row],[%MUTUAL]]","v":0}]
[null,null,null,null,null,null,null,null,null,null,149,{"$f":"IF(BDD!J155=0,\" \",BDD!J155)","v":" "},null,null,{"$f":"IF(BDD!S155<_TOPEIMPONIBLE,BDD!S155*Tabla4[[#This Row],[%AFP]],_TOPEIMPONIBLE*Tabla4[[#This Row],[%AFP]])","v":0},null,null,{"$f":"IF(BDD!S155<_TOPEIMPONIBLE,BDD!S155*Tabla4[[#This Row],[%SALUD]],_TOPEIMPONIBLE*Tabla4[[#This Row],[%SALUD]])","v":0},null,null,{"$f":"BDD!S155*Tabla4[[#This Row],[%SEGURO]]","v":0},null,{"$f":"IF(Tabla4[[#This Row],[TOTAL UF]]-Tabla4[[#This Row],[TOTAL SALUD]]<=0,0,Tabla4[[#This Row],[TOTAL UF]]-Tabla4[[#This Row],[TOTAL SALUD]])","v":0},null,{"$f":"BDD!$N$4","v":37838.550000000003},{"$f":"Tabla4[[#This Row],[PACTO UF]]*Tabla4[[#This Row],[VALOR UF]]","v":0},"IMPUESTO UNICO",{"$f":"BDD!S155-Tabla4[[#This Row],[TOTAL AFP]]-Tabla4[[#This Row],[TOTAL SALUD]]-Tabla4[[#This Row],[TOTAL SEGURO CESANTIA]]-Tabla4[[#This Row],[TOTAL ADICIONAL]]","v":0},{"$f":"IF(Tabla4[[#This Row],[PASO DESC. UNIC.]]<=$AT$5,0,IF(Tabla4[[#This Row],[PASO DESC. UNIC.]]<=$AT$6,Tabla4[[#This Row],[PASO DESC. UNIC.]]*$AU$6-$AV$6,IF(Tabla4[[#This Row],[PASO DESC. UNIC.]]<=$AT$7,Tabla4[[#This Row],[PASO DESC. UNIC.]]*$AU$7-$AV$7,IF(Tabla4[[#This Row],[PASO DESC. UNIC.]]<=$AT$8,Tabla4[[#This Row],[PASO DESC. UNIC.]]*$AU$8-$AV$8,IF(Tabla4[[#This Row],[PASO DESC. UNIC.]]<=$AT$9,Tabla4[[#This Row],[PASO DESC. UNIC.]]*$AU$9-$AV$9,IF(Tabla4[[#This Row],[PASO DESC. UNIC.]]<=$AT$10,Tabla4[[#This Row],[PASO DESC. UNIC.]]*$AU$10-$AV$10,IF(Tabla4[[#This Row],[PASO DESC. UNIC.]]>=$AS$11,Tabla4[[#This Row],[PASO DESC. UNIC.]]*$AU$11-$AV$11)))))))","v":0},{"$f":"Tabla4[[#This Row],[TOTAL AFP]]+Tabla4[[#This Row],[TOTAL SALUD]]+Tabla4[[#This Row],[TOTAL SEGURO CESANTIA]]+Tabla4[[#This Row],[TOTAL ADICIONAL]]+Tabla4[[#This Row],[VALOR IMP U.]]+Tabla4[[#This Row],[VALOR OTRO 2]]+Tabla4[[#This Row],[VALOR OTRO 1]]","v":0},null,{"$f":"IF($BP$8 = \"SI\",IF(Tabla4[[#This Row],[TIPO CONTRATO]]=\"Indefinido\",BDD!S155*2.4%,IF(Tabla4[[#This Row],[TIPO CONTRATO]]=\"PLAZO FIJO\",BDD!S155*3%,0)),0)","v":0},null,null,null,null,null,null,{"$f":"BDD!S155*Tabla4[[#This Row],[% SIS]]","v":0},null,null,{"$f":"BDD!S155*Tabla4[[#This Row],[%MUTUAL]]","v":0}]
[null,null,null,null,null,null,null,null,null,null,150,{"$f":"IF(BDD!J156=0,\" \",BDD!J156)","v":" "},null,null,{"$f":"IF(BDD!S156<_TOPEIMPONIBLE,BDD!S156*Tabla4[[#This Row],[%AFP]],_TOPEIMPONIBLE*Tabla4[[#This Row],[%AFP]])","v":0},null,null,{"$f":"IF(BDD!S156<_TOPEIMPONIBLE,BDD!S156*Tabla4[[#This Row],[%SALUD]],_TOPEIMPONIBLE*Tabla4[[#This Row],[%SALUD]])","v":0},null,null,{"$f":"BDD!S156*Tabla4[[#This Row],[%SEGURO]]","v":0},null,{"$f":"IF(Tabla4[[#This Row],[TOTAL UF]]-Tabla4[[#This Row],[TOTAL SALUD]]<=0,0,Tabla4[[#This Row],[TOTAL UF]]-Tabla4[[#This Row],[TOTAL SALUD]])","v":0},null,{"$f":"BDD!$N$4","v":37838.550000000003},{"$f":"Tabla4[[#This Row],[PACTO UF]]*Tabla4[[#This Row],[VALOR UF]]","v":0},"IMPUESTO UNICO",{"$f":"BDD!S156-Tabla4[[#This Row],[TOTAL AFP]]-Tabla4[[#This Row],[TOTAL SALUD]]-Tabla4[[#This Row],[TOTAL SEGURO CESANTIA]]-Tabla4[[#This Row],[TOTAL ADICIONAL]]","v":0},{"$f":"IF(Tabla4[[#This Row],[PASO DESC. UNIC.]]<=$AT$5,0,IF(Tabla4[[#This Row],[PASO DESC. UNIC.]]<=$AT$6,Tabla4[[#This Row],[PASO DESC. UNIC.]]*$AU$6-$AV$6,IF(Tabla4[[#This Row],[PASO DESC. UNIC.]]<=$AT$7,Tabla4[[#This Row],[PASO DESC. UNIC.]]*$AU$7-$AV$7,IF(Tabla4[[#This Row],[PASO DESC. UNIC.]]<=$AT$8,Tabla4[[#This Row],[PASO DESC. UNIC.]]*$AU$8-$AV$8,IF(Tabla4[[#This Row],[PASO DESC. UNIC.]]<=$AT$9,Tabla4[[#This Row],[PASO DESC. UNIC.]]*$AU$9-$AV$9,IF(Tabla4[[#This Row],[PASO DESC. UNIC.]]<=$AT$10,Tabla4[[#This Row],[PASO DESC. UNIC.]]*$AU$10-$AV$10,IF(Tabla4[[#This Row],[PASO DESC. UNIC.]]>=$AS$11,Tabla4[[#This Row],[PASO DESC. UNIC.]]*$AU$11-$AV$11)))))))","v":0},{"$f":"Tabla4[[#This Row],[TOTAL AFP]]+Tabla4[[#This Row],[TOTAL SALUD]]+Tabla4[[#This Row],[TOTAL SEGURO CESANTIA]]+Tabla4[[#This Row],[TOTAL ADICIONAL]]+Tabla4[[#This Row],[VALOR IMP U.]]+Tabla4[[#This Row],[VALOR OTRO 2]]+Tabla4[[#This Row],[VALOR OTRO 1]]","v":0},null,{"$f":"IF($BP$8 = \"SI\",IF(Tabla4[[#This Row],[TIPO CONTRATO]]=\"Indefinido\",BDD!S156*2.4%,IF(Tabla4[[#This Row],[TIPO CONTRATO]]=\"PLAZO FIJO\",BDD!S156*3%,0)),0)","v":0},null,null,null,null,null,null,{"$f":"BDD!S156*Tabla4[[#This Row],[% SIS]]","v":0},null,null,{"$f":"BDD!S156*Tabla4[[#This Row],[%MUTUAL]]","v":0}]
[null,null,null,null,null,null,null,null,null,null,151,{"$f":"IF(BDD!J157=0,\" \",BDD!J157)","v":" "},null,null,{"$f":"IF(BDD!S157<_TOPEIMPONIBLE,BDD!S157*Tabla4[[#This Row],[%AFP]],_TOPEIMPONIBLE*Tabla4[[#This Row],[%AFP]])","v":0},null,null,{"$f":"IF(BDD!S157<_TOPEIMPONIBLE,BDD!S157*Tabla4[[#This Row],[%SALUD]],_TOPEIMPONIBLE*Tabla4[[#This Row],[%SALUD]])","v":0},null,null,{"$f":"BDD!S157*Tabla4[[#This Row],[%SEGURO]]","v":0},null,{"$f":"IF(Tabla4[[#This Row],[TOTAL UF]]-Tabla4[[#This Row],[TOTAL SALUD]]<=0,0,Tabla4[[#This Row],[TOTAL UF]]-Tabla4[[#This Row],[TOTAL SALUD]])","v":0},null,{"$f":"BDD!$N$4","v":37838.550000000003},{"$f":"Tabla4[[#This Row],[PACTO UF]]*Tabla4[[#This Row],[VALOR UF]]","v":0},"IMPUESTO UNICO",{"$f":"BDD!S157-Tabla4[[#This Row],[TOTAL AFP]]-Tabla4[[#This Row],[TOTAL SALUD]]-Tabla4[[#This Row],[TOTAL SEGURO CESANTIA]]-Tabla4[[#This Row],[TOTAL ADICIONAL]]","v":0},{"$f":"IF(Tabla4[[#This Row],[PASO DESC. UNIC.]]<=$AT$5,0,IF(Tabla4[[#This Row],[PASO DESC. UNIC.]]<=$AT$6,Tabla4[[#This Row],[PASO DESC. UNIC.]]*$AU$6-$AV$6,IF(Tabla4[[#This Row],[PASO DESC. UNIC.]]<=$AT$7,Tabla4[[#This Row],[PASO DESC. UNIC.]]*$AU$7-$AV$7,IF(Tabla4[[#This Row],[PASO DESC. UNIC.]]<=$AT$8,Tabla4[[#This Row],[PASO DESC. UNIC.]]*$AU$8-$AV$8,IF(Tabla4[[#This Row],[PASO DESC. UNIC.]]<=$AT$9,Tabla4[[#This Row],[PASO DESC. UNIC.]]*$AU$9-$AV$9,IF(Tabla4[[#This Row],[PASO DESC. UNIC.]]<=$AT$10,Tabla4[[#This Row],[PASO DESC. UNIC.]]*$AU$10-$AV$10,IF(Tabla4[[#This Row],[PASO DESC. UNIC.]]>=$AS$11,Tabla4[[#This Row],[PASO DESC. UNIC.]]*$AU$11-$AV$11)))))))","v":0},{"$f":"Tabla4[[#This Row],[TOTAL AFP]]+Tabla4[[#This Row],[TOTAL SALUD]]+Tabla4[[#This Row],[TOTAL SEGURO CESANTIA]]+Tabla4[[#This Row],[TOTAL ADICIONAL]]+Tabla4[[#This Row],[VALOR IMP U.]]+Tabla4[[#This Row],[VALOR OTRO 2]]+Tabla4[[#This Row],[VALOR OTRO 1]]","v":0},null,{"$f":"IF($BP$8 = \"SI\",IF(Tabla4[[#This Row],[TIPO CONTRATO]]=\"Indefinido\",BDD!S157*2.4%,IF(Tabla4[[#This Row],[TIPO CONTRATO]]=\"PLAZO FIJO\",BDD!S157*3%,0)),0)","v":0},null,null,null,null,null,null,{"$f":"BDD!S157*Tabla4[[#This Row],[% SIS]]","v":0},null,null,{"$f":"BDD!S157*Tabla4[[#This Row],[%MUTUAL]]","v":0}]
[null,null,null,null,null,null,null,null,null,null,152,{"$f":"IF(BDD!J158=0,\" \",BDD!J158)","v":" "},null,null,{"$f":"IF(BDD!S158<_TOPEIMPONIBLE,BDD!S158*Tabla4[[#This Row],[%AFP]],_TOPEIMPONIBLE*Tabla4[[#This Row],[%AFP]])","v":0},null,null,{"$f":"IF(BDD!S158<_TOPEIMPONIBLE,BDD!S158*Tabla4[[#This Row],[%SALUD]],_TOPEIMPONIBLE*Tabla4[[#This Row],[%SALUD]])","v":0},null,null,{"$f":"BDD!S158*Tabla4[[#This Row],[%SEGURO]]","v":0},null,{"$f":"IF(Tabla4[[#This Row],[TOTAL UF]]-Tabla4[[#This Row],[TOTAL SALUD]]<=0,0,Tabla4[[#This Row],[TOTAL UF]]-Tabla4[[#This Row],[TOTAL SALUD]])","v":0},null,{"$f":"BDD!$N$4","v":37838.550000000003},{"$f":"Tabla4[[#This Row],[PACTO UF]]*Tabla4[[#This Row],[VALOR UF]]","v":0},"IMPUESTO UNICO",{"$f":"BDD!S158-Tabla4[[#This Row],[TOTAL AFP]]-Tabla4[[#This Row],[TOTAL SALUD]]-Tabla4[[#This Row],[TOTAL SEGURO CESANTIA]]-Tabla4[[#This Row],[TOTAL ADICIONAL]]","v":0},{"$f":"IF(Tabla4[[#This Row],[PASO DESC. UNIC.]]<=$AT$5,0,IF(Tabla4[[#This Row],[PASO DESC. UNIC.]]<=$AT$6,Tabla4[[#This Row],[PASO DESC. UNIC.]]*$AU$6-$AV$6,IF(Tabla4[[#This Row],[PASO DESC. UNIC.]]<=$AT$7,Tabla4[[#This Row],[PASO DESC. UNIC.]]*$AU$7-$AV$7,IF(Tabla4[[#This Row],[PASO DESC. UNIC.]]<=$AT$8,Tabla4[[#This Row],[PASO DESC. UNIC.]]*$AU$8-$AV$8,IF(Tabla4[[#This Row],[PASO DESC. UNIC.]]<=$AT$9,Tabla4[[#This Row],[PASO DESC. UNIC.]]*$AU$9-$AV$9,IF(Tabla4[[#This Row],[PASO DESC. UNIC.]]<=$AT$10,Tabla4[[#This Row],[PASO DESC. UNIC.]]*$AU$10-$AV$10,IF(Tabla4[[#This Row],[PASO DESC. UNIC.]]>=$AS$11,Tabla4[[#This Row],[PASO DESC. UNIC.]]*$AU$11-$AV$11)))))))","v":0},{"$f":"Tabla4[[#This Row],[TOTAL AFP]]+Tabla4[[#This Row],[TOTAL SALUD]]+Tabla4[[#This Row],[TOTAL SEGURO CESANTIA]]+Tabla4[[#This Row],[TOTAL ADICIONAL]]+Tabla4[[#This Row],[VALOR IMP U.]]+Tabla4[[#This Row],[VALOR OTRO 2]]+Tabla4[[#This Row],[VALOR OTRO 1]]","v":0},null,{"$f":"IF($BP$8 = \"SI\",IF(Tabla4[[#This Row],[TIPO CONTRATO]]=\"Indefinido\",BDD!S158*2.4%,IF(Tabla4[[#This Row],[TIPO CONTRATO]]=\"PLAZO FIJO\",BDD!S158*3%,0)),0)","v":0},null,null,null,null,null,null,{"$f":"BDD!S158*Tabla4[[#This Row],[% SIS]]","v":0},null,null,{"$f":"BDD!S158*Tabla4[[#This Row],[%MUTUAL]]","v":0}]
[null,null,null,null,null,null,null,null,null,null,153,{"$f":"IF(BDD!J159=0,\" \",BDD!J159)","v":" "},"afp modelo",0.1,{"$f":"IF(BDD!S159<_TOPEIMPONIBLE,BDD!S159*Tabla4[[#This Row],[%AFP]],_TOPEIMPONIBLE*Tabla4[[#This Row],[%AFP]])","v":0},"Fonanasa",7.0000000000000007E-2,{"$f":"IF(BDD!S159<_TOPEIMPONIBLE,BDD!S159*Tabla4[[#This Row],[%SALUD]],_TOPEIMPONIBLE*Tabla4[[#This Row],[%SALUD]])","v":0},"SEGURO CESANTIA",6.0000000000000001E-3,{"$f":"BDD!S159*Tabla4[[#This Row],[%SEGURO]]","v":0},null,{"$f":"IF(Tabla4[[#This Row],[TOTAL UF]]-Tabla4[[#This Row],[TOTAL SALUD]]<=0,0,Tabla4[[#This Row],[TOTAL UF]]-Tabla4[[#This Row],[TOTAL SALUD]])","v":0},null,{"$f":"BDD!$N$4","v":37838.550000000003},{"$f":"Tabla4[[#This Row],[PACTO UF]]*Tabla4[[#This Row],[VALOR UF]]","v":0},"IMPUESTO UNICO",{"$f":"BDD!S159-Tabla4[[#This Row],[TOTAL AFP]]-Tabla4[[#This Row],[TOTAL SALUD]]-Tabla4[[#This Row],[TOTAL SEGURO CESANTIA]]-Tabla4[[#This Row],[TOTAL ADICIONAL]]","v":0},{"$f":"IF(Tabla4[[#This Row],[PASO DESC. UNIC.]]<=$AT$5,0,IF(Tabla4[[#This Row],[PASO DESC. UNIC.]]<=$AT$6,Tabla4[[#This Row],[PASO DESC. UNIC.]]*$AU$6-$AV$6,IF(Tabla4[[#This Row],[PASO DESC. UNIC.]]<=$AT$7,Tabla4[[#This Row],[PASO DESC. UNIC.]]*$AU$7-$AV$7,IF(Tabla4[[#This Row],[PASO DESC. UNIC.]]<=$AT$8,Tabla4[[#This Row],[PASO DESC. UNIC.]]*$AU$8-$AV$8,IF(Tabla4[[#This Row],[PASO DESC. UNIC.]]<=$AT$9,Tabla4[[#This Row],[PASO DESC. UNIC.]]*$AU$9-$AV$9,IF(Tabla4[[#This Row],[PASO DESC. UNIC.]]<=$AT$10,Tabla4[[#This Row],[PASO DESC. UNIC.]]*$AU$10-$AV$10,IF(Tabla4[[#This Row],[PASO DESC. UNIC.]]>=$AS$11,Tabla4[[#This Row],[PASO DESC. UNIC.]]*$AU$11-$AV$11)))))))","v":0},{"$f":"Tabla4[[#This Row],[TOTAL AFP]]+Tabla4[[#This Row],[TOTAL SALUD]]+Tabla4[[#This Row],[TOTAL SEGURO CESANTIA]]+Tabla4[[#This Row],[TOTAL ADICIONAL]]+Tabla4[[#This Row],[VALOR IMP U.]]+Tabla4[[#This Row],[VALOR OTRO 2]]+Tabla4[[#This Row],[VALOR OTRO 1]]","v":0},null,{"$f":"IF($BP$8 = \"SI\",IF(Tabla4[[#This Row],[TIPO CONTRATO]]=\"Indefinido\",BDD!S159*2.4%,IF(Tabla4[[#This Row],[TIPO CONTRATO]]=\"PLAZO FIJO\",BDD!S159*3%,0)),0)","v":0},null,null,null,null,null,null,{"$f":"BDD!S159*Tabla4[[#This Row],[% SIS]]","v":0},null,null,{"$f":"BDD!S159*Tabla4[[#This Row],[%MUTUAL]]","v":0}]
[null,null,null,null,null,null,null,null,null,null,154,{"$f":"IF(BDD!J160=0,\" \",BDD!J160)","v":" "},null,null,{"$f":"IF(BDD!S160<_TOPEIMPONIBLE,BDD!S160*Tabla4[[#This Row],[%AFP]],_TOPEIMPONIBLE*Tabla4[[#This Row],[%AFP]])","v":0},null,null,{"$f":"IF(BDD!S160<_TOPEIMPONIBLE,BDD!S160*Tabla4[[#This Row],[%SALUD]],_TOPEIMPONIBLE*Tabla4[[#This Row],[%SALUD]])","v":0},null,null,{"$f":"BDD!S160*Tabla4[[#This Row],[%SEGURO]]","v":0},null,{"$f":"IF(Tabla4[[#This Row],[TOTAL UF]]-Tabla4[[#This Row],[TOTAL SALUD]]<=0,0,Tabla4[[#This Row],[TOTAL UF]]-Tabla4[[#This Row],[TOTAL SALUD]])","v":0},null,{"$f":"BDD!$N$4","v":37838.550000000003},{"$f":"Tabla4[[#This Row],[PACTO UF]]*Tabla4[[#This Row],[VALOR UF]]","v":0},"IMPUESTO UNICO",{"$f":"BDD!S160-Tabla4[[#This Row],[TOTAL AFP]]-Tabla4[[#This Row],[TOTAL SALUD]]-Tabla4[[#This Row],[TOTAL SEGURO CESANTIA]]-Tabla4[[#This Row],[TOTAL ADICIONAL]]","v":0},{"$f":"IF(Tabla4[[#This Row],[PASO DESC. UNIC.]]<=$AT$5,0,IF(Tabla4[[#This Row],[PASO DESC. UNIC.]]<=$AT$6,Tabla4[[#This Row],[PASO DESC. UNIC.]]*$AU$6-$AV$6,IF(Tabla4[[#This Row],[PASO DESC. UNIC.]]<=$AT$7,Tabla4[[#This Row],[PASO DESC. UNIC.]]*$AU$7-$AV$7,IF(Tabla4[[#This Row],[PASO DESC. UNIC.]]<=$AT$8,Tabla4[[#This Row],[PASO DESC. UNIC.]]*$AU$8-$AV$8,IF(Tabla4[[#This Row],[PASO DESC. UNIC.]]<=$AT$9,Tabla4[[#This Row],[PASO DESC. UNIC.]]*$AU$9-$AV$9,IF(Tabla4[[#This Row],[PASO DESC. UNIC.]]<=$AT$10,Tabla4[[#This Row],[PASO DESC. UNIC.]]*$AU$10-$AV$10,IF(Tabla4[[#This Row],[PASO DESC. UNIC.]]>=$AS$11,Tabla4[[#This Row],[PASO DESC. UNIC.]]*$AU$11-$AV$11)))))))","v":0},{"$f":"Tabla4[[#This Row],[TOTAL AFP]]+Tabla4[[#This Row],[TOTAL SALUD]]+Tabla4[[#This Row],[TOTAL SEGURO CESANTIA]]+Tabla4[[#This Row],[TOTAL ADICIONAL]]+Tabla4[[#This Row],[VALOR IMP U.]]+Tabla4[[#This Row],[VALOR OTRO 2]]+Tabla4[[#This Row],[VALOR OTRO 1]]","v":0},null,{"$f":"IF($BP$8 = \"SI\",IF(Tabla4[[#This Row],[TIPO CONTRATO]]=\"Indefinido\",BDD!S160*2.4%,IF(Tabla4[[#This Row],[TIPO CONTRATO]]=\"PLAZO FIJO\",BDD!S160*3%,0)),0)","v":0},null,null,null,null,null,null,{"$f":"BDD!S160*Tabla4[[#This Row],[% SIS]]","v":0},null,null,{"$f":"BDD!S160*Tabla4[[#This Row],[%MUTUAL]]","v":0}]
[null,null,null,null,null,null,null,null,null,null,155,{"$f":"IF(BDD!J161=0,\" \",BDD!J161)","v":" "},null,null,{"$f":"IF(BDD!S161<_TOPEIMPONIBLE,BDD!S161*Tabla4[[#This Row],[%AFP]],_TOPEIMPONIBLE*Tabla4[[#This Row],[%AFP]])","v":0},null,null,{"$f":"IF(BDD!S161<_TOPEIMPONIBLE,BDD!S161*Tabla4[[#This Row],[%SALUD]],_TOPEIMPONIBLE*Tabla4[[#This Row],[%SALUD]])","v":0},null,null,{"$f":"BDD!S161*Tabla4[[#This Row],[%SEGURO]]","v":0},null,{"$f":"IF(Tabla4[[#This Row],[TOTAL UF]]-Tabla4[[#This Row],[TOTAL SALUD]]<=0,0,Tabla4[[#This Row],[TOTAL UF]]-Tabla4[[#This Row],[TOTAL SALUD]])","v":0},null,{"$f":"BDD!$N$4","v":37838.550000000003},{"$f":"Tabla4[[#This Row],[PACTO UF]]*Tabla4[[#This Row],[VALOR UF]]","v":0},"IMPUESTO UNICO",{"$f":"BDD!S161-Tabla4[[#This Row],[TOTAL AFP]]-Tabla4[[#This Row],[TOTAL SALUD]]-Tabla4[[#This Row],[TOTAL SEGURO CESANTIA]]-Tabla4[[#This Row],[TOTAL ADICIONAL]]","v":0},{"$f":"IF(Tabla4[[#This Row],[PASO DESC. UNIC.]]<=$AT$5,0,IF(Tabla4[[#This Row],[PASO DESC. UNIC.]]<=$AT$6,Tabla4[[#This Row],[PASO DESC. UNIC.]]*$AU$6-$AV$6,IF(Tabla4[[#This Row],[PASO DESC. UNIC.]]<=$AT$7,Tabla4[[#This Row],[PASO DESC. UNIC.]]*$AU$7-$AV$7,IF(Tabla4[[#This Row],[PASO DESC. UNIC.]]<=$AT$8,Tabla4[[#This Row],[PASO DESC. UNIC.]]*$AU$8-$AV$8,IF(Tabla4[[#This Row],[PASO DESC. UNIC.]]<=$AT$9,Tabla4[[#This Row],[PASO DESC. UNIC.]]*$AU$9-$AV$9,IF(Tabla4[[#This Row],[PASO DESC. UNIC.]]<=$AT$10,Tabla4[[#This Row],[PASO DESC. UNIC.]]*$AU$10-$AV$10,IF(Tabla4[[#This Row],[PASO DESC. UNIC.]]>=$AS$11,Tabla4[[#This Row],[PASO DESC. UNIC.]]*$AU$11-$AV$11)))))))","v":0},{"$f":"Tabla4[[#This Row],[TOTAL AFP]]+Tabla4[[#This Row],[TOTAL SALUD]]+Tabla4[[#This Row],[TOTAL SEGURO CESANTIA]]+Tabla4[[#This Row],[TOTAL ADICIONAL]]+Tabla4[[#This Row],[VALOR IMP U.]]+Tabla4[[#This Row],[VALOR OTRO 2]]+Tabla4[[#This Row],[VALOR OTRO 1]]","v":0},null,{"$f":"IF($BP$8 = \"SI\",IF(Tabla4[[#This Row],[TIPO CONTRATO]]=\"Indefinido\",BDD!S161*2.4%,IF(Tabla4[[#This Row],[TIPO CONTRATO]]=\"PLAZO FIJO\",BDD!S161*3%,0)),0)","v":0},null,null,null,null,null,null,{"$f":"BDD!S161*Tabla4[[#This Row],[% SIS]]","v":0},null,null,{"$f":"BDD!S161*Tabla4[[#This Row],[%MUTUAL]]","v":0}]
[null,null,null,null,null,null,null,null,null,null,null,{"$f":"IF(BDD!J162=0,\" \",BDD!J162)","v":" "},null,null,{"$f":"IF(BDD!S162<_TOPEIMPONIBLE,BDD!S162*Tabla4[[#This Row],[%AFP]],_TOPEIMPONIBLE*Tabla4[[#This Row],[%AFP]])","v":0},null,null,{"$f":"IF(BDD!S162<_TOPEIMPONIBLE,BDD!S162*Tabla4[[#This Row],[%SALUD]],_TOPEIMPONIBLE*Tabla4[[#This Row],[%SALUD]])","v":0},null,null,{"$f":"BDD!S162*Tabla4[[#This Row],[%SEGURO]]","v":0},null,{"$f":"IF(Tabla4[[#This Row],[TOTAL UF]]-Tabla4[[#This Row],[TOTAL SALUD]]<=0,0,Tabla4[[#This Row],[TOTAL UF]]-Tabla4[[#This Row],[TOTAL SALUD]])","v":0},null,{"$f":"BDD!$N$4","v":37838.550000000003},{"$f":"Tabla4[[#This Row],[PACTO UF]]*Tabla4[[#This Row],[VALOR UF]]","v":0},"IMPUESTO UNICO",{"$f":"BDD!S162-Tabla4[[#This Row],[TOTAL AFP]]-Tabla4[[#This Row],[TOTAL SALUD]]-Tabla4[[#This Row],[TOTAL SEGURO CESANTIA]]-Tabla4[[#This Row],[TOTAL ADICIONAL]]","v":0},{"$f":"IF(Tabla4[[#This Row],[PASO DESC. UNIC.]]<=$AT$5,0,IF(Tabla4[[#This Row],[PASO DESC. UNIC.]]<=$AT$6,Tabla4[[#This Row],[PASO DESC. UNIC.]]*$AU$6-$AV$6,IF(Tabla4[[#This Row],[PASO DESC. UNIC.]]<=$AT$7,Tabla4[[#This Row],[PASO DESC. UNIC.]]*$AU$7-$AV$7,IF(Tabla4[[#This Row],[PASO DESC. UNIC.]]<=$AT$8,Tabla4[[#This Row],[PASO DESC. UNIC.]]*$AU$8-$AV$8,IF(Tabla4[[#This Row],[PASO DESC. UNIC.]]<=$AT$9,Tabla4[[#This Row],[PASO DESC. UNIC.]]*$AU$9-$AV$9,IF(Tabla4[[#This Row],[PASO DESC. UNIC.]]<=$AT$10,Tabla4[[#This Row],[PASO DESC. UNIC.]]*$AU$10-$AV$10,IF(Tabla4[[#This Row],[PASO DESC. UNIC.]]>=$AS$11,Tabla4[[#This Row],[PASO DESC. UNIC.]]*$AU$11-$AV$11)))))))","v":0},{"$f":"Tabla4[[#This Row],[TOTAL AFP]]+Tabla4[[#This Row],[TOTAL SALUD]]+Tabla4[[#This Row],[TOTAL SEGURO CESANTIA]]+Tabla4[[#This Row],[TOTAL ADICIONAL]]+Tabla4[[#This Row],[VALOR IMP U.]]+Tabla4[[#This Row],[VALOR OTRO 2]]+Tabla4[[#This Row],[VALOR OTRO 1]]","v":0},null,{"$f":"IF($BP$8 = \"SI\",IF(Tabla4[[#This Row],[TIPO CONTRATO]]=\"Indefinido\",BDD!S162*2.4%,IF(Tabla4[[#This Row],[TIPO CONTRATO]]=\"PLAZO FIJO\",BDD!S162*3%,0)),0)","v":0},null,null,null,null,null,null,{"$f":"BDD!S162*Tabla4[[#This Row],[% SIS]]","v":0},null,null,{"$f":"BDD!S162*Tabla4[[#This Row],[%MUTUAL]]","v":0}]

{"sheet":"1","index":4,"n_rows":75,"n_cols":23,"rows_kept":75,"cut":false,"hidden":false,"merged":[[30,15,30,17],[41,12,43,13],[39,11,39,13],[45,16,45,17],[46,16,46,17],[33,16,33,17],[32,16,32,17],[5,10,5,15],[19,12,21,13],[34,16,34,17],[9,9,9,15],[10,9,10,15],[24,16,24,17],[25,16,25,17],[26,16,26,17],[23,16,23,17],[22,16,22,17],[28,16,28,17],[27,16,27,17],[30,11,30,13],[11,9,11,15],[12,10,12,13],[14,10,14,11],[17,16,17,17],[74,9,74,10],[61,11,61,13],[62,11,62,13],[63,11,63,13],[71,8,71,17],[63,15,63,17],[70,8,70,17],[61,16,61,17],[62,16,62,17],[74,12,74,14],[56,11,56,13],[57,16,57,17],[36,16,36,17],[35,16,35,17],[50,16,50,17],[58,16,58,17],[59,16,59,17],[7,16,7,18],[37,16,37,17],[53,11,53,13],[47,16,47,17],[48,16,48,17],[49,16,49,17],[51,16,51,17],[37,11,37,14],[53,15,53,17],[39,15,39,17],[13,10,13,13],[16,16,16,17],[16,14,16,15],[17,14,17,15]]}
[null,null,null,null,null,null,null,null,null,null,null,null,null,null,null,null,1]
[]
[]
[]
[]
[null,null,null,null,null,null,null,null,null,null,"LIQUIDACIÓN DE REMUNERACIONES"]
[null,null,null,null,null,null,1]
[null,null,null,null,null,null,null,null,{"$f":"Tabla3[[#Headers],[ASIGNACIÓN OBRA]]","v":"ASIGNACIÓN OBRA"},{"$f":"IF(IFERROR(VLOOKUP($A$13,BDD!I7:AI70,25,0),\"\")=0,\"\",IFERROR(VLOOKUP($A$13,BDD!I7:AI70,25,0),\"\"))","v":""},null,null,null,null,null,"Mes:",{"$f":"BDD!N3","v":"2024-04-01"}]
[]
[null,null,null,null,null,null,null,null,null,{"$f":"IFERROR(MENU!K13,\"\")","v":"NOMBRE DE TU EMPRESA"}]
[null,null,null,null,null,null,null,null,null,{"$f":"IFERROR(MENU!K14,\"\")","v":"RUT DE TU EMPRESA"}]
[null,null,null,null,null,null,null,null,null,{"$f":"IFERROR(MENU!K15,\"\")","v":"DIRECCION DE TU EMPRESA"}]
[{"$f":"Q1","v":1},null,null,null,null,null,null,null,"TRABAJADOR (A)",":",{"$f":"IFERROR(VLOOKUP($A$13,BDD!I7:AB180,2,0),\"\")","v":"Trabajador 1"}]
[null,null,null,null,null,null,null,null,"RUT",":",{"$f":"IFERROR(VLOOKUP($A$13,BDD!I7:AB180,3,0),\"\")","v":"16.346.113-7"}]
[null,null,null,null,null,null,null,null,"FECHA CONTRATO",":",{"$f":"VLOOKUP($A$13,BDD!I7:AB180,4,0)","v":44986}]
[null,null,null,null,null,null,null,null,"CARGO",":",{"$f":"IFERROR(VLOOKUP($A$13,BDD!I7:AB180,5,0),\"\")","v":"Lider Especialista de Control Centralizado "}]
[null,null,null,null,null,null,null,null,null,null,null,null,null,null,"VALOR UF:",null,{"$f":"_VALORUF","v":37838.550000000003}]
[null,null,null,null,null,null,null,null,"Días Trabajados :",{"$f":"IFERROR(VLOOKUP($A$13,BDD!I7:AB180,19,0),\"\")","v":30},null,null,null,null,"TOPE IMPONIBLE:",null,{"$f":"_TOPEIMPONIBLE","v":3100000}]
[]
[null,null,null,null,null,null,null,null,null,null,null,null,"HABERES"]
[]
[]
[]
[null,null,null,null,null,null,null,null,"SUELDO BASE",null,null,null,null,null,null,null,{"$f":"IFERROR(VLOOKUP($A$13,BDD!I7:AB180,6,0),\"\")","v":1200000},null,null,null,null,null,70]
[null,null,null,null,null,null,null,null,"GRATIFICACIÓN LEGAL",null,null,null,null,null,null,null,{"$f":"IFERROR(VLOOKUP($A$13,BDD!I7:AB180,9,0),\"\")","v":182083}]
[null,null,null,null,null,null,null,null,{"$f":"IFERROR(VLOOKUP($A$13,BDD!I7:AM180,29,0),\"\")","v":0},null,null,null,null,null,null,null,{"$f":"IFERROR(VLOOKUP($A$13,BDD!I7:AM180,27,0),\"\")","v":0}]
[null,null,null,null,null,null,null,null,{"$f":"IFERROR(VLOOKUP($A$13,BDD!I7:AI180,22,0),\"\")","v":0},null,null,null,null,null,null,null,{"$f":"IFERROR(VLOOKUP($A$13,BDD!I7:AI180,23,0),\"\")","v":0}]
[null,null,null,null,null,null,null,null,{"$f":"Tabla3[[#Headers],[BONO IMPONIBLE 1]]","v":"BONO IMPONIBLE 1"},null,null,null,null,null,null,null,{"$f":"IFERROR(VLOOKUP($A$13,BDD!I7:AP180,32,0),\"\")","v":0}]
[null,null,null,null,null,null,null,null,{"$f":"Tabla3[[#Headers],[BONO IMPONIBLE 2]]","v":"BONO IMPONIBLE 2"},null,null,null,null,null,null,null,{"$f":"IFERROR(VLOOKUP($A$13,BDD!I7:AP180,33,0),\"\")","v":0}]
[]
[null,null,null,null,null,null,null,null,null,null,null,"** TOTAL IMPONIBLES **",null,null,null,{"$f":"IFERROR(VLOOKUP($A$13,BDD!I7:AI180,11,0),\"\")","v":1382083}]
[]
[null,null,null,null,null,null,null,null,{"$f":"Tabla3[[#Headers],[NO IMPONIBLE 1]]","v":"NO IMPONIBLE 1"},null,null,null,null,null,null,null,{"$f":"IFERROR(VLOOKUP($A$13,BDD!I7:AW180,34,0),\"\")","v":0}]
[null,null,null,null,null,null,null,null,{"$f":"Tabla3[[#Headers],[NO IMPONIBLE 2]]","v":"NO IMPONIBLE 2"},null,null,null,null,null,null,null,{"$f":"IFERROR(VLOOKUP($A$13,BDD!I7:AW180,35,0),\"\")","v":0}]
[null,null,null,null,null,null,null,null,{"$f":"Tabla3[[#Headers],[VIATICO]]","v":"VIATICO"},null,null,null,null,null,null,null,{"$f":"IFERROR(VLOOKUP($A$13,BDD!I7:AI180,16,0),\"\")","v":0},null,null,null,null,null,{"$f":"Q33","v":0}]
[null,null,null,null,null,null,null,null,{"$f":"Tabla3[[#Headers],[BONO COLACIÓN]]","v":"BONO COLACIÓN"},null,null,null,null,null,null,null,{"$f":"IFERROR(VLOOKUP($A$13,BDD!I7:AI180,13,0),\"\")","v":0}]
[null,null,null,null,null,null,null,null,{"$f":"Tabla3[[#Headers],[BONO MOVILIZACIÓN]]","v":"BONO MOVILIZACIÓN"},null,null,null,null,null,null,null,{"$f":"IFERROR(VLOOKUP($A$13,BDD!I7:AI180,15,0),\"\")","v":0}]
[null,null,null,null,null,null,null,null,null,null,null,"**NO IMPONIBLE****",null,null,null,null,{"$f":"IFERROR(VLOOKUP($A$13,BDD!I7:AI180,18,0),\"\")","v":0}]
[null,null,null,null,null,null,null,null,null,null,null,null,null,null,null,null,{"$f":"SUM(Q31:Q38)","v":0},{"$f":"SUM(Q39)","v":0}]
[null,null,null,null,null,null,null,null,null,null,null,"** TOTAL HABERES **",null,null,null,{"$f":"IFERROR(VLOOKUP($A$13,BDD!I7:AI180,20,0),\"\")","v":1382083}]
[]
[null,null,null,null,null,null,null,null,null,null,null,null,"DESCUENTOS"]
[]
[]
[]
[null,null,null,null,null,null,null,null,{"$f":"IFERROR(VLOOKUP($A$13,DESC.!K5:AD180,3,0),\"\")","v":"AFP CAPITAL"},null,{"$f":"IFERROR(VLOOKUP($A$13,DESC.!$K$5:$AD$70,4,0),\"\")","v":0.1144},null,null,null,null,null,{"$f":"IFERROR(VLOOKUP($A$13,DESC.!K5:AD180,5,0),\"\")","v":158110.29519999999}]
[null,null,null,null,null,null,null,null,{"$f":"IFERROR(VLOOKUP($A$13,DESC.!K5:AD180,6,0),\"\")","v":"BANMEDICA "},null,{"$f":"IFERROR(VLOOKUP($A$13,DESC.!$K$5:$AD$70,7,0),\"\")","v":0},null,null,null,null,null,{"$f":"IFERROR(VLOOKUP($A$13,DESC.!K5:AD180,8,0),\"\")","v":0}]
[null,null,null,null,null,null,null,null,{"$f":"IFERROR(VLOOKUP($A$13,DESC.!K5:AD180,9,0),\"\")","v":"SEGURO CESANTIA"},null,{"$f":"IFERROR(VLOOKUP($A$13,DESC.!$K$5:$AD$70,10,0),\"\")","v":0},null,null,null,null,null,{"$f":"IFERROR(VLOOKUP($A$13,DESC.!K5:AD180,11,0),\"\")","v":0}]
[null,null,null,null,null,null,null,null,{"$f":"IFERROR(VLOOKUP($A$13,DESC.!K5:AD180,12,0),\"\")","v":"BANMEDICA     3,213UF"},null,null,null,null,null,null,null,{"$f":"IFERROR(VLOOKUP($A$13,DESC.!K5:AD180,13,0),\"\")","v":121575.26115000001}]
[null,null,null,null,null,null,null,null,{"$f":"IFERROR(VLOOKUP($A$13,DESC.!K5:AD180,17,0),\"\")","v":"IMPUESTO UNICO"},null,null,null,null,null,null,null,{"$f":"IFERROR(VLOOKUP($A$13,DESC.!K5:AD180,19,0),\"\")","v":9419.257746000003}]
[null,null,null,null,null,null,null,null,{"$f":"IFERROR(VLOOKUP($A$13,DESC.!K5:AJ180,23,0),\"\")","v":0},null,null,null,null,null,null,null,{"$f":"IFERROR(VLOOKUP($A$13,DESC.!K5:AH180,24,0),\"\")","v":0}]
[null,null,null,null,null,null,null,null,{"$f":"IFERROR(VLOOKUP($A$13,DESC.!K5:AJ180,25,0),\"\")","v":0},null,null,null,null,null,null,null,{"$f":"IFERROR(VLOOKUP($A$13,DESC.!K5:AJ180,26,0),\"\")","v":0}]
[]
[null,null,null,null,null,null,null,null,null,null,null,"** TOTAL DESCUENTOS **",null,null,null,{"$f":"IFERROR(VLOOKUP($A$13,DESC.!K5:AD180,20,0),\"\")","v":289104.81409599999}]
[]
[]
[null,null,null,null,null,null,null,null,null,null,null,"**APORTE EMPLEADOR**"]
[null,null,null,null,null,null,null,null,"SEGURO CESANTIA",null,null,null,null,null,null,null,{"$f":"IFERROR(VLOOKUP($A$13,DESC.!K5:AF180,22,0),\"\")","v":41462.49}]
[null,null,null,null,null,null,null,null,"SIS",null,null,null,null,null,null,null,{"$f":"IFERROR(VLOOKUP($A$13,DESC.!K5:AP180,29,0),\"\")","v":21422.286499999998}]
[null,null,null,null,null,null,null,null,"MUTUAL",null,null,null,null,null,null,null,{"$f":"IFERROR(VLOOKUP($A$13,DESC.!K5:AP180,32,0),\"\")","v":13129.788500000001}]
[]
[null,null,null,null,null,null,null,null,null,null,null,"** ALCANCE LIQUIDOS**",null,null,null,null,{"$f":"IFERROR(VLOOKUP($A$13,BDD!I7:AI180,24,0)+Q63,\"\")","v":1092978.185904}]
[null,null,null,null,null,null,null,null,null,null,null,"ANTICIPOS",null,null,null,null,{"$f":"IFERROR(VLOOKUP($A$13,BDD!I7:AI180,21,0),\"\")","v":0}]
[null,null,null,null,null,null,null,null,null,null,null,"TOTAL A PAGAR",null,null,null,{"$f":"IFERROR(ROUND(VLOOKUP($A$13,BDD!I7:AI180,24,0),0),\"\")","v":1092978}]
[]
[]
[null,null,null,null,null,null,null,null,"EN LETRAS : ",{"$f":"IFERROR(PATerson(P64),\"\")","v":"Un Millon Noventa y Dos Mil Novecientos Setenta y Ocho Pesos"}]
[]
[]
[]
[null,null,null,null,null,null,null,null,{"$f":"\"Certifico que he recibido de \"&MENU!K13&\" , a mi entera satisfacción el Saldo\"","v":"Certifico que he recibido de NOMBRE DE TU EMPRESA , a mi entera satisfacción el Saldo"}]
[null,null,null,null,null,null,null,null," indicado en la presente liquidación y no tengo cargo ni cobro posteriores que hacer. "]
[]
[]
[null,null,null,null,null,null,null,null,"FECHA EMISION :",{"$f":"TODAY()","v":45415},null,null,"Recibí Conforme"]

{"sheet":"Hoja1","index":5,"n_rows":0,"n_cols":0,"rows_kept":0,"cut":false,"hidden":false,"merged":[]}

{"sheet":"Planilla De Pago","index":6,"n_rows":59,"n_cols":13,"rows_kept":59,"cut":false,"hidden":false,"merged":[[4,5,5,9],[1,4,1,11],[2,4,2,11],[3,4,3,11],[6,9,6,11]]}
[]
[]
[]
[null,null,null,null,null,null,null,null,null,null,null,null,{"$f":"TODAY()","v":45415}]
[null,null,null,null,null,"PLANILLA DE PAGO"]
[]
[null,null,null,null,null,null,null,null,"MES :",{"$f":"BDD!N3","v":"2024-04-01"}]
[]
[null,null,null,"N°","NOMBRE","RUT","SUELDO BASE","TOTAL HABER","TOTAL DESC.","ANTICIPO","SALDO LIQUIDO","RECIBI COMFORME"]
[null,null,null,1,{"$f":"IFERROR(VLOOKUP(D10,BDD!$I$7:$AB$70,2,0),\"\")","v":"Trabajador 1"},{"$f":"IFERROR(VLOOKUP(D10,BDD!$I$7:$AB$70,3,0),\"\")","v":"16.346.113-7"},{"$f":"IFERROR(VLOOKUP(D10,BDD!$I$7:$AB$70,6,0),\"\")","v":1200000},{"$f":"IFERROR(VLOOKUP(D10,BDD!$I$7:$AI$70,20,0),\"\")","v":1382083},{"$f":"IFERROR(VLOOKUP(D10,DESC.!$K$5:$AD$70,20,0),\"\")","v":289104.81409599999},{"$f":"IFERROR(VLOOKUP(D10,BDD!$I$7:$AI$70,21,0),\"\")","v":0},{"$f":"IFERROR(ROUND(VLOOKUP(D10,BDD!$I$7:$AI$70,24,0),0),\"\")","v":1092978}]
[null,null,null,2,{"$f":"IFERROR(VLOOKUP(D11,BDD!$I$7:$AB$70,2,0),\"\")","v":"Trabajador 2"},{"$f":"IFERROR(VLOOKUP(D11,BDD!$I$7:$AB$70,3,0),\"\")","v":"25.607.046-4"},{"$f":"IFERROR(VLOOKUP(D11,BDD!$I$7:$AB$70,6,0),\"\")","v":900000},{"$f":"IFERROR(VLOOKUP(D11,BDD!$I$7:$AI$70,20,0),\"\")","v":1282438},{"$f":"IFERROR(VLOOKUP(D11,DESC.!$K$5:$AD$70,20,0),\"\")","v":163440},{"$f":"IFERROR(VLOOKUP(D11,BDD!$I$7:$AI$70,21,0),\"\")","v":0},{"$f":"IFERROR(ROUND(VLOOKUP(D11,BDD!$I$7:$AI$70,24,0),0),\"\")","v":1118998}]
[null,null,null,3,{"$f":"IFERROR(VLOOKUP(D12,BDD!$I$7:$AB$70,2,0),\"\")","v":"Trabajador 3"},{"$f":"IFERROR(VLOOKUP(D12,BDD!$I$7:$AB$70,3,0),\"\")","v":"16.322.537-9"},{"$f":"IFERROR(VLOOKUP(D12,BDD!$I$7:$AB$70,6,0),\"\")","v":1850000},{"$f":"IFERROR(VLOOKUP(D12,BDD!$I$7:$AI$70,20,0),\"\")","v":2468480},{"$f":"IFERROR(VLOOKUP(D12,DESC.!$K$5:$AD$70,20,0),\"\")","v":369836.14140800002},{"$f":"IFERROR(VLOOKUP(D12,BDD!$I$7:$AI$70,21,0),\"\")","v":0},{"$f":"IFERROR(ROUND(VLOOKUP(D12,BDD!$I$7:$AI$70,24,0),0),\"\")","v":2098644}]
[null,null,null,4,{"$f":"IFERROR(VLOOKUP(D13,BDD!$I$7:$AB$70,2,0),\"\")","v":"Trabajador 4"},{"$f":"IFERROR(VLOOKUP(D13,BDD!$I$7:$AB$70,3,0),\"\")","v":"17.486.100-5"},{"$f":"IFERROR(VLOOKUP(D13,BDD!$I$7:$AB$70,6,0),\"\")","v":1100000},{"$f":"IFERROR(VLOOKUP(D13,BDD!$I$7:$AI$70,20,0),\"\")","v":1478366},{"$f":"IFERROR(VLOOKUP(D13,DESC.!$K$5:$AD$70,20,0),\"\")","v":194968.16},{"$f":"IFERROR(VLOOKUP(D13,BDD!$I$7:$AI$70,21,0),\"\")","v":0},{"$f":"IFERROR(ROUND(VLOOKUP(D13,BDD!$I$7:$AI$70,24,0),0),\"\")","v":1283398}]
[null,null,null,5,{"$f":"IFERROR(VLOOKUP(D14,BDD!$I$7:$AB$70,2,0),\"\")","v":"Trabajador 5"},{"$f":"IFERROR(VLOOKUP(D14,BDD!$I$7:$AB$70,3,0),\"\")","v":"16.932.429-8"},{"$f":"IFERROR(VLOOKUP(D14,BDD!$I$7:$AB$70,6,0),\"\")","v":460000},{"$f":"IFERROR(VLOOKUP(D14,BDD!$I$7:$AI$70,20,0),\"\")","v":756850},{"$f":"IFERROR(VLOOKUP(D14,DESC.!$K$5:$AD$70,20,0),\"\")","v":101085},{"$f":"IFERROR(VLOOKUP(D14,BDD!$I$7:$AI$70,21,0),\"\")","v":0},{"$f":"IFERROR(ROUND(VLOOKUP(D14,BDD!$I$7:$AI$70,24,0),0),\"\")","v":655765}]
[null,null,null,6,{"$f":"IFERROR(VLOOKUP(D15,BDD!$I$7:$AB$70,2,0),\"\")","v":0},{"$f":"IFERROR(VLOOKUP(D15,BDD!$I$7:$AB$70,3,0),\"\")","v":0},{"$f":"IFERROR(VLOOKUP(D15,BDD!$I$7:$AB$70,6,0),\"\")","v":0},{"$f":"IFERROR(VLOOKUP(D15,BDD!$I$7:$AI$70,20,0),\"\")","v":0},{"$f":"IFERROR(VLOOKUP(D15,DESC.!$K$5:$AD$70,20,0),\"\")","v":0},{"$f":"IFERROR(VLOOKUP(D15,BDD!$I$7:$AI$70,21,0),\"\")","v":0},{"$f":"IFERROR(ROUND(VLOOKUP(D15,BDD!$I$7:$AI$70,24,0),0),\"\")","v":0}]
[null,null,null,7,{"$f":"IFERROR(VLOOKUP(D16,BDD!$I$7:$AB$70,2,0),\"\")","v":0},{"$f":"IFERROR(VLOOKUP(D16,BDD!$I$7:$AB$70,3,0),\"\")","v":0},{"$f":"IFERROR(VLOOKUP(D16,BDD!$I$7:$AB$70,6,0),\"\")","v":0},{"$f":"IFERROR(VLOOKUP(D16,BDD!$I$7:$AI$70,20,0),\"\")","v":0},{"$f":"IFERROR(VLOOKUP(D16,DESC.!$K$5:$AD$70,20,0),\"\")","v":0},{"$f":"IFERROR(VLOOKUP(D16,BDD!$I$7:$AI$70,21,0),\"\")","v":0},{"$f":"IFERROR(ROUND(VLOOKUP(D16,BDD!$I$7:$AI$70,24,0),0),\"\")","v":0}]
[null,null,null,8,{"$f":"IFERROR(VLOOKUP(D17,BDD!$I$7:$AB$70,2,0),\"\")","v":0},{"$f":"IFERROR(VLOOKUP(D17,BDD!$I$7:$AB$70,3,0),\"\")","v":0},{"$f":"IFERROR(VLOOKUP(D17,BDD!$I$7:$AB$70,6,0),\"\")","v":0},{"$f":"IFERROR(VLOOKUP(D17,BDD!$I$7:$AI$70,20,0),\"\")","v":0},{"$f":"IFERROR(VLOOKUP(D17,DESC.!$K$5:$AD$70,20,0),\"\")","v":0},{"$f":"IFERROR(VLOOKUP(D17,BDD!$I$7:$AI$70,21,0),\"\")","v":0},{"$f":"IFERROR(ROUND(VLOOKUP(D17,BDD!$I$7:$AI$70,24,0),0),\"\")","v":0}]
[null,null,null,9,{"$f":"IFERROR(VLOOKUP(D18,BDD!$I$7:$AB$70,2,0),\"\")","v":0},{"$f":"IFERROR(VLOOKUP(D18,BDD!$I$7:$AB$70,3,0),\"\")","v":0},{"$f":"IFERROR(VLOOKUP(D18,BDD!$I$7:$AB$70,6,0),\"\")","v":0},{"$f":"IFERROR(VLOOKUP(D18,BDD!$I$7:$AI$70,20,0),\"\")","v":0},{"$f":"IFERROR(VLOOKUP(D18,DESC.!$K$5:$AD$70,20,0),\"\")","v":0},{"$f":"IFERROR(VLOOKUP(D18,BDD!$I$7:$AI$70,21,0),\"\")","v":0},{"$f":"IFERROR(ROUND(VLOOKUP(D18,BDD!$I$7:$AI$70,24,0),0),\"\")","v":0}]
[null,null,null,10,{"$f":"IFERROR(VLOOKUP(D19,BDD!$I$7:$AB$70,2,0),\"\")","v":0},{"$f":"IFERROR(VLOOKUP(D19,BDD!$I$7:$AB$70,3,0),\"\")","v":0},{"$f":"IFERROR(VLOOKUP(D19,BDD!$I$7:$AB$70,6,0),\"\")","v":0},{"$f":"IFERROR(VLOOKUP(D19,BDD!$I$7:$AI$70,20,0),\"\")","v":0},{"$f":"IFERROR(VLOOKUP(D19,DESC.!$K$5:$AD$70,20,0),\"\")","v":0},{"$f":"IFERROR(VLOOKUP(D19,BDD!$I$7:$AI$70,21,0),\"\")","v":0},{"$f":"IFERROR(ROUND(VLOOKUP(D19,BDD!$I$7:$AI$70,24,0),0),\"\")","v":0}]
[null,null,null,12,{"$f":"IFERROR(VLOOKUP(D20,BDD!$I$7:$AB$70,2,0),\"\")","v":0},{"$f":"IFERROR(VLOOKUP(D20,BDD!$I$7:$AB$70,3,0),\"\")","v":0},{"$f":"IFERROR(VLOOKUP(D20,BDD!$I$7:$AB$70,6,0),\"\")","v":0},{"$f":"IFERROR(VLOOKUP(D20,BDD!$I$7:$AI$70,20,0),\"\")","v":0},{"$f":"IFERROR(VLOOKUP(D20,DESC.!$K$5:$AD$70,20,0),\"\")","v":0},{"$f":"IFERROR(VLOOKUP(D20,BDD!$I$7:$AI$70,21,0),\"\")","v":0},{"$f":"IFERROR(ROUND(VLOOKUP(D20,BDD!$I$7:$AI$70,24,0),0),\"\")","v":0}]
[null,null,null,13,{"$f":"IFERROR(VLOOKUP(D21,BDD!$I$7:$AB$70,2,0),\"\")","v":0},{"$f":"IFERROR(VLOOKUP(D21,BDD!$I$7:$AB$70,3,0),\"\")","v":0},{"$f":"IFERROR(VLOOKUP(D21,BDD!$I$7:$AB$70,6,0),\"\")","v":0},{"$f":"IFERROR(VLOOKUP(D21,BDD!$I$7:$AI$70,20,0),\"\")","v":0},{"$f":"IFERROR(VLOOKUP(D21,DESC.!$K$5:$AD$70,20,0),\"\")","v":0},{"$f":"IFERROR(VLOOKUP(D21,BDD!$I$7:$AI$70,21,0),\"\")","v":0},{"$f":"IFERROR(ROUND(VLOOKUP(D21,BDD!$I$7:$AI$70,24,0),0),\"\")","v":0}]
[null,null,null,14,{"$f":"IFERROR(VLOOKUP(D22,BDD!$I$7:$AB$70,2,0),\"\")","v":0},{"$f":"IFERROR(VLOOKUP(D22,BDD!$I$7:$AB$70,3,0),\"\")","v":0},{"$f":"IFERROR(VLOOKUP(D22,BDD!$I$7:$AB$70,6,0),\"\")","v":0},{"$f":"IFERROR(VLOOKUP(D22,BDD!$I$7:$AI$70,20,0),\"\")","v":0},{"$f":"IFERROR(VLOOKUP(D22,DESC.!$K$5:$AD$70,20,0),\"\")","v":0},{"$f":"IFERROR(VLOOKUP(D22,BDD!$I$7:$AI$70,21,0),\"\")","v":0},{"$f":"IFERROR(ROUND(VLOOKUP(D22,BDD!$I$7:$AI$70,24,0),0),\"\")","v":0}]
[null,null,null,15,{"$f":"IFERROR(VLOOKUP(D23,BDD!$I$7:$AB$70,2,0),\"\")","v":0},{"$f":"IFERROR(VLOOKUP(D23,BDD!$I$7:$AB$70,3,0),\"\")","v":0},{"$f":"IFERROR(VLOOKUP(D23,BDD!$I$7:$AB$70,6,0),\"\")","v":0},{"$f":"IFERROR(VLOOKUP(D23,BDD!$I$7:$AI$70,20,0),\"\")","v":0},{"$f":"IFERROR(VLOOKUP(D23,DESC.!$K$5:$AD$70,20,0),\"\")","v":0},{"$f":"IFERROR(VLOOKUP(D23,BDD!$I$7:$AI$70,21,0),\"\")","v":0},{"$f":"IFERROR(ROUND(VLOOKUP(D23,BDD!$I$7:$AI$70,24,0),0),\"\")","v":0}]
[null,null,null,16,{"$f":"IFERROR(VLOOKUP(D24,BDD!$I$7:$AB$70,2,0),\"\")","v":0},{"$f":"IFERROR(VLOOKUP(D24,BDD!$I$7:$AB$70,3,0),\"\")","v":0},{"$f":"IFERROR(VLOOKUP(D24,BDD!$I$7:$AB$70,6,0),\"\")","v":0},{"$f":"IFERROR(VLOOKUP(D24,BDD!$I$7:$AI$70,20,0),\"\")","v":0},{"$f":"IFERROR(VLOOKUP(D24,DESC.!$K$5:$AD$70,20,0),\"\")","v":0},{"$f":"IFERROR(VLOOKUP(D24,BDD!$I$7:$AI$70,21,0),\"\")","v":0},{"$f":"IFERROR(ROUND(VLOOKUP(D24,BDD!$I$7:$AI$70,24,0),0),\"\")","v":0}]
[null,null,null,17,{"$f":"IFERROR(VLOOKUP(D25,BDD!$I$7:$AB$70,2,0),\"\")","v":0},{"$f":"IFERROR(VLOOKUP(D25,BDD!$I$7:$AB$70,3,0),\"\")","v":0},{"$f":"IFERROR(VLOOKUP(D25,BDD!$I$7:$AB$70,6,0),\"\")","v":0},{"$f":"IFERROR(VLOOKUP(D25,BDD!$I$7:$AI$70,20,0),\"\")","v":0},{"$f":"IFERROR(VLOOKUP(D25,DESC.!$K$5:$AD$70,20,0),\"\")","v":0},{"$f":"IFERROR(VLOOKUP(D25,BDD!$I$7:$AI$70,21,0),\"\")","v":0},{"$f":"IFERROR(ROUND(VLOOKUP(D25,BDD!$I$7:$AI$70,24,0),0),\"\")","v":0}]
[null,null,null,18,{"$f":"IFERROR(VLOOKUP(D26,BDD!$I$7:$AB$70,2,0),\"\")","v":0},{"$f":"IFERROR(VLOOKUP(D26,BDD!$I$7:$AB$70,3,0),\"\")","v":0},{"$f":"IFERROR(VLOOKUP(D26,BDD!$I$7:$AB$70,6,0),\"\")","v":0},{"$f":"IFERROR(VLOOKUP(D26,BDD!$I$7:$AI$70,20,0),\"\")","v":0},{"$f":"IFERROR(VLOOKUP(D26,DESC.!$K$5:$AD$70,20,0),\"\")","v":0},{"$f":"IFERROR(VLOOKUP(D26,BDD!$I$7:$AI$70,21,0),\"\")","v":0},{"$f":"IFERROR(ROUND(VLOOKUP(D26,BDD!$I$7:$AI$70,24,0),0),\"\")","v":0}]
[null,null,null,19,{"$f":"IFERROR(VLOOKUP(D27,BDD!$I$7:$AB$70,2,0),\"\")","v":0},{"$f":"IFERROR(VLOOKUP(D27,BDD!$I$7:$AB$70,3,0),\"\")","v":0},{"$f":"IFERROR(VLOOKUP(D27,BDD!$I$7:$AB$70,6,0),\"\")","v":0},{"$f":"IFERROR(VLOOKUP(D27,BDD!$I$7:$AI$70,20,0),\"\")","v":0},{"$f":"IFERROR(VLOOKUP(D27,DESC.!$K$5:$AD$70,20,0),\"\")","v":0},{"$f":"IFERROR(VLOOKUP(D27,BDD!$I$7:$AI$70,21,0),\"\")","v":0},{"$f":"IFERROR(ROUND(VLOOKUP(D27,BDD!$I$7:$AI$70,24,0),0),\"\")","v":0}]
[null,null,null,20,{"$f":"IFERROR(VLOOKUP(D28,BDD!$I$7:$AB$70,2,0),\"\")","v":0},{"$f":"IFERROR(VLOOKUP(D28,BDD!$I$7:$AB$70,3,0),\"\")","v":0},{"$f":"IFERROR(VLOOKUP(D28,BDD!$I$7:$AB$70,6,0),\"\")","v":0},{"$f":"IFERROR(VLOOKUP(D28,BDD!$I$7:$AI$70,20,0),\"\")","v":0},{"$f":"IFERROR(VLOOKUP(D28,DESC.!$K$5:$AD$70,20,0),\"\")","v":0},{"$f":"IFERROR(VLOOKUP(D28,BDD!$I$7:$AI$70,21,0),\"\")","v":0},{"$f":"IFERROR(ROUND(VLOOKUP(D28,BDD!$I$7:$AI$70,24,0),0),\"\")","v":0}]
[null,null,null,21,{"$f":"IFERROR(VLOOKUP(D29,BDD!$I$7:$AB$70,2,0),\"\")","v":0},{"$f":"IFERROR(VLOOKUP(D29,BDD!$I$7:$AB$70,3,0),\"\")","v":0},{"$f":"IFERROR(VLOOKUP(D29,BDD!$I$7:$AB$70,6,0),\"\")","v":0},{"$f":"IFERROR(VLOOKUP(D29,BDD!$I$7:$AI$70,20,0),\"\")","v":0},{"$f":"IFERROR(VLOOKUP(D29,DESC.!$K$5:$AD$70,20,0),\"\")","v":0},{"$f":"IFERROR(VLOOKUP(D29,BDD!$I$7:$AI$70,21,0),\"\")","v":0},{"$f":"IFERROR(ROUND(VLOOKUP(D29,BDD!$I$7:$AI$70,24,0),0),\"\")","v":0}]
[null,null,null,22,{"$f":"IFERROR(VLOOKUP(D30,BDD!$I$7:$AB$70,2,0),\"\")","v":0},{"$f":"IFERROR(VLOOKUP(D30,BDD!$I$7:$AB$70,3,0),\"\")","v":0},{"$f":"IFERROR(VLOOKUP(D30,BDD!$I$7:$AB$70,6,0),\"\")","v":0},{"$f":"IFERROR(VLOOKUP(D30,BDD!$I$7:$AI$70,20,0),\"\")","v":0},{"$f":"IFERROR(VLOOKUP(D30,DESC.!$K$5:$AD$70,20,0),\"\")","v":0},{"$f":"IFERROR(VLOOKUP(D30,BDD!$I$7:$AI$70,21,0),\"\")","v":0},{"$f":"IFERROR(ROUND(VLOOKUP(D30,BDD!$I$7:$AI$70,24,0),0),\"\")","v":0}]
[null,null,null,23,{"$f":"IFERROR(VLOOKUP(D31,BDD!$I$7:$AB$70,2,0),\"\")","v":0},{"$f":"IFERROR(VLOOKUP(D31,BDD!$I$7:$AB$70,3,0),\"\")","v":0},{"$f":"IFERROR(VLOOKUP(D31,BDD!$I$7:$AB$70,6,0),\"\")","v":0},{"$f":"IFERROR(VLOOKUP(D31,BDD!$I$7:$AI$70,20,0),\"\")","v":0},{"$f":"IFERROR(VLOOKUP(D31,DESC.!$K$5:$AD$70,20,0),\"\")","v":0},{"$f":"IFERROR(VLOOKUP(D31,BDD!$I$7:$AI$70,21,0),\"\")","v":0},{"$f":"IFERROR(ROUND(VLOOKUP(D31,BDD!$I$7:$AI$70,24,0),0),\"\")","v":0}]
[null,null,null,24,{"$f":"IFERROR(VLOOKUP(D32,BDD!$I$7:$AB$70,2,0),\"\")","v":0},{"$f":"IFERROR(VLOOKUP(D32,BDD!$I$7:$AB$70,3,0),\"\")","v":0},{"$f":"IFERROR(VLOOKUP(D32,BDD!$I$7:$AB$70,6,0),\"\")","v":0},{"$f":"IFERROR(VLOOKUP(D32,BDD!$I$7:$AI$70,20,0),\"\")","v":0},{"$f":"IFERROR(VLOOKUP(D32,DESC.!$K$5:$AD$70,20,0),\"\")","v":0},{"$f":"IFERROR(VLOOKUP(D32,BDD!$I$7:$AI$70,21,0),\"\")","v":0},{"$f":"IFERROR(ROUND(VLOOKUP(D32,BDD!$I$7:$AI$70,24,0),0),\"\")","v":0}]
[null,null,null,25,{"$f":"IFERROR(VLOOKUP(D33,BDD!$I$7:$AB$70,2,0),\"\")","v":0},{"$f":"IFERROR(VLOOKUP(D33,BDD!$I$7:$AB$70,3,0),\"\")","v":0},{"$f":"IFERROR(VLOOKUP(D33,BDD!$I$7:$AB$70,6,0),\"\")","v":0},{"$f":"IFERROR(VLOOKUP(D33,BDD!$I$7:$AI$70,20,0),\"\")","v":0},{"$f":"IFERROR(VLOOKUP(D33,DESC.!$K$5:$AD$70,20,0),\"\")","v":0},{"$f":"IFERROR(VLOOKUP(D33,BDD!$I$7:$AI$70,21,0),\"\")","v":0},{"$f":"IFERROR(ROUND(VLOOKUP(D33,BDD!$I$7:$AI$70,24,0),0),\"\")","v":0}]
[null,null,null,26,{"$f":"IFERROR(VLOOKUP(D34,BDD!$I$7:$AB$70,2,0),\"\")","v":0},{"$f":"IFERROR(VLOOKUP(D34,BDD!$I$7:$AB$70,3,0),\"\")","v":0},{"$f":"IFERROR(VLOOKUP(D34,BDD!$I$7:$AB$70,6,0),\"\")","v":0},{"$f":"IFERROR(VLOOKUP(D34,BDD!$I$7:$AI$70,20,0),\"\")","v":0},{"$f":"IFERROR(VLOOKUP(D34,DESC.!$K$5:$AD$70,20,0),\"\")","v":0},{"$f":"IFERROR(VLOOKUP(D34,BDD!$I$7:$AI$70,21,0),\"\")","v":0},{"$f":"IFERROR(ROUND(VLOOKUP(D34,BDD!$I$7:$AI$70,24,0),0),\"\")","v":0}]
[null,null,null,27,{"$f":"IFERROR(VLOOKUP(D35,BDD!$I$7:$AB$70,2,0),\"\")","v":0},{"$f":"IFERROR(VLOOKUP(D35,BDD!$I$7:$AB$70,3,0),\"\")","v":0},{"$f":"IFERROR(VLOOKUP(D35,BDD!$I$7:$AB$70,6,0),\"\")","v":0},{"$f":"IFERROR(VLOOKUP(D35,BDD!$I$7:$AI$70,20,0),\"\")","v":0},{"$f":"IFERROR(VLOOKUP(D35,DESC.!$K$5:$AD$70,20,0),\"\")","v":0},{"$f":"IFERROR(VLOOKUP(D35,BDD!$I$7:$AI$70,21,0),\"\")","v":0},{"$f":"IFERROR(ROUND(VLOOKUP(D35,BDD!$I$7:$AI$70,24,0),0),\"\")","v":0}]
[null,null,null,28,{"$f":"IFERROR(VLOOKUP(D36,BDD!$I$7:$AB$70,2,0),\"\")","v":0},{"$f":"IFERROR(VLOOKUP(D36,BDD!$I$7:$AB$70,3,0),\"\")","v":0},{"$f":"IFERROR(VLOOKUP(D36,BDD!$I$7:$AB$70,6,0),\"\")","v":0},{"$f":"IFERROR(VLOOKUP(D36,BDD!$I$7:$AI$70,20,0),\"\")","v":0},{"$f":"IFERROR(VLOOKUP(D36,DESC.!$K$5:$AD$70,20,0),\"\")","v":0},{"$f":"IFERROR(VLOOKUP(D36,BDD!$I$7:$AI$70,21,0),\"\")","v":0},{"$f":"IFERROR(ROUND(VLOOKUP(D36,BDD!$I$7:$AI$70,24,0),0),\"\")","v":0}]
[null,null,null,29,{"$f":"IFERROR(VLOOKUP(D37,BDD!$I$7:$AB$70,2,0),\"\")","v":0},{"$f":"IFERROR(VLOOKUP(D37,BDD!$I$7:$AB$70,3,0),\"\")","v":0},{"$f":"IFERROR(VLOOKUP(D37,BDD!$I$7:$AB$70,6,0),\"\")","v":0},{"$f":"IFERROR(VLOOKUP(D37,BDD!$I$7:$AI$70,20,0),\"\")","v":0},{"$f":"IFERROR(VLOOKUP(D37,DESC.!$K$5:$AD$70,20,0),\"\")","v":0},{"$f":"IFERROR(VLOOKUP(D37,BDD!$I$7:$AI$70,21,0),\"\")","v":0},{"$f":"IFERROR(ROUND(VLOOKUP(D37,BDD!$I$7:$AI$70,24,0),0),\"\")","v":0}]
[null,null,null,30,{"$f":"IFERROR(VLOOKUP(D38,BDD!$I$7:$AB$70,2,0),\"\")","v":0},{"$f":"IFERROR(VLOOKUP(D38,BDD!$I$7:$AB$70,3,0),\"\")","v":0},{"$f":"IFERROR(VLOOKUP(D38,BDD!$I$7:$AB$70,6,0),\"\")","v":0},{"$f":"IFERROR(VLOOKUP(D38,BDD!$I$7:$AI$70,20,0),\"\")","v":0},{"$f":"IFERROR(VLOOKUP(D38,DESC.!$K$5:$AD$70,20,0),\"\")","v":0},{"$f":"IFERROR(VLOOKUP(D38,BDD!$I$7:$AI$70,21,0),\"\")","v":0},{"$f":"IFERROR(ROUND(VLOOKUP(D38,BDD!$I$7:$AI$70,24,0),0),\"\")","v":0}]
[null,null,null,31,{"$f":"IFERROR(VLOOKUP(D39,BDD!$I$7:$AB$70,2,0),\"\")","v":0},{"$f":"IFERROR(VLOOKUP(D39,BDD!$I$7:$AB$70,3,0),\"\")","v":0},{"$f":"IFERROR(VLOOKUP(D39,BDD!$I$7:$AB$70,6,0),\"\")","v":0},{"$f":"IFERROR(VLOOKUP(D39,BDD!$I$7:$AI$70,20,0),\"\")","v":0},{"$f":"IFERROR(VLOOKUP(D39,DESC.!$K$5:$AD$70,20,0),\"\")","v":0},{"$f":"IFERROR(VLOOKUP(D39,BDD!$I$7:$AI$70,21,0),\"\")","v":0},{"$f":"IFERROR(ROUND(VLOOKUP(D39,BDD!$I$7:$AI$70,24,0),0),\"\")","v":0}]
[null,null,null,32,{"$f":"IFERROR(VLOOKUP(D40,BDD!$I$7:$AB$70,2,0),\"\")","v":0},{"$f":"IFERROR(VLOOKUP(D40,BDD!$I$7:$AB$70,3,0),\"\")","v":0},{"$f":"IFERROR(VLOOKUP(D40,BDD!$I$7:$AB$70,6,0),\"\")","v":0},{"$f":"IFERROR(VLOOKUP(D40,BDD!$I$7:$AI$70,20,0),\"\")","v":0},{"$f":"IFERROR(VLOOKUP(D40,DESC.!$K$5:$AD$70,20,0),\"\")","v":0},{"$f":"IFERROR(VLOOKUP(D40,BDD!$I$7:$AI$70,21,0),\"\")","v":0},{"$f":"IFERROR(ROUND(VLOOKUP(D40,BDD!$I$7:$AI$70,24,0),0),\"\")","v":0}]
[null,null,null,33,{"$f":"IFERROR(VLOOKUP(D41,BDD!$I$7:$AB$70,2,0),\"\")","v":0},{"$f":"IFERROR(VLOOKUP(D41,BDD!$I$7:$AB$70,3,0),\"\")","v":0},{"$f":"IFERROR(VLOOKUP(D41,BDD!$I$7:$AB$70,6,0),\"\")","v":0},{"$f":"IFERROR(VLOOKUP(D41,BDD!$I$7:$AI$70,20,0),\"\")","v":0},{"$f":"IFERROR(VLOOKUP(D41,DESC.!$K$5:$AD$70,20,0),\"\")","v":0},{"$f":"IFERROR(VLOOKUP(D41,BDD!$I$7:$AI$70,21,0),\"\")","v":0},{"$f":"IFERROR(ROUND(VLOOKUP(D41,BDD!$I$7:$AI$70,24,0),0),\"\")","v":0}]
[null,null,null,34,{"$f":"IFERROR(VLOOKUP(D42,BDD!$I$7:$AB$70,2,0),\"\")","v":0},{"$f":"IFERROR(VLOOKUP(D42,BDD!$I$7:$AB$70,3,0),\"\")","v":0},{"$f":"IFERROR(VLOOKUP(D42,BDD!$I$7:$AB$70,6,0),\"\")","v":0},{"$f":"IFERROR(VLOOKUP(D42,BDD!$I$7:$AI$70,20,0),\"\")","v":0},{"$f":"IFERROR(VLOOKUP(D42,DESC.!$K$5:$AD$70,20,0),\"\")","v":0},{"$f":"IFERROR(VLOOKUP(D42,BDD!$I$7:$AI$70,21,0),\"\")","v":0},{"$f":"IFERROR(ROUND(VLOOKUP(D42,BDD!$I$7:$AI$70,24,0),0),\"\")","v":0}]
[null,null,null,35,{"$f":"IFERROR(VLOOKUP(D43,BDD!$I$7:$AB$70,2,0),\"\")","v":0},{"$f":"IFERROR(VLOOKUP(D43,BDD!$I$7:$AB$70,3,0),\"\")","v":0},{"$f":"IFERROR(VLOOKUP(D43,BDD!$I$7:$AB$70,6,0),\"\")","v":0},{"$f":"IFERROR(VLOOKUP(D43,BDD!$I$7:$AI$70,20,0),\"\")","v":0},{"$f":"IFERROR(VLOOKUP(D43,DESC.!$K$5:$AD$70,20,0),\"\")","v":0},{"$f":"IFERROR(VLOOKUP(D43,BDD!$I$7:$AI$70,21,0),\"\")","v":0},{"$f":"IFERROR(ROUND(VLOOKUP(D43,BDD!$I$7:$AI$70,24,0),0),\"\")","v":0}]
[null,null,null,36,{"$f":"IFERROR(VLOOKUP(D44,BDD!$I$7:$AB$70,2,0),\"\")","v":0},{"$f":"IFERROR(VLOOKUP(D44,BDD!$I$7:$AB$70,3,0),\"\")","v":0},{"$f":"IFERROR(VLOOKUP(D44,BDD!$I$7:$AB$70,6,0),\"\")","v":0},{"$f":"IFERROR(VLOOKUP(D44,BDD!$I$7:$AI$70,20,0),\"\")","v":0},{"$f":"IFERROR(VLOOKUP(D44,DESC.!$K$5:$AD$70,20,0),\"\")","v":0},{"$f":"IFERROR(VLOOKUP(D44,BDD!$I$7:$AI$70,21,0),\"\")","v":0},{"$f":"IFERROR(ROUND(VLOOKUP(D44,BDD!$I$7:$AI$70,24,0),0),\"\")","v":0}]
[null,null,null,37,{"$f":"IFERROR(VLOOKUP(D45,BDD!$I$7:$AB$70,2,0),\"\")","v":0},{"$f":"IFERROR(VLOOKUP(D45,BDD!$I$7:$AB$70,3,0),\"\")","v":0},{"$f":"IFERROR(VLOOKUP(D45,BDD!$I$7:$AB$70,6,0),\"\")","v":0},{"$f":"IFERROR(VLOOKUP(D45,BDD!$I$7:$AI$70,20,0),\"\")","v":0},{"$f":"IFERROR(VLOOKUP(D45,DESC.!$K$5:$AD$70,20,0),\"\")","v":0},{"$f":"IFERROR(VLOOKUP(D45,BDD!$I$7:$AI$70,21,0),\"\")","v":0},{"$f":"IFERROR(ROUND(VLOOKUP(D45,BDD!$I$7:$AI$70,24,0),0),\"\")","v":0}]
[null,null,null,38,{"$f":"IFERROR(VLOOKUP(D46,BDD!$I$7:$AB$70,2,0),\"\")","v":0},{"$f":"IFERROR(VLOOKUP(D46,BDD!$I$7:$AB$70,3,0),\"\")","v":0},{"$f":"IFERROR(VLOOKUP(D46,BDD!$I$7:$AB$70,6,0),\"\")","v":0},{"$f":"IFERROR(VLOOKUP(D46,BDD!$I$7:$AI$70,20,0),\"\")","v":0},{"$f":"IFERROR(VLOOKUP(D46,DESC.!$K$5:$AD$70,20,0),\"\")","v":0},{"$f":"IFERROR(VLOOKUP(D46,BDD!$I$7:$AI$70,21,0),\"\")","v":0},{"$f":"IFERROR(ROUND(VLOOKUP(D46,BDD!$I$7:$AI$70,24,0),0),\"\")","v":0}]
[null,null,null,39,{"$f":"IFERROR(VLOOKUP(D47,BDD!$I$7:$AB$70,2,0),\"\")","v":0},{"$f":"IFERROR(VLOOKUP(D47,BDD!$I$7:$AB$70,3,0),\"\")","v":0},{"$f":"IFERROR(VLOOKUP(D47,BDD!$I$7:$AB$70,6,0),\"\")","v":0},{"$f":"IFERROR(VLOOKUP(D47,BDD!$I$7:$AI$70,20,0),\"\")","v":0},{"$f":"IFERROR(VLOOKUP(D47,DESC.!$K$5:$AD$70,20,0),\"\")","v":0},{"$f":"IFERROR(VLOOKUP(D47,BDD!$I$7:$AI$70,21,0),\"\")","v":0},{"$f":"IFERROR(ROUND(VLOOKUP(D47,BDD!$I$7:$AI$70,24,0),0),\"\")","v":0}]
[null,null,null,40,{"$f":"IFERROR(VLOOKUP(D48,BDD!$I$7:$AB$70,2,0),\"\")","v":0},{"$f":"IFERROR(VLOOKUP(D48,BDD!$I$7:$AB$70,3,0),\"\")","v":0},{"$f":"IFERROR(VLOOKUP(D48,BDD!$I$7:$AB$70,6,0),\"\")","v":0},{"$f":"IFERROR(VLOOKUP(D48,BDD!$I$7:$AI$70,20,0),\"\")","v":0},{"$f":"IFERROR(VLOOKUP(D48,DESC.!$K$5:$AD$70,20,0),\"\")","v":0},{"$f":"IFERROR(VLOOKUP(D48,BDD!$I$7:$AI$70,21,0),\"\")","v":0},{"$f":"IFERROR(ROUND(VLOOKUP(D48,BDD!$I$7:$AI$70,24,0),0),\"\")","v":0}]
[null,null,null,41,{"$f":"IFERROR(VLOOKUP(D49,BDD!$I$7:$AB$70,2,0),\"\")","v":0},{"$f":"IFERROR(VLOOKUP(D49,BDD!$I$7:$AB$70,3,0),\"\")","v":0},{"$f":"IFERROR(VLOOKUP(D49,BDD!$I$7:$AB$70,6,0),\"\")","v":0},{"$f":"IFERROR(VLOOKUP(D49,BDD!$I$7:$AI$70,20,0),\"\")","v":0},{"$f":"IFERROR(VLOOKUP(D49,DESC.!$K$5:$AD$70,20,0),\"\")","v":0},{"$f":"IFERROR(VLOOKUP(D49,BDD!$I$7:$AI$70,21,0),\"\")","v":0},{"$f":"IFERROR(ROUND(VLOOKUP(D49,BDD!$I$7:$AI$70,24,0),0),\"\")","v":0}]
[null,null,null,42,{"$f":"IFERROR(VLOOKUP(D50,BDD!$I$7:$AB$70,2,0),\"\")","v":0},{"$f":"IFERROR(VLOOKUP(D50,BDD!$I$7:$AB$70,3,0),\"\")","v":0},{"$f":"IFERROR(VLOOKUP(D50,BDD!$I$7:$AB$70,6,0),\"\")","v":0},{"$f":"IFERROR(VLOOKUP(D50,BDD!$I$7:$AI$70,20,0),\"\")","v":0},{"$f":"IFERROR(VLOOKUP(D50,DESC.!$K$5:$AD$70,20,0),\"\")","v":0},{"$f":"IFERROR(VLOOKUP(D50,BDD!$I$7:$AI$70,21,0),\"\")","v":0},{"$f":"IFERROR(ROUND(VLOOKUP(D50,BDD!$I$7:$AI$70,24,0),0),\"\")","v":0}]
[null,null,null,43,{"$f":"IFERROR(VLOOKUP(D51,BDD!$I$7:$AB$70,2,0),\"\")","v":0},{"$f":"IFERROR(VLOOKUP(D51,BDD!$I$7:$AB$70,3,0),\"\")","v":0},{"$f":"IFERROR(VLOOKUP(D51,BDD!$I$7:$AB$70,6,0),\"\")","v":0},{"$f":"IFERROR(VLOOKUP(D51,BDD!$I$7:$AI$70,20,0),\"\")","v":0},{"$f":"IFERROR(VLOOKUP(D51,DESC.!$K$5:$AD$70,20,0),\"\")","v":0},{"$f":"IFERROR(VLOOKUP(D51,BDD!$I$7:$AI$70,21,0),\"\")","v":0},{"$f":"IFERROR(ROUND(VLOOKUP(D51,BDD!$I$7:$AI$70,24,0),0),\"\")","v":0}]
[null,null,null,44,{"$f":"IFERROR(VLOOKUP(D52,BDD!$I$7:$AB$70,2,0),\"\")","v":0},{"$f":"IFERROR(VLOOKUP(D52,BDD!$I$7:$AB$70,3,0),\"\")","v":0},{"$f":"IFERROR(VLOOKUP(D52,BDD!$I$7:$AB$70,6,0),\"\")","v":0},{"$f":"IFERROR(VLOOKUP(D52,BDD!$I$7:$AI$70,20,0),\"\")","v":0},{"$f":"IFERROR(VLOOKUP(D52,DESC.!$K$5:$AD$70,20,0),\"\")","v":0},{"$f":"IFERROR(VLOOKUP(D52,BDD!$I$7:$AI$70,21,0),\"\")","v":0},{"$f":"IFERROR(ROUND(VLOOKUP(D52,BDD!$I$7:$AI$70,24,0),0),\"\")","v":0}]
[null,null,null,45,{"$f":"IFERROR(VLOOKUP(D53,BDD!$I$7:$AB$70,2,0),\"\")","v":0},{"$f":"IFERROR(VLOOKUP(D53,BDD!$I$7:$AB$70,3,0),\"\")","v":0},{"$f":"IFERROR(VLOOKUP(D53,BDD!$I$7:$AB$70,6,0),\"\")","v":0},{"$f":"IFERROR(VLOOKUP(D53,BDD!$I$7:$AI$70,20,0),\"\")","v":0},{"$f":"IFERROR(VLOOKUP(D53,DESC.!$K$5:$AD$70,20,0),\"\")","v":0},{"$f":"IFERROR(VLOOKUP(D53,BDD!$I$7:$AI$70,21,0),\"\")","v":0},{"$f":"IFERROR(ROUND(VLOOKUP(D53,BDD!$I$7:$AI$70,24,0),0),\"\")","v":0}]
[null,null,null,46,{"$f":"IFERROR(VLOOKUP(D54,BDD!$I$7:$AB$70,2,0),\"\")","v":0},{"$f":"IFERROR(VLOOKUP(D54,BDD!$I$7:$AB$70,3,0),\"\")","v":0},{"$f":"IFERROR(VLOOKUP(D54,BDD!$I$7:$AB$70,6,0),\"\")","v":0},{"$f":"IFERROR(VLOOKUP(D54,BDD!$I$7:$AI$70,20,0),\"\")","v":0},{"$f":"IFERROR(VLOOKUP(D54,DESC.!$K$5:$AD$70,20,0),\"\")","v":0},{"$f":"IFERROR(VLOOKUP(D54,BDD!$I$7:$AI$70,21,0),\"\")","v":0},{"$f":"IFERROR(ROUND(VLOOKUP(D54,BDD!$I$7:$AI$70,24,0),0),\"\")","v":0}]
[null,null,null,47,{"$f":"IFERROR(VLOOKUP(D55,BDD!$I$7:$AB$70,2,0),\"\")","v":0},{"$f":"IFERROR(VLOOKUP(D55,BDD!$I$7:$AB$70,3,0),\"\")","v":0},{"$f":"IFERROR(VLOOKUP(D55,BDD!$I$7:$AB$70,6,0),\"\")","v":0},{"$f":"IFERROR(VLOOKUP(D55,BDD!$I$7:$AI$70,20,0),\"\")","v":0},{"$f":"IFERROR(VLOOKUP(D55,DESC.!$K$5:$AD$70,20,0),\"\")","v":0},{"$f":"IFERROR(VLOOKUP(D55,BDD!$I$7:$AI$70,21,0),\"\")","v":0},{"$f":"IFERROR(ROUND(VLOOKUP(D55,BDD!$I$7:$AI$70,24,0),0),\"\")","v":0}]
[null,null,null,48,{"$f":"IFERROR(VLOOKUP(D56,BDD!$I$7:$AB$70,2,0),\"\")","v":0},{"$f":"IFERROR(VLOOKUP(D56,BDD!$I$7:$AB$70,3,0),\"\")","v":0},{"$f":"IFERROR(VLOOKUP(D56,BDD!$I$7:$AB$70,6,0),\"\")","v":0},{"$f":"IFERROR(VLOOKUP(D56,BDD!$I$7:$AI$70,20,0),\"\")","v":0},{"$f":"IFERROR(VLOOKUP(D56,DESC.!$K$5:$AD$70,20,0),\"\")","v":0},{"$f":"IFERROR(VLOOKUP(D56,BDD!$I$7:$AI$70,21,0),\"\")","v":0},{"$f":"IFERROR(ROUND(VLOOKUP(D56,BDD!$I$7:$AI$70,24,0),0),\"\")","v":0}]
[null,null,null,49,{"$f":"IFERROR(VLOOKUP(D57,BDD!$I$7:$AB$70,2,0),\"\")","v":0},{"$f":"IFERROR(VLOOKUP(D57,BDD!$I$7:$AB$70,3,0),\"\")","v":0},{"$f":"IFERROR(VLOOKUP(D57,BDD!$I$7:$AB$70,6,0),\"\")","v":0},{"$f":"IFERROR(VLOOKUP(D57,BDD!$I$7:$AI$70,20,0),\"\")","v":0},{"$f":"IFERROR(VLOOKUP(D57,DESC.!$K$5:$AD$70,20,0),\"\")","v":0},{"$f":"IFERROR(VLOOKUP(D57,BDD!$I$7:$AI$70,21,0),\"\")","v":0},{"$f":"IFERROR(ROUND(VLOOKUP(D57,BDD!$I$7:$AI$70,24,0),0),\"\")","v":0}]
[null,null,null,50,{"$f":"IFERROR(VLOOKUP(D58,BDD!$I$7:$AB$70,2,0),\"\")","v":0},{"$f":"IFERROR(VLOOKUP(D58,BDD!$I$7:$AB$70,3,0),\"\")","v":0},{"$f":"IFERROR(VLOOKUP(D58,BDD!$I$7:$AB$70,6,0),\"\")","v":0},{"$f":"IFERROR(VLOOKUP(D58,BDD!$I$7:$AI$70,20,0),\"\")","v":0},{"$f":"IFERROR(VLOOKUP(D58,DESC.!$K$5:$AD$70,20,0),\"\")","v":0},{"$f":"IFERROR(VLOOKUP(D58,BDD!$I$7:$AI$70,21,0),\"\")","v":0},{"$f":"IFERROR(ROUND(VLOOKUP(D58,BDD!$I$7:$AI$70,24,0),0),\"\")","v":0}]
[null,null,null,null,"Total Acumulado",{"$f":"SUBTOTAL(109,F10:F58)","v":0},5510000,7368217,1118434.1155039999,0,6249783]

{"sheet":"Libro de Remun.","index":7,"n_rows":67,"n_cols":28,"rows_kept":67,"cut":false,"hidden":false,"merged":[[10,7,10,10],[1,6,1,27],[3,6,3,27],[4,6,4,27],[5,6,5,27],[8,6,8,27],[9,6,9,27]]}
[]
[null,null,null,null,null,null,"LIBRO DE REMUNERACIONES"]
[]
[null,null,null,null,null,null,{"$f":"MENU!K13","v":"NOMBRE DE TU EMPRESA"}]
[null,null,null,null,null,null,{"$f":"MENU!K14","v":"RUT DE TU EMPRESA"}]
[null,null,null,null,null,null,{"$f":"MENU!K15","v":"DIRECCION DE TU EMPRESA"}]
[]
[]
[null,null,null,null,null,null,"SISTEMA DE PROCESAMIENTO DE SUELDOS Y SALARIOS"]
[null,null,null,null,null,null,"LIBRO DE SUELDOS Y SALARIOS"]
[null,null,null,null,null,null,"MES DE :",{"$f":"BDD!N3","v":"2024-04-01"}]
[]
[]
[]
[null,null,null,null,null,"Nº","APELLIDOS, NOMBRES","RUT","TOTAL IMPONIBLE","TOTAL HABERES","% DESCUENTO A.F.P. ","COTIZACION PROVISIONAL A.F.P.","AHORRO VOLUNTARIO A.F.P.","SALUD INSTITUCION PROVISIONAL","COTIZACION SALUD 7%","COTIZACION SALUD ADICIONAL","PRESTAMO","IMP.","PREST.","PREST.2","COTIZ.","OTROS","RETENC.","REINTEGROS","COTIZ.3","SEGURO CESANTIA","ANTICIPOS","TOTAL DESCUENTOS"]
[null,null,null,null,null,1,{"$f":"IFERROR(VLOOKUP(Tabla42[[#This Row],[Nº]],BDD!$I$7:$AB$70,2,0),\"\")","v":"Trabajador 1"},{"$f":"IFERROR(VLOOKUP(Tabla42[[#This Row],[Nº]],BDD!$I$7:$AB$70,3,0),\"\")","v":"16.346.113-7"},{"$f":"IFERROR(VLOOKUP(Tabla42[[#This Row],[Nº]],BDD!$I$7:$AB$70,11,0),\"\")","v":1382083},{"$f":"IFERROR(VLOOKUP(Tabla42[[#This Row],[Nº]],BDD!$I$7:$AB$70,20,0),\"\")","v":1382083},{"$f":"IFERROR(VLOOKUP(Tabla42[[#This Row],[Nº]],DESC.!$K$5:$AD$70,4,0),\"\")","v":0.1144},{"$f":"IFERROR(VLOOKUP(Tabla42[[#This Row],[Nº]],DESC.!$K$5:$AD$70,5,0),\"\")","v":158110.29519999999},null,{"$f":"IFERROR(VLOOKUP(Tabla42[[#This Row],[Nº]],DESC.!$K$5:$AD$70,6,0),\"\")","v":"BANMEDICA "},{"$f":"IFERROR(VLOOKUP(Tabla42[[#This Row],[Nº]],DESC.!$K$5:$AD$70,8,0),\"\")","v":0},{"$f":"IFERROR(VLOOKUP(Tabla42[[#This Row],[Nº]],DESC.!$K$5:$AD$70,13,0),\"\")","v":121575.26115000001},null,null,null,null,null,null,null,null,null,{"$f":"IFERROR(VLOOKUP(Tabla42[[#This Row],[Nº]],DESC.!$K$5:$AD$70,11,0),\"\")","v":0},{"$f":"VLOOKUP(Tabla42[[#This Row],[Nº]],BDD!$I$7:$AI$70,21,0)","v":0},{"$f":"IFERROR(VLOOKUP(Tabla42[[#This Row],[Nº]],DESC.!$K$5:$AD$70,20,0),\"\")","v":289104.81409599999}]
[null,null,null,null,null,2,{"$f":"IFERROR(VLOOKUP(Tabla42[[#This Row],[Nº]],BDD!$I$7:$AB$70,2,0),\"\")","v":"Trabajador 2"},{"$f":"IFERROR(VLOOKUP(Tabla42[[#This Row],[Nº]],BDD!$I$7:$AB$70,3,0),\"\")","v":"25.607.046-4"},{"$f":"IFERROR(VLOOKUP(Tabla42[[#This Row],[Nº]],BDD!$I$7:$AB$70,11,0),\"\")","v":900000},{"$f":"IFERROR(VLOOKUP(Tabla42[[#This Row],[Nº]],BDD!$I$7:$AB$70,20,0),\"\")","v":1282438},{"$f":"IFERROR(VLOOKUP(Tabla42[[#This Row],[Nº]],DESC.!$K$5:$AD$70,4,0),\"\")","v":0.1116},{"$f":"IFERROR(VLOOKUP(Tabla42[[#This Row],[Nº]],DESC.!$K$5:$AD$70,5,0),\"\")","v":100440},null,{"$f":"IFERROR(VLOOKUP(Tabla42[[#This Row],[Nº]],DESC.!$K$5:$AD$70,6,0),\"\")","v":"FONASA"},{"$f":"IFERROR(VLOOKUP(Tabla42[[#This Row],[Nº]],DESC.!$K$5:$AD$70,8,0),\"\")","v":63000.000000000007},{"$f":"IFERROR(VLOOKUP(Tabla42[[#This Row],[Nº]],DESC.!$K$5:$AD$70,13,0),\"\")","v":0},null,null,null,null,null,null,null,null,null,{"$f":"IFERROR(VLOOKUP(Tabla42[[#This Row],[Nº]],DESC.!$K$5:$AD$70,11,0),\"\")","v":0},{"$f":"VLOOKUP(Tabla42[[#This Row],[Nº]],BDD!$I$7:$AI$70,21,0)","v":0},{"$f":"IFERROR(VLOOKUP(Tabla42[[#This Row],[Nº]],DESC.!$K$5:$AD$70,20,0),\"\")","v":163440}]
[null,null,null,null,null,3,{"$f":"IFERROR(VLOOKUP(Tabla42[[#This Row],[Nº]],BDD!$I$7:$AB$70,2,0),\"\")","v":"Trabajador 3"},{"$f":"IFERROR(VLOOKUP(Tabla42[[#This Row],[Nº]],BDD!$I$7:$AB$70,3,0),\"\")","v":"16.322.537-9"},{"$f":"IFERROR(VLOOKUP(Tabla42[[#This Row],[Nº]],BDD!$I$7:$AB$70,11,0),\"\")","v":1850000},{"$f":"IFERROR(VLOOKUP(Tabla42[[#This Row],[Nº]],BDD!$I$7:$AB$70,20,0),\"\")","v":2468480},{"$f":"IFERROR(VLOOKUP(Tabla42[[#This Row],[Nº]],DESC.!$K$5:$AD$70,4,0),\"\")","v":0.10580000000000001},{"$f":"IFERROR(VLOOKUP(Tabla42[[#This Row],[Nº]],DESC.!$K$5:$AD$70,5,0),\"\")","v":195730},null,{"$f":"IFERROR(VLOOKUP(Tabla42[[#This Row],[Nº]],DESC.!$K$5:$AD$70,6,0),\"\")","v":"BANMEDICA   "},{"$f":"IFERROR(VLOOKUP(Tabla42[[#This Row],[Nº]],DESC.!$K$5:$AD$70,8,0),\"\")","v":0},{"$f":"IFERROR(VLOOKUP(Tabla42[[#This Row],[Nº]],DESC.!$K$5:$AD$70,13,0),\"\")","v":148554.14730000001},null,null,null,null,null,null,null,null,null,{"$f":"IFERROR(VLOOKUP(Tabla42[[#This Row],[Nº]],DESC.!$K$5:$AD$70,11,0),\"\")","v":0},{"$f":"VLOOKUP(Tabla42[[#This Row],[Nº]],BDD!$I$7:$AI$70,21,0)","v":0},{"$f":"IFERROR(VLOOKUP(Tabla42[[#This Row],[Nº]],DESC.!$K$5:$AD$70,20,0),\"\")","v":369836.14140800002}]
[null,null,null,null,null,4,{"$f":"IFERROR(VLOOKUP(Tabla42[[#This Row],[Nº]],BDD!$I$7:$AB$70,2,0),\"\")","v":"Trabajador 4"},{"$f":"IFERROR(VLOOKUP(Tabla42[[#This Row],[Nº]],BDD!$I$7:$AB$70,3,0),\"\")","v":"17.486.100-5"},{"$f":"IFERROR(VLOOKUP(Tabla42[[#This Row],[Nº]],BDD!$I$7:$AB$70,11,0),\"\")","v":1100000},{"$f":"IFERROR(VLOOKUP(Tabla42[[#This Row],[Nº]],BDD!$I$7:$AB$70,20,0),\"\")","v":1478366},{"$f":"IFERROR(VLOOKUP(Tabla42[[#This Row],[Nº]],DESC.!$K$5:$AD$70,4,0),\"\")","v":0.10580000000000001},{"$f":"IFERROR(VLOOKUP(Tabla42[[#This Row],[Nº]],DESC.!$K$5:$AD$70,5,0),\"\")","v":116380},null,{"$f":"IFERROR(VLOOKUP(Tabla42[[#This Row],[Nº]],DESC.!$K$5:$AD$70,6,0),\"\")","v":"FONASA"},{"$f":"IFERROR(VLOOKUP(Tabla42[[#This Row],[Nº]],DESC.!$K$5:$AD$70,8,0),\"\")","v":77000.000000000015},{"$f":"IFERROR(VLOOKUP(Tabla42[[#This Row],[Nº]],DESC.!$K$5:$AD$70,13,0),\"\")","v":0},null,null,null,null,null,null,null,null,null,{"$f":"IFERROR(VLOOKUP(Tabla42[[#This Row],[Nº]],DESC.!$K$5:$AD$70,11,0),\"\")","v":0},{"$f":"VLOOKUP(Tabla42[[#This Row],[Nº]],BDD!$I$7:$AI$70,21,0)","v":0},{"$f":"IFERROR(VLOOKUP(Tabla42[[#This Row],[Nº]],DESC.!$K$5:$AD$70,20,0),\"\")","v":194968.16}]
[null,null,null,null,null,5,{"$f":"IFERROR(VLOOKUP(Tabla42[[#This Row],[Nº]],BDD!$I$7:$AB$70,2,0),\"\")","v":"Trabajador 5"},{"$f":"IFERROR(VLOOKUP(Tabla42[[#This Row],[Nº]],BDD!$I$7:$AB$70,3,0),\"\")","v":"16.932.429-8"},{"$f":"IFERROR(VLOOKUP(Tabla42[[#This Row],[Nº]],BDD!$I$7:$AB$70,11,0),\"\")","v":575000},{"$f":"IFERROR(VLOOKUP(Tabla42[[#This Row],[Nº]],BDD!$I$7:$AB$70,20,0),\"\")","v":756850},{"$f":"IFERROR(VLOOKUP(Tabla42[[#This Row],[Nº]],DESC.!$K$5:$AD$70,4,0),\"\")","v":0.10580000000000001},{"$f":"IFERROR(VLOOKUP(Tabla42[[#This Row],[Nº]],DESC.!$K$5:$AD$70,5,0),\"\")","v":60835},null,{"$f":"IFERROR(VLOOKUP(Tabla42[[#This Row],[Nº]],DESC.!$K$5:$AD$70,6,0),\"\")","v":"FONASA"},{"$f":"IFERROR(VLOOKUP(Tabla42[[#This Row],[Nº]],DESC.!$K$5:$AD$70,8,0),\"\")","v":40250.000000000007},{"$f":"IFERROR(VLOOKUP(Tabla42[[#This Row],[Nº]],DESC.!$K$5:$AD$70,13,0),\"\")","v":0},null,null,null,null,null,null,null,null,null,{"$f":"IFERROR(VLOOKUP(Tabla42[[#This Row],[Nº]],DESC.!$K$5:$AD$70,11,0),\"\")","v":0},{"$f":"VLOOKUP(Tabla42[[#This Row],[Nº]],BDD!$I$7:$AI$70,21,0)","v":0},{"$f":"IFERROR(VLOOKUP(Tabla42[[#This Row],[Nº]],DESC.!$K$5:$AD$70,20,0),\"\")","v":101085}]
[null,null,null,null,null,6,{"$f":"IFERROR(VLOOKUP(Tabla42[[#This Row],[Nº]],BDD!$I$7:$AB$70,2,0),\"\")","v":0},{"$f":"IFERROR(VLOOKUP(Tabla42[[#This Row],[Nº]],BDD!$I$7:$AB$70,3,0),\"\")","v":0},{"$f":"IFERROR(VLOOKUP(Tabla42[[#This Row],[Nº]],BDD!$I$7:$AB$70,11,0),\"\")","v":0},{"$f":"IFERROR(VLOOKUP(Tabla42[[#This Row],[Nº]],BDD!$I$7:$AB$70,20,0),\"\")","v":0},{"$f":"IFERROR(VLOOKUP(Tabla42[[#This Row],[Nº]],DESC.!$K$5:$AD$70,4,0),\"\")","v":0},{"$f":"IFERROR(VLOOKUP(Tabla42[[#This Row],[Nº]],DESC.!$K$5:$AD$70,5,0),\"\")","v":0},null,{"$f":"IFERROR(VLOOKUP(Tabla42[[#This Row],[Nº]],DESC.!$K$5:$AD$70,6,0),\"\")","v":0},{"$f":"IFERROR(VLOOKUP(Tabla42[[#This Row],[Nº]],DESC.!$K$5:$AD$70,8,0),\"\")","v":0},{"$f":"IFERROR(VLOOKUP(Tabla42[[#This Row],[Nº]],DESC.!$K$5:$AD$70,13,0),\"\")","v":0},null,null,null,null,null,null,null,null,null,{"$f":"IFERROR(VLOOKUP(Tabla42[[#This Row],[Nº]],DESC.!$K$5:$AD$70,11,0),\"\")","v":0},{"$f":"VLOOKUP(Tabla42[[#This Row],[Nº]],BDD!$I$7:$AI$70,21,0)","v":0},{"$f":"IFERROR(VLOOKUP(Tabla42[[#This Row],[Nº]],DESC.!$K$5:$AD$70,20,0),\"\")","v":0}]
[null,null,null,null,null,7,{"$f":"IFERROR(VLOOKUP(Tabla42[[#This Row],[Nº]],BDD!$I$7:$AB$70,2,0),\"\")","v":0},{"$f":"IFERROR(VLOOKUP(Tabla42[[#This Row],[Nº]],BDD!$I$7:$AB$70,3,0),\"\")","v":0},{"$f":"IFERROR(VLOOKUP(Tabla42[[#This Row],[Nº]],BDD!$I$7:$AB$70,11,0),\"\")","v":0},{"$f":"IFERROR(VLOOKUP(Tabla42[[#This Row],[Nº]],BDD!$I$7:$AB$70,20,0),\"\")","v":0},{"$f":"IFERROR(VLOOKUP(Tabla42[[#This Row],[Nº]],DESC.!$K$5:$AD$70,4,0),\"\")","v":0},{"$f":"IFERROR(VLOOKUP(Tabla42[[#This Row],[Nº]],DESC.!$K$5:$AD$70,5,0),\"\")","v":0},null,{"$f":"IFERROR(VLOOKUP(Tabla42[[#This Row],[Nº]],DESC.!$K$5:$AD$70,6,0),\"\")","v":0},{"$f":"IFERROR(VLOOKUP(Tabla42[[#This Row],[Nº]],DESC.!$K$5:$AD$70,8,0),\"\")","v":0},{"$f":"IFERROR(VLOOKUP(Tabla42[[#This Row],[Nº]],DESC.!$K$5:$AD$70,13,0),\"\")","v":0},null,null,null,null,null,null,null,null,null,{"$f":"IFERROR(VLOOKUP(Tabla42[[#This Row],[Nº]],DESC.!$K$5:$AD$70,11,0),\"\")","v":0},{"$f":"VLOOKUP(Tabla42[[#This Row],[Nº]],BDD!$I$7:$AI$70,21,0)","v":0},{"$f":"IFERROR(VLOOKUP(Tabla42[[#This Row],[Nº]],DESC.!$K$5:$AD$70,20,0),\"\")","v":0}]
[null,null,null,null,null,8,{"$f":"IFERROR(VLOOKUP(Tabla42[[#This Row],[Nº]],BDD!$I$7:$AB$70,2,0),\"\")","v":0},{"$f":"IFERROR(VLOOKUP(Tabla42[[#This Row],[Nº]],BDD!$I$7:$AB$70,3,0),\"\")","v":0},{"$f":"IFERROR(VLOOKUP(Tabla42[[#This Row],[Nº]],BDD!$I$7:$AB$70,11,0),\"\")","v":0},{"$f":"IFERROR(VLOOKUP(Tabla42[[#This Row],[Nº]],BDD!$I$7:$AB$70,20,0),\"\")","v":0},{"$f":"IFERROR(VLOOKUP(Tabla42[[#This Row],[Nº]],DESC.!$K$5:$AD$70,4,0),\"\")","v":0},{"$f":"IFERROR(VLOOKUP(Tabla42[[#This Row],[Nº]],DESC.!$K$5:$AD$70,5,0),\"\")","v":0},null,{"$f":"IFERROR(VLOOKUP(Tabla42[[#This Row],[Nº]],DESC.!$K$5:$AD$70,6,0),\"\")","v":0},{"$f":"IFERROR(VLOOKUP(Tabla42[[#This Row],[Nº]],DESC.!$K$5:$AD$70,8,0),\"\")","v":0},{"$f":"IFERROR(VLOOKUP(Tabla42[[#This Row],[Nº]],DESC.!$K$5:$AD$70,13,0),\"\")","v":0},null,null,null,null,null,null,null,null,null,{"$f":"IFERROR(VLOOKUP(Tabla42[[#This Row],[Nº]],DESC.!$K$5:$AD$70,11,0),\"\")","v":0},{"$f":"VLOOKUP(Tabla42[[#This Row],[Nº]],BDD!$I$7:$AI$70,21,0)","v":0},{"$f":"IFERROR(VLOOKUP(Tabla42[[#This Row],[Nº]],DESC.!$K$5:$AD$70,20,0),\"\")","v":0}]
[null,null,null,null,null,9,{"$f":"IFERROR(VLOOKUP(Tabla42[[#This Row],[Nº]],BDD!$I$7:$AB$70,2,0),\"\")","v":0},{"$f":"IFERROR(VLOOKUP(Tabla42[[#This Row],[Nº]],BDD!$I$7:$AB$70,3,0),\"\")","v":0},{"$f":"IFERROR(VLOOKUP(Tabla42[[#This Row],[Nº]],BDD!$I$7:$AB$70,11,0),\"\")","v":0},{"$f":"IFERROR(VLOOKUP(Tabla42[[#This Row],[Nº]],BDD!$I$7:$AB$70,20,0),\"\")","v":0},{"$f":"IFERROR(VLOOKUP(Tabla42[[#This Row],[Nº]],DESC.!$K$5:$AD$70,4,0),\"\")","v":0},{"$f":"IFERROR(VLOOKUP(Tabla42[[#This Row],[Nº]],DESC.!$K$5:$AD$70,5,0),\"\")","v":0},null,{"$f":"IFERROR(VLOOKUP(Tabla42[[#This Row],[Nº]],DESC.!$K$5:$AD$70,6,0),\"\")","v":0},{"$f":"IFERROR(VLOOKUP(Tabla42[[#This Row],[Nº]],DESC.!$K$5:$AD$70,8,0),\"\")","v":0},{"$f":"IFERROR(VLOOKUP(Tabla42[[#This Row],[Nº]],DESC.!$K$5:$AD$70,13,0),\"\")","v":0},null,null,null,null,null,null,null,null,null,{"$f":"IFERROR(VLOOKUP(Tabla42[[#This Row],[Nº]],DESC.!$K$5:$AD$70,11,0),\"\")","v":0},{"$f":"VLOOKUP(Tabla42[[#This Row],[Nº]],BDD!$I$7:$AI$70,21,0)","v":0},{"$f":"IFERROR(VLOOKUP(Tabla42[[#This Row],[Nº]],DESC.!$K$5:$AD$70,20,0),\"\")","v":0}]
[null,null,null,null,null,10,{"$f":"IFERROR(VLOOKUP(Tabla42[[#This Row],[Nº]],BDD!$I$7:$AB$70,2,0),\"\")","v":0},{"$f":"IFERROR(VLOOKUP(Tabla42[[#This Row],[Nº]],BDD!$I$7:$AB$70,3,0),\"\")","v":0},{"$f":"IFERROR(VLOOKUP(Tabla42[[#This Row],[Nº]],BDD!$I$7:$AB$70,11,0),\"\")","v":0},{"$f":"IFERROR(VLOOKUP(Tabla42[[#This Row],[Nº]],BDD!$I$7:$AB$70,20,0),\"\")","v":0},{"$f":"IFERROR(VLOOKUP(Tabla42[[#This Row],[Nº]],DESC.!$K$5:$AD$70,4,0),\"\")","v":0},{"$f":"IFERROR(VLOOKUP(Tabla42[[#This Row],[Nº]],DESC.!$K$5:$AD$70,5,0),\"\")","v":0},null,{"$f":"IFERROR(VLOOKUP(Tabla42[[#This Row],[Nº]],DESC.!$K$5:$AD$70,6,0),\"\")","v":0},{"$f":"IFERROR(VLOOKUP(Tabla42[[#This Row],[Nº]],DESC.!$K$5:$AD$70,8,0),\"\")","v":0},{"$f":"IFERROR(VLOOKUP(Tabla42[[#This Row],[Nº]],DESC.!$K$5:$AD$70,13,0),\"\")","v":0},null,null,null,null,null,null,null,null,null,{"$f":"IFERROR(VLOOKUP(Tabla42[[#This Row],[Nº]],DESC.!$K$5:$AD$70,11,0),\"\")","v":0},{"$f":"VLOOKUP(Tabla42[[#This Row],[Nº]],BDD!$I$7:$AI$70,21,0)","v":0},{"$f":"IFERROR(VLOOKUP(Tabla42[[#This Row],[Nº]],DESC.!$K$5:$AD$70,20,0),\"\")","v":0}]
[null,null,null,null,null,11,{"$f":"IFERROR(VLOOKUP(Tabla42[[#This Row],[Nº]],BDD!$I$7:$AB$70,2,0),\"\")","v":0},{"$f":"IFERROR(VLOOKUP(Tabla42[[#This Row],[Nº]],BDD!$I$7:$AB$70,3,0),\"\")","v":0},{"$f":"IFERROR(VLOOKUP(Tabla42[[#This Row],[Nº]],BDD!$I$7:$AB$70,11,0),\"\")","v":0},{"$f":"IFERROR(VLOOKUP(Tabla42[[#This Row],[Nº]],BDD!$I$7:$AB$70,20,0),\"\")","v":0},{"$f":"IFERROR(VLOOKUP(Tabla42[[#This Row],[Nº]],DESC.!$K$5:$AD$70,4,0),\"\")","v":0},{"$f":"IFERROR(VLOOKUP(Tabla42[[#This Row],[Nº]],DESC.!$K$5:$AD$70,5,0),\"\")","v":0},null,{"$f":"IFERROR(VLOOKUP(Tabla42[[#This Row],[Nº]],DESC.!$K$5:$AD$70,6,0),\"\")","v":0},{"$f":"IFERROR(VLOOKUP(Tabla42[[#This Row],[Nº]],DESC.!$K$5:$AD$70,8,0),\"\")","v":0},{"$f":"IFERROR(VLOOKUP(Tabla42[[#This Row],[Nº]],DESC.!$K$5:$AD$70,13,0),\"\")","v":0},null,null,null,null,null,null,null,null,null,{"$f":"IFERROR(VLOOKUP(Tabla42[[#This Row],[Nº]],DESC.!$K$5:$AD$70,11,0),\"\")","v":0},{"$f":"VLOOKUP(Tabla42[[#This Row],[Nº]],BDD!$I$7:$AI$70,21,0)","v":0},{"$f":"IFERROR(VLOOKUP(Tabla42[[#This Row],[Nº]],DESC.!$K$5:$AD$70,20,0),\"\")","v":0}]
[null,null,null,null,null,12,{"$f":"IFERROR(VLOOKUP(Tabla42[[#This Row],[Nº]],BDD!$I$7:$AB$70,2,0),\"\")","v":0},{"$f":"IFERROR(VLOOKUP(Tabla42[[#This Row],[Nº]],BDD!$I$7:$AB$70,3,0),\"\")","v":0},{"$f":"IFERROR(VLOOKUP(Tabla42[[#This Row],[Nº]],BDD!$I$7:$AB$70,11,0),\"\")","v":0},{"$f":"IFERROR(VLOOKUP(Tabla42[[#This Row],[Nº]],BDD!$I$7:$AB$70,20,0),\"\")","v":0},{"$f":"IFERROR(VLOOKUP(Tabla42[[#This Row],[Nº]],DESC.!$K$5:$AD$70,4,0),\"\")","v":0},{"$f":"IFERROR(VLOOKUP(Tabla42[[#This Row],[Nº]],DESC.!$K$5:$AD$70,5,0),\"\")","v":0},null,{"$f":"IFERROR(VLOOKUP(Tabla42[[#This Row],[Nº]],DESC.!$K$5:$AD$70,6,0),\"\")","v":0},{"$f":"IFERROR(VLOOKUP(Tabla42[[#This Row],[Nº]],DESC.!$K$5:$AD$70,8,0),\"\")","v":0},{"$f":"IFERROR(VLOOKUP(Tabla42[[#This Row],[Nº]],DESC.!$K$5:$AD$70,13,0),\"\")","v":0},null,null,null,null,null,null,null,null,null,{"$f":"IFERROR(VLOOKUP(Tabla42[[#This Row],[Nº]],DESC.!$K$5:$AD$70,11,0),\"\")","v":0},{"$f":"VLOOKUP(Tabla42[[#This Row],[Nº]],BDD!$I$7:$AI$70,21,0)","v":0},{"$f":"IFERROR(VLOOKUP(Tabla42[[#This Row],[Nº]],DESC.!$K$5:$AD$70,20,0),\"\")","v":0}]
[null,null,null,null,null,13,{"$f":"IFERROR(VLOOKUP(Tabla42[[#This Row],[Nº]],BDD!$I$7:$AB$70,2,0),\"\")","v":0},{"$f":"IFERROR(VLOOKUP(Tabla42[[#This Row],[Nº]],BDD!$I$7:$AB$70,3,0),\"\")","v":0},{"$f":"IFERROR(VLOOKUP(Tabla42[[#This Row],[Nº]],BDD!$I$7:$AB$70,11,0),\"\")","v":0},{"$f":"IFERROR(VLOOKUP(Tabla42[[#This Row],[Nº]],BDD!$I$7:$AB$70,20,0),\"\")","v":0},{"$f":"IFERROR(VLOOKUP(Tabla42[[#This Row],[Nº]],DESC.!$K$5:$AD$70,4,0),\"\")","v":0},{"$f":"IFERROR(VLOOKUP(Tabla42[[#This Row],[Nº]],DESC.!$K$5:$AD$70,5,0),\"\")","v":0},null,{"$f":"IFERROR(VLOOKUP(Tabla42[[#This Row],[Nº]],DESC.!$K$5:$AD$70,6,0),\"\")","v":0},{"$f":"IFERROR(VLOOKUP(Tabla42[[#This Row],[Nº]],DESC.!$K$5:$AD$70,8,0),\"\")","v":0},{"$f":"IFERROR(VLOOKUP(Tabla42[[#This Row],[Nº]],DESC.!$K$5:$AD$70,13,0),\"\")","v":0},null,null,null,null,null,null,null,null,null,{"$f":"IFERROR(VLOOKUP(Tabla42[[#This Row],[Nº]],DESC.!$K$5:$AD$70,11,0),\"\")","v":0},{"$f":"VLOOKUP(Tabla42[[#This Row],[Nº]],BDD!$I$7:$AI$70,21,0)","v":0},{"$f":"IFERROR(VLOOKUP(Tabla42[[#This Row],[Nº]],DESC.!$K$5:$AD$70,20,0),\"\")","v":0}]
[null,null,null,null,null,14,{"$f":"IFERROR(VLOOKUP(Tabla42[[#This Row],[Nº]],BDD!$I$7:$AB$70,2,0),\"\")","v":0},{"$f":"IFERROR(VLOOKUP(Tabla42[[#This Row],[Nº]],BDD!$I$7:$AB$70,3,0),\"\")","v":0},{"$f":"IFERROR(VLOOKUP(Tabla42[[#This Row],[Nº]],BDD!$I$7:$AB$70,11,0),\"\")","v":0},{"$f":"IFERROR(VLOOKUP(Tabla42[[#This Row],[Nº]],BDD!$I$7:$AB$70,20,0),\"\")","v":0},{"$f":"IFERROR(VLOOKUP(Tabla42[[#This Row],[Nº]],DESC.!$K$5:$AD$70,4,0),\"\")","v":0},{"$f":"IFERROR(VLOOKUP(Tabla42[[#This Row],[Nº]],DESC.!$K$5:$AD$70,5,0),\"\")","v":0},null,{"$f":"IFERROR(VLOOKUP(Tabla42[[#This Row],[Nº]],DESC.!$K$5:$AD$70,6,0),\"\")","v":0},{"$f":"IFERROR(VLOOKUP(Tabla42[[#This Row],[Nº]],DESC.!$K$5:$AD$70,8,0),\"\")","v":0},{"$f":"IFERROR(VLOOKUP(Tabla42[[#This Row],[Nº]],DESC.!$K$5:$AD$70,13,0),\"\")","v":0},null,null,null,null,null,null,null,null,null,{"$f":"IFERROR(VLOOKUP(Tabla42[[#This Row],[Nº]],DESC.!$K$5:$AD$70,11,0),\"\")","v":0},{"$f":"VLOOKUP(Tabla42[[#This Row],[Nº]],BDD!$I$7:$AI$70,21,0)","v":0},{"$f":"IFERROR(VLOOKUP(Tabla42[[#This Row],[Nº]],DESC.!$K$5:$AD$70,20,0),\"\")","v":0}]
[null,null,null,null,null,15,{"$f":"IFERROR(VLOOKUP(Tabla42[[#This Row],[Nº]],BDD!$I$7:$AB$70,2,0),\"\")","v":0},{"$f":"IFERROR(VLOOKUP(Tabla42[[#This Row],[Nº]],BDD!$I$7:$AB$70,3,0),\"\")","v":0},{"$f":"IFERROR(VLOOKUP(Tabla42[[#This Row],[Nº]],BDD!$I$7:$AB$70,11,0),\"\")","v":0},{"$f":"IFERROR(VLOOKUP(Tabla42[[#This Row],[Nº]],BDD!$I$7:$AB$70,20,0),\"\")","v":0},{"$f":"IFERROR(VLOOKUP(Tabla42[[#This Row],[Nº]],DESC.!$K$5:$AD$70,4,0),\"\")","v":0},{"$f":"IFERROR(VLOOKUP(Tabla42[[#This Row],[Nº]],DESC.!$K$5:$AD$70,5,0),\"\")","v":0},null,{"$f":"IFERROR(VLOOKUP(Tabla42[[#This Row],[Nº]],DESC.!$K$5:$AD$70,6,0),\"\")","v":0},{"$f":"IFERROR(VLOOKUP(Tabla42[[#This Row],[Nº]],DESC.!$K$5:$AD$70,8,0),\"\")","v":0},{"$f":"IFERROR(VLOOKUP(Tabla42[[#This Row],[Nº]],DESC.!$K$5:$AD$70,13,0),\"\")","v":0},null,null,null,null,null,null,null,null,null,{"$f":"IFERROR(VLOOKUP(Tabla42[[#This Row],[Nº]],DESC.!$K$5:$AD$70,11,0),\"\")","v":0},{"$f":"VLOOKUP(Tabla42[[#This Row],[Nº]],BDD!$I$7:$AI$70,21,0)","v":0},{"$f":"IFERROR(VLOOKUP(Tabla42[[#This Row],[Nº]],DESC.!$K$5:$AD$70,20,0),\"\")","v":0}]
[null,null,null,null,null,16,{"$f":"IFERROR(VLOOKUP(Tabla42[[#This Row],[Nº]],BDD!$I$7:$AB$70,2,0),\"\")","v":0},{"$f":"IFERROR(VLOOKUP(Tabla42[[#This Row],[Nº]],BDD!$I$7:$AB$70,3,0),\"\")","v":0},{"$f":"IFERROR(VLOOKUP(Tabla42[[#This Row],[Nº]],BDD!$I$7:$AB$70,11,0),\"\")","v":0},{"$f":"IFERROR(VLOOKUP(Tabla42[[#This Row],[Nº]],BDD!$I$7:$AB$70,20,0),\"\")","v":0},{"$f":"IFERROR(VLOOKUP(Tabla42[[#This Row],[Nº]],DESC.!$K$5:$AD$70,4,0),\"\")","v":0},{"$f":"IFERROR(VLOOKUP(Tabla42[[#This Row],[Nº]],DESC.!$K$5:$AD$70,5,0),\"\")","v":0},null,{"$f":"IFERROR(VLOOKUP(Tabla42[[#This Row],[Nº]],DESC.!$K$5:$AD$70,6,0),\"\")","v":0},{"$f":"IFERROR(VLOOKUP(Tabla42[[#This Row],[Nº]],DESC.!$K$5:$AD$70,8,0),\"\")","v":0},{"$f":"IFERROR(VLOOKUP(Tabla42[[#This Row],[Nº]],DESC.!$K$5:$AD$70,13,0),\"\")","v":0},null,null,null,null,null,null,null,null,null,{"$f":"IFERROR(VLOOKUP(Tabla42[[#This Row],[Nº]],DESC.!$K$5:$AD$70,11,0),\"\")","v":0},{"$f":"VLOOKUP(Tabla42[[#This Row],[Nº]],BDD!$I$7:$AI$70,21,0)","v":0},{"$f":"IFERROR(VLOOKUP(Tabla42[[#This Row],[Nº]],DESC.!$K$5:$AD$70,20,0),\"\")","v":0}]
[null,null,null,null,null,17,{"$f":"IFERROR(VLOOKUP(Tabla42[[#This Row],[Nº]],BDD!$I$7:$AB$70,2,0),\"\")","v":0},{"$f":"IFERROR(VLOOKUP(Tabla42[[#This Row],[Nº]],BDD!$I$7:$AB$70,3,0),\"\")","v":0},{"$f":"IFERROR(VLOOKUP(Tabla42[[#This Row],[Nº]],BDD!$I$7:$AB$70,11,0),\"\")","v":0},{"$f":"IFERROR(VLOOKUP(Tabla42[[#This Row],[Nº]],BDD!$I$7:$AB$70,20,0),\"\")","v":0},{"$f":"IFERROR(VLOOKUP(Tabla42[[#This Row],[Nº]],DESC.!$K$5:$AD$70,4,0),\"\")","v":0},{"$f":"IFERROR(VLOOKUP(Tabla42[[#This Row],[Nº]],DESC.!$K$5:$AD$70,5,0),\"\")","v":0},null,{"$f":"IFERROR(VLOOKUP(Tabla42[[#This Row],[Nº]],DESC.!$K$5:$AD$70,6,0),\"\")","v":0},{"$f":"IFERROR(VLOOKUP(Tabla42[[#This Row],[Nº]],DESC.!$K$5:$AD$70,8,0),\"\")","v":0},{"$f":"IFERROR(VLOOKUP(Tabla42[[#This Row],[Nº]],DESC.!$K$5:$AD$70,13,0),\"\")","v":0},null,null,null,null,null,null,null,null,null,{"$f":"IFERROR(VLOOKUP(Tabla42[[#This Row],[Nº]],DESC.!$K$5:$AD$70,11,0),\"\")","v":0},{"$f":"VLOOKUP(Tabla42[[#This Row],[Nº]],BDD!$I$7:$AI$70,21,0)","v":0},{"$f":"IFERROR(VLOOKUP(Tabla42[[#This Row],[Nº]],DESC.!$K$5:$AD$70,20,0),\"\")","v":0}]
[null,null,null,null,null,18,{"$f":"IFERROR(VLOOKUP(Tabla42[[#This Row],[Nº]],BDD!$I$7:$AB$70,2,0),\"\")","v":0},{"$f":"IFERROR(VLOOKUP(Tabla42[[#This Row],[Nº]],BDD!$I$7:$AB$70,3,0),\"\")","v":0},{"$f":"IFERROR(VLOOKUP(Tabla42[[#This Row],[Nº]],BDD!$I$7:$AB$70,11,0),\"\")","v":0},{"$f":"IFERROR(VLOOKUP(Tabla42[[#This Row],[Nº]],BDD!$I$7:$AB$70,20,0),\"\")","v":0},{"$f":"IFERROR(VLOOKUP(Tabla42[[#This Row],[Nº]],DESC.!$K$5:$AD$70,4,0),\"\")","v":0},{"$f":"IFERROR(VLOOKUP(Tabla42[[#This Row],[Nº]],DESC.!$K$5:$AD$70,5,0),\"\")","v":0},null,{"$f":"IFERROR(VLOOKUP(Tabla42[[#This Row],[Nº]],DESC.!$K$5:$AD$70,6,0),\"\")","v":0},{"$f":"IFERROR(VLOOKUP(Tabla42[[#This Row],[Nº]],DESC.!$K$5:$AD$70,8,0),\"\")","v":0},{"$f":"IFERROR(VLOOKUP(Tabla42[[#This Row],[Nº]],DESC.!$K$5:$AD$70,13,0),\"\")","v":0},null,null,null,null,null,null,null,null,null,{"$f":"IFERROR(VLOOKUP(Tabla42[[#This Row],[Nº]],DESC.!$K$5:$AD$70,11,0),\"\")","v":0},{"$f":"VLOOKUP(Tabla42[[#This Row],[Nº]],BDD!$I$7:$AI$70,21,0)","v":0},{"$f":"IFERROR(VLOOKUP(Tabla42[[#This Row],[Nº]],DESC.!$K$5:$AD$70,20,0),\"\")","v":0}]
[null,null,null,null,null,19,{"$f":"IFERROR(VLOOKUP(Tabla42[[#This Row],[Nº]],BDD!$I$7:$AB$70,2,0),\"\")","v":0},{"$f":"IFERROR(VLOOKUP(Tabla42[[#This Row],[Nº]],BDD!$I$7:$AB$70,3,0),\"\")","v":0},{"$f":"IFERROR(VLOOKUP(Tabla42[[#This Row],[Nº]],BDD!$I$7:$AB$70,11,0),\"\")","v":0},{"$f":"IFERROR(VLOOKUP(Tabla42[[#This Row],[Nº]],BDD!$I$7:$AB$70,20,0),\"\")","v":0},{"$f":"IFERROR(VLOOKUP(Tabla42[[#This Row],[Nº]],DESC.!$K$5:$AD$70,4,0),\"\")","v":0},{"$f":"IFERROR(VLOOKUP(Tabla42[[#This Row],[Nº]],DESC.!$K$5:$AD$70,5,0),\"\")","v":0},null,{"$f":"IFERROR(VLOOKUP(Tabla42[[#This Row],[Nº]],DESC.!$K$5:$AD$70,6,0),\"\")","v":0},{"$f":"IFERROR(VLOOKUP(Tabla42[[#This Row],[Nº]],DESC.!$K$5:$AD$70,8,0),\"\")","v":0},{"$f":"IFERROR(VLOOKUP(Tabla42[[#This Row],[Nº]],DESC.!$K$5:$AD$70,13,0),\"\")","v":0},null,null,null,null,null,null,null,null,null,{"$f":"IFERROR(VLOOKUP(Tabla42[[#This Row],[Nº]],DESC.!$K$5:$AD$70,11,0),\"\")","v":0},{"$f":"VLOOKUP(Tabla42[[#This Row],[Nº]],BDD!$I$7:$AI$70,21,0)","v":0},{"$f":"IFERROR(VLOOKUP(Tabla42[[#This Row],[Nº]],DESC.!$K$5:$AD$70,20,0),\"\")","v":0}]
[null,null,null,null,null,20,{"$f":"IFERROR(VLOOKUP(Tabla42[[#This Row],[Nº]],BDD!$I$7:$AB$70,2,0),\"\")","v":0},{"$f":"IFERROR(VLOOKUP(Tabla42[[#This Row],[Nº]],BDD!$I$7:$AB$70,3,0),\"\")","v":0},{"$f":"IFERROR(VLOOKUP(Tabla42[[#This Row],[Nº]],BDD!$I$7:$AB$70,11,0),\"\")","v":0},{"$f":"IFERROR(VLOOKUP(Tabla42[[#This Row],[Nº]],BDD!$I$7:$AB$70,20,0),\"\")","v":0},{"$f":"IFERROR(VLOOKUP(Tabla42[[#This Row],[Nº]],DESC.!$K$5:$AD$70,4,0),\"\")","v":0},{"$f":"IFERROR(VLOOKUP(Tabla42[[#This Row],[Nº]],DESC.!$K$5:$AD$70,5,0),\"\")","v":0},null,{"$f":"IFERROR(VLOOKUP(Tabla42[[#This Row],[Nº]],DESC.!$K$5:$AD$70,6,0),\"\")","v":0},{"$f":"IFERROR(VLOOKUP(Tabla42[[#This Row],[Nº]],DESC.!$K$5:$AD$70,8,0),\"\")","v":0},{"$f":"IFERROR(VLOOKUP(Tabla42[[#This Row],[Nº]],DESC.!$K$5:$AD$70,13,0),\"\")","v":0},null,null,null,null,null,null,null,null,null,{"$f":"IFERROR(VLOOKUP(Tabla42[[#This Row],[Nº]],DESC.!$K$5:$AD$70,11,0),\"\")","v":0},{"$f":"VLOOKUP(Tabla42[[#This Row],[Nº]],BDD!$I$7:$AI$70,21,0)","v":0},{"$f":"IFERROR(VLOOKUP(Tabla42[[#This Row],[Nº]],DESC.!$K$5:$AD$70,20,0),\"\")","v":0}]
[null,null,null,null,null,21,{"$f":"IFERROR(VLOOKUP(Tabla42[[#This Row],[Nº]],BDD!$I$7:$AB$70,2,0),\"\")","v":0},{"$f":"IFERROR(VLOOKUP(Tabla42[[#This Row],[Nº]],BDD!$I$7:$AB$70,3,0),\"\")","v":0},{"$f":"IFERROR(VLOOKUP(Tabla42[[#This Row],[Nº]],BDD!$I$7:$AB$70,11,0),\"\")","v":0},{"$f":"IFERROR(VLOOKUP(Tabla42[[#This Row],[Nº]],BDD!$I$7:$AB$70,20,0),\"\")","v":0},{"$f":"IFERROR(VLOOKUP(Tabla42[[#This Row],[Nº]],DESC.!$K$5:$AD$70,4,0),\"\")","v":0},{"$f":"IFERROR(VLOOKUP(Tabla42[[#This Row],[Nº]],DESC.!$K$5:$AD$70,5,0),\"\")","v":0},null,{"$f":"IFERROR(VLOOKUP(Tabla42[[#This Row],[Nº]],DESC.!$K$5:$AD$70,6,0),\"\")","v":0},{"$f":"IFERROR(VLOOKUP(Tabla42[[#This Row],[Nº]],DESC.!$K$5:$AD$70,8,0),\"\")","v":0},{"$f":"IFERROR(VLOOKUP(Tabla42[[#This Row],[Nº]],DESC.!$K$5:$AD$70,13,0),\"\")","v":0},null,null,null,null,null,null,null,null,null,{"$f":"IFERROR(VLOOKUP(Tabla42[[#This Row],[Nº]],DESC.!$K$5:$AD$70,11,0),\"\")","v":0},{"$f":"VLOOKUP(Tabla42[[#This Row],[Nº]],BDD!$I$7:$AI$70,21,0)","v":0},{"$f":"IFERROR(VLOOKUP(Tabla42[[#This Row],[Nº]],DESC.!$K$5:$AD$70,20,0),\"\")","v":0}]
[null,null,null,null,null,22,{"$f":"IFERROR(VLOOKUP(Tabla42[[#This Row],[Nº]],BDD!$I$7:$AB$70,2,0),\"\")","v":0},{"$f":"IFERROR(VLOOKUP(Tabla42[[#This Row],[Nº]],BDD!$I$7:$AB$70,3,0),\"\")","v":0},{"$f":"IFERROR(VLOOKUP(Tabla42[[#This Row],[Nº]],BDD!$I$7:$AB$70,11,0),\"\")","v":0},{"$f":"IFERROR(VLOOKUP(Tabla42[[#This Row],[Nº]],BDD!$I$7:$AB$70,20,0),\"\")","v":0},{"$f":"IFERROR(VLOOKUP(Tabla42[[#This Row],[Nº]],DESC.!$K$5:$AD$70,4,0),\"\")","v":0},{"$f":"IFERROR(VLOOKUP(Tabla42[[#This Row],[Nº]],DESC.!$K$5:$AD$70,5,0),\"\")","v":0},null,{"$f":"IFERROR(VLOOKUP(Tabla42[[#This Row],[Nº]],DESC.!$K$5:$AD$70,6,0),\"\")","v":0},{"$f":"IFERROR(VLOOKUP(Tabla42[[#This Row],[Nº]],DESC.!$K$5:$AD$70,8,0),\"\")","v":0},{"$f":"IFERROR(VLOOKUP(Tabla42[[#This Row],[Nº]],DESC.!$K$5:$AD$70,13,0),\"\")","v":0},null,null,null,null,null,null,null,null,null,{"$f":"IFERROR(VLOOKUP(Tabla42[[#This Row],[Nº]],DESC.!$K$5:$AD$70,11,0),\"\")","v":0},{"$f":"VLOOKUP(Tabla42[[#This Row],[Nº]],BDD!$I$7:$AI$70,21,0)","v":0},{"$f":"IFERROR(VLOOKUP(Tabla42[[#This Row],[Nº]],DESC.!$K$5:$AD$70,20,0),\"\")","v":0}]
[null,null,null,null,null,23,{"$f":"IFERROR(VLOOKUP(Tabla42[[#This Row],[Nº]],BDD!$I$7:$AB$70,2,0),\"\")","v":0},{"$f":"IFERROR(VLOOKUP(Tabla42[[#This Row],[Nº]],BDD!$I$7:$AB$70,3,0),\"\")","v":0},{"$f":"IFERROR(VLOOKUP(Tabla42[[#This Row],[Nº]],BDD!$I$7:$AB$70,11,0),\"\")","v":0},{"$f":"IFERROR(VLOOKUP(Tabla42[[#This Row],[Nº]],BDD!$I$7:$AB$70,20,0),\"\")","v":0},{"$f":"IFERROR(VLOOKUP(Tabla42[[#This Row],[Nº]],DESC.!$K$5:$AD$70,4,0),\"\")","v":0},{"$f":"IFERROR(VLOOKUP(Tabla42[[#This Row],[Nº]],DESC.!$K$5:$AD$70,5,0),\"\")","v":0},null,{"$f":"IFERROR(VLOOKUP(Tabla42[[#This Row],[Nº]],DESC.!$K$5:$AD$70,6,0),\"\")","v":0},{"$f":"IFERROR(VLOOKUP(Tabla42[[#This Row],[Nº]],DESC.!$K$5:$AD$70,8,0),\"\")","v":0},{"$f":"IFERROR(VLOOKUP(Tabla42[[#This Row],[Nº]],DESC.!$K$5:$AD$70,13,0),\"\")","v":0},null,null,null,null,null,null,null,null,null,{"$f":"IFERROR(VLOOKUP(Tabla42[[#This Row],[Nº]],DESC.!$K$5:$AD$70,11,0),\"\")","v":0},{"$f":"VLOOKUP(Tabla42[[#This Row],[Nº]],BDD!$I$7:$AI$70,21,0)","v":0},{"$f":"IFERROR(VLOOKUP(Tabla42[[#This Row],[Nº]],DESC.!$K$5:$AD$70,20,0),\"\")","v":0}]
[null,null,null,null,null,24,{"$f":"IFERROR(VLOOKUP(Tabla42[[#This Row],[Nº]],BDD!$I$7:$AB$70,2,0),\"\")","v":0},{"$f":"IFERROR(VLOOKUP(Tabla42[[#This Row],[Nº]],BDD!$I$7:$AB$70,3,0),\"\")","v":0},{"$f":"IFERROR(VLOOKUP(Tabla42[[#This Row],[Nº]],BDD!$I$7:$AB$70,11,0),\"\")","v":0},{"$f":"IFERROR(VLOOKUP(Tabla42[[#This Row],[Nº]],BDD!$I$7:$AB$70,20,0),\"\")","v":0},{"$f":"IFERROR(VLOOKUP(Tabla42[[#This Row],[Nº]],DESC.!$K$5:$AD$70,4,0),\"\")","v":0},{"$f":"IFERROR(VLOOKUP(Tabla42[[#This Row],[Nº]],DESC.!$K$5:$AD$70,5,0),\"\")","v":0},null,{"$f":"IFERROR(VLOOKUP(Tabla42[[#This Row],[Nº]],DESC.!$K$5:$AD$70,6,0),\"\")","v":0},{"$f":"IFERROR(VLOOKUP(Tabla42[[#This Row],[Nº]],DESC.!$K$5:$AD$70,8,0),\"\")","v":0},{"$f":"IFERROR(VLOOKUP(Tabla42[[#This Row],[Nº]],DESC.!$K$5:$AD$70,13,0),\"\")","v":0},null,null,null,null,null,null,null,null,null,{"$f":"IFERROR(VLOOKUP(Tabla42[[#This Row],[Nº]],DESC.!$K$5:$AD$70,11,0),\"\")","v":0},{"$f":"VLOOKUP(Tabla42[[#This Row],[Nº]],BDD!$I$7:$AI$70,21,0)","v":0},{"$f":"IFERROR(VLOOKUP(Tabla42[[#This Row],[Nº]],DESC.!$K$5:$AD$70,20,0),\"\")","v":0}]
[null,null,null,null,null,25,{"$f":"IFERROR(VLOOKUP(Tabla42[[#This Row],[Nº]],BDD!$I$7:$AB$70,2,0),\"\")","v":0},{"$f":"IFERROR(VLOOKUP(Tabla42[[#This Row],[Nº]],BDD!$I$7:$AB$70,3,0),\"\")","v":0},{"$f":"IFERROR(VLOOKUP(Tabla42[[#This Row],[Nº]],BDD!$I$7:$AB$70,11,0),\"\")","v":0},{"$f":"IFERROR(VLOOKUP(Tabla42[[#This Row],[Nº]],BDD!$I$7:$AB$70,20,0),\"\")","v":0},{"$f":"IFERROR(VLOOKUP(Tabla42[[#This Row],[Nº]],DESC.!$K$5:$AD$70,4,0),\"\")","v":0},{"$f":"IFERROR(VLOOKUP(Tabla42[[#This Row],[Nº]],DESC.!$K$5:$AD$70,5,0),\"\")","v":0},null,{"$f":"IFERROR(VLOOKUP(Tabla42[[#This Row],[Nº]],DESC.!$K$5:$AD$70,6,0),\"\")","v":0},{"$f":"IFERROR(VLOOKUP(Tabla42[[#This Row],[Nº]],DESC.!$K$5:$AD$70,8,0),\"\")","v":0},{"$f":"IFERROR(VLOOKUP(Tabla42[[#This Row],[Nº]],DESC.!$K$5:$AD$70,13,0),\"\")","v":0},null,null,null,null,null,null,null,null,null,{"$f":"IFERROR(VLOOKUP(Tabla42[[#This Row],[Nº]],DESC.!$K$5:$AD$70,11,0),\"\")","v":0},{"$f":"VLOOKUP(Tabla42[[#This Row],[Nº]],BDD!$I$7:$AI$70,21,0)","v":0},{"$f":"IFERROR(VLOOKUP(Tabla42[[#This Row],[Nº]],DESC.!$K$5:$AD$70,20,0),\"\")","v":0}]
[null,null,null,null,null,26,{"$f":"IFERROR(VLOOKUP(Tabla42[[#This Row],[Nº]],BDD!$I$7:$AB$70,2,0),\"\")","v":0},{"$f":"IFERROR(VLOOKUP(Tabla42[[#This Row],[Nº]],BDD!$I$7:$AB$70,3,0),\"\")","v":0},{"$f":"IFERROR(VLOOKUP(Tabla42[[#This Row],[Nº]],BDD!$I$7:$AB$70,11,0),\"\")","v":0},{"$f":"IFERROR(VLOOKUP(Tabla42[[#This Row],[Nº]],BDD!$I$7:$AB$70,20,0),\"\")","v":0},{"$f":"IFERROR(VLOOKUP(Tabla42[[#This Row],[Nº]],DESC.!$K$5:$AD$70,4,0),\"\")","v":0},{"$f":"IFERROR(VLOOKUP(Tabla42[[#This Row],[Nº]],DESC.!$K$5:$AD$70,5,0),\"\")","v":0},null,{"$f":"IFERROR(VLOOKUP(Tabla42[[#This Row],[Nº]],DESC.!$K$5:$AD$70,6,0),\"\")","v":0},{"$f":"IFERROR(VLOOKUP(Tabla42[[#This Row],[Nº]],DESC.!$K$5:$AD$70,8,0),\"\")","v":0},{"$f":"IFERROR(VLOOKUP(Tabla42[[#This Row],[Nº]],DESC.!$K$5:$AD$70,13,0),\"\")","v":0},null,null,null,null,null,null,null,null,null,{"$f":"IFERROR(VLOOKUP(Tabla42[[#This Row],[Nº]],DESC.!$K$5:$AD$70,11,0),\"\")","v":0},{"$f":"VLOOKUP(Tabla42[[#This Row],[Nº]],BDD!$I$7:$AI$70,21,0)","v":0},{"$f":"IFERROR(VLOOKUP(Tabla42[[#This Row],[Nº]],DESC.!$K$5:$AD$70,20,0),\"\")","v":0}]
[null,null,null,null,null,27,{"$f":"IFERROR(VLOOKUP(Tabla42[[#This Row],[Nº]],BDD!$I$7:$AB$70,2,0),\"\")","v":0},{"$f":"IFERROR(VLOOKUP(Tabla42[[#This Row],[Nº]],BDD!$I$7:$AB$70,3,0),\"\")","v":0},{"$f":"IFERROR(VLOOKUP(Tabla42[[#This Row],[Nº]],BDD!$I$7:$AB$70,11,0),\"\")","v":0},{"$f":"IFERROR(VLOOKUP(Tabla42[[#This Row],[Nº]],BDD!$I$7:$AB$70,20,0),\"\")","v":0},{"$f":"IFERROR(VLOOKUP(Tabla42[[#This Row],[Nº]],DESC.!$K$5:$AD$70,4,0),\"\")","v":0},{"$f":"IFERROR(VLOOKUP(Tabla42[[#This Row],[Nº]],DESC.!$K$5:$AD$70,5,0),\"\")","v":0},null,{"$f":"IFERROR(VLOOKUP(Tabla42[[#This Row],[Nº]],DESC.!$K$5:$AD$70,6,0),\"\")","v":0},{"$f":"IFERROR(VLOOKUP(Tabla42[[#This Row],[Nº]],DESC.!$K$5:$AD$70,8,0),\"\")","v":0},{"$f":"IFERROR(VLOOKUP(Tabla42[[#This Row],[Nº]],DESC.!$K$5:$AD$70,13,0),\"\")","v":0},null,null,null,null,null,null,null,null,null,{"$f":"IFERROR(VLOOKUP(Tabla42[[#This Row],[Nº]],DESC.!$K$5:$AD$70,11,0),\"\")","v":0},{"$f":"VLOOKUP(Tabla42[[#This Row],[Nº]],BDD!$I$7:$AI$70,21,0)","v":0},{"$f":"IFERROR(VLOOKUP(Tabla42[[#This Row],[Nº]],DESC.!$K$5:$AD$70,20,0),\"\")","v":0}]
[null,null,null,null,null,28,{"$f":"IFERROR(VLOOKUP(Tabla42[[#This Row],[Nº]],BDD!$I$7:$AB$70,2,0),\"\")","v":0},{"$f":"IFERROR(VLOOKUP(Tabla42[[#This Row],[Nº]],BDD!$I$7:$AB$70,3,0),\"\")","v":0},{"$f":"IFERROR(VLOOKUP(Tabla42[[#This Row],[Nº]],BDD!$I$7:$AB$70,11,0),\"\")","v":0},{"$f":"IFERROR(VLOOKUP(Tabla42[[#This Row],[Nº]],BDD!$I$7:$AB$70,20,0),\"\")","v":0},{"$f":"IFERROR(VLOOKUP(Tabla42[[#This Row],[Nº]],DESC.!$K$5:$AD$70,4,0),\"\")","v":0},{"$f":"IFERROR(VLOOKUP(Tabla42[[#This Row],[Nº]],DESC.!$K$5:$AD$70,5,0),\"\")","v":0},null,{"$f":"IFERROR(VLOOKUP(Tabla42[[#This Row],[Nº]],DESC.!$K$5:$AD$70,6,0),\"\")","v":0},{"$f":"IFERROR(VLOOKUP(Tabla42[[#This Row],[Nº]],DESC.!$K$5:$AD$70,8,0),\"\")","v":0},{"$f":"IFERROR(VLOOKUP(Tabla42[[#This Row],[Nº]],DESC.!$K$5:$AD$70,13,0),\"\")","v":0},null,null,null,null,null,null,null,null,null,{"$f":"IFERROR(VLOOKUP(Tabla42[[#This Row],[Nº]],DESC.!$K$5:$AD$70,11,0),\"\")","v":0},{"$f":"VLOOKUP(Tabla42[[#This Row],[Nº]],BDD!$I$7:$AI$70,21,0)","v":0},{"$f":"IFERROR(VLOOKUP(Tabla42[[#This Row],[Nº]],DESC.!$K$5:$AD$70,20,0),\"\")","v":0}]
[null,null,null,null,null,29,{"$f":"IFERROR(VLOOKUP(Tabla42[[#This Row],[Nº]],BDD!$I$7:$AB$70,2,0),\"\")","v":0},{"$f":"IFERROR(VLOOKUP(Tabla42[[#This Row],[Nº]],BDD!$I$7:$AB$70,3,0),\"\")","v":0},{"$f":"IFERROR(VLOOKUP(Tabla42[[#This Row],[Nº]],BDD!$I$7:$AB$70,11,0),\"\")","v":0},{"$f":"IFERROR(VLOOKUP(Tabla42[[#This Row],[Nº]],BDD!$I$7:$AB$70,20,0),\"\")","v":0},{"$f":"IFERROR(VLOOKUP(Tabla42[[#This Row],[Nº]],DESC.!$K$5:$AD$70,4,0),\"\")","v":0},{"$f":"IFERROR(VLOOKUP(Tabla42[[#This Row],[Nº]],DESC.!$K$5:$AD$70,5,0),\"\")","v":0},null,{"$f":"IFERROR(VLOOKUP(Tabla42[[#This Row],[Nº]],DESC.!$K$5:$AD$70,6,0),\"\")","v":0},{"$f":"IFERROR(VLOOKUP(Tabla42[[#This Row],[Nº]],DESC.!$K$5:$AD$70,8,0),\"\")","v":0},{"$f":"IFERROR(VLOOKUP(Tabla42[[#This Row],[Nº]],DESC.!$K$5:$AD$70,13,0),\"\")","v":0},null,null,null,null,null,null,null,null,null,{"$f":"IFERROR(VLOOKUP(Tabla42[[#This Row],[Nº]],DESC.!$K$5:$AD$70,11,0),\"\")","v":0},{"$f":"VLOOKUP(Tabla42[[#This Row],[Nº]],BDD!$I$7:$AI$70,21,0)","v":0},{"$f":"IFERROR(VLOOKUP(Tabla42[[#This Row],[Nº]],DESC.!$K$5:$AD$70,20,0),\"\")","v":0}]
[null,null,null,null,null,30,{"$f":"IFERROR(VLOOKUP(Tabla42[[#This Row],[Nº]],BDD!$I$7:$AB$70,2,0),\"\")","v":0},{"$f":"IFERROR(VLOOKUP(Tabla42[[#This Row],[Nº]],BDD!$I$7:$AB$70,3,0),\"\")","v":0},{"$f":"IFERROR(VLOOKUP(Tabla42[[#This Row],[Nº]],BDD!$I$7:$AB$70,11,0),\"\")","v":0},{"$f":"IFERROR(VLOOKUP(Tabla42[[#This Row],[Nº]],BDD!$I$7:$AB$70,20,0),\"\")","v":0},{"$f":"IFERROR(VLOOKUP(Tabla42[[#This Row],[Nº]],DESC.!$K$5:$AD$70,4,0),\"\")","v":0},{"$f":"IFERROR(VLOOKUP(Tabla42[[#This Row],[Nº]],DESC.!$K$5:$AD$70,5,0),\"\")","v":0},null,{"$f":"IFERROR(VLOOKUP(Tabla42[[#This Row],[Nº]],DESC.!$K$5:$AD$70,6,0),\"\")","v":0},{"$f":"IFERROR(VLOOKUP(Tabla42[[#This Row],[Nº]],DESC.!$K$5:$AD$70,8,0),\"\")","v":0},{"$f":"IFERROR(VLOOKUP(Tabla42[[#This Row],[Nº]],DESC.!$K$5:$AD$70,13,0),\"\")","v":0},null,null,null,null,null,null,null,null,null,{"$f":"IFERROR(VLOOKUP(Tabla42[[#This Row],[Nº]],DESC.!$K$5:$AD$70,11,0),\"\")","v":0},{"$f":"VLOOKUP(Tabla42[[#This Row],[Nº]],BDD!$I$7:$AI$70,21,0)","v":0},{"$f":"IFERROR(VLOOKUP(Tabla42[[#This Row],[Nº]],DESC.!$K$5:$AD$70,20,0),\"\")","v":0}]
[null,null,null,null,null,31,{"$f":"IFERROR(VLOOKUP(Tabla42[[#This Row],[Nº]],BDD!$I$7:$AB$70,2,0),\"\")","v":0},{"$f":"IFERROR(VLOOKUP(Tabla42[[#This Row],[Nº]],BDD!$I$7:$AB$70,3,0),\"\")","v":0},{"$f":"IFERROR(VLOOKUP(Tabla42[[#This Row],[Nº]],BDD!$I$7:$AB$70,11,0),\"\")","v":0},{"$f":"IFERROR(VLOOKUP(Tabla42[[#This Row],[Nº]],BDD!$I$7:$AB$70,20,0),\"\")","v":0},{"$f":"IFERROR(VLOOKUP(Tabla42[[#This Row],[Nº]],DESC.!$K$5:$AD$70,4,0),\"\")","v":0},{"$f":"IFERROR(VLOOKUP(Tabla42[[#This Row],[Nº]],DESC.!$K$5:$AD$70,5,0),\"\")","v":0},null,{"$f":"IFERROR(VLOOKUP(Tabla42[[#This Row],[Nº]],DESC.!$K$5:$AD$70,6,0),\"\")","v":0},{"$f":"IFERROR(VLOOKUP(Tabla42[[#This Row],[Nº]],DESC.!$K$5:$AD$70,8,0),\"\")","v":0},{"$f":"IFERROR(VLOOKUP(Tabla42[[#This Row],[Nº]],DESC.!$K$5:$AD$70,13,0),\"\")","v":0},null,null,null,null,null,null,null,null,null,{"$f":"IFERROR(VLOOKUP(Tabla42[[#This Row],[Nº]],DESC.!$K$5:$AD$70,11,0),\"\")","v":0},{"$f":"VLOOKUP(Tabla42[[#This Row],[Nº]],BDD!$I$7:$AI$70,21,0)","v":0},{"$f":"IFERROR(VLOOKUP(Tabla42[[#This Row],[Nº]],DESC.!$K$5:$AD$70,20,0),\"\")","v":0}]
[null,null,null,null,null,32,{"$f":"IFERROR(VLOOKUP(Tabla42[[#This Row],[Nº]],BDD!$I$7:$AB$70,2,0),\"\")","v":0},{"$f":"IFERROR(VLOOKUP(Tabla42[[#This Row],[Nº]],BDD!$I$7:$AB$70,3,0),\"\")","v":0},{"$f":"IFERROR(VLOOKUP(Tabla42[[#This Row],[Nº]],BDD!$I$7:$AB$70,11,0),\"\")","v":0},{"$f":"IFERROR(VLOOKUP(Tabla42[[#This Row],[Nº]],BDD!$I$7:$AB$70,20,0),\"\")","v":0},{"$f":"IFERROR(VLOOKUP(Tabla42[[#This Row],[Nº]],DESC.!$K$5:$AD$70,4,0),\"\")","v":0},{"$f":"IFERROR(VLOOKUP(Tabla42[[#This Row],[Nº]],DESC.!$K$5:$AD$70,5,0),\"\")","v":0},null,{"$f":"IFERROR(VLOOKUP(Tabla42[[#This Row],[Nº]],DESC.!$K$5:$AD$70,6,0),\"\")","v":0},{"$f":"IFERROR(VLOOKUP(Tabla42[[#This Row],[Nº]],DESC.!$K$5:$AD$70,8,0),\"\")","v":0},{"$f":"IFERROR(VLOOKUP(Tabla42[[#This Row],[Nº]],DESC.!$K$5:$AD$70,13,0),\"\")","v":0},null,null,null,null,null,null,null,null,null,{"$f":"IFERROR(VLOOKUP(Tabla42[[#This Row],[Nº]],DESC.!$K$5:$AD$70,11,0),\"\")","v":0},{"$f":"VLOOKUP(Tabla42[[#This Row],[Nº]],BDD!$I$7:$AI$70,21,0)","v":0},{"$f":"IFERROR(VLOOKUP(Tabla42[[#This Row],[Nº]],DESC.!$K$5:$AD$70,20,0),\"\")","v":0}]
[null,null,null,null,null,33,{"$f":"IFERROR(VLOOKUP(Tabla42[[#This Row],[Nº]],BDD!$I$7:$AB$70,2,0),\"\")","v":0},{"$f":"IFERROR(VLOOKUP(Tabla42[[#This Row],[Nº]],BDD!$I$7:$AB$70,3,0),\"\")","v":0},{"$f":"IFERROR(VLOOKUP(Tabla42[[#This Row],[Nº]],BDD!$I$7:$AB$70,11,0),\"\")","v":0},{"$f":"IFERROR(VLOOKUP(Tabla42[[#This Row],[Nº]],BDD!$I$7:$AB$70,20,0),\"\")","v":0},{"$f":"IFERROR(VLOOKUP(Tabla42[[#This Row],[Nº]],DESC.!$K$5:$AD$70,4,0),\"\")","v":0},{"$f":"IFERROR(VLOOKUP(Tabla42[[#This Row],[Nº]],DESC.!$K$5:$AD$70,5,0),\"\")","v":0},null,{"$f":"IFERROR(VLOOKUP(Tabla42[[#This Row],[Nº]],DESC.!$K$5:$AD$70,6,0),\"\")","v":0},{"$f":"IFERROR(VLOOKUP(Tabla42[[#This Row],[Nº]],DESC.!$K$5:$AD$70,8,0),\"\")","v":0},{"$f":"IFERROR(VLOOKUP(Tabla42[[#This Row],[Nº]],DESC.!$K$5:$AD$70,13,0),\"\")","v":0},null,null,null,null,null,null,null,null,null,{"$f":"IFERROR(VLOOKUP(Tabla42[[#This Row],[Nº]],DESC.!$K$5:$AD$70,11,0),\"\")","v":0},{"$f":"VLOOKUP(Tabla42[[#This Row],[Nº]],BDD!$I$7:$AI$70,21,0)","v":0},{"$f":"IFERROR(VLOOKUP(Tabla42[[#This Row],[Nº]],DESC.!$K$5:$AD$70,20,0),\"\")","v":0}]
[null,null,null,null,null,34,{"$f":"IFERROR(VLOOKUP(Tabla42[[#This Row],[Nº]],BDD!$I$7:$AB$70,2,0),\"\")","v":0},{"$f":"IFERROR(VLOOKUP(Tabla42[[#This Row],[Nº]],BDD!$I$7:$AB$70,3,0),\"\")","v":0},{"$f":"IFERROR(VLOOKUP(Tabla42[[#This Row],[Nº]],BDD!$I$7:$AB$70,11,0),\"\")","v":0},{"$f":"IFERROR(VLOOKUP(Tabla42[[#This Row],[Nº]],BDD!$I$7:$AB$70,20,0),\"\")","v":0},{"$f":"IFERROR(VLOOKUP(Tabla42[[#This Row],[Nº]],DESC.!$K$5:$AD$70,4,0),\"\")","v":0},{"$f":"IFERROR(VLOOKUP(Tabla42[[#This Row],[Nº]],DESC.!$K$5:$AD$70,5,0),\"\")","v":0},null,{"$f":"IFERROR(VLOOKUP(Tabla42[[#This Row],[Nº]],DESC.!$K$5:$AD$70,6,0),\"\")","v":0},{"$f":"IFERROR(VLOOKUP(Tabla42[[#This Row],[Nº]],DESC.!$K$5:$AD$70,8,0),\"\")","v":0},{"$f":"IFERROR(VLOOKUP(Tabla42[[#This Row],[Nº]],DESC.!$K$5:$AD$70,13,0),\"\")","v":0},null,null,null,null,null,null,null,null,null,{"$f":"IFERROR(VLOOKUP(Tabla42[[#This Row],[Nº]],DESC.!$K$5:$AD$70,11,0),\"\")","v":0},{"$f":"VLOOKUP(Tabla42[[#This Row],[Nº]],BDD!$I$7:$AI$70,21,0)","v":0},{"$f":"IFERROR(VLOOKUP(Tabla42[[#This Row],[Nº]],DESC.!$K$5:$AD$70,20,0),\"\")","v":0}]
[null,null,null,null,null,35,{"$f":"IFERROR(VLOOKUP(Tabla42[[#This Row],[Nº]],BDD!$I$7:$AB$70,2,0),\"\")","v":0},{"$f":"IFERROR(VLOOKUP(Tabla42[[#This Row],[Nº]],BDD!$I$7:$AB$70,3,0),\"\")","v":0},{"$f":"IFERROR(VLOOKUP(Tabla42[[#This Row],[Nº]],BDD!$I$7:$AB$70,11,0),\"\")","v":0},{"$f":"IFERROR(VLOOKUP(Tabla42[[#This Row],[Nº]],BDD!$I$7:$AB$70,20,0),\"\")","v":0},{"$f":"IFERROR(VLOOKUP(Tabla42[[#This Row],[Nº]],DESC.!$K$5:$AD$70,4,0),\"\")","v":0},{"$f":"IFERROR(VLOOKUP(Tabla42[[#This Row],[Nº]],DESC.!$K$5:$AD$70,5,0),\"\")","v":0},null,{"$f":"IFERROR(VLOOKUP(Tabla42[[#This Row],[Nº]],DESC.!$K$5:$AD$70,6,0),\"\")","v":0},{"$f":"IFERROR(VLOOKUP(Tabla42[[#This Row],[Nº]],DESC.!$K$5:$AD$70,8,0),\"\")","v":0},{"$f":"IFERROR(VLOOKUP(Tabla42[[#This Row],[Nº]],DESC.!$K$5:$AD$70,13,0),\"\")","v":0},null,null,null,null,null,null,null,null,null,{"$f":"IFERROR(VLOOKUP(Tabla42[[#This Row],[Nº]],DESC.!$K$5:$AD$70,11,0),\"\")","v":0},{"$f":"VLOOKUP(Tabla42[[#This Row],[Nº]],BDD!$I$7:$AI$70,21,0)","v":0},{"$f":"IFERROR(VLOOKUP(Tabla42[[#This Row],[Nº]],DESC.!$K$5:$AD$70,20,0),\"\")","v":0}]
[null,null,null,null,null,36,{"$f":"IFERROR(VLOOKUP(Tabla42[[#This Row],[Nº]],BDD!$I$7:$AB$70,2,0),\"\")","v":0},{"$f":"IFERROR(VLOOKUP(Tabla42[[#This Row],[Nº]],BDD!$I$7:$AB$70,3,0),\"\")","v":0},{"$f":"IFERROR(VLOOKUP(Tabla42[[#This Row],[Nº]],BDD!$I$7:$AB$70,11,0),\"\")","v":0},{"$f":"IFERROR(VLOOKUP(Tabla42[[#This Row],[Nº]],BDD!$I$7:$AB$70,20,0),\"\")","v":0},{"$f":"IFERROR(VLOOKUP(Tabla42[[#This Row],[Nº]],DESC.!$K$5:$AD$70,4,0),\"\")","v":0},{"$f":"IFERROR(VLOOKUP(Tabla42[[#This Row],[Nº]],DESC.!$K$5:$AD$70,5,0),\"\")","v":0},null,{"$f":"IFERROR(VLOOKUP(Tabla42[[#This Row],[Nº]],DESC.!$K$5:$AD$70,6,0),\"\")","v":0},{"$f":"IFERROR(VLOOKUP(Tabla42[[#This Row],[Nº]],DESC.!$K$5:$AD$70,8,0),\"\")","v":0},{"$f":"IFERROR(VLOOKUP(Tabla42[[#This Row],[Nº]],DESC.!$K$5:$AD$70,13,0),\"\")","v":0},null,null,null,null,null,null,null,null,null,{"$f":"IFERROR(VLOOKUP(Tabla42[[#This Row],[Nº]],DESC.!$K$5:$AD$70,11,0),\"\")","v":0},{"$f":"VLOOKUP(Tabla42[[#This Row],[Nº]],BDD!$I$7:$AI$70,21,0)","v":0},{"$f":"IFERROR(VLOOKUP(Tabla42[[#This Row],[Nº]],DESC.!$K$5:$AD$70,20,0),\"\")","v":0}]
[null,null,null,null,null,37,{"$f":"IFERROR(VLOOKUP(Tabla42[[#This Row],[Nº]],BDD!$I$7:$AB$70,2,0),\"\")","v":0},{"$f":"IFERROR(VLOOKUP(Tabla42[[#This Row],[Nº]],BDD!$I$7:$AB$70,3,0),\"\")","v":0},{"$f":"IFERROR(VLOOKUP(Tabla42[[#This Row],[Nº]],BDD!$I$7:$AB$70,11,0),\"\")","v":0},{"$f":"IFERROR(VLOOKUP(Tabla42[[#This Row],[Nº]],BDD!$I$7:$AB$70,20,0),\"\")","v":0},{"$f":"IFERROR(VLOOKUP(Tabla42[[#This Row],[Nº]],DESC.!$K$5:$AD$70,4,0),\"\")","v":0},{"$f":"IFERROR(VLOOKUP(Tabla42[[#This Row],[Nº]],DESC.!$K$5:$AD$70,5,0),\"\")","v":0},null,{"$f":"IFERROR(VLOOKUP(Tabla42[[#This Row],[Nº]],DESC.!$K$5:$AD$70,6,0),\"\")","v":0},{"$f":"IFERROR(VLOOKUP(Tabla42[[#This Row],[Nº]],DESC.!$K$5:$AD$70,8,0),\"\")","v":0},{"$f":"IFERROR(VLOOKUP(Tabla42[[#This Row],[Nº]],DESC.!$K$5:$AD$70,13,0),\"\")","v":0},null,null,null,null,null,null,null,null,null,{"$f":"IFERROR(VLOOKUP(Tabla42[[#This Row],[Nº]],DESC.!$K$5:$AD$70,11,0),\"\")","v":0},{"$f":"VLOOKUP(Tabla42[[#This Row],[Nº]],BDD!$I$7:$AI$70,21,0)","v":0},{"$f":"IFERROR(VLOOKUP(Tabla42[[#This Row],[Nº]],DESC.!$K$5:$AD$70,20,0),\"\")","v":0}]
[null,null,null,null,null,38,{"$f":"IFERROR(VLOOKUP(Tabla42[[#This Row],[Nº]],BDD!$I$7:$AB$70,2,0),\"\")","v":0},{"$f":"IFERROR(VLOOKUP(Tabla42[[#This Row],[Nº]],BDD!$I$7:$AB$70,3,0),\"\")","v":0},{"$f":"IFERROR(VLOOKUP(Tabla42[[#This Row],[Nº]],BDD!$I$7:$AB$70,11,0),\"\")","v":0},{"$f":"IFERROR(VLOOKUP(Tabla42[[#This Row],[Nº]],BDD!$I$7:$AB$70,20,0),\"\")","v":0},{"$f":"IFERROR(VLOOKUP(Tabla42[[#This Row],[Nº]],DESC.!$K$5:$AD$70,4,0),\"\")","v":0},{"$f":"IFERROR(VLOOKUP(Tabla42[[#This Row],[Nº]],DESC.!$K$5:$AD$70,5,0),\"\")","v":0},null,{"$f":"IFERROR(VLOOKUP(Tabla42[[#This Row],[Nº]],DESC.!$K$5:$AD$70,6,0),\"\")","v":0},{"$f":"IFERROR(VLOOKUP(Tabla42[[#This Row],[Nº]],DESC.!$K$5:$AD$70,8,0),\"\")","v":0},{"$f":"IFERROR(VLOOKUP(Tabla42[[#This Row],[Nº]],DESC.!$K$5:$AD$70,13,0),\"\")","v":0},null,null,null,null,null,null,null,null,null,{"$f":"IFERROR(VLOOKUP(Tabla42[[#This Row],[Nº]],DESC.!$K$5:$AD$70,11,0),\"\")","v":0},{"$f":"VLOOKUP(Tabla42[[#This Row],[Nº]],BDD!$I$7:$AI$70,21,0)","v":0},{"$f":"IFERROR(VLOOKUP(Tabla42[[#This Row],[Nº]],DESC.!$K$5:$AD$70,20,0),\"\")","v":0}]
[null,null,null,null,null,39,{"$f":"IFERROR(VLOOKUP(Tabla42[[#This Row],[Nº]],BDD!$I$7:$AB$70,2,0),\"\")","v":0},{"$f":"IFERROR(VLOOKUP(Tabla42[[#This Row],[Nº]],BDD!$I$7:$AB$70,3,0),\"\")","v":0},{"$f":"IFERROR(VLOOKUP(Tabla42[[#This Row],[Nº]],BDD!$I$7:$AB$70,11,0),\"\")","v":0},{"$f":"IFERROR(VLOOKUP(Tabla42[[#This Row],[Nº]],BDD!$I$7:$AB$70,20,0),\"\")","v":0},{"$f":"IFERROR(VLOOKUP(Tabla42[[#This Row],[Nº]],DESC.!$K$5:$AD$70,4,0),\"\")","v":0},{"$f":"IFERROR(VLOOKUP(Tabla42[[#This Row],[Nº]],DESC.!$K$5:$AD$70,5,0),\"\")","v":0},null,{"$f":"IFERROR(VLOOKUP(Tabla42[[#This Row],[Nº]],DESC.!$K$5:$AD$70,6,0),\"\")","v":0},{"$f":"IFERROR(VLOOKUP(Tabla42[[#This Row],[Nº]],DESC.!$K$5:$AD$70,8,0),\"\")","v":0},{"$f":"IFERROR(VLOOKUP(Tabla42[[#This Row],[Nº]],DESC.!$K$5:$AD$70,13,0),\"\")","v":0},null,null,null,null,null,null,null,null,null,{"$f":"IFERROR(VLOOKUP(Tabla42[[#This Row],[Nº]],DESC.!$K$5:$AD$70,11,0),\"\")","v":0},{"$f":"VLOOKUP(Tabla42[[#This Row],[Nº]],BDD!$I$7:$AI$70,21,0)","v":0},{"$f":"IFERROR(VLOOKUP(Tabla42[[#This Row],[Nº]],DESC.!$K$5:$AD$70,20,0),\"\")","v":0}]
[null,null,null,null,null,40,{"$f":"IFERROR(VLOOKUP(Tabla42[[#This Row],[Nº]],BDD!$I$7:$AB$70,2,0),\"\")","v":0},{"$f":"IFERROR(VLOOKUP(Tabla42[[#This Row],[Nº]],BDD!$I$7:$AB$70,3,0),\"\")","v":0},{"$f":"IFERROR(VLOOKUP(Tabla42[[#This Row],[Nº]],BDD!$I$7:$AB$70,11,0),\"\")","v":0},{"$f":"IFERROR(VLOOKUP(Tabla42[[#This Row],[Nº]],BDD!$I$7:$AB$70,20,0),\"\")","v":0},{"$f":"IFERROR(VLOOKUP(Tabla42[[#This Row],[Nº]],DESC.!$K$5:$AD$70,4,0),\"\")","v":0},{"$f":"IFERROR(VLOOKUP(Tabla42[[#This Row],[Nº]],DESC.!$K$5:$AD$70,5,0),\"\")","v":0},null,{"$f":"IFERROR(VLOOKUP(Tabla42[[#This Row],[Nº]],DESC.!$K$5:$AD$70,6,0),\"\")","v":0},{"$f":"IFERROR(VLOOKUP(Tabla42[[#This Row],[Nº]],DESC.!$K$5:$AD$70,8,0),\"\")","v":0},{"$f":"IFERROR(VLOOKUP(Tabla42[[#This Row],[Nº]],DESC.!$K$5:$AD$70,13,0),\"\")","v":0},null,null,null,null,null,null,null,null,null,{"$f":"IFERROR(VLOOKUP(Tabla42[[#This Row],[Nº]],DESC.!$K$5:$AD$70,11,0),\"\")","v":0},{"$f":"VLOOKUP(Tabla42[[#This Row],[Nº]],BDD!$I$7:$AI$70,21,0)","v":0},{"$f":"IFERROR(VLOOKUP(Tabla42[[#This Row],[Nº]],DESC.!$K$5:$AD$70,20,0),\"\")","v":0}]
[null,null,null,null,null,41,{"$f":"IFERROR(VLOOKUP(Tabla42[[#This Row],[Nº]],BDD!$I$7:$AB$70,2,0),\"\")","v":0},{"$f":"IFERROR(VLOOKUP(Tabla42[[#This Row],[Nº]],BDD!$I$7:$AB$70,3,0),\"\")","v":0},{"$f":"IFERROR(VLOOKUP(Tabla42[[#This Row],[Nº]],BDD!$I$7:$AB$70,11,0),\"\")","v":0},{"$f":"IFERROR(VLOOKUP(Tabla42[[#This Row],[Nº]],BDD!$I$7:$AB$70,20,0),\"\")","v":0},{"$f":"IFERROR(VLOOKUP(Tabla42[[#This Row],[Nº]],DESC.!$K$5:$AD$70,4,0),\"\")","v":0},{"$f":"IFERROR(VLOOKUP(Tabla42[[#This Row],[Nº]],DESC.!$K$5:$AD$70,5,0),\"\")","v":0},null,{"$f":"IFERROR(VLOOKUP(Tabla42[[#This Row],[Nº]],DESC.!$K$5:$AD$70,6,0),\"\")","v":0},{"$f":"IFERROR(VLOOKUP(Tabla42[[#This Row],[Nº]],DESC.!$K$5:$AD$70,8,0),\"\")","v":0},{"$f":"IFERROR(VLOOKUP(Tabla42[[#This Row],[Nº]],DESC.!$K$5:$AD$70,13,0),\"\")","v":0},null,null,null,null,null,null,null,null,null,{"$f":"IFERROR(VLOOKUP(Tabla42[[#This Row],[Nº]],DESC.!$K$5:$AD$70,11,0),\"\")","v":0},{"$f":"VLOOKUP(Tabla42[[#This Row],[Nº]],BDD!$I$7:$AI$70,21,0)","v":0},{"$f":"IFERROR(VLOOKUP(Tabla42[[#This Row],[Nº]],DESC.!$K$5:$AD$70,20,0),\"\")","v":0}]
[null,null,null,null,null,42,{"$f":"IFERROR(VLOOKUP(Tabla42[[#This Row],[Nº]],BDD!$I$7:$AB$70,2,0),\"\")","v":0},{"$f":"IFERROR(VLOOKUP(Tabla42[[#This Row],[Nº]],BDD!$I$7:$AB$70,3,0),\"\")","v":0},{"$f":"IFERROR(VLOOKUP(Tabla42[[#This Row],[Nº]],BDD!$I$7:$AB$70,11,0),\"\")","v":0},{"$f":"IFERROR(VLOOKUP(Tabla42[[#This Row],[Nº]],BDD!$I$7:$AB$70,20,0),\"\")","v":0},{"$f":"IFERROR(VLOOKUP(Tabla42[[#This Row],[Nº]],DESC.!$K$5:$AD$70,4,0),\"\")","v":0},{"$f":"IFERROR(VLOOKUP(Tabla42[[#This Row],[Nº]],DESC.!$K$5:$AD$70,5,0),\"\")","v":0},null,{"$f":"IFERROR(VLOOKUP(Tabla42[[#This Row],[Nº]],DESC.!$K$5:$AD$70,6,0),\"\")","v":0},{"$f":"IFERROR(VLOOKUP(Tabla42[[#This Row],[Nº]],DESC.!$K$5:$AD$70,8,0),\"\")","v":0},{"$f":"IFERROR(VLOOKUP(Tabla42[[#This Row],[Nº]],DESC.!$K$5:$AD$70,13,0),\"\")","v":0},null,null,null,null,null,null,null,null,null,{"$f":"IFERROR(VLOOKUP(Tabla42[[#This Row],[Nº]],DESC.!$K$5:$AD$70,11,0),\"\")","v":0},{"$f":"VLOOKUP(Tabla42[[#This Row],[Nº]],BDD!$I$7:$AI$70,21,0)","v":0},{"$f":"IFERROR(VLOOKUP(Tabla42[[#This Row],[Nº]],DESC.!$K$5:$AD$70,20,0),\"\")","v":0}]
[null,null,null,null,null,43,{"$f":"IFERROR(VLOOKUP(Tabla42[[#This Row],[Nº]],BDD!$I$7:$AB$70,2,0),\"\")","v":0},{"$f":"IFERROR(VLOOKUP(Tabla42[[#This Row],[Nº]],BDD!$I$7:$AB$70,3,0),\"\")","v":0},{"$f":"IFERROR(VLOOKUP(Tabla42[[#This Row],[Nº]],BDD!$I$7:$AB$70,11,0),\"\")","v":0},{"$f":"IFERROR(VLOOKUP(Tabla42[[#This Row],[Nº]],BDD!$I$7:$AB$70,20,0),\"\")","v":0},{"$f":"IFERROR(VLOOKUP(Tabla42[[#This Row],[Nº]],DESC.!$K$5:$AD$70,4,0),\"\")","v":0},{"$f":"IFERROR(VLOOKUP(Tabla42[[#This Row],[Nº]],DESC.!$K$5:$AD$70,5,0),\"\")","v":0},null,{"$f":"IFERROR(VLOOKUP(Tabla42[[#This Row],[Nº]],DESC.!$K$5:$AD$70,6,0),\"\")","v":0},{"$f":"IFERROR(VLOOKUP(Tabla42[[#This Row],[Nº]],DESC.!$K$5:$AD$70,8,0),\"\")","v":0},{"$f":"IFERROR(VLOOKUP(Tabla42[[#This Row],[Nº]],DESC.!$K$5:$AD$70,13,0),\"\")","v":0},null,null,null,null,null,null,null,null,null,{"$f":"IFERROR(VLOOKUP(Tabla42[[#This Row],[Nº]],DESC.!$K$5:$AD$70,11,0),\"\")","v":0},{"$f":"VLOOKUP(Tabla42[[#This Row],[Nº]],BDD!$I$7:$AI$70,21,0)","v":0},{"$f":"IFERROR(VLOOKUP(Tabla42[[#This Row],[Nº]],DESC.!$K$5:$AD$70,20,0),\"\")","v":0}]
[null,null,null,null,null,44,{"$f":"IFERROR(VLOOKUP(Tabla42[[#This Row],[Nº]],BDD!$I$7:$AB$70,2,0),\"\")","v":0},{"$f":"IFERROR(VLOOKUP(Tabla42[[#This Row],[Nº]],BDD!$I$7:$AB$70,3,0),\"\")","v":0},{"$f":"IFERROR(VLOOKUP(Tabla42[[#This Row],[Nº]],BDD!$I$7:$AB$70,11,0),\"\")","v":0},{"$f":"IFERROR(VLOOKUP(Tabla42[[#This Row],[Nº]],BDD!$I$7:$AB$70,20,0),\"\")","v":0},{"$f":"IFERROR(VLOOKUP(Tabla42[[#This Row],[Nº]],DESC.!$K$5:$AD$70,4,0),\"\")","v":0},{"$f":"IFERROR(VLOOKUP(Tabla42[[#This Row],[Nº]],DESC.!$K$5:$AD$70,5,0),\"\")","v":0},null,{"$f":"IFERROR(VLOOKUP(Tabla42[[#This Row],[Nº]],DESC.!$K$5:$AD$70,6,0),\"\")","v":0},{"$f":"IFERROR(VLOOKUP(Tabla42[[#This Row],[Nº]],DESC.!$K$5:$AD$70,8,0),\"\")","v":0},{"$f":"IFERROR(VLOOKUP(Tabla42[[#This Row],[Nº]],DESC.!$K$5:$AD$70,13,0),\"\")","v":0},null,null,null,null,null,null,null,null,null,{"$f":"IFERROR(VLOOKUP(Tabla42[[#This Row],[Nº]],DESC.!$K$5:$AD$70,11,0),\"\")","v":0},{"$f":"VLOOKUP(Tabla42[[#This Row],[Nº]],BDD!$I$7:$AI$70,21,0)","v":0},{"$f":"IFERROR(VLOOKUP(Tabla42[[#This Row],[Nº]],DESC.!$K$5:$AD$70,20,0),\"\")","v":0}]
[null,null,null,null,null,45,{"$f":"IFERROR(VLOOKUP(Tabla42[[#This Row],[Nº]],BDD!$I$7:$AB$70,2,0),\"\")","v":0},{"$f":"IFERROR(VLOOKUP(Tabla42[[#This Row],[Nº]],BDD!$I$7:$AB$70,3,0),\"\")","v":0},{"$f":"IFERROR(VLOOKUP(Tabla42[[#This Row],[Nº]],BDD!$I$7:$AB$70,11,0),\"\")","v":0},{"$f":"IFERROR(VLOOKUP(Tabla42[[#This Row],[Nº]],BDD!$I$7:$AB$70,20,0),\"\")","v":0},{"$f":"IFERROR(VLOOKUP(Tabla42[[#This Row],[Nº]],DESC.!$K$5:$AD$70,4,0),\"\")","v":0},{"$f":"IFERROR(VLOOKUP(Tabla42[[#This Row],[Nº]],DESC.!$K$5:$AD$70,5,0),\"\")","v":0},null,{"$f":"IFERROR(VLOOKUP(Tabla42[[#This Row],[Nº]],DESC.!$K$5:$AD$70,6,0),\"\")","v":0},{"$f":"IFERROR(VLOOKUP(Tabla42[[#This Row],[Nº]],DESC.!$K$5:$AD$70,8,0),\"\")","v":0},{"$f":"IFERROR(VLOOKUP(Tabla42[[#This Row],[Nº]],DESC.!$K$5:$AD$70,13,0),\"\")","v":0},null,null,null,null,null,null,null,null,null,{"$f":"IFERROR(VLOOKUP(Tabla42[[#This Row],[Nº]],DESC.!$K$5:$AD$70,11,0),\"\")","v":0},{"$f":"VLOOKUP(Tabla42[[#This Row],[Nº]],BDD!$I$7:$AI$70,21,0)","v":0},{"$f":"IFERROR(VLOOKUP(Tabla42[[#This Row],[Nº]],DESC.!$K$5:$AD$70,20,0),\"\")","v":0}]
[null,null,null,null,null,46,{"$f":"IFERROR(VLOOKUP(Tabla42[[#This Row],[Nº]],BDD!$I$7:$AB$70,2,0),\"\")","v":0},{"$f":"IFERROR(VLOOKUP(Tabla42[[#This Row],[Nº]],BDD!$I$7:$AB$70,3,0),\"\")","v":0},{"$f":"IFERROR(VLOOKUP(Tabla42[[#This Row],[Nº]],BDD!$I$7:$AB$70,11,0),\"\")","v":0},{"$f":"IFERROR(VLOOKUP(Tabla42[[#This Row],[Nº]],BDD!$I$7:$AB$70,20,0),\"\")","v":0},{"$f":"IFERROR(VLOOKUP(Tabla42[[#This Row],[Nº]],DESC.!$K$5:$AD$70,4,0),\"\")","v":0},{"$f":"IFERROR(VLOOKUP(Tabla42[[#This Row],[Nº]],DESC.!$K$5:$AD$70,5,0),\"\")","v":0},null,{"$f":"IFERROR(VLOOKUP(Tabla42[[#This Row],[Nº]],DESC.!$K$5:$AD$70,6,0),\"\")","v":0},{"$f":"IFERROR(VLOOKUP(Tabla42[[#This Row],[Nº]],DESC.!$K$5:$AD$70,8,0),\"\")","v":0},{"$f":"IFERROR(VLOOKUP(Tabla42[[#This Row],[Nº]],DESC.!$K$5:$AD$70,13,0),\"\")","v":0},null,null,null,null,null,null,null,null,null,{"$f":"IFERROR(VLOOKUP(Tabla42[[#This Row],[Nº]],DESC.!$K$5:$AD$70,11,0),\"\")","v":0},{"$f":"VLOOKUP(Tabla42[[#This Row],[Nº]],BDD!$I$7:$AI$70,21,0)","v":0},{"$f":"IFERROR(VLOOKUP(Tabla42[[#This Row],[Nº]],DESC.!$K$5:$AD$70,20,0),\"\")","v":0}]
[null,null,null,null,null,47,{"$f":"IFERROR(VLOOKUP(Tabla42[[#This Row],[Nº]],BDD!$I$7:$AB$70,2,0),\"\")","v":0},{"$f":"IFERROR(VLOOKUP(Tabla42[[#This Row],[Nº]],BDD!$I$7:$AB$70,3,0),\"\")","v":0},{"$f":"IFERROR(VLOOKUP(Tabla42[[#This Row],[Nº]],BDD!$I$7:$AB$70,11,0),\"\")","v":0},{"$f":"IFERROR(VLOOKUP(Tabla42[[#This Row],[Nº]],BDD!$I$7:$AB$70,20,0),\"\")","v":0},{"$f":"IFERROR(VLOOKUP(Tabla42[[#This Row],[Nº]],DESC.!$K$5:$AD$70,4,0),\"\")","v":0},{"$f":"IFERROR(VLOOKUP(Tabla42[[#This Row],[Nº]],DESC.!$K$5:$AD$70,5,0),\"\")","v":0},null,{"$f":"IFERROR(VLOOKUP(Tabla42[[#This Row],[Nº]],DESC.!$K$5:$AD$70,6,0),\"\")","v":0},{"$f":"IFERROR(VLOOKUP(Tabla42[[#This Row],[Nº]],DESC.!$K$5:$AD$70,8,0),\"\")","v":0},{"$f":"IFERROR(VLOOKUP(Tabla42[[#This Row],[Nº]],DESC.!$K$5:$AD$70,13,0),\"\")","v":0},null,null,null,null,null,null,null,null,null,{"$f":"IFERROR(VLOOKUP(Tabla42[[#This Row],[Nº]],DESC.!$K$5:$AD$70,11,0),\"\")","v":0},{"$f":"VLOOKUP(Tabla42[[#This Row],[Nº]],BDD!$I$7:$AI$70,21,0)","v":0},{"$f":"IFERROR(VLOOKUP(Tabla42[[#This Row],[Nº]],DESC.!$K$5:$AD$70,20,0),\"\")","v":0}]
[null,null,null,null,null,48,{"$f":"IFERROR(VLOOKUP(Tabla42[[#This Row],[Nº]],BDD!$I$7:$AB$70,2,0),\"\")","v":0},{"$f":"IFERROR(VLOOKUP(Tabla42[[#This Row],[Nº]],BDD!$I$7:$AB$70,3,0),\"\")","v":0},{"$f":"IFERROR(VLOOKUP(Tabla42[[#This Row],[Nº]],BDD!$I$7:$AB$70,11,0),\"\")","v":0},{"$f":"IFERROR(VLOOKUP(Tabla42[[#This Row],[Nº]],BDD!$I$7:$AB$70,20,0),\"\")","v":0},{"$f":"IFERROR(VLOOKUP(Tabla42[[#This Row],[Nº]],DESC.!$K$5:$AD$70,4,0),\"\")","v":0},{"$f":"IFERROR(VLOOKUP(Tabla42[[#This Row],[Nº]],DESC.!$K$5:$AD$70,5,0),\"\")","v":0},null,{"$f":"IFERROR(VLOOKUP(Tabla42[[#This Row],[Nº]],DESC.!$K$5:$AD$70,6,0),\"\")","v":0},{"$f":"IFERROR(VLOOKUP(Tabla42[[#This Row],[Nº]],DESC.!$K$5:$AD$70,8,0),\"\")","v":0},{"$f":"IFERROR(VLOOKUP(Tabla42[[#This Row],[Nº]],DESC.!$K$5:$AD$70,13,0),\"\")","v":0},null,null,null,null,null,null,null,null,null,{"$f":"IFERROR(VLOOKUP(Tabla42[[#This Row],[Nº]],DESC.!$K$5:$AD$70,11,0),\"\")","v":0},{"$f":"VLOOKUP(Tabla42[[#This Row],[Nº]],BDD!$I$7:$AI$70,21,0)","v":0},{"$f":"IFERROR(VLOOKUP(Tabla42[[#This Row],[Nº]],DESC.!$K$5:$AD$70,20,0),\"\")","v":0}]
[null,null,null,null,null,49,{"$f":"IFERROR(VLOOKUP(Tabla42[[#This Row],[Nº]],BDD!$I$7:$AB$70,2,0),\"\")","v":0},{"$f":"IFERROR(VLOOKUP(Tabla42[[#This Row],[Nº]],BDD!$I$7:$AB$70,3,0),\"\")","v":0},{"$f":"IFERROR(VLOOKUP(Tabla42[[#This Row],[Nº]],BDD!$I$7:$AB$70,11,0),\"\")","v":0},{"$f":"IFERROR(VLOOKUP(Tabla42[[#This Row],[Nº]],BDD!$I$7:$AB$70,20,0),\"\")","v":0},{"$f":"IFERROR(VLOOKUP(Tabla42[[#This Row],[Nº]],DESC.!$K$5:$AD$70,4,0),\"\")","v":0},{"$f":"IFERROR(VLOOKUP(Tabla42[[#This Row],[Nº]],DESC.!$K$5:$AD$70,5,0),\"\")","v":0},null,{"$f":"IFERROR(VLOOKUP(Tabla42[[#This Row],[Nº]],DESC.!$K$5:$AD$70,6,0),\"\")","v":0},{"$f":"IFERROR(VLOOKUP(Tabla42[[#This Row],[Nº]],DESC.!$K$5:$AD$70,8,0),\"\")","v":0},{"$f":"IFERROR(VLOOKUP(Tabla42[[#This Row],[Nº]],DESC.!$K$5:$AD$70,13,0),\"\")","v":0},null,null,null,null,null,null,null,null,null,{"$f":"IFERROR(VLOOKUP(Tabla42[[#This Row],[Nº]],DESC.!$K$5:$AD$70,11,0),\"\")","v":0},{"$f":"VLOOKUP(Tabla42[[#This Row],[Nº]],BDD!$I$7:$AI$70,21,0)","v":0},{"$f":"IFERROR(VLOOKUP(Tabla42[[#This Row],[Nº]],DESC.!$K$5:$AD$70,20,0),\"\")","v":0}]
[null,null,null,null,null,50,{"$f":"IFERROR(VLOOKUP(Tabla42[[#This Row],[Nº]],BDD!$I$7:$AB$70,2,0),\"\")","v":0},{"$f":"IFERROR(VLOOKUP(Tabla42[[#This Row],[Nº]],BDD!$I$7:$AB$70,3,0),\"\")","v":0},{"$f":"IFERROR(VLOOKUP(Tabla42[[#This Row],[Nº]],BDD!$I$7:$AB$70,11,0),\"\")","v":0},{"$f":"IFERROR(VLOOKUP(Tabla42[[#This Row],[Nº]],BDD!$I$7:$AB$70,20,0),\"\")","v":0},{"$f":"IFERROR(VLOOKUP(Tabla42[[#This Row],[Nº]],DESC.!$K$5:$AD$70,4,0),\"\")","v":0},{"$f":"IFERROR(VLOOKUP(Tabla42[[#This Row],[Nº]],DESC.!$K$5:$AD$70,5,0),\"\")","v":0},null,{"$f":"IFERROR(VLOOKUP(Tabla42[[#This Row],[Nº]],DESC.!$K$5:$AD$70,6,0),\"\")","v":0},{"$f":"IFERROR(VLOOKUP(Tabla42[[#This Row],[Nº]],DESC.!$K$5:$AD$70,8,0),\"\")","v":0},{"$f":"IFERROR(VLOOKUP(Tabla42[[#This Row],[Nº]],DESC.!$K$5:$AD$70,13,0),\"\")","v":0},null,null,null,null,null,null,null,null,null,{"$f":"IFERROR(VLOOKUP(Tabla42[[#This Row],[Nº]],DESC.!$K$5:$AD$70,11,0),\"\")","v":0},{"$f":"VLOOKUP(Tabla42[[#This Row],[Nº]],BDD!$I$7:$AI$70,21,0)","v":0},{"$f":"IFERROR(VLOOKUP(Tabla42[[#This Row],[Nº]],DESC.!$K$5:$AD$70,20,0),\"\")","v":0}]
[null,null,null,null,null,null,{"$f":"IFERROR(VLOOKUP(Tabla42[[#This Row],[Nº]],BDD!$I$7:$AB$70,2,0),\"\")","v":""},{"$f":"IFERROR(VLOOKUP(Tabla42[[#This Row],[Nº]],BDD!$I$7:$AB$70,3,0),\"\")","v":""},{"$f":"IFERROR(VLOOKUP(Tabla42[[#This Row],[Nº]],BDD!$I$7:$AB$70,11,0),\"\")","v":""},{"$f":"IFERROR(VLOOKUP(Tabla42[[#This Row],[Nº]],BDD!$I$7:$AB$70,20,0),\"\")","v":""},{"$f":"IFERROR(VLOOKUP(Tabla42[[#This Row],[Nº]],DESC.!$K$5:$AD$70,4,0),\"\")","v":""},{"$f":"IFERROR(VLOOKUP(Tabla42[[#This Row],[Nº]],DESC.!$K$5:$AD$70,5,0),\"\")","v":""},null,{"$f":"IFERROR(VLOOKUP(Tabla42[[#This Row],[Nº]],DESC.!$K$5:$AD$70,6,0),\"\")","v":""},{"$f":"IFERROR(VLOOKUP(Tabla42[[#This Row],[Nº]],DESC.!$K$5:$AD$70,8,0),\"\")","v":""},{"$f":"IFERROR(VLOOKUP(Tabla42[[#This Row],[Nº]],DESC.!$K$5:$AD$70,13,0),\"\")","v":""},null,null,null,null,null,null,null,null,null,{"$f":"IFERROR(VLOOKUP(Tabla42[[#This Row],[Nº]],DESC.!$K$5:$AD$70,11,0),\"\")","v":""},null,{"$f":"IFERROR(VLOOKUP(Tabla42[[#This Row],[Nº]],DESC.!$K$5:$AD$70,20,0),\"\")","v":""}]
[null,null,null,null,null,null,null,null,null,null,"TOTALES",{"$f":"SUM(L16:L65)","v":631495.29520000005},null,null,{"$f":"SUM(O16:O65)","v":180250.00000000003},{"$f":"SUM(P16:P65)","v":270129.40844999999},null,null,null,null,null,null,null,null,null,{"$f":"SUM(Z16:Z65)","v":0},{"$f":"IFERROR(SUM(AA16:AA65),\"\")","v":0},{"$f":"SUM(AB16:AB65)","v":1118434.1155039999}]

{"sheet":"VeryHidden","index":8,"n_rows":2,"n_cols":1,"rows_kept":2,"cut":false,"hidden":true,"merged":[]}
[1]
["B8:86:87:D1:14:CF"]

{"sheet":"CostoMensual","index":9,"n_rows":29,"n_cols":4,"rows_kept":29,"cut":false,"hidden":true,"merged":[[28,3,28,4],[28,1,28,2],[4,1,4,7],[3,1,3,7],[22,1,22,2],[23,1,23,2],[24,1,24,2],[25,1,25,2],[26,1,26,2],[27,1,27,2],[14,1,14,2],[15,1,15,2],[17,1,17,2],[18,1,18,2],[21,1,21,2],[24,3,24,4],[26,3,26,4],[8,3,8,4],[27,3,27,4],[8,1,8,2],[9,1,9,2],[10,1,10,2],[11,1,11,2],[12,1,12,2],[13,1,13,2],[18,3,18,4],[19,3,19,4],[20,3,20,4],[21,3,21,4],[22,3,22,4],[23,3,23,4],[2,1,2,7],[17,3,17,4],[9,3,9,4],[16,1,16,2],[25,3,25,4],[20,1,20,2],[7,1,7,7],[10,3,10,4],[11,3,11,4],[12,3,12,4],[13,3,13,4],[19,1,19,2],[14,3,14,4],[15,3,15,4],[16,3,16,4]]}
[]
[]
[]
[]
[]
[]
[]
[null,"Resumen Mes de: "]
[null,"Descripción",null,"Valor"]
[null,"Total Liquido a pagar"]
[null,"Total a pagar AFP"]
[null,"Total a pagar APV"]
[null,"Total a pagar ISP"]
[null,"Total a pagar imp Unico"]
[null,"Total a pagar S.I.S."]
[null,"Total a pagar Cesantia"]
[null,"Total a pagar exINP"]
[null,"Total a pagar Boletas"]
[null,"Total Liquido Boletas"]
[null,"Gastos Administrativos"]
[null,"Otros Gastos"]
[null,"Otros Gastos"]
[null,"Otros Gastos"]
[null,"Otros Gastos"]
[null,"Otros Gastos"]
[null,"Otros Gastos"]
[null,"Otros Gastos"]
[null,"Finiquitos"]
[null,"TOTAL",null,{"$f":"SUM(D10:D28)","v":0}]